{"text_format":"1","workbook":"xlsx","n_sheets":2,"sheets":["印刷用","コード一覧表"],"not_rendered":{"charts":0,"images":0,"macros":1,"external_links":0,"defined_names":0,"comments":1,"pivot_tables":0},"unopened":[],"bounds":{"document_bytes":16777216,"sheet_cells":100000,"rows_first":2000,"rows_last":500,"rows_between":2000,"halvings":0,"cell_chars":16384,"cell_head_chars":4096},"cells_cut":0,"cells_raw":0,"read":"whole","date_system":"1900"}

{"sheet":"印刷用","index":0,"n_rows":152,"n_cols":54,"rows_kept":152,"cut":false,"hidden":false,"merged":[[152,0,152,16],[71,0,71,16],[74,0,74,16],[77,0,77,16],[80,0,80,16],[83,0,83,16],[86,0,86,16],[89,0,89,16],[149,0,149,16],[113,0,113,16],[140,0,140,16],[143,0,143,16],[128,0,128,16],[131,0,131,16],[134,0,134,16],[137,0,137,16],[59,0,59,16],[62,0,62,16],[65,0,65,16],[68,0,68,16],[146,0,146,16],[92,0,92,16],[95,0,95,16],[98,0,98,16],[101,0,101,16],[116,0,116,16],[119,0,119,16],[122,0,122,16],[125,0,125,16],[104,0,104,16],[107,0,107,16],[110,0,110,16],[0,2,1,11],[35,0,35,16],[1,0,1,1],[17,0,17,16],[20,0,20,16],[23,0,23,16],[26,0,26,16],[5,0,5,16],[8,0,8,16],[11,0,11,16],[14,0,14,16],[29,0,29,16],[32,0,32,16],[50,0,50,16],[53,0,53,16],[56,0,56,16],[38,0,38,16],[41,0,41,16],[44,0,44,16],[47,0,47,16]]}
[null,null,null,null,null,null,null,null,null,null,null,null,null,"作詞"]
[null,null,null,null,null,null,null,null,null,null,null,null,null,"作曲"]
[]
[null,null,null,null,null,null,null,null,null,null,null,null,null,null,null,null,null,null,"入力行1",null,null,"※ この行にコードを入力。罫線だけを表示させる場合はスペースを入力"]
[null,{"$f":"IF(B4=\"\",\"\",IF(OR(LEN(B4)<3,LEN(B4)>4),HLOOKUP($U$9,コード一覧表!$C$2:$Y$1768,VLOOKUP(B4,コード一覧表!$AA$3:$AB$1768,2,0)+1,0),IF(OR(CODE(MID(B4,2,1))=77,CODE(MID(B4,3,1))=77),HLOOKUP($U$9,コード一覧表!$C$1789:$Y$1897,VLOOKUP(B4,コード一覧表!$AA$1789:$AB$1897,2,0)+1,0),HLOOKUP($U$9,コード一覧表!$C$2:$Y$1768,VLOOKUP(B4,コード一覧表!$AA$3:$AB$1768,2,0)+1,0))))","v":""},{"$f":"IF(C4=\"\",\"\",IF(OR(LEN(C4)<3,LEN(C4)>4),HLOOKUP($U$9,コード一覧表!$C$2:$Y$1768,VLOOKUP(C4,コード一覧表!$AA$3:$AB$1768,2,0)+1,0),IF(OR(CODE(MID(C4,2,1))=77,CODE(MID(C4,3,1))=77),HLOOKUP($U$9,コード一覧表!$C$1789:$Y$1897,VLOOKUP(C4,コード一覧表!$AA$1789:$AB$1897,2,0)+1,0),HLOOKUP($U$9,コード一覧表!$C$2:$Y$1768,VLOOKUP(C4,コード一覧表!$AA$3:$AB$1768,2,0)+1,0))))","v":""},{"$f":"IF(D4=\"\",\"\",IF(OR(LEN(D4)<3,LEN(D4)>4),HLOOKUP($U$9,コード一覧表!$C$2:$Y$1768,VLOOKUP(D4,コード一覧表!$AA$3:$AB$1768,2,0)+1,0),IF(OR(CODE(MID(D4,2,1))=77,CODE(MID(D4,3,1))=77),HLOOKUP($U$9,コード一覧表!$C$1789:$Y$1897,VLOOKUP(D4,コード一覧表!$AA$1789:$AB$1897,2,0)+1,0),HLOOKUP($U$9,コード一覧表!$C$2:$Y$1768,VLOOKUP(D4,コード一覧表!$AA$3:$AB$1768,2,0)+1,0))))","v":""},{"$f":"IF(E4=\"\",\"\",IF(OR(LEN(E4)<3,LEN(E4)>4),HLOOKUP($U$9,コード一覧表!$C$2:$Y$1768,VLOOKUP(E4,コード一覧表!$AA$3:$AB$1768,2,0)+1,0),IF(OR(CODE(MID(E4,2,1))=77,CODE(MID(E4,3,1))=77),HLOOKUP($U$9,コード一覧表!$C$1789:$Y$1897,VLOOKUP(E4,コード一覧表!$AA$1789:$AB$1897,2,0)+1,0),HLOOKUP($U$9,コード一覧表!$C$2:$Y$1768,VLOOKUP(E4,コード一覧表!$AA$3:$AB$1768,2,0)+1,0))))","v":""},{"$f":"IF(F4=\"\",\"\",IF(OR(LEN(F4)<3,LEN(F4)>4),HLOOKUP($U$9,コード一覧表!$C$2:$Y$1768,VLOOKUP(F4,コード一覧表!$AA$3:$AB$1768,2,0)+1,0),IF(OR(CODE(MID(F4,2,1))=77,CODE(MID(F4,3,1))=77),HLOOKUP($U$9,コード一覧表!$C$1789:$Y$1897,VLOOKUP(F4,コード一覧表!$AA$1789:$AB$1897,2,0)+1,0),HLOOKUP($U$9,コード一覧表!$C$2:$Y$1768,VLOOKUP(F4,コード一覧表!$AA$3:$AB$1768,2,0)+1,0))))","v":""},{"$f":"IF(G4=\"\",\"\",IF(OR(LEN(G4)<3,LEN(G4)>4),HLOOKUP($U$9,コード一覧表!$C$2:$Y$1768,VLOOKUP(G4,コード一覧表!$AA$3:$AB$1768,2,0)+1,0),IF(OR(CODE(MID(G4,2,1))=77,CODE(MID(G4,3,1))=77),HLOOKUP($U$9,コード一覧表!$C$1789:$Y$1897,VLOOKUP(G4,コード一覧表!$AA$1789:$AB$1897,2,0)+1,0),HLOOKUP($U$9,コード一覧表!$C$2:$Y$1768,VLOOKUP(G4,コード一覧表!$AA$3:$AB$1768,2,0)+1,0))))","v":""},{"$f":"IF(H4=\"\",\"\",IF(OR(LEN(H4)<3,LEN(H4)>4),HLOOKUP($U$9,コード一覧表!$C$2:$Y$1768,VLOOKUP(H4,コード一覧表!$AA$3:$AB$1768,2,0)+1,0),IF(OR(CODE(MID(H4,2,1))=77,CODE(MID(H4,3,1))=77),HLOOKUP($U$9,コード一覧表!$C$1789:$Y$1897,VLOOKUP(H4,コード一覧表!$AA$1789:$AB$1897,2,0)+1,0),HLOOKUP($U$9,コード一覧表!$C$2:$Y$1768,VLOOKUP(H4,コード一覧表!$AA$3:$AB$1768,2,0)+1,0))))","v":""},{"$f":"IF(I4=\"\",\"\",IF(OR(LEN(I4)<3,LEN(I4)>4),HLOOKUP($U$9,コード一覧表!$C$2:$Y$1768,VLOOKUP(I4,コード一覧表!$AA$3:$AB$1768,2,0)+1,0),IF(OR(CODE(MID(I4,2,1))=77,CODE(MID(I4,3,1))=77),HLOOKUP($U$9,コード一覧表!$C$1789:$Y$1897,VLOOKUP(I4,コード一覧表!$AA$1789:$AB$1897,2,0)+1,0),HLOOKUP($U$9,コード一覧表!$C$2:$Y$1768,VLOOKUP(I4,コード一覧表!$AA$3:$AB$1768,2,0)+1,0))))","v":""},{"$f":"IF(J4=\"\",\"\",IF(OR(LEN(J4)<3,LEN(J4)>4),HLOOKUP($U$9,コード一覧表!$C$2:$Y$1768,VLOOKUP(J4,コード一覧表!$AA$3:$AB$1768,2,0)+1,0),IF(OR(CODE(MID(J4,2,1))=77,CODE(MID(J4,3,1))=77),HLOOKUP($U$9,コード一覧表!$C$1789:$Y$1897,VLOOKUP(J4,コード一覧表!$AA$1789:$AB$1897,2,0)+1,0),HLOOKUP($U$9,コード一覧表!$C$2:$Y$1768,VLOOKUP(J4,コード一覧表!$AA$3:$AB$1768,2,0)+1,0))))","v":""},{"$f":"IF(K4=\"\",\"\",IF(OR(LEN(K4)<3,LEN(K4)>4),HLOOKUP($U$9,コード一覧表!$C$2:$Y$1768,VLOOKUP(K4,コード一覧表!$AA$3:$AB$1768,2,0)+1,0),IF(OR(CODE(MID(K4,2,1))=77,CODE(MID(K4,3,1))=77),HLOOKUP($U$9,コード一覧表!$C$1789:$Y$1897,VLOOKUP(K4,コード一覧表!$AA$1789:$AB$1897,2,0)+1,0),HLOOKUP($U$9,コード一覧表!$C$2:$Y$1768,VLOOKUP(K4,コード一覧表!$AA$3:$AB$1768,2,0)+1,0))))","v":""},{"$f":"IF(L4=\"\",\"\",IF(OR(LEN(L4)<3,LEN(L4)>4),HLOOKUP($U$9,コード一覧表!$C$2:$Y$1768,VLOOKUP(L4,コード一覧表!$AA$3:$AB$1768,2,0)+1,0),IF(OR(CODE(MID(L4,2,1))=77,CODE(MID(L4,3,1))=77),HLOOKUP($U$9,コード一覧表!$C$1789:$Y$1897,VLOOKUP(L4,コード一覧表!$AA$1789:$AB$1897,2,0)+1,0),HLOOKUP($U$9,コード一覧表!$C$2:$Y$1768,VLOOKUP(L4,コード一覧表!$AA$3:$AB$1768,2,0)+1,0))))","v":""},{"$f":"IF(M4=\"\",\"\",IF(OR(LEN(M4)<3,LEN(M4)>4),HLOOKUP($U$9,コード一覧表!$C$2:$Y$1768,VLOOKUP(M4,コード一覧表!$AA$3:$AB$1768,2,0)+1,0),IF(OR(CODE(MID(M4,2,1))=77,CODE(MID(M4,3,1))=77),HLOOKUP($U$9,コード一覧表!$C$1789:$Y$1897,VLOOKUP(M4,コード一覧表!$AA$1789:$AB$1897,2,0)+1,0),HLOOKUP($U$9,コード一覧表!$C$2:$Y$1768,VLOOKUP(M4,コード一覧表!$AA$3:$AB$1768,2,0)+1,0))))","v":""},{"$f":"IF(N4=\"\",\"\",IF(OR(LEN(N4)<3,LEN(N4)>4),HLOOKUP($U$9,コード一覧表!$C$2:$Y$1768,VLOOKUP(N4,コード一覧表!$AA$3:$AB$1768,2,0)+1,0),IF(OR(CODE(MID(N4,2,1))=77,CODE(MID(N4,3,1))=77),HLOOKUP($U$9,コード一覧表!$C$1789:$Y$1897,VLOOKUP(N4,コード一覧表!$AA$1789:$AB$1897,2,0)+1,0),HLOOKUP($U$9,コード一覧表!$C$2:$Y$1768,VLOOKUP(N4,コード一覧表!$AA$3:$AB$1768,2,0)+1,0))))","v":""},{"$f":"IF(O4=\"\",\"\",IF(OR(LEN(O4)<3,LEN(O4)>4),HLOOKUP($U$9,コード一覧表!$C$2:$Y$1768,VLOOKUP(O4,コード一覧表!$AA$3:$AB$1768,2,0)+1,0),IF(OR(CODE(MID(O4,2,1))=77,CODE(MID(O4,3,1))=77),HLOOKUP($U$9,コード一覧表!$C$1789:$Y$1897,VLOOKUP(O4,コード一覧表!$AA$1789:$AB$1897,2,0)+1,0),HLOOKUP($U$9,コード一覧表!$C$2:$Y$1768,VLOOKUP(O4,コード一覧表!$AA$3:$AB$1768,2,0)+1,0))))","v":""},{"$f":"IF(P4=\"\",\"\",IF(OR(LEN(P4)<3,LEN(P4)>4),HLOOKUP($U$9,コード一覧表!$C$2:$Y$1768,VLOOKUP(P4,コード一覧表!$AA$3:$AB$1768,2,0)+1,0),IF(OR(CODE(MID(P4,2,1))=77,CODE(MID(P4,3,1))=77),HLOOKUP($U$9,コード一覧表!$C$1789:$Y$1897,VLOOKUP(P4,コード一覧表!$AA$1789:$AB$1897,2,0)+1,0),HLOOKUP($U$9,コード一覧表!$C$2:$Y$1768,VLOOKUP(P4,コード一覧表!$AA$3:$AB$1768,2,0)+1,0))))","v":""},{"$f":"IF(Q4=\"\",\"\",IF(OR(LEN(Q4)<3,LEN(Q4)>4),HLOOKUP($U$9,コード一覧表!$C$2:$Y$1768,VLOOKUP(Q4,コード一覧表!$AA$3:$AB$1768,2,0)+1,0),IF(OR(CODE(MID(Q4,2,1))=77,CODE(MID(Q4,3,1))=77),HLOOKUP($U$9,コード一覧表!$C$1789:$Y$1897,VLOOKUP(Q4,コード一覧表!$AA$1789:$AB$1897,2,0)+1,0),HLOOKUP($U$9,コード一覧表!$C$2:$Y$1768,VLOOKUP(Q4,コード一覧表!$AA$3:$AB$1768,2,0)+1,0))))","v":""},null,"コード行",null,null,"※ コード行の内容は変えない事"]
[null,null,null,null,null,null,null,null,null,null,null,null,null,null,null,null,null,null,"歌詞行",null,null,"※ 歌詞行はセルの結合等、自由に変えてもかまいません"]
[null,null,null,null,null,null,null,null,null,null,null,null,null,null,null,null,null,null,"入力行2",null,null,null,null,null,null,null,null,null,null,null,null,0,-1,-2,-3,-4,-5,-6,-7,-8,-9,-10,-11,1,2,3,4,5,6,7,8,9,10,11]
[null,{"$f":"IF(B7=\"\",\"\",IF(OR(LEN(B7)<3,LEN(B7)>4),HLOOKUP($U$9,コード一覧表!$C$2:$Y$1768,VLOOKUP(B7,コード一覧表!$AA$3:$AB$1768,2,0)+1,0),IF(OR(CODE(MID(B7,2,1))=77,CODE(MID(B7,3,1))=77),HLOOKUP($U$9,コード一覧表!$C$1789:$Y$1897,VLOOKUP(B7,コード一覧表!$AA$1789:$AB$1897,2,0)+1,0),HLOOKUP($U$9,コード一覧表!$C$2:$Y$1768,VLOOKUP(B7,コード一覧表!$AA$3:$AB$1768,2,0)+1,0))))","v":""},{"$f":"IF(C7=\"\",\"\",IF(OR(LEN(C7)<3,LEN(C7)>4),HLOOKUP($U$9,コード一覧表!$C$2:$Y$1768,VLOOKUP(C7,コード一覧表!$AA$3:$AB$1768,2,0)+1,0),IF(OR(CODE(MID(C7,2,1))=77,CODE(MID(C7,3,1))=77),HLOOKUP($U$9,コード一覧表!$C$1789:$Y$1897,VLOOKUP(C7,コード一覧表!$AA$1789:$AB$1897,2,0)+1,0),HLOOKUP($U$9,コード一覧表!$C$2:$Y$1768,VLOOKUP(C7,コード一覧表!$AA$3:$AB$1768,2,0)+1,0))))","v":""},{"$f":"IF(D7=\"\",\"\",IF(OR(LEN(D7)<3,LEN(D7)>4),HLOOKUP($U$9,コード一覧表!$C$2:$Y$1768,VLOOKUP(D7,コード一覧表!$AA$3:$AB$1768,2,0)+1,0),IF(OR(CODE(MID(D7,2,1))=77,CODE(MID(D7,3,1))=77),HLOOKUP($U$9,コード一覧表!$C$1789:$Y$1897,VLOOKUP(D7,コード一覧表!$AA$1789:$AB$1897,2,0)+1,0),HLOOKUP($U$9,コード一覧表!$C$2:$Y$1768,VLOOKUP(D7,コード一覧表!$AA$3:$AB$1768,2,0)+1,0))))","v":""},{"$f":"IF(E7=\"\",\"\",IF(OR(LEN(E7)<3,LEN(E7)>4),HLOOKUP($U$9,コード一覧表!$C$2:$Y$1768,VLOOKUP(E7,コード一覧表!$AA$3:$AB$1768,2,0)+1,0),IF(OR(CODE(MID(E7,2,1))=77,CODE(MID(E7,3,1))=77),HLOOKUP($U$9,コード一覧表!$C$1789:$Y$1897,VLOOKUP(E7,コード一覧表!$AA$1789:$AB$1897,2,0)+1,0),HLOOKUP($U$9,コード一覧表!$C$2:$Y$1768,VLOOKUP(E7,コード一覧表!$AA$3:$AB$1768,2,0)+1,0))))","v":""},{"$f":"IF(F7=\"\",\"\",IF(OR(LEN(F7)<3,LEN(F7)>4),HLOOKUP($U$9,コード一覧表!$C$2:$Y$1768,VLOOKUP(F7,コード一覧表!$AA$3:$AB$1768,2,0)+1,0),IF(OR(CODE(MID(F7,2,1))=77,CODE(MID(F7,3,1))=77),HLOOKUP($U$9,コード一覧表!$C$1789:$Y$1897,VLOOKUP(F7,コード一覧表!$AA$1789:$AB$1897,2,0)+1,0),HLOOKUP($U$9,コード一覧表!$C$2:$Y$1768,VLOOKUP(F7,コード一覧表!$AA$3:$AB$1768,2,0)+1,0))))","v":""},{"$f":"IF(G7=\"\",\"\",IF(OR(LEN(G7)<3,LEN(G7)>4),HLOOKUP($U$9,コード一覧表!$C$2:$Y$1768,VLOOKUP(G7,コード一覧表!$AA$3:$AB$1768,2,0)+1,0),IF(OR(CODE(MID(G7,2,1))=77,CODE(MID(G7,3,1))=77),HLOOKUP($U$9,コード一覧表!$C$1789:$Y$1897,VLOOKUP(G7,コード一覧表!$AA$1789:$AB$1897,2,0)+1,0),HLOOKUP($U$9,コード一覧表!$C$2:$Y$1768,VLOOKUP(G7,コード一覧表!$AA$3:$AB$1768,2,0)+1,0))))","v":""},{"$f":"IF(H7=\"\",\"\",IF(OR(LEN(H7)<3,LEN(H7)>4),HLOOKUP($U$9,コード一覧表!$C$2:$Y$1768,VLOOKUP(H7,コード一覧表!$AA$3:$AB$1768,2,0)+1,0),IF(OR(CODE(MID(H7,2,1))=77,CODE(MID(H7,3,1))=77),HLOOKUP($U$9,コード一覧表!$C$1789:$Y$1897,VLOOKUP(H7,コード一覧表!$AA$1789:$AB$1897,2,0)+1,0),HLOOKUP($U$9,コード一覧表!$C$2:$Y$1768,VLOOKUP(H7,コード一覧表!$AA$3:$AB$1768,2,0)+1,0))))","v":""},{"$f":"IF(I7=\"\",\"\",IF(OR(LEN(I7)<3,LEN(I7)>4),HLOOKUP($U$9,コード一覧表!$C$2:$Y$1768,VLOOKUP(I7,コード一覧表!$AA$3:$AB$1768,2,0)+1,0),IF(OR(CODE(MID(I7,2,1))=77,CODE(MID(I7,3,1))=77),HLOOKUP($U$9,コード一覧表!$C$1789:$Y$1897,VLOOKUP(I7,コード一覧表!$AA$1789:$AB$1897,2,0)+1,0),HLOOKUP($U$9,コード一覧表!$C$2:$Y$1768,VLOOKUP(I7,コード一覧表!$AA$3:$AB$1768,2,0)+1,0))))","v":""},{"$f":"IF(J7=\"\",\"\",IF(OR(LEN(J7)<3,LEN(J7)>4),HLOOKUP($U$9,コード一覧表!$C$2:$Y$1768,VLOOKUP(J7,コード一覧表!$AA$3:$AB$1768,2,0)+1,0),IF(OR(CODE(MID(J7,2,1))=77,CODE(MID(J7,3,1))=77),HLOOKUP($U$9,コード一覧表!$C$1789:$Y$1897,VLOOKUP(J7,コード一覧表!$AA$1789:$AB$1897,2,0)+1,0),HLOOKUP($U$9,コード一覧表!$C$2:$Y$1768,VLOOKUP(J7,コード一覧表!$AA$3:$AB$1768,2,0)+1,0))))","v":""},{"$f":"IF(K7=\"\",\"\",IF(OR(LEN(K7)<3,LEN(K7)>4),HLOOKUP($U$9,コード一覧表!$C$2:$Y$1768,VLOOKUP(K7,コード一覧表!$AA$3:$AB$1768,2,0)+1,0),IF(OR(CODE(MID(K7,2,1))=77,CODE(MID(K7,3,1))=77),HLOOKUP($U$9,コード一覧表!$C$1789:$Y$1897,VLOOKUP(K7,コード一覧表!$AA$1789:$AB$1897,2,0)+1,0),HLOOKUP($U$9,コード一覧表!$C$2:$Y$1768,VLOOKUP(K7,コード一覧表!$AA$3:$AB$1768,2,0)+1,0))))","v":""},{"$f":"IF(L7=\"\",\"\",IF(OR(LEN(L7)<3,LEN(L7)>4),HLOOKUP($U$9,コード一覧表!$C$2:$Y$1768,VLOOKUP(L7,コード一覧表!$AA$3:$AB$1768,2,0)+1,0),IF(OR(CODE(MID(L7,2,1))=77,CODE(MID(L7,3,1))=77),HLOOKUP($U$9,コード一覧表!$C$1789:$Y$1897,VLOOKUP(L7,コード一覧表!$AA$1789:$AB$1897,2,0)+1,0),HLOOKUP($U$9,コード一覧表!$C$2:$Y$1768,VLOOKUP(L7,コード一覧表!$AA$3:$AB$1768,2,0)+1,0))))","v":""},{"$f":"IF(M7=\"\",\"\",IF(OR(LEN(M7)<3,LEN(M7)>4),HLOOKUP($U$9,コード一覧表!$C$2:$Y$1768,VLOOKUP(M7,コード一覧表!$AA$3:$AB$1768,2,0)+1,0),IF(OR(CODE(MID(M7,2,1))=77,CODE(MID(M7,3,1))=77),HLOOKUP($U$9,コード一覧表!$C$1789:$Y$1897,VLOOKUP(M7,コード一覧表!$AA$1789:$AB$1897,2,0)+1,0),HLOOKUP($U$9,コード一覧表!$C$2:$Y$1768,VLOOKUP(M7,コード一覧表!$AA$3:$AB$1768,2,0)+1,0))))","v":""},{"$f":"IF(N7=\"\",\"\",IF(OR(LEN(N7)<3,LEN(N7)>4),HLOOKUP($U$9,コード一覧表!$C$2:$Y$1768,VLOOKUP(N7,コード一覧表!$AA$3:$AB$1768,2,0)+1,0),IF(OR(CODE(MID(N7,2,1))=77,CODE(MID(N7,3,1))=77),HLOOKUP($U$9,コード一覧表!$C$1789:$Y$1897,VLOOKUP(N7,コード一覧表!$AA$1789:$AB$1897,2,0)+1,0),HLOOKUP($U$9,コード一覧表!$C$2:$Y$1768,VLOOKUP(N7,コード一覧表!$AA$3:$AB$1768,2,0)+1,0))))","v":""},{"$f":"IF(O7=\"\",\"\",IF(OR(LEN(O7)<3,LEN(O7)>4),HLOOKUP($U$9,コード一覧表!$C$2:$Y$1768,VLOOKUP(O7,コード一覧表!$AA$3:$AB$1768,2,0)+1,0),IF(OR(CODE(MID(O7,2,1))=77,CODE(MID(O7,3,1))=77),HLOOKUP($U$9,コード一覧表!$C$1789:$Y$1897,VLOOKUP(O7,コード一覧表!$AA$1789:$AB$1897,2,0)+1,0),HLOOKUP($U$9,コード一覧表!$C$2:$Y$1768,VLOOKUP(O7,コード一覧表!$AA$3:$AB$1768,2,0)+1,0))))","v":""},{"$f":"IF(P7=\"\",\"\",IF(OR(LEN(P7)<3,LEN(P7)>4),HLOOKUP($U$9,コード一覧表!$C$2:$Y$1768,VLOOKUP(P7,コード一覧表!$AA$3:$AB$1768,2,0)+1,0),IF(OR(CODE(MID(P7,2,1))=77,CODE(MID(P7,3,1))=77),HLOOKUP($U$9,コード一覧表!$C$1789:$Y$1897,VLOOKUP(P7,コード一覧表!$AA$1789:$AB$1897,2,0)+1,0),HLOOKUP($U$9,コード一覧表!$C$2:$Y$1768,VLOOKUP(P7,コード一覧表!$AA$3:$AB$1768,2,0)+1,0))))","v":""},{"$f":"IF(Q7=\"\",\"\",IF(OR(LEN(Q7)<3,LEN(Q7)>4),HLOOKUP($U$9,コード一覧表!$C$2:$Y$1768,VLOOKUP(Q7,コード一覧表!$AA$3:$AB$1768,2,0)+1,0),IF(OR(CODE(MID(Q7,2,1))=77,CODE(MID(Q7,3,1))=77),HLOOKUP($U$9,コード一覧表!$C$1789:$Y$1897,VLOOKUP(Q7,コード一覧表!$AA$1789:$AB$1897,2,0)+1,0),HLOOKUP($U$9,コード一覧表!$C$2:$Y$1768,VLOOKUP(Q7,コード一覧表!$AA$3:$AB$1768,2,0)+1,0))))","v":""}]
[null,null,null,null,null,null,null,null,null,null,null,null,null,null,null,null,null,null,null,"移調",0,"-11から11までの数字を入力する 入力のままなら 0"]
[null,null,null,null,null,null,null,null,null,null,null,null,null,null,null,null,null,null,"入力行3"]
[null,{"$f":"IF(B10=\"\",\"\",IF(OR(LEN(B10)<3,LEN(B10)>4),HLOOKUP($U$9,コード一覧表!$C$2:$Y$1768,VLOOKUP(B10,コード一覧表!$AA$3:$AB$1768,2,0)+1,0),IF(OR(CODE(MID(B10,2,1))=77,CODE(MID(B10,3,1))=77),HLOOKUP($U$9,コード一覧表!$C$1789:$Y$1897,VLOOKUP(B10,コード一覧表!$AA$1789:$AB$1897,2,0)+1,0),HLOOKUP($U$9,コード一覧表!$C$2:$Y$1768,VLOOKUP(B10,コード一覧表!$AA$3:$AB$1768,2,0)+1,0))))","v":""},{"$f":"IF(C10=\"\",\"\",IF(OR(LEN(C10)<3,LEN(C10)>4),HLOOKUP($U$9,コード一覧表!$C$2:$Y$1768,VLOOKUP(C10,コード一覧表!$AA$3:$AB$1768,2,0)+1,0),IF(OR(CODE(MID(C10,2,1))=77,CODE(MID(C10,3,1))=77),HLOOKUP($U$9,コード一覧表!$C$1789:$Y$1897,VLOOKUP(C10,コード一覧表!$AA$1789:$AB$1897,2,0)+1,0),HLOOKUP($U$9,コード一覧表!$C$2:$Y$1768,VLOOKUP(C10,コード一覧表!$AA$3:$AB$1768,2,0)+1,0))))","v":""},{"$f":"IF(D10=\"\",\"\",IF(OR(LEN(D10)<3,LEN(D10)>4),HLOOKUP($U$9,コード一覧表!$C$2:$Y$1768,VLOOKUP(D10,コード一覧表!$AA$3:$AB$1768,2,0)+1,0),IF(OR(CODE(MID(D10,2,1))=77,CODE(MID(D10,3,1))=77),HLOOKUP($U$9,コード一覧表!$C$1789:$Y$1897,VLOOKUP(D10,コード一覧表!$AA$1789:$AB$1897,2,0)+1,0),HLOOKUP($U$9,コード一覧表!$C$2:$Y$1768,VLOOKUP(D10,コード一覧表!$AA$3:$AB$1768,2,0)+1,0))))","v":""},{"$f":"IF(E10=\"\",\"\",IF(OR(LEN(E10)<3,LEN(E10)>4),HLOOKUP($U$9,コード一覧表!$C$2:$Y$1768,VLOOKUP(E10,コード一覧表!$AA$3:$AB$1768,2,0)+1,0),IF(OR(CODE(MID(E10,2,1))=77,CODE(MID(E10,3,1))=77),HLOOKUP($U$9,コード一覧表!$C$1789:$Y$1897,VLOOKUP(E10,コード一覧表!$AA$1789:$AB$1897,2,0)+1,0),HLOOKUP($U$9,コード一覧表!$C$2:$Y$1768,VLOOKUP(E10,コード一覧表!$AA$3:$AB$1768,2,0)+1,0))))","v":""},{"$f":"IF(F10=\"\",\"\",IF(OR(LEN(F10)<3,LEN(F10)>4),HLOOKUP($U$9,コード一覧表!$C$2:$Y$1768,VLOOKUP(F10,コード一覧表!$AA$3:$AB$1768,2,0)+1,0),IF(OR(CODE(MID(F10,2,1))=77,CODE(MID(F10,3,1))=77),HLOOKUP($U$9,コード一覧表!$C$1789:$Y$1897,VLOOKUP(F10,コード一覧表!$AA$1789:$AB$1897,2,0)+1,0),HLOOKUP($U$9,コード一覧表!$C$2:$Y$1768,VLOOKUP(F10,コード一覧表!$AA$3:$AB$1768,2,0)+1,0))))","v":""},{"$f":"IF(G10=\"\",\"\",IF(OR(LEN(G10)<3,LEN(G10)>4),HLOOKUP($U$9,コード一覧表!$C$2:$Y$1768,VLOOKUP(G10,コード一覧表!$AA$3:$AB$1768,2,0)+1,0),IF(OR(CODE(MID(G10,2,1))=77,CODE(MID(G10,3,1))=77),HLOOKUP($U$9,コード一覧表!$C$1789:$Y$1897,VLOOKUP(G10,コード一覧表!$AA$1789:$AB$1897,2,0)+1,0),HLOOKUP($U$9,コード一覧表!$C$2:$Y$1768,VLOOKUP(G10,コード一覧表!$AA$3:$AB$1768,2,0)+1,0))))","v":""},{"$f":"IF(H10=\"\",\"\",IF(OR(LEN(H10)<3,LEN(H10)>4),HLOOKUP($U$9,コード一覧表!$C$2:$Y$1768,VLOOKUP(H10,コード一覧表!$AA$3:$AB$1768,2,0)+1,0),IF(OR(CODE(MID(H10,2,1))=77,CODE(MID(H10,3,1))=77),HLOOKUP($U$9,コード一覧表!$C$1789:$Y$1897,VLOOKUP(H10,コード一覧表!$AA$1789:$AB$1897,2,0)+1,0),HLOOKUP($U$9,コード一覧表!$C$2:$Y$1768,VLOOKUP(H10,コード一覧表!$AA$3:$AB$1768,2,0)+1,0))))","v":""},{"$f":"IF(I10=\"\",\"\",IF(OR(LEN(I10)<3,LEN(I10)>4),HLOOKUP($U$9,コード一覧表!$C$2:$Y$1768,VLOOKUP(I10,コード一覧表!$AA$3:$AB$1768,2,0)+1,0),IF(OR(CODE(MID(I10,2,1))=77,CODE(MID(I10,3,1))=77),HLOOKUP($U$9,コード一覧表!$C$1789:$Y$1897,VLOOKUP(I10,コード一覧表!$AA$1789:$AB$1897,2,0)+1,0),HLOOKUP($U$9,コード一覧表!$C$2:$Y$1768,VLOOKUP(I10,コード一覧表!$AA$3:$AB$1768,2,0)+1,0))))","v":""},{"$f":"IF(J10=\"\",\"\",IF(OR(LEN(J10)<3,LEN(J10)>4),HLOOKUP($U$9,コード一覧表!$C$2:$Y$1768,VLOOKUP(J10,コード一覧表!$AA$3:$AB$1768,2,0)+1,0),IF(OR(CODE(MID(J10,2,1))=77,CODE(MID(J10,3,1))=77),HLOOKUP($U$9,コード一覧表!$C$1789:$Y$1897,VLOOKUP(J10,コード一覧表!$AA$1789:$AB$1897,2,0)+1,0),HLOOKUP($U$9,コード一覧表!$C$2:$Y$1768,VLOOKUP(J10,コード一覧表!$AA$3:$AB$1768,2,0)+1,0))))","v":""},{"$f":"IF(K10=\"\",\"\",IF(OR(LEN(K10)<3,LEN(K10)>4),HLOOKUP($U$9,コード一覧表!$C$2:$Y$1768,VLOOKUP(K10,コード一覧表!$AA$3:$AB$1768,2,0)+1,0),IF(OR(CODE(MID(K10,2,1))=77,CODE(MID(K10,3,1))=77),HLOOKUP($U$9,コード一覧表!$C$1789:$Y$1897,VLOOKUP(K10,コード一覧表!$AA$1789:$AB$1897,2,0)+1,0),HLOOKUP($U$9,コード一覧表!$C$2:$Y$1768,VLOOKUP(K10,コード一覧表!$AA$3:$AB$1768,2,0)+1,0))))","v":""},{"$f":"IF(L10=\"\",\"\",IF(OR(LEN(L10)<3,LEN(L10)>4),HLOOKUP($U$9,コード一覧表!$C$2:$Y$1768,VLOOKUP(L10,コード一覧表!$AA$3:$AB$1768,2,0)+1,0),IF(OR(CODE(MID(L10,2,1))=77,CODE(MID(L10,3,1))=77),HLOOKUP($U$9,コード一覧表!$C$1789:$Y$1897,VLOOKUP(L10,コード一覧表!$AA$1789:$AB$1897,2,0)+1,0),HLOOKUP($U$9,コード一覧表!$C$2:$Y$1768,VLOOKUP(L10,コード一覧表!$AA$3:$AB$1768,2,0)+1,0))))","v":""},{"$f":"IF(M10=\"\",\"\",IF(OR(LEN(M10)<3,LEN(M10)>4),HLOOKUP($U$9,コード一覧表!$C$2:$Y$1768,VLOOKUP(M10,コード一覧表!$AA$3:$AB$1768,2,0)+1,0),IF(OR(CODE(MID(M10,2,1))=77,CODE(MID(M10,3,1))=77),HLOOKUP($U$9,コード一覧表!$C$1789:$Y$1897,VLOOKUP(M10,コード一覧表!$AA$1789:$AB$1897,2,0)+1,0),HLOOKUP($U$9,コード一覧表!$C$2:$Y$1768,VLOOKUP(M10,コード一覧表!$AA$3:$AB$1768,2,0)+1,0))))","v":""},{"$f":"IF(N10=\"\",\"\",IF(OR(LEN(N10)<3,LEN(N10)>4),HLOOKUP($U$9,コード一覧表!$C$2:$Y$1768,VLOOKUP(N10,コード一覧表!$AA$3:$AB$1768,2,0)+1,0),IF(OR(CODE(MID(N10,2,1))=77,CODE(MID(N10,3,1))=77),HLOOKUP($U$9,コード一覧表!$C$1789:$Y$1897,VLOOKUP(N10,コード一覧表!$AA$1789:$AB$1897,2,0)+1,0),HLOOKUP($U$9,コード一覧表!$C$2:$Y$1768,VLOOKUP(N10,コード一覧表!$AA$3:$AB$1768,2,0)+1,0))))","v":""},{"$f":"IF(O10=\"\",\"\",IF(OR(LEN(O10)<3,LEN(O10)>4),HLOOKUP($U$9,コード一覧表!$C$2:$Y$1768,VLOOKUP(O10,コード一覧表!$AA$3:$AB$1768,2,0)+1,0),IF(OR(CODE(MID(O10,2,1))=77,CODE(MID(O10,3,1))=77),HLOOKUP($U$9,コード一覧表!$C$1789:$Y$1897,VLOOKUP(O10,コード一覧表!$AA$1789:$AB$1897,2,0)+1,0),HLOOKUP($U$9,コード一覧表!$C$2:$Y$1768,VLOOKUP(O10,コード一覧表!$AA$3:$AB$1768,2,0)+1,0))))","v":""},{"$f":"IF(P10=\"\",\"\",IF(OR(LEN(P10)<3,LEN(P10)>4),HLOOKUP($U$9,コード一覧表!$C$2:$Y$1768,VLOOKUP(P10,コード一覧表!$AA$3:$AB$1768,2,0)+1,0),IF(OR(CODE(MID(P10,2,1))=77,CODE(MID(P10,3,1))=77),HLOOKUP($U$9,コード一覧表!$C$1789:$Y$1897,VLOOKUP(P10,コード一覧表!$AA$1789:$AB$1897,2,0)+1,0),HLOOKUP($U$9,コード一覧表!$C$2:$Y$1768,VLOOKUP(P10,コード一覧表!$AA$3:$AB$1768,2,0)+1,0))))","v":""},{"$f":"IF(Q10=\"\",\"\",IF(OR(LEN(Q10)<3,LEN(Q10)>4),HLOOKUP($U$9,コード一覧表!$C$2:$Y$1768,VLOOKUP(Q10,コード一覧表!$AA$3:$AB$1768,2,0)+1,0),IF(OR(CODE(MID(Q10,2,1))=77,CODE(MID(Q10,3,1))=77),HLOOKUP($U$9,コード一覧表!$C$1789:$Y$1897,VLOOKUP(Q10,コード一覧表!$AA$1789:$AB$1897,2,0)+1,0),HLOOKUP($U$9,コード一覧表!$C$2:$Y$1768,VLOOKUP(Q10,コード一覧表!$AA$3:$AB$1768,2,0)+1,0))))","v":""},null,"　※　#　を使う場合は　１　を入力 b　を使う場合は１を　削除　してください。"]
[null,null,null,null,null,null,null,null,null,null,null,null,null,null,null,null,null,null,"C# or Db",1,"D# or Eb",null,"F# or Gb",1,"G# or Ab",1,"A# or Bb",null,"※　コード行に入力する時もここで選んだ方を使う事"]
[null,null,null,null,null,null,null,null,null,null,null,null,null,null,null,null,null,null,"入力行4"]
[null,{"$f":"IF(B13=\"\",\"\",IF(OR(LEN(B13)<3,LEN(B13)>4),HLOOKUP($U$9,コード一覧表!$C$2:$Y$1768,VLOOKUP(B13,コード一覧表!$AA$3:$AB$1768,2,0)+1,0),IF(OR(CODE(MID(B13,2,1))=77,CODE(MID(B13,3,1))=77),HLOOKUP($U$9,コード一覧表!$C$1789:$Y$1897,VLOOKUP(B13,コード一覧表!$AA$1789:$AB$1897,2,0)+1,0),HLOOKUP($U$9,コード一覧表!$C$2:$Y$1768,VLOOKUP(B13,コード一覧表!$AA$3:$AB$1768,2,0)+1,0))))","v":""},{"$f":"IF(C13=\"\",\"\",IF(OR(LEN(C13)<3,LEN(C13)>4),HLOOKUP($U$9,コード一覧表!$C$2:$Y$1768,VLOOKUP(C13,コード一覧表!$AA$3:$AB$1768,2,0)+1,0),IF(OR(CODE(MID(C13,2,1))=77,CODE(MID(C13,3,1))=77),HLOOKUP($U$9,コード一覧表!$C$1789:$Y$1897,VLOOKUP(C13,コード一覧表!$AA$1789:$AB$1897,2,0)+1,0),HLOOKUP($U$9,コード一覧表!$C$2:$Y$1768,VLOOKUP(C13,コード一覧表!$AA$3:$AB$1768,2,0)+1,0))))","v":""},{"$f":"IF(D13=\"\",\"\",IF(OR(LEN(D13)<3,LEN(D13)>4),HLOOKUP($U$9,コード一覧表!$C$2:$Y$1768,VLOOKUP(D13,コード一覧表!$AA$3:$AB$1768,2,0)+1,0),IF(OR(CODE(MID(D13,2,1))=77,CODE(MID(D13,3,1))=77),HLOOKUP($U$9,コード一覧表!$C$1789:$Y$1897,VLOOKUP(D13,コード一覧表!$AA$1789:$AB$1897,2,0)+1,0),HLOOKUP($U$9,コード一覧表!$C$2:$Y$1768,VLOOKUP(D13,コード一覧表!$AA$3:$AB$1768,2,0)+1,0))))","v":""},{"$f":"IF(E13=\"\",\"\",IF(OR(LEN(E13)<3,LEN(E13)>4),HLOOKUP($U$9,コード一覧表!$C$2:$Y$1768,VLOOKUP(E13,コード一覧表!$AA$3:$AB$1768,2,0)+1,0),IF(OR(CODE(MID(E13,2,1))=77,CODE(MID(E13,3,1))=77),HLOOKUP($U$9,コード一覧表!$C$1789:$Y$1897,VLOOKUP(E13,コード一覧表!$AA$1789:$AB$1897,2,0)+1,0),HLOOKUP($U$9,コード一覧表!$C$2:$Y$1768,VLOOKUP(E13,コード一覧表!$AA$3:$AB$1768,2,0)+1,0))))","v":""},{"$f":"IF(F13=\"\",\"\",IF(OR(LEN(F13)<3,LEN(F13)>4),HLOOKUP($U$9,コード一覧表!$C$2:$Y$1768,VLOOKUP(F13,コード一覧表!$AA$3:$AB$1768,2,0)+1,0),IF(OR(CODE(MID(F13,2,1))=77,CODE(MID(F13,3,1))=77),HLOOKUP($U$9,コード一覧表!$C$1789:$Y$1897,VLOOKUP(F13,コード一覧表!$AA$1789:$AB$1897,2,0)+1,0),HLOOKUP($U$9,コード一覧表!$C$2:$Y$1768,VLOOKUP(F13,コード一覧表!$AA$3:$AB$1768,2,0)+1,0))))","v":""},{"$f":"IF(G13=\"\",\"\",IF(OR(LEN(G13)<3,LEN(G13)>4),HLOOKUP($U$9,コード一覧表!$C$2:$Y$1768,VLOOKUP(G13,コード一覧表!$AA$3:$AB$1768,2,0)+1,0),IF(OR(CODE(MID(G13,2,1))=77,CODE(MID(G13,3,1))=77),HLOOKUP($U$9,コード一覧表!$C$1789:$Y$1897,VLOOKUP(G13,コード一覧表!$AA$1789:$AB$1897,2,0)+1,0),HLOOKUP($U$9,コード一覧表!$C$2:$Y$1768,VLOOKUP(G13,コード一覧表!$AA$3:$AB$1768,2,0)+1,0))))","v":""},{"$f":"IF(H13=\"\",\"\",IF(OR(LEN(H13)<3,LEN(H13)>4),HLOOKUP($U$9,コード一覧表!$C$2:$Y$1768,VLOOKUP(H13,コード一覧表!$AA$3:$AB$1768,2,0)+1,0),IF(OR(CODE(MID(H13,2,1))=77,CODE(MID(H13,3,1))=77),HLOOKUP($U$9,コード一覧表!$C$1789:$Y$1897,VLOOKUP(H13,コード一覧表!$AA$1789:$AB$1897,2,0)+1,0),HLOOKUP($U$9,コード一覧表!$C$2:$Y$1768,VLOOKUP(H13,コード一覧表!$AA$3:$AB$1768,2,0)+1,0))))","v":""},{"$f":"IF(I13=\"\",\"\",IF(OR(LEN(I13)<3,LEN(I13)>4),HLOOKUP($U$9,コード一覧表!$C$2:$Y$1768,VLOOKUP(I13,コード一覧表!$AA$3:$AB$1768,2,0)+1,0),IF(OR(CODE(MID(I13,2,1))=77,CODE(MID(I13,3,1))=77),HLOOKUP($U$9,コード一覧表!$C$1789:$Y$1897,VLOOKUP(I13,コード一覧表!$AA$1789:$AB$1897,2,0)+1,0),HLOOKUP($U$9,コード一覧表!$C$2:$Y$1768,VLOOKUP(I13,コード一覧表!$AA$3:$AB$1768,2,0)+1,0))))","v":""},{"$f":"IF(J13=\"\",\"\",IF(OR(LEN(J13)<3,LEN(J13)>4),HLOOKUP($U$9,コード一覧表!$C$2:$Y$1768,VLOOKUP(J13,コード一覧表!$AA$3:$AB$1768,2,0)+1,0),IF(OR(CODE(MID(J13,2,1))=77,CODE(MID(J13,3,1))=77),HLOOKUP($U$9,コード一覧表!$C$1789:$Y$1897,VLOOKUP(J13,コード一覧表!$AA$1789:$AB$1897,2,0)+1,0),HLOOKUP($U$9,コード一覧表!$C$2:$Y$1768,VLOOKUP(J13,コード一覧表!$AA$3:$AB$1768,2,0)+1,0))))","v":""},{"$f":"IF(K13=\"\",\"\",IF(OR(LEN(K13)<3,LEN(K13)>4),HLOOKUP($U$9,コード一覧表!$C$2:$Y$1768,VLOOKUP(K13,コード一覧表!$AA$3:$AB$1768,2,0)+1,0),IF(OR(CODE(MID(K13,2,1))=77,CODE(MID(K13,3,1))=77),HLOOKUP($U$9,コード一覧表!$C$1789:$Y$1897,VLOOKUP(K13,コード一覧表!$AA$1789:$AB$1897,2,0)+1,0),HLOOKUP($U$9,コード一覧表!$C$2:$Y$1768,VLOOKUP(K13,コード一覧表!$AA$3:$AB$1768,2,0)+1,0))))","v":""},{"$f":"IF(L13=\"\",\"\",IF(OR(LEN(L13)<3,LEN(L13)>4),HLOOKUP($U$9,コード一覧表!$C$2:$Y$1768,VLOOKUP(L13,コード一覧表!$AA$3:$AB$1768,2,0)+1,0),IF(OR(CODE(MID(L13,2,1))=77,CODE(MID(L13,3,1))=77),HLOOKUP($U$9,コード一覧表!$C$1789:$Y$1897,VLOOKUP(L13,コード一覧表!$AA$1789:$AB$1897,2,0)+1,0),HLOOKUP($U$9,コード一覧表!$C$2:$Y$1768,VLOOKUP(L13,コード一覧表!$AA$3:$AB$1768,2,0)+1,0))))","v":""},{"$f":"IF(M13=\"\",\"\",IF(OR(LEN(M13)<3,LEN(M13)>4),HLOOKUP($U$9,コード一覧表!$C$2:$Y$1768,VLOOKUP(M13,コード一覧表!$AA$3:$AB$1768,2,0)+1,0),IF(OR(CODE(MID(M13,2,1))=77,CODE(MID(M13,3,1))=77),HLOOKUP($U$9,コード一覧表!$C$1789:$Y$1897,VLOOKUP(M13,コード一覧表!$AA$1789:$AB$1897,2,0)+1,0),HLOOKUP($U$9,コード一覧表!$C$2:$Y$1768,VLOOKUP(M13,コード一覧表!$AA$3:$AB$1768,2,0)+1,0))))","v":""},{"$f":"IF(N13=\"\",\"\",IF(OR(LEN(N13)<3,LEN(N13)>4),HLOOKUP($U$9,コード一覧表!$C$2:$Y$1768,VLOOKUP(N13,コード一覧表!$AA$3:$AB$1768,2,0)+1,0),IF(OR(CODE(MID(N13,2,1))=77,CODE(MID(N13,3,1))=77),HLOOKUP($U$9,コード一覧表!$C$1789:$Y$1897,VLOOKUP(N13,コード一覧表!$AA$1789:$AB$1897,2,0)+1,0),HLOOKUP($U$9,コード一覧表!$C$2:$Y$1768,VLOOKUP(N13,コード一覧表!$AA$3:$AB$1768,2,0)+1,0))))","v":""},{"$f":"IF(O13=\"\",\"\",IF(OR(LEN(O13)<3,LEN(O13)>4),HLOOKUP($U$9,コード一覧表!$C$2:$Y$1768,VLOOKUP(O13,コード一覧表!$AA$3:$AB$1768,2,0)+1,0),IF(OR(CODE(MID(O13,2,1))=77,CODE(MID(O13,3,1))=77),HLOOKUP($U$9,コード一覧表!$C$1789:$Y$1897,VLOOKUP(O13,コード一覧表!$AA$1789:$AB$1897,2,0)+1,0),HLOOKUP($U$9,コード一覧表!$C$2:$Y$1768,VLOOKUP(O13,コード一覧表!$AA$3:$AB$1768,2,0)+1,0))))","v":""},{"$f":"IF(P13=\"\",\"\",IF(OR(LEN(P13)<3,LEN(P13)>4),HLOOKUP($U$9,コード一覧表!$C$2:$Y$1768,VLOOKUP(P13,コード一覧表!$AA$3:$AB$1768,2,0)+1,0),IF(OR(CODE(MID(P13,2,1))=77,CODE(MID(P13,3,1))=77),HLOOKUP($U$9,コード一覧表!$C$1789:$Y$1897,VLOOKUP(P13,コード一覧表!$AA$1789:$AB$1897,2,0)+1,0),HLOOKUP($U$9,コード一覧表!$C$2:$Y$1768,VLOOKUP(P13,コード一覧表!$AA$3:$AB$1768,2,0)+1,0))))","v":""},{"$f":"IF(Q13=\"\",\"\",IF(OR(LEN(Q13)<3,LEN(Q13)>4),HLOOKUP($U$9,コード一覧表!$C$2:$Y$1768,VLOOKUP(Q13,コード一覧表!$AA$3:$AB$1768,2,0)+1,0),IF(OR(CODE(MID(Q13,2,1))=77,CODE(MID(Q13,3,1))=77),HLOOKUP($U$9,コード一覧表!$C$1789:$Y$1897,VLOOKUP(Q13,コード一覧表!$AA$1789:$AB$1897,2,0)+1,0),HLOOKUP($U$9,コード一覧表!$C$2:$Y$1768,VLOOKUP(Q13,コード一覧表!$AA$3:$AB$1768,2,0)+1,0))))","v":""}]
[]
[null,null,null,null,null,null,null,null,null,null,null,null,null,null,null,null,null,null,"入力行5",null,null,"※ 印刷前に必ず　印刷範囲の設定　をする事"]
[null,{"$f":"IF(B16=\"\",\"\",IF(OR(LEN(B16)<3,LEN(B16)>4),HLOOKUP($U$9,コード一覧表!$C$2:$Y$1768,VLOOKUP(B16,コード一覧表!$AA$3:$AB$1768,2,0)+1,0),IF(OR(CODE(MID(B16,2,1))=77,CODE(MID(B16,3,1))=77),HLOOKUP($U$9,コード一覧表!$C$1789:$Y$1897,VLOOKUP(B16,コード一覧表!$AA$1789:$AB$1897,2,0)+1,0),HLOOKUP($U$9,コード一覧表!$C$2:$Y$1768,VLOOKUP(B16,コード一覧表!$AA$3:$AB$1768,2,0)+1,0))))","v":""},{"$f":"IF(C16=\"\",\"\",IF(OR(LEN(C16)<3,LEN(C16)>4),HLOOKUP($U$9,コード一覧表!$C$2:$Y$1768,VLOOKUP(C16,コード一覧表!$AA$3:$AB$1768,2,0)+1,0),IF(OR(CODE(MID(C16,2,1))=77,CODE(MID(C16,3,1))=77),HLOOKUP($U$9,コード一覧表!$C$1789:$Y$1897,VLOOKUP(C16,コード一覧表!$AA$1789:$AB$1897,2,0)+1,0),HLOOKUP($U$9,コード一覧表!$C$2:$Y$1768,VLOOKUP(C16,コード一覧表!$AA$3:$AB$1768,2,0)+1,0))))","v":""},{"$f":"IF(D16=\"\",\"\",IF(OR(LEN(D16)<3,LEN(D16)>4),HLOOKUP($U$9,コード一覧表!$C$2:$Y$1768,VLOOKUP(D16,コード一覧表!$AA$3:$AB$1768,2,0)+1,0),IF(OR(CODE(MID(D16,2,1))=77,CODE(MID(D16,3,1))=77),HLOOKUP($U$9,コード一覧表!$C$1789:$Y$1897,VLOOKUP(D16,コード一覧表!$AA$1789:$AB$1897,2,0)+1,0),HLOOKUP($U$9,コード一覧表!$C$2:$Y$1768,VLOOKUP(D16,コード一覧表!$AA$3:$AB$1768,2,0)+1,0))))","v":""},{"$f":"IF(E16=\"\",\"\",IF(OR(LEN(E16)<3,LEN(E16)>4),HLOOKUP($U$9,コード一覧表!$C$2:$Y$1768,VLOOKUP(E16,コード一覧表!$AA$3:$AB$1768,2,0)+1,0),IF(OR(CODE(MID(E16,2,1))=77,CODE(MID(E16,3,1))=77),HLOOKUP($U$9,コード一覧表!$C$1789:$Y$1897,VLOOKUP(E16,コード一覧表!$AA$1789:$AB$1897,2,0)+1,0),HLOOKUP($U$9,コード一覧表!$C$2:$Y$1768,VLOOKUP(E16,コード一覧表!$AA$3:$AB$1768,2,0)+1,0))))","v":""},{"$f":"IF(F16=\"\",\"\",IF(OR(LEN(F16)<3,LEN(F16)>4),HLOOKUP($U$9,コード一覧表!$C$2:$Y$1768,VLOOKUP(F16,コード一覧表!$AA$3:$AB$1768,2,0)+1,0),IF(OR(CODE(MID(F16,2,1))=77,CODE(MID(F16,3,1))=77),HLOOKUP($U$9,コード一覧表!$C$1789:$Y$1897,VLOOKUP(F16,コード一覧表!$AA$1789:$AB$1897,2,0)+1,0),HLOOKUP($U$9,コード一覧表!$C$2:$Y$1768,VLOOKUP(F16,コード一覧表!$AA$3:$AB$1768,2,0)+1,0))))","v":""},{"$f":"IF(G16=\"\",\"\",IF(OR(LEN(G16)<3,LEN(G16)>4),HLOOKUP($U$9,コード一覧表!$C$2:$Y$1768,VLOOKUP(G16,コード一覧表!$AA$3:$AB$1768,2,0)+1,0),IF(OR(CODE(MID(G16,2,1))=77,CODE(MID(G16,3,1))=77),HLOOKUP($U$9,コード一覧表!$C$1789:$Y$1897,VLOOKUP(G16,コード一覧表!$AA$1789:$AB$1897,2,0)+1,0),HLOOKUP($U$9,コード一覧表!$C$2:$Y$1768,VLOOKUP(G16,コード一覧表!$AA$3:$AB$1768,2,0)+1,0))))","v":""},{"$f":"IF(H16=\"\",\"\",IF(OR(LEN(H16)<3,LEN(H16)>4),HLOOKUP($U$9,コード一覧表!$C$2:$Y$1768,VLOOKUP(H16,コード一覧表!$AA$3:$AB$1768,2,0)+1,0),IF(OR(CODE(MID(H16,2,1))=77,CODE(MID(H16,3,1))=77),HLOOKUP($U$9,コード一覧表!$C$1789:$Y$1897,VLOOKUP(H16,コード一覧表!$AA$1789:$AB$1897,2,0)+1,0),HLOOKUP($U$9,コード一覧表!$C$2:$Y$1768,VLOOKUP(H16,コード一覧表!$AA$3:$AB$1768,2,0)+1,0))))","v":""},{"$f":"IF(I16=\"\",\"\",IF(OR(LEN(I16)<3,LEN(I16)>4),HLOOKUP($U$9,コード一覧表!$C$2:$Y$1768,VLOOKUP(I16,コード一覧表!$AA$3:$AB$1768,2,0)+1,0),IF(OR(CODE(MID(I16,2,1))=77,CODE(MID(I16,3,1))=77),HLOOKUP($U$9,コード一覧表!$C$1789:$Y$1897,VLOOKUP(I16,コード一覧表!$AA$1789:$AB$1897,2,0)+1,0),HLOOKUP($U$9,コード一覧表!$C$2:$Y$1768,VLOOKUP(I16,コード一覧表!$AA$3:$AB$1768,2,0)+1,0))))","v":""},{"$f":"IF(J16=\"\",\"\",IF(OR(LEN(J16)<3,LEN(J16)>4),HLOOKUP($U$9,コード一覧表!$C$2:$Y$1768,VLOOKUP(J16,コード一覧表!$AA$3:$AB$1768,2,0)+1,0),IF(OR(CODE(MID(J16,2,1))=77,CODE(MID(J16,3,1))=77),HLOOKUP($U$9,コード一覧表!$C$1789:$Y$1897,VLOOKUP(J16,コード一覧表!$AA$1789:$AB$1897,2,0)+1,0),HLOOKUP($U$9,コード一覧表!$C$2:$Y$1768,VLOOKUP(J16,コード一覧表!$AA$3:$AB$1768,2,0)+1,0))))","v":""},{"$f":"IF(K16=\"\",\"\",IF(OR(LEN(K16)<3,LEN(K16)>4),HLOOKUP($U$9,コード一覧表!$C$2:$Y$1768,VLOOKUP(K16,コード一覧表!$AA$3:$AB$1768,2,0)+1,0),IF(OR(CODE(MID(K16,2,1))=77,CODE(MID(K16,3,1))=77),HLOOKUP($U$9,コード一覧表!$C$1789:$Y$1897,VLOOKUP(K16,コード一覧表!$AA$1789:$AB$1897,2,0)+1,0),HLOOKUP($U$9,コード一覧表!$C$2:$Y$1768,VLOOKUP(K16,コード一覧表!$AA$3:$AB$1768,2,0)+1,0))))","v":""},{"$f":"IF(L16=\"\",\"\",IF(OR(LEN(L16)<3,LEN(L16)>4),HLOOKUP($U$9,コード一覧表!$C$2:$Y$1768,VLOOKUP(L16,コード一覧表!$AA$3:$AB$1768,2,0)+1,0),IF(OR(CODE(MID(L16,2,1))=77,CODE(MID(L16,3,1))=77),HLOOKUP($U$9,コード一覧表!$C$1789:$Y$1897,VLOOKUP(L16,コード一覧表!$AA$1789:$AB$1897,2,0)+1,0),HLOOKUP($U$9,コード一覧表!$C$2:$Y$1768,VLOOKUP(L16,コード一覧表!$AA$3:$AB$1768,2,0)+1,0))))","v":""},{"$f":"IF(M16=\"\",\"\",IF(OR(LEN(M16)<3,LEN(M16)>4),HLOOKUP($U$9,コード一覧表!$C$2:$Y$1768,VLOOKUP(M16,コード一覧表!$AA$3:$AB$1768,2,0)+1,0),IF(OR(CODE(MID(M16,2,1))=77,CODE(MID(M16,3,1))=77),HLOOKUP($U$9,コード一覧表!$C$1789:$Y$1897,VLOOKUP(M16,コード一覧表!$AA$1789:$AB$1897,2,0)+1,0),HLOOKUP($U$9,コード一覧表!$C$2:$Y$1768,VLOOKUP(M16,コード一覧表!$AA$3:$AB$1768,2,0)+1,0))))","v":""},{"$f":"IF(N16=\"\",\"\",IF(OR(LEN(N16)<3,LEN(N16)>4),HLOOKUP($U$9,コード一覧表!$C$2:$Y$1768,VLOOKUP(N16,コード一覧表!$AA$3:$AB$1768,2,0)+1,0),IF(OR(CODE(MID(N16,2,1))=77,CODE(MID(N16,3,1))=77),HLOOKUP($U$9,コード一覧表!$C$1789:$Y$1897,VLOOKUP(N16,コード一覧表!$AA$1789:$AB$1897,2,0)+1,0),HLOOKUP($U$9,コード一覧表!$C$2:$Y$1768,VLOOKUP(N16,コード一覧表!$AA$3:$AB$1768,2,0)+1,0))))","v":""},{"$f":"IF(O16=\"\",\"\",IF(OR(LEN(O16)<3,LEN(O16)>4),HLOOKUP($U$9,コード一覧表!$C$2:$Y$1768,VLOOKUP(O16,コード一覧表!$AA$3:$AB$1768,2,0)+1,0),IF(OR(CODE(MID(O16,2,1))=77,CODE(MID(O16,3,1))=77),HLOOKUP($U$9,コード一覧表!$C$1789:$Y$1897,VLOOKUP(O16,コード一覧表!$AA$1789:$AB$1897,2,0)+1,0),HLOOKUP($U$9,コード一覧表!$C$2:$Y$1768,VLOOKUP(O16,コード一覧表!$AA$3:$AB$1768,2,0)+1,0))))","v":""},{"$f":"IF(P16=\"\",\"\",IF(OR(LEN(P16)<3,LEN(P16)>4),HLOOKUP($U$9,コード一覧表!$C$2:$Y$1768,VLOOKUP(P16,コード一覧表!$AA$3:$AB$1768,2,0)+1,0),IF(OR(CODE(MID(P16,2,1))=77,CODE(MID(P16,3,1))=77),HLOOKUP($U$9,コード一覧表!$C$1789:$Y$1897,VLOOKUP(P16,コード一覧表!$AA$1789:$AB$1897,2,0)+1,0),HLOOKUP($U$9,コード一覧表!$C$2:$Y$1768,VLOOKUP(P16,コード一覧表!$AA$3:$AB$1768,2,0)+1,0))))","v":""},{"$f":"IF(Q16=\"\",\"\",IF(OR(LEN(Q16)<3,LEN(Q16)>4),HLOOKUP($U$9,コード一覧表!$C$2:$Y$1768,VLOOKUP(Q16,コード一覧表!$AA$3:$AB$1768,2,0)+1,0),IF(OR(CODE(MID(Q16,2,1))=77,CODE(MID(Q16,3,1))=77),HLOOKUP($U$9,コード一覧表!$C$1789:$Y$1897,VLOOKUP(Q16,コード一覧表!$AA$1789:$AB$1897,2,0)+1,0),HLOOKUP($U$9,コード一覧表!$C$2:$Y$1768,VLOOKUP(Q16,コード一覧表!$AA$3:$AB$1768,2,0)+1,0))))","v":""}]
[]
[null,null,null,null,null,null,null,null,null,null,null,null,null,null,null,null,null,null,"入力行6"]
[null,{"$f":"IF(B19=\"\",\"\",IF(OR(LEN(B19)<3,LEN(B19)>4),HLOOKUP($U$9,コード一覧表!$C$2:$Y$1768,VLOOKUP(B19,コード一覧表!$AA$3:$AB$1768,2,0)+1,0),IF(OR(CODE(MID(B19,2,1))=77,CODE(MID(B19,3,1))=77),HLOOKUP($U$9,コード一覧表!$C$1789:$Y$1897,VLOOKUP(B19,コード一覧表!$AA$1789:$AB$1897,2,0)+1,0),HLOOKUP($U$9,コード一覧表!$C$2:$Y$1768,VLOOKUP(B19,コード一覧表!$AA$3:$AB$1768,2,0)+1,0))))","v":""},{"$f":"IF(C19=\"\",\"\",IF(OR(LEN(C19)<3,LEN(C19)>4),HLOOKUP($U$9,コード一覧表!$C$2:$Y$1768,VLOOKUP(C19,コード一覧表!$AA$3:$AB$1768,2,0)+1,0),IF(OR(CODE(MID(C19,2,1))=77,CODE(MID(C19,3,1))=77),HLOOKUP($U$9,コード一覧表!$C$1789:$Y$1897,VLOOKUP(C19,コード一覧表!$AA$1789:$AB$1897,2,0)+1,0),HLOOKUP($U$9,コード一覧表!$C$2:$Y$1768,VLOOKUP(C19,コード一覧表!$AA$3:$AB$1768,2,0)+1,0))))","v":""},{"$f":"IF(D19=\"\",\"\",IF(OR(LEN(D19)<3,LEN(D19)>4),HLOOKUP($U$9,コード一覧表!$C$2:$Y$1768,VLOOKUP(D19,コード一覧表!$AA$3:$AB$1768,2,0)+1,0),IF(OR(CODE(MID(D19,2,1))=77,CODE(MID(D19,3,1))=77),HLOOKUP($U$9,コード一覧表!$C$1789:$Y$1897,VLOOKUP(D19,コード一覧表!$AA$1789:$AB$1897,2,0)+1,0),HLOOKUP($U$9,コード一覧表!$C$2:$Y$1768,VLOOKUP(D19,コード一覧表!$AA$3:$AB$1768,2,0)+1,0))))","v":""},{"$f":"IF(E19=\"\",\"\",IF(OR(LEN(E19)<3,LEN(E19)>4),HLOOKUP($U$9,コード一覧表!$C$2:$Y$1768,VLOOKUP(E19,コード一覧表!$AA$3:$AB$1768,2,0)+1,0),IF(OR(CODE(MID(E19,2,1))=77,CODE(MID(E19,3,1))=77),HLOOKUP($U$9,コード一覧表!$C$1789:$Y$1897,VLOOKUP(E19,コード一覧表!$AA$1789:$AB$1897,2,0)+1,0),HLOOKUP($U$9,コード一覧表!$C$2:$Y$1768,VLOOKUP(E19,コード一覧表!$AA$3:$AB$1768,2,0)+1,0))))","v":""},{"$f":"IF(F19=\"\",\"\",IF(OR(LEN(F19)<3,LEN(F19)>4),HLOOKUP($U$9,コード一覧表!$C$2:$Y$1768,VLOOKUP(F19,コード一覧表!$AA$3:$AB$1768,2,0)+1,0),IF(OR(CODE(MID(F19,2,1))=77,CODE(MID(F19,3,1))=77),HLOOKUP($U$9,コード一覧表!$C$1789:$Y$1897,VLOOKUP(F19,コード一覧表!$AA$1789:$AB$1897,2,0)+1,0),HLOOKUP($U$9,コード一覧表!$C$2:$Y$1768,VLOOKUP(F19,コード一覧表!$AA$3:$AB$1768,2,0)+1,0))))","v":""},{"$f":"IF(G19=\"\",\"\",IF(OR(LEN(G19)<3,LEN(G19)>4),HLOOKUP($U$9,コード一覧表!$C$2:$Y$1768,VLOOKUP(G19,コード一覧表!$AA$3:$AB$1768,2,0)+1,0),IF(OR(CODE(MID(G19,2,1))=77,CODE(MID(G19,3,1))=77),HLOOKUP($U$9,コード一覧表!$C$1789:$Y$1897,VLOOKUP(G19,コード一覧表!$AA$1789:$AB$1897,2,0)+1,0),HLOOKUP($U$9,コード一覧表!$C$2:$Y$1768,VLOOKUP(G19,コード一覧表!$AA$3:$AB$1768,2,0)+1,0))))","v":""},{"$f":"IF(H19=\"\",\"\",IF(OR(LEN(H19)<3,LEN(H19)>4),HLOOKUP($U$9,コード一覧表!$C$2:$Y$1768,VLOOKUP(H19,コード一覧表!$AA$3:$AB$1768,2,0)+1,0),IF(OR(CODE(MID(H19,2,1))=77,CODE(MID(H19,3,1))=77),HLOOKUP($U$9,コード一覧表!$C$1789:$Y$1897,VLOOKUP(H19,コード一覧表!$AA$1789:$AB$1897,2,0)+1,0),HLOOKUP($U$9,コード一覧表!$C$2:$Y$1768,VLOOKUP(H19,コード一覧表!$AA$3:$AB$1768,2,0)+1,0))))","v":""},{"$f":"IF(I19=\"\",\"\",IF(OR(LEN(I19)<3,LEN(I19)>4),HLOOKUP($U$9,コード一覧表!$C$2:$Y$1768,VLOOKUP(I19,コード一覧表!$AA$3:$AB$1768,2,0)+1,0),IF(OR(CODE(MID(I19,2,1))=77,CODE(MID(I19,3,1))=77),HLOOKUP($U$9,コード一覧表!$C$1789:$Y$1897,VLOOKUP(I19,コード一覧表!$AA$1789:$AB$1897,2,0)+1,0),HLOOKUP($U$9,コード一覧表!$C$2:$Y$1768,VLOOKUP(I19,コード一覧表!$AA$3:$AB$1768,2,0)+1,0))))","v":""},{"$f":"IF(J19=\"\",\"\",IF(OR(LEN(J19)<3,LEN(J19)>4),HLOOKUP($U$9,コード一覧表!$C$2:$Y$1768,VLOOKUP(J19,コード一覧表!$AA$3:$AB$1768,2,0)+1,0),IF(OR(CODE(MID(J19,2,1))=77,CODE(MID(J19,3,1))=77),HLOOKUP($U$9,コード一覧表!$C$1789:$Y$1897,VLOOKUP(J19,コード一覧表!$AA$1789:$AB$1897,2,0)+1,0),HLOOKUP($U$9,コード一覧表!$C$2:$Y$1768,VLOOKUP(J19,コード一覧表!$AA$3:$AB$1768,2,0)+1,0))))","v":""},{"$f":"IF(K19=\"\",\"\",IF(OR(LEN(K19)<3,LEN(K19)>4),HLOOKUP($U$9,コード一覧表!$C$2:$Y$1768,VLOOKUP(K19,コード一覧表!$AA$3:$AB$1768,2,0)+1,0),IF(OR(CODE(MID(K19,2,1))=77,CODE(MID(K19,3,1))=77),HLOOKUP($U$9,コード一覧表!$C$1789:$Y$1897,VLOOKUP(K19,コード一覧表!$AA$1789:$AB$1897,2,0)+1,0),HLOOKUP($U$9,コード一覧表!$C$2:$Y$1768,VLOOKUP(K19,コード一覧表!$AA$3:$AB$1768,2,0)+1,0))))","v":""},{"$f":"IF(L19=\"\",\"\",IF(OR(LEN(L19)<3,LEN(L19)>4),HLOOKUP($U$9,コード一覧表!$C$2:$Y$1768,VLOOKUP(L19,コード一覧表!$AA$3:$AB$1768,2,0)+1,0),IF(OR(CODE(MID(L19,2,1))=77,CODE(MID(L19,3,1))=77),HLOOKUP($U$9,コード一覧表!$C$1789:$Y$1897,VLOOKUP(L19,コード一覧表!$AA$1789:$AB$1897,2,0)+1,0),HLOOKUP($U$9,コード一覧表!$C$2:$Y$1768,VLOOKUP(L19,コード一覧表!$AA$3:$AB$1768,2,0)+1,0))))","v":""},{"$f":"IF(M19=\"\",\"\",IF(OR(LEN(M19)<3,LEN(M19)>4),HLOOKUP($U$9,コード一覧表!$C$2:$Y$1768,VLOOKUP(M19,コード一覧表!$AA$3:$AB$1768,2,0)+1,0),IF(OR(CODE(MID(M19,2,1))=77,CODE(MID(M19,3,1))=77),HLOOKUP($U$9,コード一覧表!$C$1789:$Y$1897,VLOOKUP(M19,コード一覧表!$AA$1789:$AB$1897,2,0)+1,0),HLOOKUP($U$9,コード一覧表!$C$2:$Y$1768,VLOOKUP(M19,コード一覧表!$AA$3:$AB$1768,2,0)+1,0))))","v":""},{"$f":"IF(N19=\"\",\"\",IF(OR(LEN(N19)<3,LEN(N19)>4),HLOOKUP($U$9,コード一覧表!$C$2:$Y$1768,VLOOKUP(N19,コード一覧表!$AA$3:$AB$1768,2,0)+1,0),IF(OR(CODE(MID(N19,2,1))=77,CODE(MID(N19,3,1))=77),HLOOKUP($U$9,コード一覧表!$C$1789:$Y$1897,VLOOKUP(N19,コード一覧表!$AA$1789:$AB$1897,2,0)+1,0),HLOOKUP($U$9,コード一覧表!$C$2:$Y$1768,VLOOKUP(N19,コード一覧表!$AA$3:$AB$1768,2,0)+1,0))))","v":""},{"$f":"IF(O19=\"\",\"\",IF(OR(LEN(O19)<3,LEN(O19)>4),HLOOKUP($U$9,コード一覧表!$C$2:$Y$1768,VLOOKUP(O19,コード一覧表!$AA$3:$AB$1768,2,0)+1,0),IF(OR(CODE(MID(O19,2,1))=77,CODE(MID(O19,3,1))=77),HLOOKUP($U$9,コード一覧表!$C$1789:$Y$1897,VLOOKUP(O19,コード一覧表!$AA$1789:$AB$1897,2,0)+1,0),HLOOKUP($U$9,コード一覧表!$C$2:$Y$1768,VLOOKUP(O19,コード一覧表!$AA$3:$AB$1768,2,0)+1,0))))","v":""},{"$f":"IF(P19=\"\",\"\",IF(OR(LEN(P19)<3,LEN(P19)>4),HLOOKUP($U$9,コード一覧表!$C$2:$Y$1768,VLOOKUP(P19,コード一覧表!$AA$3:$AB$1768,2,0)+1,0),IF(OR(CODE(MID(P19,2,1))=77,CODE(MID(P19,3,1))=77),HLOOKUP($U$9,コード一覧表!$C$1789:$Y$1897,VLOOKUP(P19,コード一覧表!$AA$1789:$AB$1897,2,0)+1,0),HLOOKUP($U$9,コード一覧表!$C$2:$Y$1768,VLOOKUP(P19,コード一覧表!$AA$3:$AB$1768,2,0)+1,0))))","v":""},{"$f":"IF(Q19=\"\",\"\",IF(OR(LEN(Q19)<3,LEN(Q19)>4),HLOOKUP($U$9,コード一覧表!$C$2:$Y$1768,VLOOKUP(Q19,コード一覧表!$AA$3:$AB$1768,2,0)+1,0),IF(OR(CODE(MID(Q19,2,1))=77,CODE(MID(Q19,3,1))=77),HLOOKUP($U$9,コード一覧表!$C$1789:$Y$1897,VLOOKUP(Q19,コード一覧表!$AA$1789:$AB$1897,2,0)+1,0),HLOOKUP($U$9,コード一覧表!$C$2:$Y$1768,VLOOKUP(Q19,コード一覧表!$AA$3:$AB$1768,2,0)+1,0))))","v":""}]
[]
[null,null,null,null,null,null,null,null,null,null,null,null,null,null,null,null,null,null,"入力行7"]
[null,{"$f":"IF(B22=\"\",\"\",IF(OR(LEN(B22)<3,LEN(B22)>4),HLOOKUP($U$9,コード一覧表!$C$2:$Y$1768,VLOOKUP(B22,コード一覧表!$AA$3:$AB$1768,2,0)+1,0),IF(OR(CODE(MID(B22,2,1))=77,CODE(MID(B22,3,1))=77),HLOOKUP($U$9,コード一覧表!$C$1789:$Y$1897,VLOOKUP(B22,コード一覧表!$AA$1789:$AB$1897,2,0)+1,0),HLOOKUP($U$9,コード一覧表!$C$2:$Y$1768,VLOOKUP(B22,コード一覧表!$AA$3:$AB$1768,2,0)+1,0))))","v":""},{"$f":"IF(C22=\"\",\"\",IF(OR(LEN(C22)<3,LEN(C22)>4),HLOOKUP($U$9,コード一覧表!$C$2:$Y$1768,VLOOKUP(C22,コード一覧表!$AA$3:$AB$1768,2,0)+1,0),IF(OR(CODE(MID(C22,2,1))=77,CODE(MID(C22,3,1))=77),HLOOKUP($U$9,コード一覧表!$C$1789:$Y$1897,VLOOKUP(C22,コード一覧表!$AA$1789:$AB$1897,2,0)+1,0),HLOOKUP($U$9,コード一覧表!$C$2:$Y$1768,VLOOKUP(C22,コード一覧表!$AA$3:$AB$1768,2,0)+1,0))))","v":""},{"$f":"IF(D22=\"\",\"\",IF(OR(LEN(D22)<3,LEN(D22)>4),HLOOKUP($U$9,コード一覧表!$C$2:$Y$1768,VLOOKUP(D22,コード一覧表!$AA$3:$AB$1768,2,0)+1,0),IF(OR(CODE(MID(D22,2,1))=77,CODE(MID(D22,3,1))=77),HLOOKUP($U$9,コード一覧表!$C$1789:$Y$1897,VLOOKUP(D22,コード一覧表!$AA$1789:$AB$1897,2,0)+1,0),HLOOKUP($U$9,コード一覧表!$C$2:$Y$1768,VLOOKUP(D22,コード一覧表!$AA$3:$AB$1768,2,0)+1,0))))","v":""},{"$f":"IF(E22=\"\",\"\",IF(OR(LEN(E22)<3,LEN(E22)>4),HLOOKUP($U$9,コード一覧表!$C$2:$Y$1768,VLOOKUP(E22,コード一覧表!$AA$3:$AB$1768,2,0)+1,0),IF(OR(CODE(MID(E22,2,1))=77,CODE(MID(E22,3,1))=77),HLOOKUP($U$9,コード一覧表!$C$1789:$Y$1897,VLOOKUP(E22,コード一覧表!$AA$1789:$AB$1897,2,0)+1,0),HLOOKUP($U$9,コード一覧表!$C$2:$Y$1768,VLOOKUP(E22,コード一覧表!$AA$3:$AB$1768,2,0)+1,0))))","v":""},{"$f":"IF(F22=\"\",\"\",IF(OR(LEN(F22)<3,LEN(F22)>4),HLOOKUP($U$9,コード一覧表!$C$2:$Y$1768,VLOOKUP(F22,コード一覧表!$AA$3:$AB$1768,2,0)+1,0),IF(OR(CODE(MID(F22,2,1))=77,CODE(MID(F22,3,1))=77),HLOOKUP($U$9,コード一覧表!$C$1789:$Y$1897,VLOOKUP(F22,コード一覧表!$AA$1789:$AB$1897,2,0)+1,0),HLOOKUP($U$9,コード一覧表!$C$2:$Y$1768,VLOOKUP(F22,コード一覧表!$AA$3:$AB$1768,2,0)+1,0))))","v":""},{"$f":"IF(G22=\"\",\"\",IF(OR(LEN(G22)<3,LEN(G22)>4),HLOOKUP($U$9,コード一覧表!$C$2:$Y$1768,VLOOKUP(G22,コード一覧表!$AA$3:$AB$1768,2,0)+1,0),IF(OR(CODE(MID(G22,2,1))=77,CODE(MID(G22,3,1))=77),HLOOKUP($U$9,コード一覧表!$C$1789:$Y$1897,VLOOKUP(G22,コード一覧表!$AA$1789:$AB$1897,2,0)+1,0),HLOOKUP($U$9,コード一覧表!$C$2:$Y$1768,VLOOKUP(G22,コード一覧表!$AA$3:$AB$1768,2,0)+1,0))))","v":""},{"$f":"IF(H22=\"\",\"\",IF(OR(LEN(H22)<3,LEN(H22)>4),HLOOKUP($U$9,コード一覧表!$C$2:$Y$1768,VLOOKUP(H22,コード一覧表!$AA$3:$AB$1768,2,0)+1,0),IF(OR(CODE(MID(H22,2,1))=77,CODE(MID(H22,3,1))=77),HLOOKUP($U$9,コード一覧表!$C$1789:$Y$1897,VLOOKUP(H22,コード一覧表!$AA$1789:$AB$1897,2,0)+1,0),HLOOKUP($U$9,コード一覧表!$C$2:$Y$1768,VLOOKUP(H22,コード一覧表!$AA$3:$AB$1768,2,0)+1,0))))","v":""},{"$f":"IF(I22=\"\",\"\",IF(OR(LEN(I22)<3,LEN(I22)>4),HLOOKUP($U$9,コード一覧表!$C$2:$Y$1768,VLOOKUP(I22,コード一覧表!$AA$3:$AB$1768,2,0)+1,0),IF(OR(CODE(MID(I22,2,1))=77,CODE(MID(I22,3,1))=77),HLOOKUP($U$9,コード一覧表!$C$1789:$Y$1897,VLOOKUP(I22,コード一覧表!$AA$1789:$AB$1897,2,0)+1,0),HLOOKUP($U$9,コード一覧表!$C$2:$Y$1768,VLOOKUP(I22,コード一覧表!$AA$3:$AB$1768,2,0)+1,0))))","v":""},{"$f":"IF(J22=\"\",\"\",IF(OR(LEN(J22)<3,LEN(J22)>4),HLOOKUP($U$9,コード一覧表!$C$2:$Y$1768,VLOOKUP(J22,コード一覧表!$AA$3:$AB$1768,2,0)+1,0),IF(OR(CODE(MID(J22,2,1))=77,CODE(MID(J22,3,1))=77),HLOOKUP($U$9,コード一覧表!$C$1789:$Y$1897,VLOOKUP(J22,コード一覧表!$AA$1789:$AB$1897,2,0)+1,0),HLOOKUP($U$9,コード一覧表!$C$2:$Y$1768,VLOOKUP(J22,コード一覧表!$AA$3:$AB$1768,2,0)+1,0))))","v":""},{"$f":"IF(K22=\"\",\"\",IF(OR(LEN(K22)<3,LEN(K22)>4),HLOOKUP($U$9,コード一覧表!$C$2:$Y$1768,VLOOKUP(K22,コード一覧表!$AA$3:$AB$1768,2,0)+1,0),IF(OR(CODE(MID(K22,2,1))=77,CODE(MID(K22,3,1))=77),HLOOKUP($U$9,コード一覧表!$C$1789:$Y$1897,VLOOKUP(K22,コード一覧表!$AA$1789:$AB$1897,2,0)+1,0),HLOOKUP($U$9,コード一覧表!$C$2:$Y$1768,VLOOKUP(K22,コード一覧表!$AA$3:$AB$1768,2,0)+1,0))))","v":""},{"$f":"IF(L22=\"\",\"\",IF(OR(LEN(L22)<3,LEN(L22)>4),HLOOKUP($U$9,コード一覧表!$C$2:$Y$1768,VLOOKUP(L22,コード一覧表!$AA$3:$AB$1768,2,0)+1,0),IF(OR(CODE(MID(L22,2,1))=77,CODE(MID(L22,3,1))=77),HLOOKUP($U$9,コード一覧表!$C$1789:$Y$1897,VLOOKUP(L22,コード一覧表!$AA$1789:$AB$1897,2,0)+1,0),HLOOKUP($U$9,コード一覧表!$C$2:$Y$1768,VLOOKUP(L22,コード一覧表!$AA$3:$AB$1768,2,0)+1,0))))","v":""},{"$f":"IF(M22=\"\",\"\",IF(OR(LEN(M22)<3,LEN(M22)>4),HLOOKUP($U$9,コード一覧表!$C$2:$Y$1768,VLOOKUP(M22,コード一覧表!$AA$3:$AB$1768,2,0)+1,0),IF(OR(CODE(MID(M22,2,1))=77,CODE(MID(M22,3,1))=77),HLOOKUP($U$9,コード一覧表!$C$1789:$Y$1897,VLOOKUP(M22,コード一覧表!$AA$1789:$AB$1897,2,0)+1,0),HLOOKUP($U$9,コード一覧表!$C$2:$Y$1768,VLOOKUP(M22,コード一覧表!$AA$3:$AB$1768,2,0)+1,0))))","v":""},{"$f":"IF(N22=\"\",\"\",IF(OR(LEN(N22)<3,LEN(N22)>4),HLOOKUP($U$9,コード一覧表!$C$2:$Y$1768,VLOOKUP(N22,コード一覧表!$AA$3:$AB$1768,2,0)+1,0),IF(OR(CODE(MID(N22,2,1))=77,CODE(MID(N22,3,1))=77),HLOOKUP($U$9,コード一覧表!$C$1789:$Y$1897,VLOOKUP(N22,コード一覧表!$AA$1789:$AB$1897,2,0)+1,0),HLOOKUP($U$9,コード一覧表!$C$2:$Y$1768,VLOOKUP(N22,コード一覧表!$AA$3:$AB$1768,2,0)+1,0))))","v":""},{"$f":"IF(O22=\"\",\"\",IF(OR(LEN(O22)<3,LEN(O22)>4),HLOOKUP($U$9,コード一覧表!$C$2:$Y$1768,VLOOKUP(O22,コード一覧表!$AA$3:$AB$1768,2,0)+1,0),IF(OR(CODE(MID(O22,2,1))=77,CODE(MID(O22,3,1))=77),HLOOKUP($U$9,コード一覧表!$C$1789:$Y$1897,VLOOKUP(O22,コード一覧表!$AA$1789:$AB$1897,2,0)+1,0),HLOOKUP($U$9,コード一覧表!$C$2:$Y$1768,VLOOKUP(O22,コード一覧表!$AA$3:$AB$1768,2,0)+1,0))))","v":""},{"$f":"IF(P22=\"\",\"\",IF(OR(LEN(P22)<3,LEN(P22)>4),HLOOKUP($U$9,コード一覧表!$C$2:$Y$1768,VLOOKUP(P22,コード一覧表!$AA$3:$AB$1768,2,0)+1,0),IF(OR(CODE(MID(P22,2,1))=77,CODE(MID(P22,3,1))=77),HLOOKUP($U$9,コード一覧表!$C$1789:$Y$1897,VLOOKUP(P22,コード一覧表!$AA$1789:$AB$1897,2,0)+1,0),HLOOKUP($U$9,コード一覧表!$C$2:$Y$1768,VLOOKUP(P22,コード一覧表!$AA$3:$AB$1768,2,0)+1,0))))","v":""},{"$f":"IF(Q22=\"\",\"\",IF(OR(LEN(Q22)<3,LEN(Q22)>4),HLOOKUP($U$9,コード一覧表!$C$2:$Y$1768,VLOOKUP(Q22,コード一覧表!$AA$3:$AB$1768,2,0)+1,0),IF(OR(CODE(MID(Q22,2,1))=77,CODE(MID(Q22,3,1))=77),HLOOKUP($U$9,コード一覧表!$C$1789:$Y$1897,VLOOKUP(Q22,コード一覧表!$AA$1789:$AB$1897,2,0)+1,0),HLOOKUP($U$9,コード一覧表!$C$2:$Y$1768,VLOOKUP(Q22,コード一覧表!$AA$3:$AB$1768,2,0)+1,0))))","v":""}]
[]
[null,null,null,null,null,null,null,null,null,null,null,null,null,null,null,null,null,null,"入力行8"]
[null,{"$f":"IF(B25=\"\",\"\",IF(OR(LEN(B25)<3,LEN(B25)>4),HLOOKUP($U$9,コード一覧表!$C$2:$Y$1768,VLOOKUP(B25,コード一覧表!$AA$3:$AB$1768,2,0)+1,0),IF(OR(CODE(MID(B25,2,1))=77,CODE(MID(B25,3,1))=77),HLOOKUP($U$9,コード一覧表!$C$1789:$Y$1897,VLOOKUP(B25,コード一覧表!$AA$1789:$AB$1897,2,0)+1,0),HLOOKUP($U$9,コード一覧表!$C$2:$Y$1768,VLOOKUP(B25,コード一覧表!$AA$3:$AB$1768,2,0)+1,0))))","v":""},{"$f":"IF(C25=\"\",\"\",IF(OR(LEN(C25)<3,LEN(C25)>4),HLOOKUP($U$9,コード一覧表!$C$2:$Y$1768,VLOOKUP(C25,コード一覧表!$AA$3:$AB$1768,2,0)+1,0),IF(OR(CODE(MID(C25,2,1))=77,CODE(MID(C25,3,1))=77),HLOOKUP($U$9,コード一覧表!$C$1789:$Y$1897,VLOOKUP(C25,コード一覧表!$AA$1789:$AB$1897,2,0)+1,0),HLOOKUP($U$9,コード一覧表!$C$2:$Y$1768,VLOOKUP(C25,コード一覧表!$AA$3:$AB$1768,2,0)+1,0))))","v":""},{"$f":"IF(D25=\"\",\"\",IF(OR(LEN(D25)<3,LEN(D25)>4),HLOOKUP($U$9,コード一覧表!$C$2:$Y$1768,VLOOKUP(D25,コード一覧表!$AA$3:$AB$1768,2,0)+1,0),IF(OR(CODE(MID(D25,2,1))=77,CODE(MID(D25,3,1))=77),HLOOKUP($U$9,コード一覧表!$C$1789:$Y$1897,VLOOKUP(D25,コード一覧表!$AA$1789:$AB$1897,2,0)+1,0),HLOOKUP($U$9,コード一覧表!$C$2:$Y$1768,VLOOKUP(D25,コード一覧表!$AA$3:$AB$1768,2,0)+1,0))))","v":""},{"$f":"IF(E25=\"\",\"\",IF(OR(LEN(E25)<3,LEN(E25)>4),HLOOKUP($U$9,コード一覧表!$C$2:$Y$1768,VLOOKUP(E25,コード一覧表!$AA$3:$AB$1768,2,0)+1,0),IF(OR(CODE(MID(E25,2,1))=77,CODE(MID(E25,3,1))=77),HLOOKUP($U$9,コード一覧表!$C$1789:$Y$1897,VLOOKUP(E25,コード一覧表!$AA$1789:$AB$1897,2,0)+1,0),HLOOKUP($U$9,コード一覧表!$C$2:$Y$1768,VLOOKUP(E25,コード一覧表!$AA$3:$AB$1768,2,0)+1,0))))","v":""},{"$f":"IF(F25=\"\",\"\",IF(OR(LEN(F25)<3,LEN(F25)>4),HLOOKUP($U$9,コード一覧表!$C$2:$Y$1768,VLOOKUP(F25,コード一覧表!$AA$3:$AB$1768,2,0)+1,0),IF(OR(CODE(MID(F25,2,1))=77,CODE(MID(F25,3,1))=77),HLOOKUP($U$9,コード一覧表!$C$1789:$Y$1897,VLOOKUP(F25,コード一覧表!$AA$1789:$AB$1897,2,0)+1,0),HLOOKUP($U$9,コード一覧表!$C$2:$Y$1768,VLOOKUP(F25,コード一覧表!$AA$3:$AB$1768,2,0)+1,0))))","v":""},{"$f":"IF(G25=\"\",\"\",IF(OR(LEN(G25)<3,LEN(G25)>4),HLOOKUP($U$9,コード一覧表!$C$2:$Y$1768,VLOOKUP(G25,コード一覧表!$AA$3:$AB$1768,2,0)+1,0),IF(OR(CODE(MID(G25,2,1))=77,CODE(MID(G25,3,1))=77),HLOOKUP($U$9,コード一覧表!$C$1789:$Y$1897,VLOOKUP(G25,コード一覧表!$AA$1789:$AB$1897,2,0)+1,0),HLOOKUP($U$9,コード一覧表!$C$2:$Y$1768,VLOOKUP(G25,コード一覧表!$AA$3:$AB$1768,2,0)+1,0))))","v":""},{"$f":"IF(H25=\"\",\"\",IF(OR(LEN(H25)<3,LEN(H25)>4),HLOOKUP($U$9,コード一覧表!$C$2:$Y$1768,VLOOKUP(H25,コード一覧表!$AA$3:$AB$1768,2,0)+1,0),IF(OR(CODE(MID(H25,2,1))=77,CODE(MID(H25,3,1))=77),HLOOKUP($U$9,コード一覧表!$C$1789:$Y$1897,VLOOKUP(H25,コード一覧表!$AA$1789:$AB$1897,2,0)+1,0),HLOOKUP($U$9,コード一覧表!$C$2:$Y$1768,VLOOKUP(H25,コード一覧表!$AA$3:$AB$1768,2,0)+1,0))))","v":""},{"$f":"IF(I25=\"\",\"\",IF(OR(LEN(I25)<3,LEN(I25)>4),HLOOKUP($U$9,コード一覧表!$C$2:$Y$1768,VLOOKUP(I25,コード一覧表!$AA$3:$AB$1768,2,0)+1,0),IF(OR(CODE(MID(I25,2,1))=77,CODE(MID(I25,3,1))=77),HLOOKUP($U$9,コード一覧表!$C$1789:$Y$1897,VLOOKUP(I25,コード一覧表!$AA$1789:$AB$1897,2,0)+1,0),HLOOKUP($U$9,コード一覧表!$C$2:$Y$1768,VLOOKUP(I25,コード一覧表!$AA$3:$AB$1768,2,0)+1,0))))","v":""},{"$f":"IF(J25=\"\",\"\",IF(OR(LEN(J25)<3,LEN(J25)>4),HLOOKUP($U$9,コード一覧表!$C$2:$Y$1768,VLOOKUP(J25,コード一覧表!$AA$3:$AB$1768,2,0)+1,0),IF(OR(CODE(MID(J25,2,1))=77,CODE(MID(J25,3,1))=77),HLOOKUP($U$9,コード一覧表!$C$1789:$Y$1897,VLOOKUP(J25,コード一覧表!$AA$1789:$AB$1897,2,0)+1,0),HLOOKUP($U$9,コード一覧表!$C$2:$Y$1768,VLOOKUP(J25,コード一覧表!$AA$3:$AB$1768,2,0)+1,0))))","v":""},{"$f":"IF(K25=\"\",\"\",IF(OR(LEN(K25)<3,LEN(K25)>4),HLOOKUP($U$9,コード一覧表!$C$2:$Y$1768,VLOOKUP(K25,コード一覧表!$AA$3:$AB$1768,2,0)+1,0),IF(OR(CODE(MID(K25,2,1))=77,CODE(MID(K25,3,1))=77),HLOOKUP($U$9,コード一覧表!$C$1789:$Y$1897,VLOOKUP(K25,コード一覧表!$AA$1789:$AB$1897,2,0)+1,0),HLOOKUP($U$9,コード一覧表!$C$2:$Y$1768,VLOOKUP(K25,コード一覧表!$AA$3:$AB$1768,2,0)+1,0))))","v":""},{"$f":"IF(L25=\"\",\"\",IF(OR(LEN(L25)<3,LEN(L25)>4),HLOOKUP($U$9,コード一覧表!$C$2:$Y$1768,VLOOKUP(L25,コード一覧表!$AA$3:$AB$1768,2,0)+1,0),IF(OR(CODE(MID(L25,2,1))=77,CODE(MID(L25,3,1))=77),HLOOKUP($U$9,コード一覧表!$C$1789:$Y$1897,VLOOKUP(L25,コード一覧表!$AA$1789:$AB$1897,2,0)+1,0),HLOOKUP($U$9,コード一覧表!$C$2:$Y$1768,VLOOKUP(L25,コード一覧表!$AA$3:$AB$1768,2,0)+1,0))))","v":""},{"$f":"IF(M25=\"\",\"\",IF(OR(LEN(M25)<3,LEN(M25)>4),HLOOKUP($U$9,コード一覧表!$C$2:$Y$1768,VLOOKUP(M25,コード一覧表!$AA$3:$AB$1768,2,0)+1,0),IF(OR(CODE(MID(M25,2,1))=77,CODE(MID(M25,3,1))=77),HLOOKUP($U$9,コード一覧表!$C$1789:$Y$1897,VLOOKUP(M25,コード一覧表!$AA$1789:$AB$1897,2,0)+1,0),HLOOKUP($U$9,コード一覧表!$C$2:$Y$1768,VLOOKUP(M25,コード一覧表!$AA$3:$AB$1768,2,0)+1,0))))","v":""},{"$f":"IF(N25=\"\",\"\",IF(OR(LEN(N25)<3,LEN(N25)>4),HLOOKUP($U$9,コード一覧表!$C$2:$Y$1768,VLOOKUP(N25,コード一覧表!$AA$3:$AB$1768,2,0)+1,0),IF(OR(CODE(MID(N25,2,1))=77,CODE(MID(N25,3,1))=77),HLOOKUP($U$9,コード一覧表!$C$1789:$Y$1897,VLOOKUP(N25,コード一覧表!$AA$1789:$AB$1897,2,0)+1,0),HLOOKUP($U$9,コード一覧表!$C$2:$Y$1768,VLOOKUP(N25,コード一覧表!$AA$3:$AB$1768,2,0)+1,0))))","v":""},{"$f":"IF(O25=\"\",\"\",IF(OR(LEN(O25)<3,LEN(O25)>4),HLOOKUP($U$9,コード一覧表!$C$2:$Y$1768,VLOOKUP(O25,コード一覧表!$AA$3:$AB$1768,2,0)+1,0),IF(OR(CODE(MID(O25,2,1))=77,CODE(MID(O25,3,1))=77),HLOOKUP($U$9,コード一覧表!$C$1789:$Y$1897,VLOOKUP(O25,コード一覧表!$AA$1789:$AB$1897,2,0)+1,0),HLOOKUP($U$9,コード一覧表!$C$2:$Y$1768,VLOOKUP(O25,コード一覧表!$AA$3:$AB$1768,2,0)+1,0))))","v":""},{"$f":"IF(P25=\"\",\"\",IF(OR(LEN(P25)<3,LEN(P25)>4),HLOOKUP($U$9,コード一覧表!$C$2:$Y$1768,VLOOKUP(P25,コード一覧表!$AA$3:$AB$1768,2,0)+1,0),IF(OR(CODE(MID(P25,2,1))=77,CODE(MID(P25,3,1))=77),HLOOKUP($U$9,コード一覧表!$C$1789:$Y$1897,VLOOKUP(P25,コード一覧表!$AA$1789:$AB$1897,2,0)+1,0),HLOOKUP($U$9,コード一覧表!$C$2:$Y$1768,VLOOKUP(P25,コード一覧表!$AA$3:$AB$1768,2,0)+1,0))))","v":""},{"$f":"IF(Q25=\"\",\"\",IF(OR(LEN(Q25)<3,LEN(Q25)>4),HLOOKUP($U$9,コード一覧表!$C$2:$Y$1768,VLOOKUP(Q25,コード一覧表!$AA$3:$AB$1768,2,0)+1,0),IF(OR(CODE(MID(Q25,2,1))=77,CODE(MID(Q25,3,1))=77),HLOOKUP($U$9,コード一覧表!$C$1789:$Y$1897,VLOOKUP(Q25,コード一覧表!$AA$1789:$AB$1897,2,0)+1,0),HLOOKUP($U$9,コード一覧表!$C$2:$Y$1768,VLOOKUP(Q25,コード一覧表!$AA$3:$AB$1768,2,0)+1,0))))","v":""}]
[]
[null,null,null,null,null,null,null,null,null,null,null,null,null,null,null,null,null,null,"入力行9"]
[null,{"$f":"IF(B28=\"\",\"\",IF(OR(LEN(B28)<3,LEN(B28)>4),HLOOKUP($U$9,コード一覧表!$C$2:$Y$1768,VLOOKUP(B28,コード一覧表!$AA$3:$AB$1768,2,0)+1,0),IF(OR(CODE(MID(B28,2,1))=77,CODE(MID(B28,3,1))=77),HLOOKUP($U$9,コード一覧表!$C$1789:$Y$1897,VLOOKUP(B28,コード一覧表!$AA$1789:$AB$1897,2,0)+1,0),HLOOKUP($U$9,コード一覧表!$C$2:$Y$1768,VLOOKUP(B28,コード一覧表!$AA$3:$AB$1768,2,0)+1,0))))","v":""},{"$f":"IF(C28=\"\",\"\",IF(OR(LEN(C28)<3,LEN(C28)>4),HLOOKUP($U$9,コード一覧表!$C$2:$Y$1768,VLOOKUP(C28,コード一覧表!$AA$3:$AB$1768,2,0)+1,0),IF(OR(CODE(MID(C28,2,1))=77,CODE(MID(C28,3,1))=77),HLOOKUP($U$9,コード一覧表!$C$1789:$Y$1897,VLOOKUP(C28,コード一覧表!$AA$1789:$AB$1897,2,0)+1,0),HLOOKUP($U$9,コード一覧表!$C$2:$Y$1768,VLOOKUP(C28,コード一覧表!$AA$3:$AB$1768,2,0)+1,0))))","v":""},{"$f":"IF(D28=\"\",\"\",IF(OR(LEN(D28)<3,LEN(D28)>4),HLOOKUP($U$9,コード一覧表!$C$2:$Y$1768,VLOOKUP(D28,コード一覧表!$AA$3:$AB$1768,2,0)+1,0),IF(OR(CODE(MID(D28,2,1))=77,CODE(MID(D28,3,1))=77),HLOOKUP($U$9,コード一覧表!$C$1789:$Y$1897,VLOOKUP(D28,コード一覧表!$AA$1789:$AB$1897,2,0)+1,0),HLOOKUP($U$9,コード一覧表!$C$2:$Y$1768,VLOOKUP(D28,コード一覧表!$AA$3:$AB$1768,2,0)+1,0))))","v":""},{"$f":"IF(E28=\"\",\"\",IF(OR(LEN(E28)<3,LEN(E28)>4),HLOOKUP($U$9,コード一覧表!$C$2:$Y$1768,VLOOKUP(E28,コード一覧表!$AA$3:$AB$1768,2,0)+1,0),IF(OR(CODE(MID(E28,2,1))=77,CODE(MID(E28,3,1))=77),HLOOKUP($U$9,コード一覧表!$C$1789:$Y$1897,VLOOKUP(E28,コード一覧表!$AA$1789:$AB$1897,2,0)+1,0),HLOOKUP($U$9,コード一覧表!$C$2:$Y$1768,VLOOKUP(E28,コード一覧表!$AA$3:$AB$1768,2,0)+1,0))))","v":""},{"$f":"IF(F28=\"\",\"\",IF(OR(LEN(F28)<3,LEN(F28)>4),HLOOKUP($U$9,コード一覧表!$C$2:$Y$1768,VLOOKUP(F28,コード一覧表!$AA$3:$AB$1768,2,0)+1,0),IF(OR(CODE(MID(F28,2,1))=77,CODE(MID(F28,3,1))=77),HLOOKUP($U$9,コード一覧表!$C$1789:$Y$1897,VLOOKUP(F28,コード一覧表!$AA$1789:$AB$1897,2,0)+1,0),HLOOKUP($U$9,コード一覧表!$C$2:$Y$1768,VLOOKUP(F28,コード一覧表!$AA$3:$AB$1768,2,0)+1,0))))","v":""},{"$f":"IF(G28=\"\",\"\",IF(OR(LEN(G28)<3,LEN(G28)>4),HLOOKUP($U$9,コード一覧表!$C$2:$Y$1768,VLOOKUP(G28,コード一覧表!$AA$3:$AB$1768,2,0)+1,0),IF(OR(CODE(MID(G28,2,1))=77,CODE(MID(G28,3,1))=77),HLOOKUP($U$9,コード一覧表!$C$1789:$Y$1897,VLOOKUP(G28,コード一覧表!$AA$1789:$AB$1897,2,0)+1,0),HLOOKUP($U$9,コード一覧表!$C$2:$Y$1768,VLOOKUP(G28,コード一覧表!$AA$3:$AB$1768,2,0)+1,0))))","v":""},{"$f":"IF(H28=\"\",\"\",IF(OR(LEN(H28)<3,LEN(H28)>4),HLOOKUP($U$9,コード一覧表!$C$2:$Y$1768,VLOOKUP(H28,コード一覧表!$AA$3:$AB$1768,2,0)+1,0),IF(OR(CODE(MID(H28,2,1))=77,CODE(MID(H28,3,1))=77),HLOOKUP($U$9,コード一覧表!$C$1789:$Y$1897,VLOOKUP(H28,コード一覧表!$AA$1789:$AB$1897,2,0)+1,0),HLOOKUP($U$9,コード一覧表!$C$2:$Y$1768,VLOOKUP(H28,コード一覧表!$AA$3:$AB$1768,2,0)+1,0))))","v":""},{"$f":"IF(I28=\"\",\"\",IF(OR(LEN(I28)<3,LEN(I28)>4),HLOOKUP($U$9,コード一覧表!$C$2:$Y$1768,VLOOKUP(I28,コード一覧表!$AA$3:$AB$1768,2,0)+1,0),IF(OR(CODE(MID(I28,2,1))=77,CODE(MID(I28,3,1))=77),HLOOKUP($U$9,コード一覧表!$C$1789:$Y$1897,VLOOKUP(I28,コード一覧表!$AA$1789:$AB$1897,2,0)+1,0),HLOOKUP($U$9,コード一覧表!$C$2:$Y$1768,VLOOKUP(I28,コード一覧表!$AA$3:$AB$1768,2,0)+1,0))))","v":""},{"$f":"IF(J28=\"\",\"\",IF(OR(LEN(J28)<3,LEN(J28)>4),HLOOKUP($U$9,コード一覧表!$C$2:$Y$1768,VLOOKUP(J28,コード一覧表!$AA$3:$AB$1768,2,0)+1,0),IF(OR(CODE(MID(J28,2,1))=77,CODE(MID(J28,3,1))=77),HLOOKUP($U$9,コード一覧表!$C$1789:$Y$1897,VLOOKUP(J28,コード一覧表!$AA$1789:$AB$1897,2,0)+1,0),HLOOKUP($U$9,コード一覧表!$C$2:$Y$1768,VLOOKUP(J28,コード一覧表!$AA$3:$AB$1768,2,0)+1,0))))","v":""},{"$f":"IF(K28=\"\",\"\",IF(OR(LEN(K28)<3,LEN(K28)>4),HLOOKUP($U$9,コード一覧表!$C$2:$Y$1768,VLOOKUP(K28,コード一覧表!$AA$3:$AB$1768,2,0)+1,0),IF(OR(CODE(MID(K28,2,1))=77,CODE(MID(K28,3,1))=77),HLOOKUP($U$9,コード一覧表!$C$1789:$Y$1897,VLOOKUP(K28,コード一覧表!$AA$1789:$AB$1897,2,0)+1,0),HLOOKUP($U$9,コード一覧表!$C$2:$Y$1768,VLOOKUP(K28,コード一覧表!$AA$3:$AB$1768,2,0)+1,0))))","v":""},{"$f":"IF(L28=\"\",\"\",IF(OR(LEN(L28)<3,LEN(L28)>4),HLOOKUP($U$9,コード一覧表!$C$2:$Y$1768,VLOOKUP(L28,コード一覧表!$AA$3:$AB$1768,2,0)+1,0),IF(OR(CODE(MID(L28,2,1))=77,CODE(MID(L28,3,1))=77),HLOOKUP($U$9,コード一覧表!$C$1789:$Y$1897,VLOOKUP(L28,コード一覧表!$AA$1789:$AB$1897,2,0)+1,0),HLOOKUP($U$9,コード一覧表!$C$2:$Y$1768,VLOOKUP(L28,コード一覧表!$AA$3:$AB$1768,2,0)+1,0))))","v":""},{"$f":"IF(M28=\"\",\"\",IF(OR(LEN(M28)<3,LEN(M28)>4),HLOOKUP($U$9,コード一覧表!$C$2:$Y$1768,VLOOKUP(M28,コード一覧表!$AA$3:$AB$1768,2,0)+1,0),IF(OR(CODE(MID(M28,2,1))=77,CODE(MID(M28,3,1))=77),HLOOKUP($U$9,コード一覧表!$C$1789:$Y$1897,VLOOKUP(M28,コード一覧表!$AA$1789:$AB$1897,2,0)+1,0),HLOOKUP($U$9,コード一覧表!$C$2:$Y$1768,VLOOKUP(M28,コード一覧表!$AA$3:$AB$1768,2,0)+1,0))))","v":""},{"$f":"IF(N28=\"\",\"\",IF(OR(LEN(N28)<3,LEN(N28)>4),HLOOKUP($U$9,コード一覧表!$C$2:$Y$1768,VLOOKUP(N28,コード一覧表!$AA$3:$AB$1768,2,0)+1,0),IF(OR(CODE(MID(N28,2,1))=77,CODE(MID(N28,3,1))=77),HLOOKUP($U$9,コード一覧表!$C$1789:$Y$1897,VLOOKUP(N28,コード一覧表!$AA$1789:$AB$1897,2,0)+1,0),HLOOKUP($U$9,コード一覧表!$C$2:$Y$1768,VLOOKUP(N28,コード一覧表!$AA$3:$AB$1768,2,0)+1,0))))","v":""},{"$f":"IF(O28=\"\",\"\",IF(OR(LEN(O28)<3,LEN(O28)>4),HLOOKUP($U$9,コード一覧表!$C$2:$Y$1768,VLOOKUP(O28,コード一覧表!$AA$3:$AB$1768,2,0)+1,0),IF(OR(CODE(MID(O28,2,1))=77,CODE(MID(O28,3,1))=77),HLOOKUP($U$9,コード一覧表!$C$1789:$Y$1897,VLOOKUP(O28,コード一覧表!$AA$1789:$AB$1897,2,0)+1,0),HLOOKUP($U$9,コード一覧表!$C$2:$Y$1768,VLOOKUP(O28,コード一覧表!$AA$3:$AB$1768,2,0)+1,0))))","v":""},{"$f":"IF(P28=\"\",\"\",IF(OR(LEN(P28)<3,LEN(P28)>4),HLOOKUP($U$9,コード一覧表!$C$2:$Y$1768,VLOOKUP(P28,コード一覧表!$AA$3:$AB$1768,2,0)+1,0),IF(OR(CODE(MID(P28,2,1))=77,CODE(MID(P28,3,1))=77),HLOOKUP($U$9,コード一覧表!$C$1789:$Y$1897,VLOOKUP(P28,コード一覧表!$AA$1789:$AB$1897,2,0)+1,0),HLOOKUP($U$9,コード一覧表!$C$2:$Y$1768,VLOOKUP(P28,コード一覧表!$AA$3:$AB$1768,2,0)+1,0))))","v":""},{"$f":"IF(Q28=\"\",\"\",IF(OR(LEN(Q28)<3,LEN(Q28)>4),HLOOKUP($U$9,コード一覧表!$C$2:$Y$1768,VLOOKUP(Q28,コード一覧表!$AA$3:$AB$1768,2,0)+1,0),IF(OR(CODE(MID(Q28,2,1))=77,CODE(MID(Q28,3,1))=77),HLOOKUP($U$9,コード一覧表!$C$1789:$Y$1897,VLOOKUP(Q28,コード一覧表!$AA$1789:$AB$1897,2,0)+1,0),HLOOKUP($U$9,コード一覧表!$C$2:$Y$1768,VLOOKUP(Q28,コード一覧表!$AA$3:$AB$1768,2,0)+1,0))))","v":""}]
[]
[null,null,null,null,null,null,null,null,null,null,null,null,null,null,null,null,null,null,"入力行10"]
[null,{"$f":"IF(B31=\"\",\"\",IF(OR(LEN(B31)<3,LEN(B31)>4),HLOOKUP($U$9,コード一覧表!$C$2:$Y$1768,VLOOKUP(B31,コード一覧表!$AA$3:$AB$1768,2,0)+1,0),IF(OR(CODE(MID(B31,2,1))=77,CODE(MID(B31,3,1))=77),HLOOKUP($U$9,コード一覧表!$C$1789:$Y$1897,VLOOKUP(B31,コード一覧表!$AA$1789:$AB$1897,2,0)+1,0),HLOOKUP($U$9,コード一覧表!$C$2:$Y$1768,VLOOKUP(B31,コード一覧表!$AA$3:$AB$1768,2,0)+1,0))))","v":""},{"$f":"IF(C31=\"\",\"\",IF(OR(LEN(C31)<3,LEN(C31)>4),HLOOKUP($U$9,コード一覧表!$C$2:$Y$1768,VLOOKUP(C31,コード一覧表!$AA$3:$AB$1768,2,0)+1,0),IF(OR(CODE(MID(C31,2,1))=77,CODE(MID(C31,3,1))=77),HLOOKUP($U$9,コード一覧表!$C$1789:$Y$1897,VLOOKUP(C31,コード一覧表!$AA$1789:$AB$1897,2,0)+1,0),HLOOKUP($U$9,コード一覧表!$C$2:$Y$1768,VLOOKUP(C31,コード一覧表!$AA$3:$AB$1768,2,0)+1,0))))","v":""},{"$f":"IF(D31=\"\",\"\",IF(OR(LEN(D31)<3,LEN(D31)>4),HLOOKUP($U$9,コード一覧表!$C$2:$Y$1768,VLOOKUP(D31,コード一覧表!$AA$3:$AB$1768,2,0)+1,0),IF(OR(CODE(MID(D31,2,1))=77,CODE(MID(D31,3,1))=77),HLOOKUP($U$9,コード一覧表!$C$1789:$Y$1897,VLOOKUP(D31,コード一覧表!$AA$1789:$AB$1897,2,0)+1,0),HLOOKUP($U$9,コード一覧表!$C$2:$Y$1768,VLOOKUP(D31,コード一覧表!$AA$3:$AB$1768,2,0)+1,0))))","v":""},{"$f":"IF(E31=\"\",\"\",IF(OR(LEN(E31)<3,LEN(E31)>4),HLOOKUP($U$9,コード一覧表!$C$2:$Y$1768,VLOOKUP(E31,コード一覧表!$AA$3:$AB$1768,2,0)+1,0),IF(OR(CODE(MID(E31,2,1))=77,CODE(MID(E31,3,1))=77),HLOOKUP($U$9,コード一覧表!$C$1789:$Y$1897,VLOOKUP(E31,コード一覧表!$AA$1789:$AB$1897,2,0)+1,0),HLOOKUP($U$9,コード一覧表!$C$2:$Y$1768,VLOOKUP(E31,コード一覧表!$AA$3:$AB$1768,2,0)+1,0))))","v":""},{"$f":"IF(F31=\"\",\"\",IF(OR(LEN(F31)<3,LEN(F31)>4),HLOOKUP($U$9,コード一覧表!$C$2:$Y$1768,VLOOKUP(F31,コード一覧表!$AA$3:$AB$1768,2,0)+1,0),IF(OR(CODE(MID(F31,2,1))=77,CODE(MID(F31,3,1))=77),HLOOKUP($U$9,コード一覧表!$C$1789:$Y$1897,VLOOKUP(F31,コード一覧表!$AA$1789:$AB$1897,2,0)+1,0),HLOOKUP($U$9,コード一覧表!$C$2:$Y$1768,VLOOKUP(F31,コード一覧表!$AA$3:$AB$1768,2,0)+1,0))))","v":""},{"$f":"IF(G31=\"\",\"\",IF(OR(LEN(G31)<3,LEN(G31)>4),HLOOKUP($U$9,コード一覧表!$C$2:$Y$1768,VLOOKUP(G31,コード一覧表!$AA$3:$AB$1768,2,0)+1,0),IF(OR(CODE(MID(G31,2,1))=77,CODE(MID(G31,3,1))=77),HLOOKUP($U$9,コード一覧表!$C$1789:$Y$1897,VLOOKUP(G31,コード一覧表!$AA$1789:$AB$1897,2,0)+1,0),HLOOKUP($U$9,コード一覧表!$C$2:$Y$1768,VLOOKUP(G31,コード一覧表!$AA$3:$AB$1768,2,0)+1,0))))","v":""},{"$f":"IF(H31=\"\",\"\",IF(OR(LEN(H31)<3,LEN(H31)>4),HLOOKUP($U$9,コード一覧表!$C$2:$Y$1768,VLOOKUP(H31,コード一覧表!$AA$3:$AB$1768,2,0)+1,0),IF(OR(CODE(MID(H31,2,1))=77,CODE(MID(H31,3,1))=77),HLOOKUP($U$9,コード一覧表!$C$1789:$Y$1897,VLOOKUP(H31,コード一覧表!$AA$1789:$AB$1897,2,0)+1,0),HLOOKUP($U$9,コード一覧表!$C$2:$Y$1768,VLOOKUP(H31,コード一覧表!$AA$3:$AB$1768,2,0)+1,0))))","v":""},{"$f":"IF(I31=\"\",\"\",IF(OR(LEN(I31)<3,LEN(I31)>4),HLOOKUP($U$9,コード一覧表!$C$2:$Y$1768,VLOOKUP(I31,コード一覧表!$AA$3:$AB$1768,2,0)+1,0),IF(OR(CODE(MID(I31,2,1))=77,CODE(MID(I31,3,1))=77),HLOOKUP($U$9,コード一覧表!$C$1789:$Y$1897,VLOOKUP(I31,コード一覧表!$AA$1789:$AB$1897,2,0)+1,0),HLOOKUP($U$9,コード一覧表!$C$2:$Y$1768,VLOOKUP(I31,コード一覧表!$AA$3:$AB$1768,2,0)+1,0))))","v":""},{"$f":"IF(J31=\"\",\"\",IF(OR(LEN(J31)<3,LEN(J31)>4),HLOOKUP($U$9,コード一覧表!$C$2:$Y$1768,VLOOKUP(J31,コード一覧表!$AA$3:$AB$1768,2,0)+1,0),IF(OR(CODE(MID(J31,2,1))=77,CODE(MID(J31,3,1))=77),HLOOKUP($U$9,コード一覧表!$C$1789:$Y$1897,VLOOKUP(J31,コード一覧表!$AA$1789:$AB$1897,2,0)+1,0),HLOOKUP($U$9,コード一覧表!$C$2:$Y$1768,VLOOKUP(J31,コード一覧表!$AA$3:$AB$1768,2,0)+1,0))))","v":""},{"$f":"IF(K31=\"\",\"\",IF(OR(LEN(K31)<3,LEN(K31)>4),HLOOKUP($U$9,コード一覧表!$C$2:$Y$1768,VLOOKUP(K31,コード一覧表!$AA$3:$AB$1768,2,0)+1,0),IF(OR(CODE(MID(K31,2,1))=77,CODE(MID(K31,3,1))=77),HLOOKUP($U$9,コード一覧表!$C$1789:$Y$1897,VLOOKUP(K31,コード一覧表!$AA$1789:$AB$1897,2,0)+1,0),HLOOKUP($U$9,コード一覧表!$C$2:$Y$1768,VLOOKUP(K31,コード一覧表!$AA$3:$AB$1768,2,0)+1,0))))","v":""},{"$f":"IF(L31=\"\",\"\",IF(OR(LEN(L31)<3,LEN(L31)>4),HLOOKUP($U$9,コード一覧表!$C$2:$Y$1768,VLOOKUP(L31,コード一覧表!$AA$3:$AB$1768,2,0)+1,0),IF(OR(CODE(MID(L31,2,1))=77,CODE(MID(L31,3,1))=77),HLOOKUP($U$9,コード一覧表!$C$1789:$Y$1897,VLOOKUP(L31,コード一覧表!$AA$1789:$AB$1897,2,0)+1,0),HLOOKUP($U$9,コード一覧表!$C$2:$Y$1768,VLOOKUP(L31,コード一覧表!$AA$3:$AB$1768,2,0)+1,0))))","v":""},{"$f":"IF(M31=\"\",\"\",IF(OR(LEN(M31)<3,LEN(M31)>4),HLOOKUP($U$9,コード一覧表!$C$2:$Y$1768,VLOOKUP(M31,コード一覧表!$AA$3:$AB$1768,2,0)+1,0),IF(OR(CODE(MID(M31,2,1))=77,CODE(MID(M31,3,1))=77),HLOOKUP($U$9,コード一覧表!$C$1789:$Y$1897,VLOOKUP(M31,コード一覧表!$AA$1789:$AB$1897,2,0)+1,0),HLOOKUP($U$9,コード一覧表!$C$2:$Y$1768,VLOOKUP(M31,コード一覧表!$AA$3:$AB$1768,2,0)+1,0))))","v":""},{"$f":"IF(N31=\"\",\"\",IF(OR(LEN(N31)<3,LEN(N31)>4),HLOOKUP($U$9,コード一覧表!$C$2:$Y$1768,VLOOKUP(N31,コード一覧表!$AA$3:$AB$1768,2,0)+1,0),IF(OR(CODE(MID(N31,2,1))=77,CODE(MID(N31,3,1))=77),HLOOKUP($U$9,コード一覧表!$C$1789:$Y$1897,VLOOKUP(N31,コード一覧表!$AA$1789:$AB$1897,2,0)+1,0),HLOOKUP($U$9,コード一覧表!$C$2:$Y$1768,VLOOKUP(N31,コード一覧表!$AA$3:$AB$1768,2,0)+1,0))))","v":""},{"$f":"IF(O31=\"\",\"\",IF(OR(LEN(O31)<3,LEN(O31)>4),HLOOKUP($U$9,コード一覧表!$C$2:$Y$1768,VLOOKUP(O31,コード一覧表!$AA$3:$AB$1768,2,0)+1,0),IF(OR(CODE(MID(O31,2,1))=77,CODE(MID(O31,3,1))=77),HLOOKUP($U$9,コード一覧表!$C$1789:$Y$1897,VLOOKUP(O31,コード一覧表!$AA$1789:$AB$1897,2,0)+1,0),HLOOKUP($U$9,コード一覧表!$C$2:$Y$1768,VLOOKUP(O31,コード一覧表!$AA$3:$AB$1768,2,0)+1,0))))","v":""},{"$f":"IF(P31=\"\",\"\",IF(OR(LEN(P31)<3,LEN(P31)>4),HLOOKUP($U$9,コード一覧表!$C$2:$Y$1768,VLOOKUP(P31,コード一覧表!$AA$3:$AB$1768,2,0)+1,0),IF(OR(CODE(MID(P31,2,1))=77,CODE(MID(P31,3,1))=77),HLOOKUP($U$9,コード一覧表!$C$1789:$Y$1897,VLOOKUP(P31,コード一覧表!$AA$1789:$AB$1897,2,0)+1,0),HLOOKUP($U$9,コード一覧表!$C$2:$Y$1768,VLOOKUP(P31,コード一覧表!$AA$3:$AB$1768,2,0)+1,0))))","v":""},{"$f":"IF(Q31=\"\",\"\",IF(OR(LEN(Q31)<3,LEN(Q31)>4),HLOOKUP($U$9,コード一覧表!$C$2:$Y$1768,VLOOKUP(Q31,コード一覧表!$AA$3:$AB$1768,2,0)+1,0),IF(OR(CODE(MID(Q31,2,1))=77,CODE(MID(Q31,3,1))=77),HLOOKUP($U$9,コード一覧表!$C$1789:$Y$1897,VLOOKUP(Q31,コード一覧表!$AA$1789:$AB$1897,2,0)+1,0),HLOOKUP($U$9,コード一覧表!$C$2:$Y$1768,VLOOKUP(Q31,コード一覧表!$AA$3:$AB$1768,2,0)+1,0))))","v":""}]
[]
[null,null,null,null,null,null,null,null,null,null,null,null,null,null,null,null,null,null,"入力行11"]
[null,{"$f":"IF(B34=\"\",\"\",IF(OR(LEN(B34)<3,LEN(B34)>4),HLOOKUP($U$9,コード一覧表!$C$2:$Y$1768,VLOOKUP(B34,コード一覧表!$AA$3:$AB$1768,2,0)+1,0),IF(OR(CODE(MID(B34,2,1))=77,CODE(MID(B34,3,1))=77),HLOOKUP($U$9,コード一覧表!$C$1789:$Y$1897,VLOOKUP(B34,コード一覧表!$AA$1789:$AB$1897,2,0)+1,0),HLOOKUP($U$9,コード一覧表!$C$2:$Y$1768,VLOOKUP(B34,コード一覧表!$AA$3:$AB$1768,2,0)+1,0))))","v":""},{"$f":"IF(C34=\"\",\"\",IF(OR(LEN(C34)<3,LEN(C34)>4),HLOOKUP($U$9,コード一覧表!$C$2:$Y$1768,VLOOKUP(C34,コード一覧表!$AA$3:$AB$1768,2,0)+1,0),IF(OR(CODE(MID(C34,2,1))=77,CODE(MID(C34,3,1))=77),HLOOKUP($U$9,コード一覧表!$C$1789:$Y$1897,VLOOKUP(C34,コード一覧表!$AA$1789:$AB$1897,2,0)+1,0),HLOOKUP($U$9,コード一覧表!$C$2:$Y$1768,VLOOKUP(C34,コード一覧表!$AA$3:$AB$1768,2,0)+1,0))))","v":""},{"$f":"IF(D34=\"\",\"\",IF(OR(LEN(D34)<3,LEN(D34)>4),HLOOKUP($U$9,コード一覧表!$C$2:$Y$1768,VLOOKUP(D34,コード一覧表!$AA$3:$AB$1768,2,0)+1,0),IF(OR(CODE(MID(D34,2,1))=77,CODE(MID(D34,3,1))=77),HLOOKUP($U$9,コード一覧表!$C$1789:$Y$1897,VLOOKUP(D34,コード一覧表!$AA$1789:$AB$1897,2,0)+1,0),HLOOKUP($U$9,コード一覧表!$C$2:$Y$1768,VLOOKUP(D34,コード一覧表!$AA$3:$AB$1768,2,0)+1,0))))","v":""},{"$f":"IF(E34=\"\",\"\",IF(OR(LEN(E34)<3,LEN(E34)>4),HLOOKUP($U$9,コード一覧表!$C$2:$Y$1768,VLOOKUP(E34,コード一覧表!$AA$3:$AB$1768,2,0)+1,0),IF(OR(CODE(MID(E34,2,1))=77,CODE(MID(E34,3,1))=77),HLOOKUP($U$9,コード一覧表!$C$1789:$Y$1897,VLOOKUP(E34,コード一覧表!$AA$1789:$AB$1897,2,0)+1,0),HLOOKUP($U$9,コード一覧表!$C$2:$Y$1768,VLOOKUP(E34,コード一覧表!$AA$3:$AB$1768,2,0)+1,0))))","v":""},{"$f":"IF(F34=\"\",\"\",IF(OR(LEN(F34)<3,LEN(F34)>4),HLOOKUP($U$9,コード一覧表!$C$2:$Y$1768,VLOOKUP(F34,コード一覧表!$AA$3:$AB$1768,2,0)+1,0),IF(OR(CODE(MID(F34,2,1))=77,CODE(MID(F34,3,1))=77),HLOOKUP($U$9,コード一覧表!$C$1789:$Y$1897,VLOOKUP(F34,コード一覧表!$AA$1789:$AB$1897,2,0)+1,0),HLOOKUP($U$9,コード一覧表!$C$2:$Y$1768,VLOOKUP(F34,コード一覧表!$AA$3:$AB$1768,2,0)+1,0))))","v":""},{"$f":"IF(G34=\"\",\"\",IF(OR(LEN(G34)<3,LEN(G34)>4),HLOOKUP($U$9,コード一覧表!$C$2:$Y$1768,VLOOKUP(G34,コード一覧表!$AA$3:$AB$1768,2,0)+1,0),IF(OR(CODE(MID(G34,2,1))=77,CODE(MID(G34,3,1))=77),HLOOKUP($U$9,コード一覧表!$C$1789:$Y$1897,VLOOKUP(G34,コード一覧表!$AA$1789:$AB$1897,2,0)+1,0),HLOOKUP($U$9,コード一覧表!$C$2:$Y$1768,VLOOKUP(G34,コード一覧表!$AA$3:$AB$1768,2,0)+1,0))))","v":""},{"$f":"IF(H34=\"\",\"\",IF(OR(LEN(H34)<3,LEN(H34)>4),HLOOKUP($U$9,コード一覧表!$C$2:$Y$1768,VLOOKUP(H34,コード一覧表!$AA$3:$AB$1768,2,0)+1,0),IF(OR(CODE(MID(H34,2,1))=77,CODE(MID(H34,3,1))=77),HLOOKUP($U$9,コード一覧表!$C$1789:$Y$1897,VLOOKUP(H34,コード一覧表!$AA$1789:$AB$1897,2,0)+1,0),HLOOKUP($U$9,コード一覧表!$C$2:$Y$1768,VLOOKUP(H34,コード一覧表!$AA$3:$AB$1768,2,0)+1,0))))","v":""},{"$f":"IF(I34=\"\",\"\",IF(OR(LEN(I34)<3,LEN(I34)>4),HLOOKUP($U$9,コード一覧表!$C$2:$Y$1768,VLOOKUP(I34,コード一覧表!$AA$3:$AB$1768,2,0)+1,0),IF(OR(CODE(MID(I34,2,1))=77,CODE(MID(I34,3,1))=77),HLOOKUP($U$9,コード一覧表!$C$1789:$Y$1897,VLOOKUP(I34,コード一覧表!$AA$1789:$AB$1897,2,0)+1,0),HLOOKUP($U$9,コード一覧表!$C$2:$Y$1768,VLOOKUP(I34,コード一覧表!$AA$3:$AB$1768,2,0)+1,0))))","v":""},{"$f":"IF(J34=\"\",\"\",IF(OR(LEN(J34)<3,LEN(J34)>4),HLOOKUP($U$9,コード一覧表!$C$2:$Y$1768,VLOOKUP(J34,コード一覧表!$AA$3:$AB$1768,2,0)+1,0),IF(OR(CODE(MID(J34,2,1))=77,CODE(MID(J34,3,1))=77),HLOOKUP($U$9,コード一覧表!$C$1789:$Y$1897,VLOOKUP(J34,コード一覧表!$AA$1789:$AB$1897,2,0)+1,0),HLOOKUP($U$9,コード一覧表!$C$2:$Y$1768,VLOOKUP(J34,コード一覧表!$AA$3:$AB$1768,2,0)+1,0))))","v":""},{"$f":"IF(K34=\"\",\"\",IF(OR(LEN(K34)<3,LEN(K34)>4),HLOOKUP($U$9,コード一覧表!$C$2:$Y$1768,VLOOKUP(K34,コード一覧表!$AA$3:$AB$1768,2,0)+1,0),IF(OR(CODE(MID(K34,2,1))=77,CODE(MID(K34,3,1))=77),HLOOKUP($U$9,コード一覧表!$C$1789:$Y$1897,VLOOKUP(K34,コード一覧表!$AA$1789:$AB$1897,2,0)+1,0),HLOOKUP($U$9,コード一覧表!$C$2:$Y$1768,VLOOKUP(K34,コード一覧表!$AA$3:$AB$1768,2,0)+1,0))))","v":""},{"$f":"IF(L34=\"\",\"\",IF(OR(LEN(L34)<3,LEN(L34)>4),HLOOKUP($U$9,コード一覧表!$C$2:$Y$1768,VLOOKUP(L34,コード一覧表!$AA$3:$AB$1768,2,0)+1,0),IF(OR(CODE(MID(L34,2,1))=77,CODE(MID(L34,3,1))=77),HLOOKUP($U$9,コード一覧表!$C$1789:$Y$1897,VLOOKUP(L34,コード一覧表!$AA$1789:$AB$1897,2,0)+1,0),HLOOKUP($U$9,コード一覧表!$C$2:$Y$1768,VLOOKUP(L34,コード一覧表!$AA$3:$AB$1768,2,0)+1,0))))","v":""},{"$f":"IF(M34=\"\",\"\",IF(OR(LEN(M34)<3,LEN(M34)>4),HLOOKUP($U$9,コード一覧表!$C$2:$Y$1768,VLOOKUP(M34,コード一覧表!$AA$3:$AB$1768,2,0)+1,0),IF(OR(CODE(MID(M34,2,1))=77,CODE(MID(M34,3,1))=77),HLOOKUP($U$9,コード一覧表!$C$1789:$Y$1897,VLOOKUP(M34,コード一覧表!$AA$1789:$AB$1897,2,0)+1,0),HLOOKUP($U$9,コード一覧表!$C$2:$Y$1768,VLOOKUP(M34,コード一覧表!$AA$3:$AB$1768,2,0)+1,0))))","v":""},{"$f":"IF(N34=\"\",\"\",IF(OR(LEN(N34)<3,LEN(N34)>4),HLOOKUP($U$9,コード一覧表!$C$2:$Y$1768,VLOOKUP(N34,コード一覧表!$AA$3:$AB$1768,2,0)+1,0),IF(OR(CODE(MID(N34,2,1))=77,CODE(MID(N34,3,1))=77),HLOOKUP($U$9,コード一覧表!$C$1789:$Y$1897,VLOOKUP(N34,コード一覧表!$AA$1789:$AB$1897,2,0)+1,0),HLOOKUP($U$9,コード一覧表!$C$2:$Y$1768,VLOOKUP(N34,コード一覧表!$AA$3:$AB$1768,2,0)+1,0))))","v":""},{"$f":"IF(O34=\"\",\"\",IF(OR(LEN(O34)<3,LEN(O34)>4),HLOOKUP($U$9,コード一覧表!$C$2:$Y$1768,VLOOKUP(O34,コード一覧表!$AA$3:$AB$1768,2,0)+1,0),IF(OR(CODE(MID(O34,2,1))=77,CODE(MID(O34,3,1))=77),HLOOKUP($U$9,コード一覧表!$C$1789:$Y$1897,VLOOKUP(O34,コード一覧表!$AA$1789:$AB$1897,2,0)+1,0),HLOOKUP($U$9,コード一覧表!$C$2:$Y$1768,VLOOKUP(O34,コード一覧表!$AA$3:$AB$1768,2,0)+1,0))))","v":""},{"$f":"IF(P34=\"\",\"\",IF(OR(LEN(P34)<3,LEN(P34)>4),HLOOKUP($U$9,コード一覧表!$C$2:$Y$1768,VLOOKUP(P34,コード一覧表!$AA$3:$AB$1768,2,0)+1,0),IF(OR(CODE(MID(P34,2,1))=77,CODE(MID(P34,3,1))=77),HLOOKUP($U$9,コード一覧表!$C$1789:$Y$1897,VLOOKUP(P34,コード一覧表!$AA$1789:$AB$1897,2,0)+1,0),HLOOKUP($U$9,コード一覧表!$C$2:$Y$1768,VLOOKUP(P34,コード一覧表!$AA$3:$AB$1768,2,0)+1,0))))","v":""},{"$f":"IF(Q34=\"\",\"\",IF(OR(LEN(Q34)<3,LEN(Q34)>4),HLOOKUP($U$9,コード一覧表!$C$2:$Y$1768,VLOOKUP(Q34,コード一覧表!$AA$3:$AB$1768,2,0)+1,0),IF(OR(CODE(MID(Q34,2,1))=77,CODE(MID(Q34,3,1))=77),HLOOKUP($U$9,コード一覧表!$C$1789:$Y$1897,VLOOKUP(Q34,コード一覧表!$AA$1789:$AB$1897,2,0)+1,0),HLOOKUP($U$9,コード一覧表!$C$2:$Y$1768,VLOOKUP(Q34,コード一覧表!$AA$3:$AB$1768,2,0)+1,0))))","v":""}]
[]
[null,null,null,null,null,null,null,null,null,null,null,null,null,null,null,null,null,null,"入力行12"]
[null,{"$f":"IF(B37=\"\",\"\",IF(OR(LEN(B37)<3,LEN(B37)>4),HLOOKUP($U$9,コード一覧表!$C$2:$Y$1768,VLOOKUP(B37,コード一覧表!$AA$3:$AB$1768,2,0)+1,0),IF(OR(CODE(MID(B37,2,1))=77,CODE(MID(B37,3,1))=77),HLOOKUP($U$9,コード一覧表!$C$1789:$Y$1897,VLOOKUP(B37,コード一覧表!$AA$1789:$AB$1897,2,0)+1,0),HLOOKUP($U$9,コード一覧表!$C$2:$Y$1768,VLOOKUP(B37,コード一覧表!$AA$3:$AB$1768,2,0)+1,0))))","v":""},{"$f":"IF(C37=\"\",\"\",IF(OR(LEN(C37)<3,LEN(C37)>4),HLOOKUP($U$9,コード一覧表!$C$2:$Y$1768,VLOOKUP(C37,コード一覧表!$AA$3:$AB$1768,2,0)+1,0),IF(OR(CODE(MID(C37,2,1))=77,CODE(MID(C37,3,1))=77),HLOOKUP($U$9,コード一覧表!$C$1789:$Y$1897,VLOOKUP(C37,コード一覧表!$AA$1789:$AB$1897,2,0)+1,0),HLOOKUP($U$9,コード一覧表!$C$2:$Y$1768,VLOOKUP(C37,コード一覧表!$AA$3:$AB$1768,2,0)+1,0))))","v":""},{"$f":"IF(D37=\"\",\"\",IF(OR(LEN(D37)<3,LEN(D37)>4),HLOOKUP($U$9,コード一覧表!$C$2:$Y$1768,VLOOKUP(D37,コード一覧表!$AA$3:$AB$1768,2,0)+1,0),IF(OR(CODE(MID(D37,2,1))=77,CODE(MID(D37,3,1))=77),HLOOKUP($U$9,コード一覧表!$C$1789:$Y$1897,VLOOKUP(D37,コード一覧表!$AA$1789:$AB$1897,2,0)+1,0),HLOOKUP($U$9,コード一覧表!$C$2:$Y$1768,VLOOKUP(D37,コード一覧表!$AA$3:$AB$1768,2,0)+1,0))))","v":""},{"$f":"IF(E37=\"\",\"\",IF(OR(LEN(E37)<3,LEN(E37)>4),HLOOKUP($U$9,コード一覧表!$C$2:$Y$1768,VLOOKUP(E37,コード一覧表!$AA$3:$AB$1768,2,0)+1,0),IF(OR(CODE(MID(E37,2,1))=77,CODE(MID(E37,3,1))=77),HLOOKUP($U$9,コード一覧表!$C$1789:$Y$1897,VLOOKUP(E37,コード一覧表!$AA$1789:$AB$1897,2,0)+1,0),HLOOKUP($U$9,コード一覧表!$C$2:$Y$1768,VLOOKUP(E37,コード一覧表!$AA$3:$AB$1768,2,0)+1,0))))","v":""},{"$f":"IF(F37=\"\",\"\",IF(OR(LEN(F37)<3,LEN(F37)>4),HLOOKUP($U$9,コード一覧表!$C$2:$Y$1768,VLOOKUP(F37,コード一覧表!$AA$3:$AB$1768,2,0)+1,0),IF(OR(CODE(MID(F37,2,1))=77,CODE(MID(F37,3,1))=77),HLOOKUP($U$9,コード一覧表!$C$1789:$Y$1897,VLOOKUP(F37,コード一覧表!$AA$1789:$AB$1897,2,0)+1,0),HLOOKUP($U$9,コード一覧表!$C$2:$Y$1768,VLOOKUP(F37,コード一覧表!$AA$3:$AB$1768,2,0)+1,0))))","v":""},{"$f":"IF(G37=\"\",\"\",IF(OR(LEN(G37)<3,LEN(G37)>4),HLOOKUP($U$9,コード一覧表!$C$2:$Y$1768,VLOOKUP(G37,コード一覧表!$AA$3:$AB$1768,2,0)+1,0),IF(OR(CODE(MID(G37,2,1))=77,CODE(MID(G37,3,1))=77),HLOOKUP($U$9,コード一覧表!$C$1789:$Y$1897,VLOOKUP(G37,コード一覧表!$AA$1789:$AB$1897,2,0)+1,0),HLOOKUP($U$9,コード一覧表!$C$2:$Y$1768,VLOOKUP(G37,コード一覧表!$AA$3:$AB$1768,2,0)+1,0))))","v":""},{"$f":"IF(H37=\"\",\"\",IF(OR(LEN(H37)<3,LEN(H37)>4),HLOOKUP($U$9,コード一覧表!$C$2:$Y$1768,VLOOKUP(H37,コード一覧表!$AA$3:$AB$1768,2,0)+1,0),IF(OR(CODE(MID(H37,2,1))=77,CODE(MID(H37,3,1))=77),HLOOKUP($U$9,コード一覧表!$C$1789:$Y$1897,VLOOKUP(H37,コード一覧表!$AA$1789:$AB$1897,2,0)+1,0),HLOOKUP($U$9,コード一覧表!$C$2:$Y$1768,VLOOKUP(H37,コード一覧表!$AA$3:$AB$1768,2,0)+1,0))))","v":""},{"$f":"IF(I37=\"\",\"\",IF(OR(LEN(I37)<3,LEN(I37)>4),HLOOKUP($U$9,コード一覧表!$C$2:$Y$1768,VLOOKUP(I37,コード一覧表!$AA$3:$AB$1768,2,0)+1,0),IF(OR(CODE(MID(I37,2,1))=77,CODE(MID(I37,3,1))=77),HLOOKUP($U$9,コード一覧表!$C$1789:$Y$1897,VLOOKUP(I37,コード一覧表!$AA$1789:$AB$1897,2,0)+1,0),HLOOKUP($U$9,コード一覧表!$C$2:$Y$1768,VLOOKUP(I37,コード一覧表!$AA$3:$AB$1768,2,0)+1,0))))","v":""},{"$f":"IF(J37=\"\",\"\",IF(OR(LEN(J37)<3,LEN(J37)>4),HLOOKUP($U$9,コード一覧表!$C$2:$Y$1768,VLOOKUP(J37,コード一覧表!$AA$3:$AB$1768,2,0)+1,0),IF(OR(CODE(MID(J37,2,1))=77,CODE(MID(J37,3,1))=77),HLOOKUP($U$9,コード一覧表!$C$1789:$Y$1897,VLOOKUP(J37,コード一覧表!$AA$1789:$AB$1897,2,0)+1,0),HLOOKUP($U$9,コード一覧表!$C$2:$Y$1768,VLOOKUP(J37,コード一覧表!$AA$3:$AB$1768,2,0)+1,0))))","v":""},{"$f":"IF(K37=\"\",\"\",IF(OR(LEN(K37)<3,LEN(K37)>4),HLOOKUP($U$9,コード一覧表!$C$2:$Y$1768,VLOOKUP(K37,コード一覧表!$AA$3:$AB$1768,2,0)+1,0),IF(OR(CODE(MID(K37,2,1))=77,CODE(MID(K37,3,1))=77),HLOOKUP($U$9,コード一覧表!$C$1789:$Y$1897,VLOOKUP(K37,コード一覧表!$AA$1789:$AB$1897,2,0)+1,0),HLOOKUP($U$9,コード一覧表!$C$2:$Y$1768,VLOOKUP(K37,コード一覧表!$AA$3:$AB$1768,2,0)+1,0))))","v":""},{"$f":"IF(L37=\"\",\"\",IF(OR(LEN(L37)<3,LEN(L37)>4),HLOOKUP($U$9,コード一覧表!$C$2:$Y$1768,VLOOKUP(L37,コード一覧表!$AA$3:$AB$1768,2,0)+1,0),IF(OR(CODE(MID(L37,2,1))=77,CODE(MID(L37,3,1))=77),HLOOKUP($U$9,コード一覧表!$C$1789:$Y$1897,VLOOKUP(L37,コード一覧表!$AA$1789:$AB$1897,2,0)+1,0),HLOOKUP($U$9,コード一覧表!$C$2:$Y$1768,VLOOKUP(L37,コード一覧表!$AA$3:$AB$1768,2,0)+1,0))))","v":""},{"$f":"IF(M37=\"\",\"\",IF(OR(LEN(M37)<3,LEN(M37)>4),HLOOKUP($U$9,コード一覧表!$C$2:$Y$1768,VLOOKUP(M37,コード一覧表!$AA$3:$AB$1768,2,0)+1,0),IF(OR(CODE(MID(M37,2,1))=77,CODE(MID(M37,3,1))=77),HLOOKUP($U$9,コード一覧表!$C$1789:$Y$1897,VLOOKUP(M37,コード一覧表!$AA$1789:$AB$1897,2,0)+1,0),HLOOKUP($U$9,コード一覧表!$C$2:$Y$1768,VLOOKUP(M37,コード一覧表!$AA$3:$AB$1768,2,0)+1,0))))","v":""},{"$f":"IF(N37=\"\",\"\",IF(OR(LEN(N37)<3,LEN(N37)>4),HLOOKUP($U$9,コード一覧表!$C$2:$Y$1768,VLOOKUP(N37,コード一覧表!$AA$3:$AB$1768,2,0)+1,0),IF(OR(CODE(MID(N37,2,1))=77,CODE(MID(N37,3,1))=77),HLOOKUP($U$9,コード一覧表!$C$1789:$Y$1897,VLOOKUP(N37,コード一覧表!$AA$1789:$AB$1897,2,0)+1,0),HLOOKUP($U$9,コード一覧表!$C$2:$Y$1768,VLOOKUP(N37,コード一覧表!$AA$3:$AB$1768,2,0)+1,0))))","v":""},{"$f":"IF(O37=\"\",\"\",IF(OR(LEN(O37)<3,LEN(O37)>4),HLOOKUP($U$9,コード一覧表!$C$2:$Y$1768,VLOOKUP(O37,コード一覧表!$AA$3:$AB$1768,2,0)+1,0),IF(OR(CODE(MID(O37,2,1))=77,CODE(MID(O37,3,1))=77),HLOOKUP($U$9,コード一覧表!$C$1789:$Y$1897,VLOOKUP(O37,コード一覧表!$AA$1789:$AB$1897,2,0)+1,0),HLOOKUP($U$9,コード一覧表!$C$2:$Y$1768,VLOOKUP(O37,コード一覧表!$AA$3:$AB$1768,2,0)+1,0))))","v":""},{"$f":"IF(P37=\"\",\"\",IF(OR(LEN(P37)<3,LEN(P37)>4),HLOOKUP($U$9,コード一覧表!$C$2:$Y$1768,VLOOKUP(P37,コード一覧表!$AA$3:$AB$1768,2,0)+1,0),IF(OR(CODE(MID(P37,2,1))=77,CODE(MID(P37,3,1))=77),HLOOKUP($U$9,コード一覧表!$C$1789:$Y$1897,VLOOKUP(P37,コード一覧表!$AA$1789:$AB$1897,2,0)+1,0),HLOOKUP($U$9,コード一覧表!$C$2:$Y$1768,VLOOKUP(P37,コード一覧表!$AA$3:$AB$1768,2,0)+1,0))))","v":""},{"$f":"IF(Q37=\"\",\"\",IF(OR(LEN(Q37)<3,LEN(Q37)>4),HLOOKUP($U$9,コード一覧表!$C$2:$Y$1768,VLOOKUP(Q37,コード一覧表!$AA$3:$AB$1768,2,0)+1,0),IF(OR(CODE(MID(Q37,2,1))=77,CODE(MID(Q37,3,1))=77),HLOOKUP($U$9,コード一覧表!$C$1789:$Y$1897,VLOOKUP(Q37,コード一覧表!$AA$1789:$AB$1897,2,0)+1,0),HLOOKUP($U$9,コード一覧表!$C$2:$Y$1768,VLOOKUP(Q37,コード一覧表!$AA$3:$AB$1768,2,0)+1,0))))","v":""}]
[]
[null,null,null,null,null,null,null,null,null,null,null,null,null,null,null,null,null,null,"入力行13"]
[null,{"$f":"IF(B40=\"\",\"\",IF(OR(LEN(B40)<3,LEN(B40)>4),HLOOKUP($U$9,コード一覧表!$C$2:$Y$1768,VLOOKUP(B40,コード一覧表!$AA$3:$AB$1768,2,0)+1,0),IF(OR(CODE(MID(B40,2,1))=77,CODE(MID(B40,3,1))=77),HLOOKUP($U$9,コード一覧表!$C$1789:$Y$1897,VLOOKUP(B40,コード一覧表!$AA$1789:$AB$1897,2,0)+1,0),HLOOKUP($U$9,コード一覧表!$C$2:$Y$1768,VLOOKUP(B40,コード一覧表!$AA$3:$AB$1768,2,0)+1,0))))","v":""},{"$f":"IF(C40=\"\",\"\",IF(OR(LEN(C40)<3,LEN(C40)>4),HLOOKUP($U$9,コード一覧表!$C$2:$Y$1768,VLOOKUP(C40,コード一覧表!$AA$3:$AB$1768,2,0)+1,0),IF(OR(CODE(MID(C40,2,1))=77,CODE(MID(C40,3,1))=77),HLOOKUP($U$9,コード一覧表!$C$1789:$Y$1897,VLOOKUP(C40,コード一覧表!$AA$1789:$AB$1897,2,0)+1,0),HLOOKUP($U$9,コード一覧表!$C$2:$Y$1768,VLOOKUP(C40,コード一覧表!$AA$3:$AB$1768,2,0)+1,0))))","v":""},{"$f":"IF(D40=\"\",\"\",IF(OR(LEN(D40)<3,LEN(D40)>4),HLOOKUP($U$9,コード一覧表!$C$2:$Y$1768,VLOOKUP(D40,コード一覧表!$AA$3:$AB$1768,2,0)+1,0),IF(OR(CODE(MID(D40,2,1))=77,CODE(MID(D40,3,1))=77),HLOOKUP($U$9,コード一覧表!$C$1789:$Y$1897,VLOOKUP(D40,コード一覧表!$AA$1789:$AB$1897,2,0)+1,0),HLOOKUP($U$9,コード一覧表!$C$2:$Y$1768,VLOOKUP(D40,コード一覧表!$AA$3:$AB$1768,2,0)+1,0))))","v":""},{"$f":"IF(E40=\"\",\"\",IF(OR(LEN(E40)<3,LEN(E40)>4),HLOOKUP($U$9,コード一覧表!$C$2:$Y$1768,VLOOKUP(E40,コード一覧表!$AA$3:$AB$1768,2,0)+1,0),IF(OR(CODE(MID(E40,2,1))=77,CODE(MID(E40,3,1))=77),HLOOKUP($U$9,コード一覧表!$C$1789:$Y$1897,VLOOKUP(E40,コード一覧表!$AA$1789:$AB$1897,2,0)+1,0),HLOOKUP($U$9,コード一覧表!$C$2:$Y$1768,VLOOKUP(E40,コード一覧表!$AA$3:$AB$1768,2,0)+1,0))))","v":""},{"$f":"IF(F40=\"\",\"\",IF(OR(LEN(F40)<3,LEN(F40)>4),HLOOKUP($U$9,コード一覧表!$C$2:$Y$1768,VLOOKUP(F40,コード一覧表!$AA$3:$AB$1768,2,0)+1,0),IF(OR(CODE(MID(F40,2,1))=77,CODE(MID(F40,3,1))=77),HLOOKUP($U$9,コード一覧表!$C$1789:$Y$1897,VLOOKUP(F40,コード一覧表!$AA$1789:$AB$1897,2,0)+1,0),HLOOKUP($U$9,コード一覧表!$C$2:$Y$1768,VLOOKUP(F40,コード一覧表!$AA$3:$AB$1768,2,0)+1,0))))","v":""},{"$f":"IF(G40=\"\",\"\",IF(OR(LEN(G40)<3,LEN(G40)>4),HLOOKUP($U$9,コード一覧表!$C$2:$Y$1768,VLOOKUP(G40,コード一覧表!$AA$3:$AB$1768,2,0)+1,0),IF(OR(CODE(MID(G40,2,1))=77,CODE(MID(G40,3,1))=77),HLOOKUP($U$9,コード一覧表!$C$1789:$Y$1897,VLOOKUP(G40,コード一覧表!$AA$1789:$AB$1897,2,0)+1,0),HLOOKUP($U$9,コード一覧表!$C$2:$Y$1768,VLOOKUP(G40,コード一覧表!$AA$3:$AB$1768,2,0)+1,0))))","v":""},{"$f":"IF(H40=\"\",\"\",IF(OR(LEN(H40)<3,LEN(H40)>4),HLOOKUP($U$9,コード一覧表!$C$2:$Y$1768,VLOOKUP(H40,コード一覧表!$AA$3:$AB$1768,2,0)+1,0),IF(OR(CODE(MID(H40,2,1))=77,CODE(MID(H40,3,1))=77),HLOOKUP($U$9,コード一覧表!$C$1789:$Y$1897,VLOOKUP(H40,コード一覧表!$AA$1789:$AB$1897,2,0)+1,0),HLOOKUP($U$9,コード一覧表!$C$2:$Y$1768,VLOOKUP(H40,コード一覧表!$AA$3:$AB$1768,2,0)+1,0))))","v":""},{"$f":"IF(I40=\"\",\"\",IF(OR(LEN(I40)<3,LEN(I40)>4),HLOOKUP($U$9,コード一覧表!$C$2:$Y$1768,VLOOKUP(I40,コード一覧表!$AA$3:$AB$1768,2,0)+1,0),IF(OR(CODE(MID(I40,2,1))=77,CODE(MID(I40,3,1))=77),HLOOKUP($U$9,コード一覧表!$C$1789:$Y$1897,VLOOKUP(I40,コード一覧表!$AA$1789:$AB$1897,2,0)+1,0),HLOOKUP($U$9,コード一覧表!$C$2:$Y$1768,VLOOKUP(I40,コード一覧表!$AA$3:$AB$1768,2,0)+1,0))))","v":""},{"$f":"IF(J40=\"\",\"\",IF(OR(LEN(J40)<3,LEN(J40)>4),HLOOKUP($U$9,コード一覧表!$C$2:$Y$1768,VLOOKUP(J40,コード一覧表!$AA$3:$AB$1768,2,0)+1,0),IF(OR(CODE(MID(J40,2,1))=77,CODE(MID(J40,3,1))=77),HLOOKUP($U$9,コード一覧表!$C$1789:$Y$1897,VLOOKUP(J40,コード一覧表!$AA$1789:$AB$1897,2,0)+1,0),HLOOKUP($U$9,コード一覧表!$C$2:$Y$1768,VLOOKUP(J40,コード一覧表!$AA$3:$AB$1768,2,0)+1,0))))","v":""},{"$f":"IF(K40=\"\",\"\",IF(OR(LEN(K40)<3,LEN(K40)>4),HLOOKUP($U$9,コード一覧表!$C$2:$Y$1768,VLOOKUP(K40,コード一覧表!$AA$3:$AB$1768,2,0)+1,0),IF(OR(CODE(MID(K40,2,1))=77,CODE(MID(K40,3,1))=77),HLOOKUP($U$9,コード一覧表!$C$1789:$Y$1897,VLOOKUP(K40,コード一覧表!$AA$1789:$AB$1897,2,0)+1,0),HLOOKUP($U$9,コード一覧表!$C$2:$Y$1768,VLOOKUP(K40,コード一覧表!$AA$3:$AB$1768,2,0)+1,0))))","v":""},{"$f":"IF(L40=\"\",\"\",IF(OR(LEN(L40)<3,LEN(L40)>4),HLOOKUP($U$9,コード一覧表!$C$2:$Y$1768,VLOOKUP(L40,コード一覧表!$AA$3:$AB$1768,2,0)+1,0),IF(OR(CODE(MID(L40,2,1))=77,CODE(MID(L40,3,1))=77),HLOOKUP($U$9,コード一覧表!$C$1789:$Y$1897,VLOOKUP(L40,コード一覧表!$AA$1789:$AB$1897,2,0)+1,0),HLOOKUP($U$9,コード一覧表!$C$2:$Y$1768,VLOOKUP(L40,コード一覧表!$AA$3:$AB$1768,2,0)+1,0))))","v":""},{"$f":"IF(M40=\"\",\"\",IF(OR(LEN(M40)<3,LEN(M40)>4),HLOOKUP($U$9,コード一覧表!$C$2:$Y$1768,VLOOKUP(M40,コード一覧表!$AA$3:$AB$1768,2,0)+1,0),IF(OR(CODE(MID(M40,2,1))=77,CODE(MID(M40,3,1))=77),HLOOKUP($U$9,コード一覧表!$C$1789:$Y$1897,VLOOKUP(M40,コード一覧表!$AA$1789:$AB$1897,2,0)+1,0),HLOOKUP($U$9,コード一覧表!$C$2:$Y$1768,VLOOKUP(M40,コード一覧表!$AA$3:$AB$1768,2,0)+1,0))))","v":""},{"$f":"IF(N40=\"\",\"\",IF(OR(LEN(N40)<3,LEN(N40)>4),HLOOKUP($U$9,コード一覧表!$C$2:$Y$1768,VLOOKUP(N40,コード一覧表!$AA$3:$AB$1768,2,0)+1,0),IF(OR(CODE(MID(N40,2,1))=77,CODE(MID(N40,3,1))=77),HLOOKUP($U$9,コード一覧表!$C$1789:$Y$1897,VLOOKUP(N40,コード一覧表!$AA$1789:$AB$1897,2,0)+1,0),HLOOKUP($U$9,コード一覧表!$C$2:$Y$1768,VLOOKUP(N40,コード一覧表!$AA$3:$AB$1768,2,0)+1,0))))","v":""},{"$f":"IF(O40=\"\",\"\",IF(OR(LEN(O40)<3,LEN(O40)>4),HLOOKUP($U$9,コード一覧表!$C$2:$Y$1768,VLOOKUP(O40,コード一覧表!$AA$3:$AB$1768,2,0)+1,0),IF(OR(CODE(MID(O40,2,1))=77,CODE(MID(O40,3,1))=77),HLOOKUP($U$9,コード一覧表!$C$1789:$Y$1897,VLOOKUP(O40,コード一覧表!$AA$1789:$AB$1897,2,0)+1,0),HLOOKUP($U$9,コード一覧表!$C$2:$Y$1768,VLOOKUP(O40,コード一覧表!$AA$3:$AB$1768,2,0)+1,0))))","v":""},{"$f":"IF(P40=\"\",\"\",IF(OR(LEN(P40)<3,LEN(P40)>4),HLOOKUP($U$9,コード一覧表!$C$2:$Y$1768,VLOOKUP(P40,コード一覧表!$AA$3:$AB$1768,2,0)+1,0),IF(OR(CODE(MID(P40,2,1))=77,CODE(MID(P40,3,1))=77),HLOOKUP($U$9,コード一覧表!$C$1789:$Y$1897,VLOOKUP(P40,コード一覧表!$AA$1789:$AB$1897,2,0)+1,0),HLOOKUP($U$9,コード一覧表!$C$2:$Y$1768,VLOOKUP(P40,コード一覧表!$AA$3:$AB$1768,2,0)+1,0))))","v":""},{"$f":"IF(Q40=\"\",\"\",IF(OR(LEN(Q40)<3,LEN(Q40)>4),HLOOKUP($U$9,コード一覧表!$C$2:$Y$1768,VLOOKUP(Q40,コード一覧表!$AA$3:$AB$1768,2,0)+1,0),IF(OR(CODE(MID(Q40,2,1))=77,CODE(MID(Q40,3,1))=77),HLOOKUP($U$9,コード一覧表!$C$1789:$Y$1897,VLOOKUP(Q40,コード一覧表!$AA$1789:$AB$1897,2,0)+1,0),HLOOKUP($U$9,コード一覧表!$C$2:$Y$1768,VLOOKUP(Q40,コード一覧表!$AA$3:$AB$1768,2,0)+1,0))))","v":""}]
[]
[null,null,null,null,null,null,null,null,null,null,null,null,null,null,null,null,null,null,"入力行14"]
[null,{"$f":"IF(B43=\"\",\"\",IF(OR(LEN(B43)<3,LEN(B43)>4),HLOOKUP($U$9,コード一覧表!$C$2:$Y$1768,VLOOKUP(B43,コード一覧表!$AA$3:$AB$1768,2,0)+1,0),IF(OR(CODE(MID(B43,2,1))=77,CODE(MID(B43,3,1))=77),HLOOKUP($U$9,コード一覧表!$C$1789:$Y$1897,VLOOKUP(B43,コード一覧表!$AA$1789:$AB$1897,2,0)+1,0),HLOOKUP($U$9,コード一覧表!$C$2:$Y$1768,VLOOKUP(B43,コード一覧表!$AA$3:$AB$1768,2,0)+1,0))))","v":""},{"$f":"IF(C43=\"\",\"\",IF(OR(LEN(C43)<3,LEN(C43)>4),HLOOKUP($U$9,コード一覧表!$C$2:$Y$1768,VLOOKUP(C43,コード一覧表!$AA$3:$AB$1768,2,0)+1,0),IF(OR(CODE(MID(C43,2,1))=77,CODE(MID(C43,3,1))=77),HLOOKUP($U$9,コード一覧表!$C$1789:$Y$1897,VLOOKUP(C43,コード一覧表!$AA$1789:$AB$1897,2,0)+1,0),HLOOKUP($U$9,コード一覧表!$C$2:$Y$1768,VLOOKUP(C43,コード一覧表!$AA$3:$AB$1768,2,0)+1,0))))","v":""},{"$f":"IF(D43=\"\",\"\",IF(OR(LEN(D43)<3,LEN(D43)>4),HLOOKUP($U$9,コード一覧表!$C$2:$Y$1768,VLOOKUP(D43,コード一覧表!$AA$3:$AB$1768,2,0)+1,0),IF(OR(CODE(MID(D43,2,1))=77,CODE(MID(D43,3,1))=77),HLOOKUP($U$9,コード一覧表!$C$1789:$Y$1897,VLOOKUP(D43,コード一覧表!$AA$1789:$AB$1897,2,0)+1,0),HLOOKUP($U$9,コード一覧表!$C$2:$Y$1768,VLOOKUP(D43,コード一覧表!$AA$3:$AB$1768,2,0)+1,0))))","v":""},{"$f":"IF(E43=\"\",\"\",IF(OR(LEN(E43)<3,LEN(E43)>4),HLOOKUP($U$9,コード一覧表!$C$2:$Y$1768,VLOOKUP(E43,コード一覧表!$AA$3:$AB$1768,2,0)+1,0),IF(OR(CODE(MID(E43,2,1))=77,CODE(MID(E43,3,1))=77),HLOOKUP($U$9,コード一覧表!$C$1789:$Y$1897,VLOOKUP(E43,コード一覧表!$AA$1789:$AB$1897,2,0)+1,0),HLOOKUP($U$9,コード一覧表!$C$2:$Y$1768,VLOOKUP(E43,コード一覧表!$AA$3:$AB$1768,2,0)+1,0))))","v":""},{"$f":"IF(F43=\"\",\"\",IF(OR(LEN(F43)<3,LEN(F43)>4),HLOOKUP($U$9,コード一覧表!$C$2:$Y$1768,VLOOKUP(F43,コード一覧表!$AA$3:$AB$1768,2,0)+1,0),IF(OR(CODE(MID(F43,2,1))=77,CODE(MID(F43,3,1))=77),HLOOKUP($U$9,コード一覧表!$C$1789:$Y$1897,VLOOKUP(F43,コード一覧表!$AA$1789:$AB$1897,2,0)+1,0),HLOOKUP($U$9,コード一覧表!$C$2:$Y$1768,VLOOKUP(F43,コード一覧表!$AA$3:$AB$1768,2,0)+1,0))))","v":""},{"$f":"IF(G43=\"\",\"\",IF(OR(LEN(G43)<3,LEN(G43)>4),HLOOKUP($U$9,コード一覧表!$C$2:$Y$1768,VLOOKUP(G43,コード一覧表!$AA$3:$AB$1768,2,0)+1,0),IF(OR(CODE(MID(G43,2,1))=77,CODE(MID(G43,3,1))=77),HLOOKUP($U$9,コード一覧表!$C$1789:$Y$1897,VLOOKUP(G43,コード一覧表!$AA$1789:$AB$1897,2,0)+1,0),HLOOKUP($U$9,コード一覧表!$C$2:$Y$1768,VLOOKUP(G43,コード一覧表!$AA$3:$AB$1768,2,0)+1,0))))","v":""},{"$f":"IF(H43=\"\",\"\",IF(OR(LEN(H43)<3,LEN(H43)>4),HLOOKUP($U$9,コード一覧表!$C$2:$Y$1768,VLOOKUP(H43,コード一覧表!$AA$3:$AB$1768,2,0)+1,0),IF(OR(CODE(MID(H43,2,1))=77,CODE(MID(H43,3,1))=77),HLOOKUP($U$9,コード一覧表!$C$1789:$Y$1897,VLOOKUP(H43,コード一覧表!$AA$1789:$AB$1897,2,0)+1,0),HLOOKUP($U$9,コード一覧表!$C$2:$Y$1768,VLOOKUP(H43,コード一覧表!$AA$3:$AB$1768,2,0)+1,0))))","v":""},{"$f":"IF(I43=\"\",\"\",IF(OR(LEN(I43)<3,LEN(I43)>4),HLOOKUP($U$9,コード一覧表!$C$2:$Y$1768,VLOOKUP(I43,コード一覧表!$AA$3:$AB$1768,2,0)+1,0),IF(OR(CODE(MID(I43,2,1))=77,CODE(MID(I43,3,1))=77),HLOOKUP($U$9,コード一覧表!$C$1789:$Y$1897,VLOOKUP(I43,コード一覧表!$AA$1789:$AB$1897,2,0)+1,0),HLOOKUP($U$9,コード一覧表!$C$2:$Y$1768,VLOOKUP(I43,コード一覧表!$AA$3:$AB$1768,2,0)+1,0))))","v":""},{"$f":"IF(J43=\"\",\"\",IF(OR(LEN(J43)<3,LEN(J43)>4),HLOOKUP($U$9,コード一覧表!$C$2:$Y$1768,VLOOKUP(J43,コード一覧表!$AA$3:$AB$1768,2,0)+1,0),IF(OR(CODE(MID(J43,2,1))=77,CODE(MID(J43,3,1))=77),HLOOKUP($U$9,コード一覧表!$C$1789:$Y$1897,VLOOKUP(J43,コード一覧表!$AA$1789:$AB$1897,2,0)+1,0),HLOOKUP($U$9,コード一覧表!$C$2:$Y$1768,VLOOKUP(J43,コード一覧表!$AA$3:$AB$1768,2,0)+1,0))))","v":""},{"$f":"IF(K43=\"\",\"\",IF(OR(LEN(K43)<3,LEN(K43)>4),HLOOKUP($U$9,コード一覧表!$C$2:$Y$1768,VLOOKUP(K43,コード一覧表!$AA$3:$AB$1768,2,0)+1,0),IF(OR(CODE(MID(K43,2,1))=77,CODE(MID(K43,3,1))=77),HLOOKUP($U$9,コード一覧表!$C$1789:$Y$1897,VLOOKUP(K43,コード一覧表!$AA$1789:$AB$1897,2,0)+1,0),HLOOKUP($U$9,コード一覧表!$C$2:$Y$1768,VLOOKUP(K43,コード一覧表!$AA$3:$AB$1768,2,0)+1,0))))","v":""},{"$f":"IF(L43=\"\",\"\",IF(OR(LEN(L43)<3,LEN(L43)>4),HLOOKUP($U$9,コード一覧表!$C$2:$Y$1768,VLOOKUP(L43,コード一覧表!$AA$3:$AB$1768,2,0)+1,0),IF(OR(CODE(MID(L43,2,1))=77,CODE(MID(L43,3,1))=77),HLOOKUP($U$9,コード一覧表!$C$1789:$Y$1897,VLOOKUP(L43,コード一覧表!$AA$1789:$AB$1897,2,0)+1,0),HLOOKUP($U$9,コード一覧表!$C$2:$Y$1768,VLOOKUP(L43,コード一覧表!$AA$3:$AB$1768,2,0)+1,0))))","v":""},{"$f":"IF(M43=\"\",\"\",IF(OR(LEN(M43)<3,LEN(M43)>4),HLOOKUP($U$9,コード一覧表!$C$2:$Y$1768,VLOOKUP(M43,コード一覧表!$AA$3:$AB$1768,2,0)+1,0),IF(OR(CODE(MID(M43,2,1))=77,CODE(MID(M43,3,1))=77),HLOOKUP($U$9,コード一覧表!$C$1789:$Y$1897,VLOOKUP(M43,コード一覧表!$AA$1789:$AB$1897,2,0)+1,0),HLOOKUP($U$9,コード一覧表!$C$2:$Y$1768,VLOOKUP(M43,コード一覧表!$AA$3:$AB$1768,2,0)+1,0))))","v":""},{"$f":"IF(N43=\"\",\"\",IF(OR(LEN(N43)<3,LEN(N43)>4),HLOOKUP($U$9,コード一覧表!$C$2:$Y$1768,VLOOKUP(N43,コード一覧表!$AA$3:$AB$1768,2,0)+1,0),IF(OR(CODE(MID(N43,2,1))=77,CODE(MID(N43,3,1))=77),HLOOKUP($U$9,コード一覧表!$C$1789:$Y$1897,VLOOKUP(N43,コード一覧表!$AA$1789:$AB$1897,2,0)+1,0),HLOOKUP($U$9,コード一覧表!$C$2:$Y$1768,VLOOKUP(N43,コード一覧表!$AA$3:$AB$1768,2,0)+1,0))))","v":""},{"$f":"IF(O43=\"\",\"\",IF(OR(LEN(O43)<3,LEN(O43)>4),HLOOKUP($U$9,コード一覧表!$C$2:$Y$1768,VLOOKUP(O43,コード一覧表!$AA$3:$AB$1768,2,0)+1,0),IF(OR(CODE(MID(O43,2,1))=77,CODE(MID(O43,3,1))=77),HLOOKUP($U$9,コード一覧表!$C$1789:$Y$1897,VLOOKUP(O43,コード一覧表!$AA$1789:$AB$1897,2,0)+1,0),HLOOKUP($U$9,コード一覧表!$C$2:$Y$1768,VLOOKUP(O43,コード一覧表!$AA$3:$AB$1768,2,0)+1,0))))","v":""},{"$f":"IF(P43=\"\",\"\",IF(OR(LEN(P43)<3,LEN(P43)>4),HLOOKUP($U$9,コード一覧表!$C$2:$Y$1768,VLOOKUP(P43,コード一覧表!$AA$3:$AB$1768,2,0)+1,0),IF(OR(CODE(MID(P43,2,1))=77,CODE(MID(P43,3,1))=77),HLOOKUP($U$9,コード一覧表!$C$1789:$Y$1897,VLOOKUP(P43,コード一覧表!$AA$1789:$AB$1897,2,0)+1,0),HLOOKUP($U$9,コード一覧表!$C$2:$Y$1768,VLOOKUP(P43,コード一覧表!$AA$3:$AB$1768,2,0)+1,0))))","v":""},{"$f":"IF(Q43=\"\",\"\",IF(OR(LEN(Q43)<3,LEN(Q43)>4),HLOOKUP($U$9,コード一覧表!$C$2:$Y$1768,VLOOKUP(Q43,コード一覧表!$AA$3:$AB$1768,2,0)+1,0),IF(OR(CODE(MID(Q43,2,1))=77,CODE(MID(Q43,3,1))=77),HLOOKUP($U$9,コード一覧表!$C$1789:$Y$1897,VLOOKUP(Q43,コード一覧表!$AA$1789:$AB$1897,2,0)+1,0),HLOOKUP($U$9,コード一覧表!$C$2:$Y$1768,VLOOKUP(Q43,コード一覧表!$AA$3:$AB$1768,2,0)+1,0))))","v":""}]
[]
[null,null,null,null,null,null,null,null,null,null,null,null,null,null,null,null,null,null,"入力行15"]
[null,{"$f":"IF(B46=\"\",\"\",IF(OR(LEN(B46)<3,LEN(B46)>4),HLOOKUP($U$9,コード一覧表!$C$2:$Y$1768,VLOOKUP(B46,コード一覧表!$AA$3:$AB$1768,2,0)+1,0),IF(OR(CODE(MID(B46,2,1))=77,CODE(MID(B46,3,1))=77),HLOOKUP($U$9,コード一覧表!$C$1789:$Y$1897,VLOOKUP(B46,コード一覧表!$AA$1789:$AB$1897,2,0)+1,0),HLOOKUP($U$9,コード一覧表!$C$2:$Y$1768,VLOOKUP(B46,コード一覧表!$AA$3:$AB$1768,2,0)+1,0))))","v":""},{"$f":"IF(C46=\"\",\"\",IF(OR(LEN(C46)<3,LEN(C46)>4),HLOOKUP($U$9,コード一覧表!$C$2:$Y$1768,VLOOKUP(C46,コード一覧表!$AA$3:$AB$1768,2,0)+1,0),IF(OR(CODE(MID(C46,2,1))=77,CODE(MID(C46,3,1))=77),HLOOKUP($U$9,コード一覧表!$C$1789:$Y$1897,VLOOKUP(C46,コード一覧表!$AA$1789:$AB$1897,2,0)+1,0),HLOOKUP($U$9,コード一覧表!$C$2:$Y$1768,VLOOKUP(C46,コード一覧表!$AA$3:$AB$1768,2,0)+1,0))))","v":""},{"$f":"IF(D46=\"\",\"\",IF(OR(LEN(D46)<3,LEN(D46)>4),HLOOKUP($U$9,コード一覧表!$C$2:$Y$1768,VLOOKUP(D46,コード一覧表!$AA$3:$AB$1768,2,0)+1,0),IF(OR(CODE(MID(D46,2,1))=77,CODE(MID(D46,3,1))=77),HLOOKUP($U$9,コード一覧表!$C$1789:$Y$1897,VLOOKUP(D46,コード一覧表!$AA$1789:$AB$1897,2,0)+1,0),HLOOKUP($U$9,コード一覧表!$C$2:$Y$1768,VLOOKUP(D46,コード一覧表!$AA$3:$AB$1768,2,0)+1,0))))","v":""},{"$f":"IF(E46=\"\",\"\",IF(OR(LEN(E46)<3,LEN(E46)>4),HLOOKUP($U$9,コード一覧表!$C$2:$Y$1768,VLOOKUP(E46,コード一覧表!$AA$3:$AB$1768,2,0)+1,0),IF(OR(CODE(MID(E46,2,1))=77,CODE(MID(E46,3,1))=77),HLOOKUP($U$9,コード一覧表!$C$1789:$Y$1897,VLOOKUP(E46,コード一覧表!$AA$1789:$AB$1897,2,0)+1,0),HLOOKUP($U$9,コード一覧表!$C$2:$Y$1768,VLOOKUP(E46,コード一覧表!$AA$3:$AB$1768,2,0)+1,0))))","v":""},{"$f":"IF(F46=\"\",\"\",IF(OR(LEN(F46)<3,LEN(F46)>4),HLOOKUP($U$9,コード一覧表!$C$2:$Y$1768,VLOOKUP(F46,コード一覧表!$AA$3:$AB$1768,2,0)+1,0),IF(OR(CODE(MID(F46,2,1))=77,CODE(MID(F46,3,1))=77),HLOOKUP($U$9,コード一覧表!$C$1789:$Y$1897,VLOOKUP(F46,コード一覧表!$AA$1789:$AB$1897,2,0)+1,0),HLOOKUP($U$9,コード一覧表!$C$2:$Y$1768,VLOOKUP(F46,コード一覧表!$AA$3:$AB$1768,2,0)+1,0))))","v":""},{"$f":"IF(G46=\"\",\"\",IF(OR(LEN(G46)<3,LEN(G46)>4),HLOOKUP($U$9,コード一覧表!$C$2:$Y$1768,VLOOKUP(G46,コード一覧表!$AA$3:$AB$1768,2,0)+1,0),IF(OR(CODE(MID(G46,2,1))=77,CODE(MID(G46,3,1))=77),HLOOKUP($U$9,コード一覧表!$C$1789:$Y$1897,VLOOKUP(G46,コード一覧表!$AA$1789:$AB$1897,2,0)+1,0),HLOOKUP($U$9,コード一覧表!$C$2:$Y$1768,VLOOKUP(G46,コード一覧表!$AA$3:$AB$1768,2,0)+1,0))))","v":""},{"$f":"IF(H46=\"\",\"\",IF(OR(LEN(H46)<3,LEN(H46)>4),HLOOKUP($U$9,コード一覧表!$C$2:$Y$1768,VLOOKUP(H46,コード一覧表!$AA$3:$AB$1768,2,0)+1,0),IF(OR(CODE(MID(H46,2,1))=77,CODE(MID(H46,3,1))=77),HLOOKUP($U$9,コード一覧表!$C$1789:$Y$1897,VLOOKUP(H46,コード一覧表!$AA$1789:$AB$1897,2,0)+1,0),HLOOKUP($U$9,コード一覧表!$C$2:$Y$1768,VLOOKUP(H46,コード一覧表!$AA$3:$AB$1768,2,0)+1,0))))","v":""},{"$f":"IF(I46=\"\",\"\",IF(OR(LEN(I46)<3,LEN(I46)>4),HLOOKUP($U$9,コード一覧表!$C$2:$Y$1768,VLOOKUP(I46,コード一覧表!$AA$3:$AB$1768,2,0)+1,0),IF(OR(CODE(MID(I46,2,1))=77,CODE(MID(I46,3,1))=77),HLOOKUP($U$9,コード一覧表!$C$1789:$Y$1897,VLOOKUP(I46,コード一覧表!$AA$1789:$AB$1897,2,0)+1,0),HLOOKUP($U$9,コード一覧表!$C$2:$Y$1768,VLOOKUP(I46,コード一覧表!$AA$3:$AB$1768,2,0)+1,0))))","v":""},{"$f":"IF(J46=\"\",\"\",IF(OR(LEN(J46)<3,LEN(J46)>4),HLOOKUP($U$9,コード一覧表!$C$2:$Y$1768,VLOOKUP(J46,コード一覧表!$AA$3:$AB$1768,2,0)+1,0),IF(OR(CODE(MID(J46,2,1))=77,CODE(MID(J46,3,1))=77),HLOOKUP($U$9,コード一覧表!$C$1789:$Y$1897,VLOOKUP(J46,コード一覧表!$AA$1789:$AB$1897,2,0)+1,0),HLOOKUP($U$9,コード一覧表!$C$2:$Y$1768,VLOOKUP(J46,コード一覧表!$AA$3:$AB$1768,2,0)+1,0))))","v":""},{"$f":"IF(K46=\"\",\"\",IF(OR(LEN(K46)<3,LEN(K46)>4),HLOOKUP($U$9,コード一覧表!$C$2:$Y$1768,VLOOKUP(K46,コード一覧表!$AA$3:$AB$1768,2,0)+1,0),IF(OR(CODE(MID(K46,2,1))=77,CODE(MID(K46,3,1))=77),HLOOKUP($U$9,コード一覧表!$C$1789:$Y$1897,VLOOKUP(K46,コード一覧表!$AA$1789:$AB$1897,2,0)+1,0),HLOOKUP($U$9,コード一覧表!$C$2:$Y$1768,VLOOKUP(K46,コード一覧表!$AA$3:$AB$1768,2,0)+1,0))))","v":""},{"$f":"IF(L46=\"\",\"\",IF(OR(LEN(L46)<3,LEN(L46)>4),HLOOKUP($U$9,コード一覧表!$C$2:$Y$1768,VLOOKUP(L46,コード一覧表!$AA$3:$AB$1768,2,0)+1,0),IF(OR(CODE(MID(L46,2,1))=77,CODE(MID(L46,3,1))=77),HLOOKUP($U$9,コード一覧表!$C$1789:$Y$1897,VLOOKUP(L46,コード一覧表!$AA$1789:$AB$1897,2,0)+1,0),HLOOKUP($U$9,コード一覧表!$C$2:$Y$1768,VLOOKUP(L46,コード一覧表!$AA$3:$AB$1768,2,0)+1,0))))","v":""},{"$f":"IF(M46=\"\",\"\",IF(OR(LEN(M46)<3,LEN(M46)>4),HLOOKUP($U$9,コード一覧表!$C$2:$Y$1768,VLOOKUP(M46,コード一覧表!$AA$3:$AB$1768,2,0)+1,0),IF(OR(CODE(MID(M46,2,1))=77,CODE(MID(M46,3,1))=77),HLOOKUP($U$9,コード一覧表!$C$1789:$Y$1897,VLOOKUP(M46,コード一覧表!$AA$1789:$AB$1897,2,0)+1,0),HLOOKUP($U$9,コード一覧表!$C$2:$Y$1768,VLOOKUP(M46,コード一覧表!$AA$3:$AB$1768,2,0)+1,0))))","v":""},{"$f":"IF(N46=\"\",\"\",IF(OR(LEN(N46)<3,LEN(N46)>4),HLOOKUP($U$9,コード一覧表!$C$2:$Y$1768,VLOOKUP(N46,コード一覧表!$AA$3:$AB$1768,2,0)+1,0),IF(OR(CODE(MID(N46,2,1))=77,CODE(MID(N46,3,1))=77),HLOOKUP($U$9,コード一覧表!$C$1789:$Y$1897,VLOOKUP(N46,コード一覧表!$AA$1789:$AB$1897,2,0)+1,0),HLOOKUP($U$9,コード一覧表!$C$2:$Y$1768,VLOOKUP(N46,コード一覧表!$AA$3:$AB$1768,2,0)+1,0))))","v":""},{"$f":"IF(O46=\"\",\"\",IF(OR(LEN(O46)<3,LEN(O46)>4),HLOOKUP($U$9,コード一覧表!$C$2:$Y$1768,VLOOKUP(O46,コード一覧表!$AA$3:$AB$1768,2,0)+1,0),IF(OR(CODE(MID(O46,2,1))=77,CODE(MID(O46,3,1))=77),HLOOKUP($U$9,コード一覧表!$C$1789:$Y$1897,VLOOKUP(O46,コード一覧表!$AA$1789:$AB$1897,2,0)+1,0),HLOOKUP($U$9,コード一覧表!$C$2:$Y$1768,VLOOKUP(O46,コード一覧表!$AA$3:$AB$1768,2,0)+1,0))))","v":""},{"$f":"IF(P46=\"\",\"\",IF(OR(LEN(P46)<3,LEN(P46)>4),HLOOKUP($U$9,コード一覧表!$C$2:$Y$1768,VLOOKUP(P46,コード一覧表!$AA$3:$AB$1768,2,0)+1,0),IF(OR(CODE(MID(P46,2,1))=77,CODE(MID(P46,3,1))=77),HLOOKUP($U$9,コード一覧表!$C$1789:$Y$1897,VLOOKUP(P46,コード一覧表!$AA$1789:$AB$1897,2,0)+1,0),HLOOKUP($U$9,コード一覧表!$C$2:$Y$1768,VLOOKUP(P46,コード一覧表!$AA$3:$AB$1768,2,0)+1,0))))","v":""},{"$f":"IF(Q46=\"\",\"\",IF(OR(LEN(Q46)<3,LEN(Q46)>4),HLOOKUP($U$9,コード一覧表!$C$2:$Y$1768,VLOOKUP(Q46,コード一覧表!$AA$3:$AB$1768,2,0)+1,0),IF(OR(CODE(MID(Q46,2,1))=77,CODE(MID(Q46,3,1))=77),HLOOKUP($U$9,コード一覧表!$C$1789:$Y$1897,VLOOKUP(Q46,コード一覧表!$AA$1789:$AB$1897,2,0)+1,0),HLOOKUP($U$9,コード一覧表!$C$2:$Y$1768,VLOOKUP(Q46,コード一覧表!$AA$3:$AB$1768,2,0)+1,0))))","v":""}]
[]
[null,null,null,null,null,null,null,null,null,null,null,null,null,null,null,null,null,null,"入力行16"]
[null,{"$f":"IF(B49=\"\",\"\",IF(OR(LEN(B49)<3,LEN(B49)>4),HLOOKUP($U$9,コード一覧表!$C$2:$Y$1768,VLOOKUP(B49,コード一覧表!$AA$3:$AB$1768,2,0)+1,0),IF(OR(CODE(MID(B49,2,1))=77,CODE(MID(B49,3,1))=77),HLOOKUP($U$9,コード一覧表!$C$1789:$Y$1897,VLOOKUP(B49,コード一覧表!$AA$1789:$AB$1897,2,0)+1,0),HLOOKUP($U$9,コード一覧表!$C$2:$Y$1768,VLOOKUP(B49,コード一覧表!$AA$3:$AB$1768,2,0)+1,0))))","v":""},{"$f":"IF(C49=\"\",\"\",IF(OR(LEN(C49)<3,LEN(C49)>4),HLOOKUP($U$9,コード一覧表!$C$2:$Y$1768,VLOOKUP(C49,コード一覧表!$AA$3:$AB$1768,2,0)+1,0),IF(OR(CODE(MID(C49,2,1))=77,CODE(MID(C49,3,1))=77),HLOOKUP($U$9,コード一覧表!$C$1789:$Y$1897,VLOOKUP(C49,コード一覧表!$AA$1789:$AB$1897,2,0)+1,0),HLOOKUP($U$9,コード一覧表!$C$2:$Y$1768,VLOOKUP(C49,コード一覧表!$AA$3:$AB$1768,2,0)+1,0))))","v":""},{"$f":"IF(D49=\"\",\"\",IF(OR(LEN(D49)<3,LEN(D49)>4),HLOOKUP($U$9,コード一覧表!$C$2:$Y$1768,VLOOKUP(D49,コード一覧表!$AA$3:$AB$1768,2,0)+1,0),IF(OR(CODE(MID(D49,2,1))=77,CODE(MID(D49,3,1))=77),HLOOKUP($U$9,コード一覧表!$C$1789:$Y$1897,VLOOKUP(D49,コード一覧表!$AA$1789:$AB$1897,2,0)+1,0),HLOOKUP($U$9,コード一覧表!$C$2:$Y$1768,VLOOKUP(D49,コード一覧表!$AA$3:$AB$1768,2,0)+1,0))))","v":""},{"$f":"IF(E49=\"\",\"\",IF(OR(LEN(E49)<3,LEN(E49)>4),HLOOKUP($U$9,コード一覧表!$C$2:$Y$1768,VLOOKUP(E49,コード一覧表!$AA$3:$AB$1768,2,0)+1,0),IF(OR(CODE(MID(E49,2,1))=77,CODE(MID(E49,3,1))=77),HLOOKUP($U$9,コード一覧表!$C$1789:$Y$1897,VLOOKUP(E49,コード一覧表!$AA$1789:$AB$1897,2,0)+1,0),HLOOKUP($U$9,コード一覧表!$C$2:$Y$1768,VLOOKUP(E49,コード一覧表!$AA$3:$AB$1768,2,0)+1,0))))","v":""},{"$f":"IF(F49=\"\",\"\",IF(OR(LEN(F49)<3,LEN(F49)>4),HLOOKUP($U$9,コード一覧表!$C$2:$Y$1768,VLOOKUP(F49,コード一覧表!$AA$3:$AB$1768,2,0)+1,0),IF(OR(CODE(MID(F49,2,1))=77,CODE(MID(F49,3,1))=77),HLOOKUP($U$9,コード一覧表!$C$1789:$Y$1897,VLOOKUP(F49,コード一覧表!$AA$1789:$AB$1897,2,0)+1,0),HLOOKUP($U$9,コード一覧表!$C$2:$Y$1768,VLOOKUP(F49,コード一覧表!$AA$3:$AB$1768,2,0)+1,0))))","v":""},{"$f":"IF(G49=\"\",\"\",IF(OR(LEN(G49)<3,LEN(G49)>4),HLOOKUP($U$9,コード一覧表!$C$2:$Y$1768,VLOOKUP(G49,コード一覧表!$AA$3:$AB$1768,2,0)+1,0),IF(OR(CODE(MID(G49,2,1))=77,CODE(MID(G49,3,1))=77),HLOOKUP($U$9,コード一覧表!$C$1789:$Y$1897,VLOOKUP(G49,コード一覧表!$AA$1789:$AB$1897,2,0)+1,0),HLOOKUP($U$9,コード一覧表!$C$2:$Y$1768,VLOOKUP(G49,コード一覧表!$AA$3:$AB$1768,2,0)+1,0))))","v":""},{"$f":"IF(H49=\"\",\"\",IF(OR(LEN(H49)<3,LEN(H49)>4),HLOOKUP($U$9,コード一覧表!$C$2:$Y$1768,VLOOKUP(H49,コード一覧表!$AA$3:$AB$1768,2,0)+1,0),IF(OR(CODE(MID(H49,2,1))=77,CODE(MID(H49,3,1))=77),HLOOKUP($U$9,コード一覧表!$C$1789:$Y$1897,VLOOKUP(H49,コード一覧表!$AA$1789:$AB$1897,2,0)+1,0),HLOOKUP($U$9,コード一覧表!$C$2:$Y$1768,VLOOKUP(H49,コード一覧表!$AA$3:$AB$1768,2,0)+1,0))))","v":""},{"$f":"IF(I49=\"\",\"\",IF(OR(LEN(I49)<3,LEN(I49)>4),HLOOKUP($U$9,コード一覧表!$C$2:$Y$1768,VLOOKUP(I49,コード一覧表!$AA$3:$AB$1768,2,0)+1,0),IF(OR(CODE(MID(I49,2,1))=77,CODE(MID(I49,3,1))=77),HLOOKUP($U$9,コード一覧表!$C$1789:$Y$1897,VLOOKUP(I49,コード一覧表!$AA$1789:$AB$1897,2,0)+1,0),HLOOKUP($U$9,コード一覧表!$C$2:$Y$1768,VLOOKUP(I49,コード一覧表!$AA$3:$AB$1768,2,0)+1,0))))","v":""},{"$f":"IF(J49=\"\",\"\",IF(OR(LEN(J49)<3,LEN(J49)>4),HLOOKUP($U$9,コード一覧表!$C$2:$Y$1768,VLOOKUP(J49,コード一覧表!$AA$3:$AB$1768,2,0)+1,0),IF(OR(CODE(MID(J49,2,1))=77,CODE(MID(J49,3,1))=77),HLOOKUP($U$9,コード一覧表!$C$1789:$Y$1897,VLOOKUP(J49,コード一覧表!$AA$1789:$AB$1897,2,0)+1,0),HLOOKUP($U$9,コード一覧表!$C$2:$Y$1768,VLOOKUP(J49,コード一覧表!$AA$3:$AB$1768,2,0)+1,0))))","v":""},{"$f":"IF(K49=\"\",\"\",IF(OR(LEN(K49)<3,LEN(K49)>4),HLOOKUP($U$9,コード一覧表!$C$2:$Y$1768,VLOOKUP(K49,コード一覧表!$AA$3:$AB$1768,2,0)+1,0),IF(OR(CODE(MID(K49,2,1))=77,CODE(MID(K49,3,1))=77),HLOOKUP($U$9,コード一覧表!$C$1789:$Y$1897,VLOOKUP(K49,コード一覧表!$AA$1789:$AB$1897,2,0)+1,0),HLOOKUP($U$9,コード一覧表!$C$2:$Y$1768,VLOOKUP(K49,コード一覧表!$AA$3:$AB$1768,2,0)+1,0))))","v":""},{"$f":"IF(L49=\"\",\"\",IF(OR(LEN(L49)<3,LEN(L49)>4),HLOOKUP($U$9,コード一覧表!$C$2:$Y$1768,VLOOKUP(L49,コード一覧表!$AA$3:$AB$1768,2,0)+1,0),IF(OR(CODE(MID(L49,2,1))=77,CODE(MID(L49,3,1))=77),HLOOKUP($U$9,コード一覧表!$C$1789:$Y$1897,VLOOKUP(L49,コード一覧表!$AA$1789:$AB$1897,2,0)+1,0),HLOOKUP($U$9,コード一覧表!$C$2:$Y$1768,VLOOKUP(L49,コード一覧表!$AA$3:$AB$1768,2,0)+1,0))))","v":""},{"$f":"IF(M49=\"\",\"\",IF(OR(LEN(M49)<3,LEN(M49)>4),HLOOKUP($U$9,コード一覧表!$C$2:$Y$1768,VLOOKUP(M49,コード一覧表!$AA$3:$AB$1768,2,0)+1,0),IF(OR(CODE(MID(M49,2,1))=77,CODE(MID(M49,3,1))=77),HLOOKUP($U$9,コード一覧表!$C$1789:$Y$1897,VLOOKUP(M49,コード一覧表!$AA$1789:$AB$1897,2,0)+1,0),HLOOKUP($U$9,コード一覧表!$C$2:$Y$1768,VLOOKUP(M49,コード一覧表!$AA$3:$AB$1768,2,0)+1,0))))","v":""},{"$f":"IF(N49=\"\",\"\",IF(OR(LEN(N49)<3,LEN(N49)>4),HLOOKUP($U$9,コード一覧表!$C$2:$Y$1768,VLOOKUP(N49,コード一覧表!$AA$3:$AB$1768,2,0)+1,0),IF(OR(CODE(MID(N49,2,1))=77,CODE(MID(N49,3,1))=77),HLOOKUP($U$9,コード一覧表!$C$1789:$Y$1897,VLOOKUP(N49,コード一覧表!$AA$1789:$AB$1897,2,0)+1,0),HLOOKUP($U$9,コード一覧表!$C$2:$Y$1768,VLOOKUP(N49,コード一覧表!$AA$3:$AB$1768,2,0)+1,0))))","v":""},{"$f":"IF(O49=\"\",\"\",IF(OR(LEN(O49)<3,LEN(O49)>4),HLOOKUP($U$9,コード一覧表!$C$2:$Y$1768,VLOOKUP(O49,コード一覧表!$AA$3:$AB$1768,2,0)+1,0),IF(OR(CODE(MID(O49,2,1))=77,CODE(MID(O49,3,1))=77),HLOOKUP($U$9,コード一覧表!$C$1789:$Y$1897,VLOOKUP(O49,コード一覧表!$AA$1789:$AB$1897,2,0)+1,0),HLOOKUP($U$9,コード一覧表!$C$2:$Y$1768,VLOOKUP(O49,コード一覧表!$AA$3:$AB$1768,2,0)+1,0))))","v":""},{"$f":"IF(P49=\"\",\"\",IF(OR(LEN(P49)<3,LEN(P49)>4),HLOOKUP($U$9,コード一覧表!$C$2:$Y$1768,VLOOKUP(P49,コード一覧表!$AA$3:$AB$1768,2,0)+1,0),IF(OR(CODE(MID(P49,2,1))=77,CODE(MID(P49,3,1))=77),HLOOKUP($U$9,コード一覧表!$C$1789:$Y$1897,VLOOKUP(P49,コード一覧表!$AA$1789:$AB$1897,2,0)+1,0),HLOOKUP($U$9,コード一覧表!$C$2:$Y$1768,VLOOKUP(P49,コード一覧表!$AA$3:$AB$1768,2,0)+1,0))))","v":""},{"$f":"IF(Q49=\"\",\"\",IF(OR(LEN(Q49)<3,LEN(Q49)>4),HLOOKUP($U$9,コード一覧表!$C$2:$Y$1768,VLOOKUP(Q49,コード一覧表!$AA$3:$AB$1768,2,0)+1,0),IF(OR(CODE(MID(Q49,2,1))=77,CODE(MID(Q49,3,1))=77),HLOOKUP($U$9,コード一覧表!$C$1789:$Y$1897,VLOOKUP(Q49,コード一覧表!$AA$1789:$AB$1897,2,0)+1,0),HLOOKUP($U$9,コード一覧表!$C$2:$Y$1768,VLOOKUP(Q49,コード一覧表!$AA$3:$AB$1768,2,0)+1,0))))","v":""}]
[]
[null,null,null,null,null,null,null,null,null,null,null,null,null,null,null,null,null,null,"入力行17"]
[null,{"$f":"IF(B52=\"\",\"\",IF(OR(LEN(B52)<3,LEN(B52)>4),HLOOKUP($U$9,コード一覧表!$C$2:$Y$1768,VLOOKUP(B52,コード一覧表!$AA$3:$AB$1768,2,0)+1,0),IF(OR(CODE(MID(B52,2,1))=77,CODE(MID(B52,3,1))=77),HLOOKUP($U$9,コード一覧表!$C$1789:$Y$1897,VLOOKUP(B52,コード一覧表!$AA$1789:$AB$1897,2,0)+1,0),HLOOKUP($U$9,コード一覧表!$C$2:$Y$1768,VLOOKUP(B52,コード一覧表!$AA$3:$AB$1768,2,0)+1,0))))","v":""},{"$f":"IF(C52=\"\",\"\",IF(OR(LEN(C52)<3,LEN(C52)>4),HLOOKUP($U$9,コード一覧表!$C$2:$Y$1768,VLOOKUP(C52,コード一覧表!$AA$3:$AB$1768,2,0)+1,0),IF(OR(CODE(MID(C52,2,1))=77,CODE(MID(C52,3,1))=77),HLOOKUP($U$9,コード一覧表!$C$1789:$Y$1897,VLOOKUP(C52,コード一覧表!$AA$1789:$AB$1897,2,0)+1,0),HLOOKUP($U$9,コード一覧表!$C$2:$Y$1768,VLOOKUP(C52,コード一覧表!$AA$3:$AB$1768,2,0)+1,0))))","v":""},{"$f":"IF(D52=\"\",\"\",IF(OR(LEN(D52)<3,LEN(D52)>4),HLOOKUP($U$9,コード一覧表!$C$2:$Y$1768,VLOOKUP(D52,コード一覧表!$AA$3:$AB$1768,2,0)+1,0),IF(OR(CODE(MID(D52,2,1))=77,CODE(MID(D52,3,1))=77),HLOOKUP($U$9,コード一覧表!$C$1789:$Y$1897,VLOOKUP(D52,コード一覧表!$AA$1789:$AB$1897,2,0)+1,0),HLOOKUP($U$9,コード一覧表!$C$2:$Y$1768,VLOOKUP(D52,コード一覧表!$AA$3:$AB$1768,2,0)+1,0))))","v":""},{"$f":"IF(E52=\"\",\"\",IF(OR(LEN(E52)<3,LEN(E52)>4),HLOOKUP($U$9,コード一覧表!$C$2:$Y$1768,VLOOKUP(E52,コード一覧表!$AA$3:$AB$1768,2,0)+1,0),IF(OR(CODE(MID(E52,2,1))=77,CODE(MID(E52,3,1))=77),HLOOKUP($U$9,コード一覧表!$C$1789:$Y$1897,VLOOKUP(E52,コード一覧表!$AA$1789:$AB$1897,2,0)+1,0),HLOOKUP($U$9,コード一覧表!$C$2:$Y$1768,VLOOKUP(E52,コード一覧表!$AA$3:$AB$1768,2,0)+1,0))))","v":""},{"$f":"IF(F52=\"\",\"\",IF(OR(LEN(F52)<3,LEN(F52)>4),HLOOKUP($U$9,コード一覧表!$C$2:$Y$1768,VLOOKUP(F52,コード一覧表!$AA$3:$AB$1768,2,0)+1,0),IF(OR(CODE(MID(F52,2,1))=77,CODE(MID(F52,3,1))=77),HLOOKUP($U$9,コード一覧表!$C$1789:$Y$1897,VLOOKUP(F52,コード一覧表!$AA$1789:$AB$1897,2,0)+1,0),HLOOKUP($U$9,コード一覧表!$C$2:$Y$1768,VLOOKUP(F52,コード一覧表!$AA$3:$AB$1768,2,0)+1,0))))","v":""},{"$f":"IF(G52=\"\",\"\",IF(OR(LEN(G52)<3,LEN(G52)>4),HLOOKUP($U$9,コード一覧表!$C$2:$Y$1768,VLOOKUP(G52,コード一覧表!$AA$3:$AB$1768,2,0)+1,0),IF(OR(CODE(MID(G52,2,1))=77,CODE(MID(G52,3,1))=77),HLOOKUP($U$9,コード一覧表!$C$1789:$Y$1897,VLOOKUP(G52,コード一覧表!$AA$1789:$AB$1897,2,0)+1,0),HLOOKUP($U$9,コード一覧表!$C$2:$Y$1768,VLOOKUP(G52,コード一覧表!$AA$3:$AB$1768,2,0)+1,0))))","v":""},{"$f":"IF(H52=\"\",\"\",IF(OR(LEN(H52)<3,LEN(H52)>4),HLOOKUP($U$9,コード一覧表!$C$2:$Y$1768,VLOOKUP(H52,コード一覧表!$AA$3:$AB$1768,2,0)+1,0),IF(OR(CODE(MID(H52,2,1))=77,CODE(MID(H52,3,1))=77),HLOOKUP($U$9,コード一覧表!$C$1789:$Y$1897,VLOOKUP(H52,コード一覧表!$AA$1789:$AB$1897,2,0)+1,0),HLOOKUP($U$9,コード一覧表!$C$2:$Y$1768,VLOOKUP(H52,コード一覧表!$AA$3:$AB$1768,2,0)+1,0))))","v":""},{"$f":"IF(I52=\"\",\"\",IF(OR(LEN(I52)<3,LEN(I52)>4),HLOOKUP($U$9,コード一覧表!$C$2:$Y$1768,VLOOKUP(I52,コード一覧表!$AA$3:$AB$1768,2,0)+1,0),IF(OR(CODE(MID(I52,2,1))=77,CODE(MID(I52,3,1))=77),HLOOKUP($U$9,コード一覧表!$C$1789:$Y$1897,VLOOKUP(I52,コード一覧表!$AA$1789:$AB$1897,2,0)+1,0),HLOOKUP($U$9,コード一覧表!$C$2:$Y$1768,VLOOKUP(I52,コード一覧表!$AA$3:$AB$1768,2,0)+1,0))))","v":""},{"$f":"IF(J52=\"\",\"\",IF(OR(LEN(J52)<3,LEN(J52)>4),HLOOKUP($U$9,コード一覧表!$C$2:$Y$1768,VLOOKUP(J52,コード一覧表!$AA$3:$AB$1768,2,0)+1,0),IF(OR(CODE(MID(J52,2,1))=77,CODE(MID(J52,3,1))=77),HLOOKUP($U$9,コード一覧表!$C$1789:$Y$1897,VLOOKUP(J52,コード一覧表!$AA$1789:$AB$1897,2,0)+1,0),HLOOKUP($U$9,コード一覧表!$C$2:$Y$1768,VLOOKUP(J52,コード一覧表!$AA$3:$AB$1768,2,0)+1,0))))","v":""},{"$f":"IF(K52=\"\",\"\",IF(OR(LEN(K52)<3,LEN(K52)>4),HLOOKUP($U$9,コード一覧表!$C$2:$Y$1768,VLOOKUP(K52,コード一覧表!$AA$3:$AB$1768,2,0)+1,0),IF(OR(CODE(MID(K52,2,1))=77,CODE(MID(K52,3,1))=77),HLOOKUP($U$9,コード一覧表!$C$1789:$Y$1897,VLOOKUP(K52,コード一覧表!$AA$1789:$AB$1897,2,0)+1,0),HLOOKUP($U$9,コード一覧表!$C$2:$Y$1768,VLOOKUP(K52,コード一覧表!$AA$3:$AB$1768,2,0)+1,0))))","v":""},{"$f":"IF(L52=\"\",\"\",IF(OR(LEN(L52)<3,LEN(L52)>4),HLOOKUP($U$9,コード一覧表!$C$2:$Y$1768,VLOOKUP(L52,コード一覧表!$AA$3:$AB$1768,2,0)+1,0),IF(OR(CODE(MID(L52,2,1))=77,CODE(MID(L52,3,1))=77),HLOOKUP($U$9,コード一覧表!$C$1789:$Y$1897,VLOOKUP(L52,コード一覧表!$AA$1789:$AB$1897,2,0)+1,0),HLOOKUP($U$9,コード一覧表!$C$2:$Y$1768,VLOOKUP(L52,コード一覧表!$AA$3:$AB$1768,2,0)+1,0))))","v":""},{"$f":"IF(M52=\"\",\"\",IF(OR(LEN(M52)<3,LEN(M52)>4),HLOOKUP($U$9,コード一覧表!$C$2:$Y$1768,VLOOKUP(M52,コード一覧表!$AA$3:$AB$1768,2,0)+1,0),IF(OR(CODE(MID(M52,2,1))=77,CODE(MID(M52,3,1))=77),HLOOKUP($U$9,コード一覧表!$C$1789:$Y$1897,VLOOKUP(M52,コード一覧表!$AA$1789:$AB$1897,2,0)+1,0),HLOOKUP($U$9,コード一覧表!$C$2:$Y$1768,VLOOKUP(M52,コード一覧表!$AA$3:$AB$1768,2,0)+1,0))))","v":""},{"$f":"IF(N52=\"\",\"\",IF(OR(LEN(N52)<3,LEN(N52)>4),HLOOKUP($U$9,コード一覧表!$C$2:$Y$1768,VLOOKUP(N52,コード一覧表!$AA$3:$AB$1768,2,0)+1,0),IF(OR(CODE(MID(N52,2,1))=77,CODE(MID(N52,3,1))=77),HLOOKUP($U$9,コード一覧表!$C$1789:$Y$1897,VLOOKUP(N52,コード一覧表!$AA$1789:$AB$1897,2,0)+1,0),HLOOKUP($U$9,コード一覧表!$C$2:$Y$1768,VLOOKUP(N52,コード一覧表!$AA$3:$AB$1768,2,0)+1,0))))","v":""},{"$f":"IF(O52=\"\",\"\",IF(OR(LEN(O52)<3,LEN(O52)>4),HLOOKUP($U$9,コード一覧表!$C$2:$Y$1768,VLOOKUP(O52,コード一覧表!$AA$3:$AB$1768,2,0)+1,0),IF(OR(CODE(MID(O52,2,1))=77,CODE(MID(O52,3,1))=77),HLOOKUP($U$9,コード一覧表!$C$1789:$Y$1897,VLOOKUP(O52,コード一覧表!$AA$1789:$AB$1897,2,0)+1,0),HLOOKUP($U$9,コード一覧表!$C$2:$Y$1768,VLOOKUP(O52,コード一覧表!$AA$3:$AB$1768,2,0)+1,0))))","v":""},{"$f":"IF(P52=\"\",\"\",IF(OR(LEN(P52)<3,LEN(P52)>4),HLOOKUP($U$9,コード一覧表!$C$2:$Y$1768,VLOOKUP(P52,コード一覧表!$AA$3:$AB$1768,2,0)+1,0),IF(OR(CODE(MID(P52,2,1))=77,CODE(MID(P52,3,1))=77),HLOOKUP($U$9,コード一覧表!$C$1789:$Y$1897,VLOOKUP(P52,コード一覧表!$AA$1789:$AB$1897,2,0)+1,0),HLOOKUP($U$9,コード一覧表!$C$2:$Y$1768,VLOOKUP(P52,コード一覧表!$AA$3:$AB$1768,2,0)+1,0))))","v":""},{"$f":"IF(Q52=\"\",\"\",IF(OR(LEN(Q52)<3,LEN(Q52)>4),HLOOKUP($U$9,コード一覧表!$C$2:$Y$1768,VLOOKUP(Q52,コード一覧表!$AA$3:$AB$1768,2,0)+1,0),IF(OR(CODE(MID(Q52,2,1))=77,CODE(MID(Q52,3,1))=77),HLOOKUP($U$9,コード一覧表!$C$1789:$Y$1897,VLOOKUP(Q52,コード一覧表!$AA$1789:$AB$1897,2,0)+1,0),HLOOKUP($U$9,コード一覧表!$C$2:$Y$1768,VLOOKUP(Q52,コード一覧表!$AA$3:$AB$1768,2,0)+1,0))))","v":""}]
[]
[null,null,null,null,null,null,null,null,null,null,null,null,null,null,null,null,null,null,"入力行18"]
[null,{"$f":"IF(B55=\"\",\"\",IF(OR(LEN(B55)<3,LEN(B55)>4),HLOOKUP($U$9,コード一覧表!$C$2:$Y$1768,VLOOKUP(B55,コード一覧表!$AA$3:$AB$1768,2,0)+1,0),IF(OR(CODE(MID(B55,2,1))=77,CODE(MID(B55,3,1))=77),HLOOKUP($U$9,コード一覧表!$C$1789:$Y$1897,VLOOKUP(B55,コード一覧表!$AA$1789:$AB$1897,2,0)+1,0),HLOOKUP($U$9,コード一覧表!$C$2:$Y$1768,VLOOKUP(B55,コード一覧表!$AA$3:$AB$1768,2,0)+1,0))))","v":""},{"$f":"IF(C55=\"\",\"\",IF(OR(LEN(C55)<3,LEN(C55)>4),HLOOKUP($U$9,コード一覧表!$C$2:$Y$1768,VLOOKUP(C55,コード一覧表!$AA$3:$AB$1768,2,0)+1,0),IF(OR(CODE(MID(C55,2,1))=77,CODE(MID(C55,3,1))=77),HLOOKUP($U$9,コード一覧表!$C$1789:$Y$1897,VLOOKUP(C55,コード一覧表!$AA$1789:$AB$1897,2,0)+1,0),HLOOKUP($U$9,コード一覧表!$C$2:$Y$1768,VLOOKUP(C55,コード一覧表!$AA$3:$AB$1768,2,0)+1,0))))","v":""},{"$f":"IF(D55=\"\",\"\",IF(OR(LEN(D55)<3,LEN(D55)>4),HLOOKUP($U$9,コード一覧表!$C$2:$Y$1768,VLOOKUP(D55,コード一覧表!$AA$3:$AB$1768,2,0)+1,0),IF(OR(CODE(MID(D55,2,1))=77,CODE(MID(D55,3,1))=77),HLOOKUP($U$9,コード一覧表!$C$1789:$Y$1897,VLOOKUP(D55,コード一覧表!$AA$1789:$AB$1897,2,0)+1,0),HLOOKUP($U$9,コード一覧表!$C$2:$Y$1768,VLOOKUP(D55,コード一覧表!$AA$3:$AB$1768,2,0)+1,0))))","v":""},{"$f":"IF(E55=\"\",\"\",IF(OR(LEN(E55)<3,LEN(E55)>4),HLOOKUP($U$9,コード一覧表!$C$2:$Y$1768,VLOOKUP(E55,コード一覧表!$AA$3:$AB$1768,2,0)+1,0),IF(OR(CODE(MID(E55,2,1))=77,CODE(MID(E55,3,1))=77),HLOOKUP($U$9,コード一覧表!$C$1789:$Y$1897,VLOOKUP(E55,コード一覧表!$AA$1789:$AB$1897,2,0)+1,0),HLOOKUP($U$9,コード一覧表!$C$2:$Y$1768,VLOOKUP(E55,コード一覧表!$AA$3:$AB$1768,2,0)+1,0))))","v":""},{"$f":"IF(F55=\"\",\"\",IF(OR(LEN(F55)<3,LEN(F55)>4),HLOOKUP($U$9,コード一覧表!$C$2:$Y$1768,VLOOKUP(F55,コード一覧表!$AA$3:$AB$1768,2,0)+1,0),IF(OR(CODE(MID(F55,2,1))=77,CODE(MID(F55,3,1))=77),HLOOKUP($U$9,コード一覧表!$C$1789:$Y$1897,VLOOKUP(F55,コード一覧表!$AA$1789:$AB$1897,2,0)+1,0),HLOOKUP($U$9,コード一覧表!$C$2:$Y$1768,VLOOKUP(F55,コード一覧表!$AA$3:$AB$1768,2,0)+1,0))))","v":""},{"$f":"IF(G55=\"\",\"\",IF(OR(LEN(G55)<3,LEN(G55)>4),HLOOKUP($U$9,コード一覧表!$C$2:$Y$1768,VLOOKUP(G55,コード一覧表!$AA$3:$AB$1768,2,0)+1,0),IF(OR(CODE(MID(G55,2,1))=77,CODE(MID(G55,3,1))=77),HLOOKUP($U$9,コード一覧表!$C$1789:$Y$1897,VLOOKUP(G55,コード一覧表!$AA$1789:$AB$1897,2,0)+1,0),HLOOKUP($U$9,コード一覧表!$C$2:$Y$1768,VLOOKUP(G55,コード一覧表!$AA$3:$AB$1768,2,0)+1,0))))","v":""},{"$f":"IF(H55=\"\",\"\",IF(OR(LEN(H55)<3,LEN(H55)>4),HLOOKUP($U$9,コード一覧表!$C$2:$Y$1768,VLOOKUP(H55,コード一覧表!$AA$3:$AB$1768,2,0)+1,0),IF(OR(CODE(MID(H55,2,1))=77,CODE(MID(H55,3,1))=77),HLOOKUP($U$9,コード一覧表!$C$1789:$Y$1897,VLOOKUP(H55,コード一覧表!$AA$1789:$AB$1897,2,0)+1,0),HLOOKUP($U$9,コード一覧表!$C$2:$Y$1768,VLOOKUP(H55,コード一覧表!$AA$3:$AB$1768,2,0)+1,0))))","v":""},{"$f":"IF(I55=\"\",\"\",IF(OR(LEN(I55)<3,LEN(I55)>4),HLOOKUP($U$9,コード一覧表!$C$2:$Y$1768,VLOOKUP(I55,コード一覧表!$AA$3:$AB$1768,2,0)+1,0),IF(OR(CODE(MID(I55,2,1))=77,CODE(MID(I55,3,1))=77),HLOOKUP($U$9,コード一覧表!$C$1789:$Y$1897,VLOOKUP(I55,コード一覧表!$AA$1789:$AB$1897,2,0)+1,0),HLOOKUP($U$9,コード一覧表!$C$2:$Y$1768,VLOOKUP(I55,コード一覧表!$AA$3:$AB$1768,2,0)+1,0))))","v":""},{"$f":"IF(J55=\"\",\"\",IF(OR(LEN(J55)<3,LEN(J55)>4),HLOOKUP($U$9,コード一覧表!$C$2:$Y$1768,VLOOKUP(J55,コード一覧表!$AA$3:$AB$1768,2,0)+1,0),IF(OR(CODE(MID(J55,2,1))=77,CODE(MID(J55,3,1))=77),HLOOKUP($U$9,コード一覧表!$C$1789:$Y$1897,VLOOKUP(J55,コード一覧表!$AA$1789:$AB$1897,2,0)+1,0),HLOOKUP($U$9,コード一覧表!$C$2:$Y$1768,VLOOKUP(J55,コード一覧表!$AA$3:$AB$1768,2,0)+1,0))))","v":""},{"$f":"IF(K55=\"\",\"\",IF(OR(LEN(K55)<3,LEN(K55)>4),HLOOKUP($U$9,コード一覧表!$C$2:$Y$1768,VLOOKUP(K55,コード一覧表!$AA$3:$AB$1768,2,0)+1,0),IF(OR(CODE(MID(K55,2,1))=77,CODE(MID(K55,3,1))=77),HLOOKUP($U$9,コード一覧表!$C$1789:$Y$1897,VLOOKUP(K55,コード一覧表!$AA$1789:$AB$1897,2,0)+1,0),HLOOKUP($U$9,コード一覧表!$C$2:$Y$1768,VLOOKUP(K55,コード一覧表!$AA$3:$AB$1768,2,0)+1,0))))","v":""},{"$f":"IF(L55=\"\",\"\",IF(OR(LEN(L55)<3,LEN(L55)>4),HLOOKUP($U$9,コード一覧表!$C$2:$Y$1768,VLOOKUP(L55,コード一覧表!$AA$3:$AB$1768,2,0)+1,0),IF(OR(CODE(MID(L55,2,1))=77,CODE(MID(L55,3,1))=77),HLOOKUP($U$9,コード一覧表!$C$1789:$Y$1897,VLOOKUP(L55,コード一覧表!$AA$1789:$AB$1897,2,0)+1,0),HLOOKUP($U$9,コード一覧表!$C$2:$Y$1768,VLOOKUP(L55,コード一覧表!$AA$3:$AB$1768,2,0)+1,0))))","v":""},{"$f":"IF(M55=\"\",\"\",IF(OR(LEN(M55)<3,LEN(M55)>4),HLOOKUP($U$9,コード一覧表!$C$2:$Y$1768,VLOOKUP(M55,コード一覧表!$AA$3:$AB$1768,2,0)+1,0),IF(OR(CODE(MID(M55,2,1))=77,CODE(MID(M55,3,1))=77),HLOOKUP($U$9,コード一覧表!$C$1789:$Y$1897,VLOOKUP(M55,コード一覧表!$AA$1789:$AB$1897,2,0)+1,0),HLOOKUP($U$9,コード一覧表!$C$2:$Y$1768,VLOOKUP(M55,コード一覧表!$AA$3:$AB$1768,2,0)+1,0))))","v":""},{"$f":"IF(N55=\"\",\"\",IF(OR(LEN(N55)<3,LEN(N55)>4),HLOOKUP($U$9,コード一覧表!$C$2:$Y$1768,VLOOKUP(N55,コード一覧表!$AA$3:$AB$1768,2,0)+1,0),IF(OR(CODE(MID(N55,2,1))=77,CODE(MID(N55,3,1))=77),HLOOKUP($U$9,コード一覧表!$C$1789:$Y$1897,VLOOKUP(N55,コード一覧表!$AA$1789:$AB$1897,2,0)+1,0),HLOOKUP($U$9,コード一覧表!$C$2:$Y$1768,VLOOKUP(N55,コード一覧表!$AA$3:$AB$1768,2,0)+1,0))))","v":""},{"$f":"IF(O55=\"\",\"\",IF(OR(LEN(O55)<3,LEN(O55)>4),HLOOKUP($U$9,コード一覧表!$C$2:$Y$1768,VLOOKUP(O55,コード一覧表!$AA$3:$AB$1768,2,0)+1,0),IF(OR(CODE(MID(O55,2,1))=77,CODE(MID(O55,3,1))=77),HLOOKUP($U$9,コード一覧表!$C$1789:$Y$1897,VLOOKUP(O55,コード一覧表!$AA$1789:$AB$1897,2,0)+1,0),HLOOKUP($U$9,コード一覧表!$C$2:$Y$1768,VLOOKUP(O55,コード一覧表!$AA$3:$AB$1768,2,0)+1,0))))","v":""},{"$f":"IF(P55=\"\",\"\",IF(OR(LEN(P55)<3,LEN(P55)>4),HLOOKUP($U$9,コード一覧表!$C$2:$Y$1768,VLOOKUP(P55,コード一覧表!$AA$3:$AB$1768,2,0)+1,0),IF(OR(CODE(MID(P55,2,1))=77,CODE(MID(P55,3,1))=77),HLOOKUP($U$9,コード一覧表!$C$1789:$Y$1897,VLOOKUP(P55,コード一覧表!$AA$1789:$AB$1897,2,0)+1,0),HLOOKUP($U$9,コード一覧表!$C$2:$Y$1768,VLOOKUP(P55,コード一覧表!$AA$3:$AB$1768,2,0)+1,0))))","v":""},{"$f":"IF(Q55=\"\",\"\",IF(OR(LEN(Q55)<3,LEN(Q55)>4),HLOOKUP($U$9,コード一覧表!$C$2:$Y$1768,VLOOKUP(Q55,コード一覧表!$AA$3:$AB$1768,2,0)+1,0),IF(OR(CODE(MID(Q55,2,1))=77,CODE(MID(Q55,3,1))=77),HLOOKUP($U$9,コード一覧表!$C$1789:$Y$1897,VLOOKUP(Q55,コード一覧表!$AA$1789:$AB$1897,2,0)+1,0),HLOOKUP($U$9,コード一覧表!$C$2:$Y$1768,VLOOKUP(Q55,コード一覧表!$AA$3:$AB$1768,2,0)+1,0))))","v":""}]
[]
[null,null,null,null,null,null,null,null,null,null,null,null,null,null,null,null,null,null,"入力行19"]
[null,{"$f":"IF(B58=\"\",\"\",IF(OR(LEN(B58)<3,LEN(B58)>4),HLOOKUP($U$9,コード一覧表!$C$2:$Y$1768,VLOOKUP(B58,コード一覧表!$AA$3:$AB$1768,2,0)+1,0),IF(OR(CODE(MID(B58,2,1))=77,CODE(MID(B58,3,1))=77),HLOOKUP($U$9,コード一覧表!$C$1789:$Y$1897,VLOOKUP(B58,コード一覧表!$AA$1789:$AB$1897,2,0)+1,0),HLOOKUP($U$9,コード一覧表!$C$2:$Y$1768,VLOOKUP(B58,コード一覧表!$AA$3:$AB$1768,2,0)+1,0))))","v":""},{"$f":"IF(C58=\"\",\"\",IF(OR(LEN(C58)<3,LEN(C58)>4),HLOOKUP($U$9,コード一覧表!$C$2:$Y$1768,VLOOKUP(C58,コード一覧表!$AA$3:$AB$1768,2,0)+1,0),IF(OR(CODE(MID(C58,2,1))=77,CODE(MID(C58,3,1))=77),HLOOKUP($U$9,コード一覧表!$C$1789:$Y$1897,VLOOKUP(C58,コード一覧表!$AA$1789:$AB$1897,2,0)+1,0),HLOOKUP($U$9,コード一覧表!$C$2:$Y$1768,VLOOKUP(C58,コード一覧表!$AA$3:$AB$1768,2,0)+1,0))))","v":""},{"$f":"IF(D58=\"\",\"\",IF(OR(LEN(D58)<3,LEN(D58)>4),HLOOKUP($U$9,コード一覧表!$C$2:$Y$1768,VLOOKUP(D58,コード一覧表!$AA$3:$AB$1768,2,0)+1,0),IF(OR(CODE(MID(D58,2,1))=77,CODE(MID(D58,3,1))=77),HLOOKUP($U$9,コード一覧表!$C$1789:$Y$1897,VLOOKUP(D58,コード一覧表!$AA$1789:$AB$1897,2,0)+1,0),HLOOKUP($U$9,コード一覧表!$C$2:$Y$1768,VLOOKUP(D58,コード一覧表!$AA$3:$AB$1768,2,0)+1,0))))","v":""},{"$f":"IF(E58=\"\",\"\",IF(OR(LEN(E58)<3,LEN(E58)>4),HLOOKUP($U$9,コード一覧表!$C$2:$Y$1768,VLOOKUP(E58,コード一覧表!$AA$3:$AB$1768,2,0)+1,0),IF(OR(CODE(MID(E58,2,1))=77,CODE(MID(E58,3,1))=77),HLOOKUP($U$9,コード一覧表!$C$1789:$Y$1897,VLOOKUP(E58,コード一覧表!$AA$1789:$AB$1897,2,0)+1,0),HLOOKUP($U$9,コード一覧表!$C$2:$Y$1768,VLOOKUP(E58,コード一覧表!$AA$3:$AB$1768,2,0)+1,0))))","v":""},{"$f":"IF(F58=\"\",\"\",IF(OR(LEN(F58)<3,LEN(F58)>4),HLOOKUP($U$9,コード一覧表!$C$2:$Y$1768,VLOOKUP(F58,コード一覧表!$AA$3:$AB$1768,2,0)+1,0),IF(OR(CODE(MID(F58,2,1))=77,CODE(MID(F58,3,1))=77),HLOOKUP($U$9,コード一覧表!$C$1789:$Y$1897,VLOOKUP(F58,コード一覧表!$AA$1789:$AB$1897,2,0)+1,0),HLOOKUP($U$9,コード一覧表!$C$2:$Y$1768,VLOOKUP(F58,コード一覧表!$AA$3:$AB$1768,2,0)+1,0))))","v":""},{"$f":"IF(G58=\"\",\"\",IF(OR(LEN(G58)<3,LEN(G58)>4),HLOOKUP($U$9,コード一覧表!$C$2:$Y$1768,VLOOKUP(G58,コード一覧表!$AA$3:$AB$1768,2,0)+1,0),IF(OR(CODE(MID(G58,2,1))=77,CODE(MID(G58,3,1))=77),HLOOKUP($U$9,コード一覧表!$C$1789:$Y$1897,VLOOKUP(G58,コード一覧表!$AA$1789:$AB$1897,2,0)+1,0),HLOOKUP($U$9,コード一覧表!$C$2:$Y$1768,VLOOKUP(G58,コード一覧表!$AA$3:$AB$1768,2,0)+1,0))))","v":""},{"$f":"IF(H58=\"\",\"\",IF(OR(LEN(H58)<3,LEN(H58)>4),HLOOKUP($U$9,コード一覧表!$C$2:$Y$1768,VLOOKUP(H58,コード一覧表!$AA$3:$AB$1768,2,0)+1,0),IF(OR(CODE(MID(H58,2,1))=77,CODE(MID(H58,3,1))=77),HLOOKUP($U$9,コード一覧表!$C$1789:$Y$1897,VLOOKUP(H58,コード一覧表!$AA$1789:$AB$1897,2,0)+1,0),HLOOKUP($U$9,コード一覧表!$C$2:$Y$1768,VLOOKUP(H58,コード一覧表!$AA$3:$AB$1768,2,0)+1,0))))","v":""},{"$f":"IF(I58=\"\",\"\",IF(OR(LEN(I58)<3,LEN(I58)>4),HLOOKUP($U$9,コード一覧表!$C$2:$Y$1768,VLOOKUP(I58,コード一覧表!$AA$3:$AB$1768,2,0)+1,0),IF(OR(CODE(MID(I58,2,1))=77,CODE(MID(I58,3,1))=77),HLOOKUP($U$9,コード一覧表!$C$1789:$Y$1897,VLOOKUP(I58,コード一覧表!$AA$1789:$AB$1897,2,0)+1,0),HLOOKUP($U$9,コード一覧表!$C$2:$Y$1768,VLOOKUP(I58,コード一覧表!$AA$3:$AB$1768,2,0)+1,0))))","v":""},{"$f":"IF(J58=\"\",\"\",IF(OR(LEN(J58)<3,LEN(J58)>4),HLOOKUP($U$9,コード一覧表!$C$2:$Y$1768,VLOOKUP(J58,コード一覧表!$AA$3:$AB$1768,2,0)+1,0),IF(OR(CODE(MID(J58,2,1))=77,CODE(MID(J58,3,1))=77),HLOOKUP($U$9,コード一覧表!$C$1789:$Y$1897,VLOOKUP(J58,コード一覧表!$AA$1789:$AB$1897,2,0)+1,0),HLOOKUP($U$9,コード一覧表!$C$2:$Y$1768,VLOOKUP(J58,コード一覧表!$AA$3:$AB$1768,2,0)+1,0))))","v":""},{"$f":"IF(K58=\"\",\"\",IF(OR(LEN(K58)<3,LEN(K58)>4),HLOOKUP($U$9,コード一覧表!$C$2:$Y$1768,VLOOKUP(K58,コード一覧表!$AA$3:$AB$1768,2,0)+1,0),IF(OR(CODE(MID(K58,2,1))=77,CODE(MID(K58,3,1))=77),HLOOKUP($U$9,コード一覧表!$C$1789:$Y$1897,VLOOKUP(K58,コード一覧表!$AA$1789:$AB$1897,2,0)+1,0),HLOOKUP($U$9,コード一覧表!$C$2:$Y$1768,VLOOKUP(K58,コード一覧表!$AA$3:$AB$1768,2,0)+1,0))))","v":""},{"$f":"IF(L58=\"\",\"\",IF(OR(LEN(L58)<3,LEN(L58)>4),HLOOKUP($U$9,コード一覧表!$C$2:$Y$1768,VLOOKUP(L58,コード一覧表!$AA$3:$AB$1768,2,0)+1,0),IF(OR(CODE(MID(L58,2,1))=77,CODE(MID(L58,3,1))=77),HLOOKUP($U$9,コード一覧表!$C$1789:$Y$1897,VLOOKUP(L58,コード一覧表!$AA$1789:$AB$1897,2,0)+1,0),HLOOKUP($U$9,コード一覧表!$C$2:$Y$1768,VLOOKUP(L58,コード一覧表!$AA$3:$AB$1768,2,0)+1,0))))","v":""},{"$f":"IF(M58=\"\",\"\",IF(OR(LEN(M58)<3,LEN(M58)>4),HLOOKUP($U$9,コード一覧表!$C$2:$Y$1768,VLOOKUP(M58,コード一覧表!$AA$3:$AB$1768,2,0)+1,0),IF(OR(CODE(MID(M58,2,1))=77,CODE(MID(M58,3,1))=77),HLOOKUP($U$9,コード一覧表!$C$1789:$Y$1897,VLOOKUP(M58,コード一覧表!$AA$1789:$AB$1897,2,0)+1,0),HLOOKUP($U$9,コード一覧表!$C$2:$Y$1768,VLOOKUP(M58,コード一覧表!$AA$3:$AB$1768,2,0)+1,0))))","v":""},{"$f":"IF(N58=\"\",\"\",IF(OR(LEN(N58)<3,LEN(N58)>4),HLOOKUP($U$9,コード一覧表!$C$2:$Y$1768,VLOOKUP(N58,コード一覧表!$AA$3:$AB$1768,2,0)+1,0),IF(OR(CODE(MID(N58,2,1))=77,CODE(MID(N58,3,1))=77),HLOOKUP($U$9,コード一覧表!$C$1789:$Y$1897,VLOOKUP(N58,コード一覧表!$AA$1789:$AB$1897,2,0)+1,0),HLOOKUP($U$9,コード一覧表!$C$2:$Y$1768,VLOOKUP(N58,コード一覧表!$AA$3:$AB$1768,2,0)+1,0))))","v":""},{"$f":"IF(O58=\"\",\"\",IF(OR(LEN(O58)<3,LEN(O58)>4),HLOOKUP($U$9,コード一覧表!$C$2:$Y$1768,VLOOKUP(O58,コード一覧表!$AA$3:$AB$1768,2,0)+1,0),IF(OR(CODE(MID(O58,2,1))=77,CODE(MID(O58,3,1))=77),HLOOKUP($U$9,コード一覧表!$C$1789:$Y$1897,VLOOKUP(O58,コード一覧表!$AA$1789:$AB$1897,2,0)+1,0),HLOOKUP($U$9,コード一覧表!$C$2:$Y$1768,VLOOKUP(O58,コード一覧表!$AA$3:$AB$1768,2,0)+1,0))))","v":""},{"$f":"IF(P58=\"\",\"\",IF(OR(LEN(P58)<3,LEN(P58)>4),HLOOKUP($U$9,コード一覧表!$C$2:$Y$1768,VLOOKUP(P58,コード一覧表!$AA$3:$AB$1768,2,0)+1,0),IF(OR(CODE(MID(P58,2,1))=77,CODE(MID(P58,3,1))=77),HLOOKUP($U$9,コード一覧表!$C$1789:$Y$1897,VLOOKUP(P58,コード一覧表!$AA$1789:$AB$1897,2,0)+1,0),HLOOKUP($U$9,コード一覧表!$C$2:$Y$1768,VLOOKUP(P58,コード一覧表!$AA$3:$AB$1768,2,0)+1,0))))","v":""},{"$f":"IF(Q58=\"\",\"\",IF(OR(LEN(Q58)<3,LEN(Q58)>4),HLOOKUP($U$9,コード一覧表!$C$2:$Y$1768,VLOOKUP(Q58,コード一覧表!$AA$3:$AB$1768,2,0)+1,0),IF(OR(CODE(MID(Q58,2,1))=77,CODE(MID(Q58,3,1))=77),HLOOKUP($U$9,コード一覧表!$C$1789:$Y$1897,VLOOKUP(Q58,コード一覧表!$AA$1789:$AB$1897,2,0)+1,0),HLOOKUP($U$9,コード一覧表!$C$2:$Y$1768,VLOOKUP(Q58,コード一覧表!$AA$3:$AB$1768,2,0)+1,0))))","v":""}]
[]
[null,null,null,null,null,null,null,null,null,null,null,null,null,null,null,null,null,null,"入力行20"]
[null,{"$f":"IF(B61=\"\",\"\",IF(OR(LEN(B61)<3,LEN(B61)>4),HLOOKUP($U$9,コード一覧表!$C$2:$Y$1768,VLOOKUP(B61,コード一覧表!$AA$3:$AB$1768,2,0)+1,0),IF(OR(CODE(MID(B61,2,1))=77,CODE(MID(B61,3,1))=77),HLOOKUP($U$9,コード一覧表!$C$1789:$Y$1897,VLOOKUP(B61,コード一覧表!$AA$1789:$AB$1897,2,0)+1,0),HLOOKUP($U$9,コード一覧表!$C$2:$Y$1768,VLOOKUP(B61,コード一覧表!$AA$3:$AB$1768,2,0)+1,0))))","v":""},{"$f":"IF(C61=\"\",\"\",IF(OR(LEN(C61)<3,LEN(C61)>4),HLOOKUP($U$9,コード一覧表!$C$2:$Y$1768,VLOOKUP(C61,コード一覧表!$AA$3:$AB$1768,2,0)+1,0),IF(OR(CODE(MID(C61,2,1))=77,CODE(MID(C61,3,1))=77),HLOOKUP($U$9,コード一覧表!$C$1789:$Y$1897,VLOOKUP(C61,コード一覧表!$AA$1789:$AB$1897,2,0)+1,0),HLOOKUP($U$9,コード一覧表!$C$2:$Y$1768,VLOOKUP(C61,コード一覧表!$AA$3:$AB$1768,2,0)+1,0))))","v":""},{"$f":"IF(D61=\"\",\"\",IF(OR(LEN(D61)<3,LEN(D61)>4),HLOOKUP($U$9,コード一覧表!$C$2:$Y$1768,VLOOKUP(D61,コード一覧表!$AA$3:$AB$1768,2,0)+1,0),IF(OR(CODE(MID(D61,2,1))=77,CODE(MID(D61,3,1))=77),HLOOKUP($U$9,コード一覧表!$C$1789:$Y$1897,VLOOKUP(D61,コード一覧表!$AA$1789:$AB$1897,2,0)+1,0),HLOOKUP($U$9,コード一覧表!$C$2:$Y$1768,VLOOKUP(D61,コード一覧表!$AA$3:$AB$1768,2,0)+1,0))))","v":""},{"$f":"IF(E61=\"\",\"\",IF(OR(LEN(E61)<3,LEN(E61)>4),HLOOKUP($U$9,コード一覧表!$C$2:$Y$1768,VLOOKUP(E61,コード一覧表!$AA$3:$AB$1768,2,0)+1,0),IF(OR(CODE(MID(E61,2,1))=77,CODE(MID(E61,3,1))=77),HLOOKUP($U$9,コード一覧表!$C$1789:$Y$1897,VLOOKUP(E61,コード一覧表!$AA$1789:$AB$1897,2,0)+1,0),HLOOKUP($U$9,コード一覧表!$C$2:$Y$1768,VLOOKUP(E61,コード一覧表!$AA$3:$AB$1768,2,0)+1,0))))","v":""},{"$f":"IF(F61=\"\",\"\",IF(OR(LEN(F61)<3,LEN(F61)>4),HLOOKUP($U$9,コード一覧表!$C$2:$Y$1768,VLOOKUP(F61,コード一覧表!$AA$3:$AB$1768,2,0)+1,0),IF(OR(CODE(MID(F61,2,1))=77,CODE(MID(F61,3,1))=77),HLOOKUP($U$9,コード一覧表!$C$1789:$Y$1897,VLOOKUP(F61,コード一覧表!$AA$1789:$AB$1897,2,0)+1,0),HLOOKUP($U$9,コード一覧表!$C$2:$Y$1768,VLOOKUP(F61,コード一覧表!$AA$3:$AB$1768,2,0)+1,0))))","v":""},{"$f":"IF(G61=\"\",\"\",IF(OR(LEN(G61)<3,LEN(G61)>4),HLOOKUP($U$9,コード一覧表!$C$2:$Y$1768,VLOOKUP(G61,コード一覧表!$AA$3:$AB$1768,2,0)+1,0),IF(OR(CODE(MID(G61,2,1))=77,CODE(MID(G61,3,1))=77),HLOOKUP($U$9,コード一覧表!$C$1789:$Y$1897,VLOOKUP(G61,コード一覧表!$AA$1789:$AB$1897,2,0)+1,0),HLOOKUP($U$9,コード一覧表!$C$2:$Y$1768,VLOOKUP(G61,コード一覧表!$AA$3:$AB$1768,2,0)+1,0))))","v":""},{"$f":"IF(H61=\"\",\"\",IF(OR(LEN(H61)<3,LEN(H61)>4),HLOOKUP($U$9,コード一覧表!$C$2:$Y$1768,VLOOKUP(H61,コード一覧表!$AA$3:$AB$1768,2,0)+1,0),IF(OR(CODE(MID(H61,2,1))=77,CODE(MID(H61,3,1))=77),HLOOKUP($U$9,コード一覧表!$C$1789:$Y$1897,VLOOKUP(H61,コード一覧表!$AA$1789:$AB$1897,2,0)+1,0),HLOOKUP($U$9,コード一覧表!$C$2:$Y$1768,VLOOKUP(H61,コード一覧表!$AA$3:$AB$1768,2,0)+1,0))))","v":""},{"$f":"IF(I61=\"\",\"\",IF(OR(LEN(I61)<3,LEN(I61)>4),HLOOKUP($U$9,コード一覧表!$C$2:$Y$1768,VLOOKUP(I61,コード一覧表!$AA$3:$AB$1768,2,0)+1,0),IF(OR(CODE(MID(I61,2,1))=77,CODE(MID(I61,3,1))=77),HLOOKUP($U$9,コード一覧表!$C$1789:$Y$1897,VLOOKUP(I61,コード一覧表!$AA$1789:$AB$1897,2,0)+1,0),HLOOKUP($U$9,コード一覧表!$C$2:$Y$1768,VLOOKUP(I61,コード一覧表!$AA$3:$AB$1768,2,0)+1,0))))","v":""},{"$f":"IF(J61=\"\",\"\",IF(OR(LEN(J61)<3,LEN(J61)>4),HLOOKUP($U$9,コード一覧表!$C$2:$Y$1768,VLOOKUP(J61,コード一覧表!$AA$3:$AB$1768,2,0)+1,0),IF(OR(CODE(MID(J61,2,1))=77,CODE(MID(J61,3,1))=77),HLOOKUP($U$9,コード一覧表!$C$1789:$Y$1897,VLOOKUP(J61,コード一覧表!$AA$1789:$AB$1897,2,0)+1,0),HLOOKUP($U$9,コード一覧表!$C$2:$Y$1768,VLOOKUP(J61,コード一覧表!$AA$3:$AB$1768,2,0)+1,0))))","v":""},{"$f":"IF(K61=\"\",\"\",IF(OR(LEN(K61)<3,LEN(K61)>4),HLOOKUP($U$9,コード一覧表!$C$2:$Y$1768,VLOOKUP(K61,コード一覧表!$AA$3:$AB$1768,2,0)+1,0),IF(OR(CODE(MID(K61,2,1))=77,CODE(MID(K61,3,1))=77),HLOOKUP($U$9,コード一覧表!$C$1789:$Y$1897,VLOOKUP(K61,コード一覧表!$AA$1789:$AB$1897,2,0)+1,0),HLOOKUP($U$9,コード一覧表!$C$2:$Y$1768,VLOOKUP(K61,コード一覧表!$AA$3:$AB$1768,2,0)+1,0))))","v":""},{"$f":"IF(L61=\"\",\"\",IF(OR(LEN(L61)<3,LEN(L61)>4),HLOOKUP($U$9,コード一覧表!$C$2:$Y$1768,VLOOKUP(L61,コード一覧表!$AA$3:$AB$1768,2,0)+1,0),IF(OR(CODE(MID(L61,2,1))=77,CODE(MID(L61,3,1))=77),HLOOKUP($U$9,コード一覧表!$C$1789:$Y$1897,VLOOKUP(L61,コード一覧表!$AA$1789:$AB$1897,2,0)+1,0),HLOOKUP($U$9,コード一覧表!$C$2:$Y$1768,VLOOKUP(L61,コード一覧表!$AA$3:$AB$1768,2,0)+1,0))))","v":""},{"$f":"IF(M61=\"\",\"\",IF(OR(LEN(M61)<3,LEN(M61)>4),HLOOKUP($U$9,コード一覧表!$C$2:$Y$1768,VLOOKUP(M61,コード一覧表!$AA$3:$AB$1768,2,0)+1,0),IF(OR(CODE(MID(M61,2,1))=77,CODE(MID(M61,3,1))=77),HLOOKUP($U$9,コード一覧表!$C$1789:$Y$1897,VLOOKUP(M61,コード一覧表!$AA$1789:$AB$1897,2,0)+1,0),HLOOKUP($U$9,コード一覧表!$C$2:$Y$1768,VLOOKUP(M61,コード一覧表!$AA$3:$AB$1768,2,0)+1,0))))","v":""},{"$f":"IF(N61=\"\",\"\",IF(OR(LEN(N61)<3,LEN(N61)>4),HLOOKUP($U$9,コード一覧表!$C$2:$Y$1768,VLOOKUP(N61,コード一覧表!$AA$3:$AB$1768,2,0)+1,0),IF(OR(CODE(MID(N61,2,1))=77,CODE(MID(N61,3,1))=77),HLOOKUP($U$9,コード一覧表!$C$1789:$Y$1897,VLOOKUP(N61,コード一覧表!$AA$1789:$AB$1897,2,0)+1,0),HLOOKUP($U$9,コード一覧表!$C$2:$Y$1768,VLOOKUP(N61,コード一覧表!$AA$3:$AB$1768,2,0)+1,0))))","v":""},{"$f":"IF(O61=\"\",\"\",IF(OR(LEN(O61)<3,LEN(O61)>4),HLOOKUP($U$9,コード一覧表!$C$2:$Y$1768,VLOOKUP(O61,コード一覧表!$AA$3:$AB$1768,2,0)+1,0),IF(OR(CODE(MID(O61,2,1))=77,CODE(MID(O61,3,1))=77),HLOOKUP($U$9,コード一覧表!$C$1789:$Y$1897,VLOOKUP(O61,コード一覧表!$AA$1789:$AB$1897,2,0)+1,0),HLOOKUP($U$9,コード一覧表!$C$2:$Y$1768,VLOOKUP(O61,コード一覧表!$AA$3:$AB$1768,2,0)+1,0))))","v":""},{"$f":"IF(P61=\"\",\"\",IF(OR(LEN(P61)<3,LEN(P61)>4),HLOOKUP($U$9,コード一覧表!$C$2:$Y$1768,VLOOKUP(P61,コード一覧表!$AA$3:$AB$1768,2,0)+1,0),IF(OR(CODE(MID(P61,2,1))=77,CODE(MID(P61,3,1))=77),HLOOKUP($U$9,コード一覧表!$C$1789:$Y$1897,VLOOKUP(P61,コード一覧表!$AA$1789:$AB$1897,2,0)+1,0),HLOOKUP($U$9,コード一覧表!$C$2:$Y$1768,VLOOKUP(P61,コード一覧表!$AA$3:$AB$1768,2,0)+1,0))))","v":""},{"$f":"IF(Q61=\"\",\"\",IF(OR(LEN(Q61)<3,LEN(Q61)>4),HLOOKUP($U$9,コード一覧表!$C$2:$Y$1768,VLOOKUP(Q61,コード一覧表!$AA$3:$AB$1768,2,0)+1,0),IF(OR(CODE(MID(Q61,2,1))=77,CODE(MID(Q61,3,1))=77),HLOOKUP($U$9,コード一覧表!$C$1789:$Y$1897,VLOOKUP(Q61,コード一覧表!$AA$1789:$AB$1897,2,0)+1,0),HLOOKUP($U$9,コード一覧表!$C$2:$Y$1768,VLOOKUP(Q61,コード一覧表!$AA$3:$AB$1768,2,0)+1,0))))","v":""}]
[]
[null,null,null,null,null,null,null,null,null,null,null,null,null,null,null,null,null,null,"入力行21"]
[null,{"$f":"IF(B64=\"\",\"\",IF(OR(LEN(B64)<3,LEN(B64)>4),HLOOKUP($U$9,コード一覧表!$C$2:$Y$1768,VLOOKUP(B64,コード一覧表!$AA$3:$AB$1768,2,0)+1,0),IF(OR(CODE(MID(B64,2,1))=77,CODE(MID(B64,3,1))=77),HLOOKUP($U$9,コード一覧表!$C$1789:$Y$1897,VLOOKUP(B64,コード一覧表!$AA$1789:$AB$1897,2,0)+1,0),HLOOKUP($U$9,コード一覧表!$C$2:$Y$1768,VLOOKUP(B64,コード一覧表!$AA$3:$AB$1768,2,0)+1,0))))","v":""},{"$f":"IF(C64=\"\",\"\",IF(OR(LEN(C64)<3,LEN(C64)>4),HLOOKUP($U$9,コード一覧表!$C$2:$Y$1768,VLOOKUP(C64,コード一覧表!$AA$3:$AB$1768,2,0)+1,0),IF(OR(CODE(MID(C64,2,1))=77,CODE(MID(C64,3,1))=77),HLOOKUP($U$9,コード一覧表!$C$1789:$Y$1897,VLOOKUP(C64,コード一覧表!$AA$1789:$AB$1897,2,0)+1,0),HLOOKUP($U$9,コード一覧表!$C$2:$Y$1768,VLOOKUP(C64,コード一覧表!$AA$3:$AB$1768,2,0)+1,0))))","v":""},{"$f":"IF(D64=\"\",\"\",IF(OR(LEN(D64)<3,LEN(D64)>4),HLOOKUP($U$9,コード一覧表!$C$2:$Y$1768,VLOOKUP(D64,コード一覧表!$AA$3:$AB$1768,2,0)+1,0),IF(OR(CODE(MID(D64,2,1))=77,CODE(MID(D64,3,1))=77),HLOOKUP($U$9,コード一覧表!$C$1789:$Y$1897,VLOOKUP(D64,コード一覧表!$AA$1789:$AB$1897,2,0)+1,0),HLOOKUP($U$9,コード一覧表!$C$2:$Y$1768,VLOOKUP(D64,コード一覧表!$AA$3:$AB$1768,2,0)+1,0))))","v":""},{"$f":"IF(E64=\"\",\"\",IF(OR(LEN(E64)<3,LEN(E64)>4),HLOOKUP($U$9,コード一覧表!$C$2:$Y$1768,VLOOKUP(E64,コード一覧表!$AA$3:$AB$1768,2,0)+1,0),IF(OR(CODE(MID(E64,2,1))=77,CODE(MID(E64,3,1))=77),HLOOKUP($U$9,コード一覧表!$C$1789:$Y$1897,VLOOKUP(E64,コード一覧表!$AA$1789:$AB$1897,2,0)+1,0),HLOOKUP($U$9,コード一覧表!$C$2:$Y$1768,VLOOKUP(E64,コード一覧表!$AA$3:$AB$1768,2,0)+1,0))))","v":""},{"$f":"IF(F64=\"\",\"\",IF(OR(LEN(F64)<3,LEN(F64)>4),HLOOKUP($U$9,コード一覧表!$C$2:$Y$1768,VLOOKUP(F64,コード一覧表!$AA$3:$AB$1768,2,0)+1,0),IF(OR(CODE(MID(F64,2,1))=77,CODE(MID(F64,3,1))=77),HLOOKUP($U$9,コード一覧表!$C$1789:$Y$1897,VLOOKUP(F64,コード一覧表!$AA$1789:$AB$1897,2,0)+1,0),HLOOKUP($U$9,コード一覧表!$C$2:$Y$1768,VLOOKUP(F64,コード一覧表!$AA$3:$AB$1768,2,0)+1,0))))","v":""},{"$f":"IF(G64=\"\",\"\",IF(OR(LEN(G64)<3,LEN(G64)>4),HLOOKUP($U$9,コード一覧表!$C$2:$Y$1768,VLOOKUP(G64,コード一覧表!$AA$3:$AB$1768,2,0)+1,0),IF(OR(CODE(MID(G64,2,1))=77,CODE(MID(G64,3,1))=77),HLOOKUP($U$9,コード一覧表!$C$1789:$Y$1897,VLOOKUP(G64,コード一覧表!$AA$1789:$AB$1897,2,0)+1,0),HLOOKUP($U$9,コード一覧表!$C$2:$Y$1768,VLOOKUP(G64,コード一覧表!$AA$3:$AB$1768,2,0)+1,0))))","v":""},{"$f":"IF(H64=\"\",\"\",IF(OR(LEN(H64)<3,LEN(H64)>4),HLOOKUP($U$9,コード一覧表!$C$2:$Y$1768,VLOOKUP(H64,コード一覧表!$AA$3:$AB$1768,2,0)+1,0),IF(OR(CODE(MID(H64,2,1))=77,CODE(MID(H64,3,1))=77),HLOOKUP($U$9,コード一覧表!$C$1789:$Y$1897,VLOOKUP(H64,コード一覧表!$AA$1789:$AB$1897,2,0)+1,0),HLOOKUP($U$9,コード一覧表!$C$2:$Y$1768,VLOOKUP(H64,コード一覧表!$AA$3:$AB$1768,2,0)+1,0))))","v":""},{"$f":"IF(I64=\"\",\"\",IF(OR(LEN(I64)<3,LEN(I64)>4),HLOOKUP($U$9,コード一覧表!$C$2:$Y$1768,VLOOKUP(I64,コード一覧表!$AA$3:$AB$1768,2,0)+1,0),IF(OR(CODE(MID(I64,2,1))=77,CODE(MID(I64,3,1))=77),HLOOKUP($U$9,コード一覧表!$C$1789:$Y$1897,VLOOKUP(I64,コード一覧表!$AA$1789:$AB$1897,2,0)+1,0),HLOOKUP($U$9,コード一覧表!$C$2:$Y$1768,VLOOKUP(I64,コード一覧表!$AA$3:$AB$1768,2,0)+1,0))))","v":""},{"$f":"IF(J64=\"\",\"\",IF(OR(LEN(J64)<3,LEN(J64)>4),HLOOKUP($U$9,コード一覧表!$C$2:$Y$1768,VLOOKUP(J64,コード一覧表!$AA$3:$AB$1768,2,0)+1,0),IF(OR(CODE(MID(J64,2,1))=77,CODE(MID(J64,3,1))=77),HLOOKUP($U$9,コード一覧表!$C$1789:$Y$1897,VLOOKUP(J64,コード一覧表!$AA$1789:$AB$1897,2,0)+1,0),HLOOKUP($U$9,コード一覧表!$C$2:$Y$1768,VLOOKUP(J64,コード一覧表!$AA$3:$AB$1768,2,0)+1,0))))","v":""},{"$f":"IF(K64=\"\",\"\",IF(OR(LEN(K64)<3,LEN(K64)>4),HLOOKUP($U$9,コード一覧表!$C$2:$Y$1768,VLOOKUP(K64,コード一覧表!$AA$3:$AB$1768,2,0)+1,0),IF(OR(CODE(MID(K64,2,1))=77,CODE(MID(K64,3,1))=77),HLOOKUP($U$9,コード一覧表!$C$1789:$Y$1897,VLOOKUP(K64,コード一覧表!$AA$1789:$AB$1897,2,0)+1,0),HLOOKUP($U$9,コード一覧表!$C$2:$Y$1768,VLOOKUP(K64,コード一覧表!$AA$3:$AB$1768,2,0)+1,0))))","v":""},{"$f":"IF(L64=\"\",\"\",IF(OR(LEN(L64)<3,LEN(L64)>4),HLOOKUP($U$9,コード一覧表!$C$2:$Y$1768,VLOOKUP(L64,コード一覧表!$AA$3:$AB$1768,2,0)+1,0),IF(OR(CODE(MID(L64,2,1))=77,CODE(MID(L64,3,1))=77),HLOOKUP($U$9,コード一覧表!$C$1789:$Y$1897,VLOOKUP(L64,コード一覧表!$AA$1789:$AB$1897,2,0)+1,0),HLOOKUP($U$9,コード一覧表!$C$2:$Y$1768,VLOOKUP(L64,コード一覧表!$AA$3:$AB$1768,2,0)+1,0))))","v":""},{"$f":"IF(M64=\"\",\"\",IF(OR(LEN(M64)<3,LEN(M64)>4),HLOOKUP($U$9,コード一覧表!$C$2:$Y$1768,VLOOKUP(M64,コード一覧表!$AA$3:$AB$1768,2,0)+1,0),IF(OR(CODE(MID(M64,2,1))=77,CODE(MID(M64,3,1))=77),HLOOKUP($U$9,コード一覧表!$C$1789:$Y$1897,VLOOKUP(M64,コード一覧表!$AA$1789:$AB$1897,2,0)+1,0),HLOOKUP($U$9,コード一覧表!$C$2:$Y$1768,VLOOKUP(M64,コード一覧表!$AA$3:$AB$1768,2,0)+1,0))))","v":""},{"$f":"IF(N64=\"\",\"\",IF(OR(LEN(N64)<3,LEN(N64)>4),HLOOKUP($U$9,コード一覧表!$C$2:$Y$1768,VLOOKUP(N64,コード一覧表!$AA$3:$AB$1768,2,0)+1,0),IF(OR(CODE(MID(N64,2,1))=77,CODE(MID(N64,3,1))=77),HLOOKUP($U$9,コード一覧表!$C$1789:$Y$1897,VLOOKUP(N64,コード一覧表!$AA$1789:$AB$1897,2,0)+1,0),HLOOKUP($U$9,コード一覧表!$C$2:$Y$1768,VLOOKUP(N64,コード一覧表!$AA$3:$AB$1768,2,0)+1,0))))","v":""},{"$f":"IF(O64=\"\",\"\",IF(OR(LEN(O64)<3,LEN(O64)>4),HLOOKUP($U$9,コード一覧表!$C$2:$Y$1768,VLOOKUP(O64,コード一覧表!$AA$3:$AB$1768,2,0)+1,0),IF(OR(CODE(MID(O64,2,1))=77,CODE(MID(O64,3,1))=77),HLOOKUP($U$9,コード一覧表!$C$1789:$Y$1897,VLOOKUP(O64,コード一覧表!$AA$1789:$AB$1897,2,0)+1,0),HLOOKUP($U$9,コード一覧表!$C$2:$Y$1768,VLOOKUP(O64,コード一覧表!$AA$3:$AB$1768,2,0)+1,0))))","v":""},{"$f":"IF(P64=\"\",\"\",IF(OR(LEN(P64)<3,LEN(P64)>4),HLOOKUP($U$9,コード一覧表!$C$2:$Y$1768,VLOOKUP(P64,コード一覧表!$AA$3:$AB$1768,2,0)+1,0),IF(OR(CODE(MID(P64,2,1))=77,CODE(MID(P64,3,1))=77),HLOOKUP($U$9,コード一覧表!$C$1789:$Y$1897,VLOOKUP(P64,コード一覧表!$AA$1789:$AB$1897,2,0)+1,0),HLOOKUP($U$9,コード一覧表!$C$2:$Y$1768,VLOOKUP(P64,コード一覧表!$AA$3:$AB$1768,2,0)+1,0))))","v":""},{"$f":"IF(Q64=\"\",\"\",IF(OR(LEN(Q64)<3,LEN(Q64)>4),HLOOKUP($U$9,コード一覧表!$C$2:$Y$1768,VLOOKUP(Q64,コード一覧表!$AA$3:$AB$1768,2,0)+1,0),IF(OR(CODE(MID(Q64,2,1))=77,CODE(MID(Q64,3,1))=77),HLOOKUP($U$9,コード一覧表!$C$1789:$Y$1897,VLOOKUP(Q64,コード一覧表!$AA$1789:$AB$1897,2,0)+1,0),HLOOKUP($U$9,コード一覧表!$C$2:$Y$1768,VLOOKUP(Q64,コード一覧表!$AA$3:$AB$1768,2,0)+1,0))))","v":""}]
[]
[null,null,null,null,null,null,null,null,null,null,null,null,null,null,null,null,null,null,"入力行22"]
[null,{"$f":"IF(B67=\"\",\"\",IF(OR(LEN(B67)<3,LEN(B67)>4),HLOOKUP($U$9,コード一覧表!$C$2:$Y$1768,VLOOKUP(B67,コード一覧表!$AA$3:$AB$1768,2,0)+1,0),IF(OR(CODE(MID(B67,2,1))=77,CODE(MID(B67,3,1))=77),HLOOKUP($U$9,コード一覧表!$C$1789:$Y$1897,VLOOKUP(B67,コード一覧表!$AA$1789:$AB$1897,2,0)+1,0),HLOOKUP($U$9,コード一覧表!$C$2:$Y$1768,VLOOKUP(B67,コード一覧表!$AA$3:$AB$1768,2,0)+1,0))))","v":""},{"$f":"IF(C67=\"\",\"\",IF(OR(LEN(C67)<3,LEN(C67)>4),HLOOKUP($U$9,コード一覧表!$C$2:$Y$1768,VLOOKUP(C67,コード一覧表!$AA$3:$AB$1768,2,0)+1,0),IF(OR(CODE(MID(C67,2,1))=77,CODE(MID(C67,3,1))=77),HLOOKUP($U$9,コード一覧表!$C$1789:$Y$1897,VLOOKUP(C67,コード一覧表!$AA$1789:$AB$1897,2,0)+1,0),HLOOKUP($U$9,コード一覧表!$C$2:$Y$1768,VLOOKUP(C67,コード一覧表!$AA$3:$AB$1768,2,0)+1,0))))","v":""},{"$f":"IF(D67=\"\",\"\",IF(OR(LEN(D67)<3,LEN(D67)>4),HLOOKUP($U$9,コード一覧表!$C$2:$Y$1768,VLOOKUP(D67,コード一覧表!$AA$3:$AB$1768,2,0)+1,0),IF(OR(CODE(MID(D67,2,1))=77,CODE(MID(D67,3,1))=77),HLOOKUP($U$9,コード一覧表!$C$1789:$Y$1897,VLOOKUP(D67,コード一覧表!$AA$1789:$AB$1897,2,0)+1,0),HLOOKUP($U$9,コード一覧表!$C$2:$Y$1768,VLOOKUP(D67,コード一覧表!$AA$3:$AB$1768,2,0)+1,0))))","v":""},{"$f":"IF(E67=\"\",\"\",IF(OR(LEN(E67)<3,LEN(E67)>4),HLOOKUP($U$9,コード一覧表!$C$2:$Y$1768,VLOOKUP(E67,コード一覧表!$AA$3:$AB$1768,2,0)+1,0),IF(OR(CODE(MID(E67,2,1))=77,CODE(MID(E67,3,1))=77),HLOOKUP($U$9,コード一覧表!$C$1789:$Y$1897,VLOOKUP(E67,コード一覧表!$AA$1789:$AB$1897,2,0)+1,0),HLOOKUP($U$9,コード一覧表!$C$2:$Y$1768,VLOOKUP(E67,コード一覧表!$AA$3:$AB$1768,2,0)+1,0))))","v":""},{"$f":"IF(F67=\"\",\"\",IF(OR(LEN(F67)<3,LEN(F67)>4),HLOOKUP($U$9,コード一覧表!$C$2:$Y$1768,VLOOKUP(F67,コード一覧表!$AA$3:$AB$1768,2,0)+1,0),IF(OR(CODE(MID(F67,2,1))=77,CODE(MID(F67,3,1))=77),HLOOKUP($U$9,コード一覧表!$C$1789:$Y$1897,VLOOKUP(F67,コード一覧表!$AA$1789:$AB$1897,2,0)+1,0),HLOOKUP($U$9,コード一覧表!$C$2:$Y$1768,VLOOKUP(F67,コード一覧表!$AA$3:$AB$1768,2,0)+1,0))))","v":""},{"$f":"IF(G67=\"\",\"\",IF(OR(LEN(G67)<3,LEN(G67)>4),HLOOKUP($U$9,コード一覧表!$C$2:$Y$1768,VLOOKUP(G67,コード一覧表!$AA$3:$AB$1768,2,0)+1,0),IF(OR(CODE(MID(G67,2,1))=77,CODE(MID(G67,3,1))=77),HLOOKUP($U$9,コード一覧表!$C$1789:$Y$1897,VLOOKUP(G67,コード一覧表!$AA$1789:$AB$1897,2,0)+1,0),HLOOKUP($U$9,コード一覧表!$C$2:$Y$1768,VLOOKUP(G67,コード一覧表!$AA$3:$AB$1768,2,0)+1,0))))","v":""},{"$f":"IF(H67=\"\",\"\",IF(OR(LEN(H67)<3,LEN(H67)>4),HLOOKUP($U$9,コード一覧表!$C$2:$Y$1768,VLOOKUP(H67,コード一覧表!$AA$3:$AB$1768,2,0)+1,0),IF(OR(CODE(MID(H67,2,1))=77,CODE(MID(H67,3,1))=77),HLOOKUP($U$9,コード一覧表!$C$1789:$Y$1897,VLOOKUP(H67,コード一覧表!$AA$1789:$AB$1897,2,0)+1,0),HLOOKUP($U$9,コード一覧表!$C$2:$Y$1768,VLOOKUP(H67,コード一覧表!$AA$3:$AB$1768,2,0)+1,0))))","v":""},{"$f":"IF(I67=\"\",\"\",IF(OR(LEN(I67)<3,LEN(I67)>4),HLOOKUP($U$9,コード一覧表!$C$2:$Y$1768,VLOOKUP(I67,コード一覧表!$AA$3:$AB$1768,2,0)+1,0),IF(OR(CODE(MID(I67,2,1))=77,CODE(MID(I67,3,1))=77),HLOOKUP($U$9,コード一覧表!$C$1789:$Y$1897,VLOOKUP(I67,コード一覧表!$AA$1789:$AB$1897,2,0)+1,0),HLOOKUP($U$9,コード一覧表!$C$2:$Y$1768,VLOOKUP(I67,コード一覧表!$AA$3:$AB$1768,2,0)+1,0))))","v":""},{"$f":"IF(J67=\"\",\"\",IF(OR(LEN(J67)<3,LEN(J67)>4),HLOOKUP($U$9,コード一覧表!$C$2:$Y$1768,VLOOKUP(J67,コード一覧表!$AA$3:$AB$1768,2,0)+1,0),IF(OR(CODE(MID(J67,2,1))=77,CODE(MID(J67,3,1))=77),HLOOKUP($U$9,コード一覧表!$C$1789:$Y$1897,VLOOKUP(J67,コード一覧表!$AA$1789:$AB$1897,2,0)+1,0),HLOOKUP($U$9,コード一覧表!$C$2:$Y$1768,VLOOKUP(J67,コード一覧表!$AA$3:$AB$1768,2,0)+1,0))))","v":""},{"$f":"IF(K67=\"\",\"\",IF(OR(LEN(K67)<3,LEN(K67)>4),HLOOKUP($U$9,コード一覧表!$C$2:$Y$1768,VLOOKUP(K67,コード一覧表!$AA$3:$AB$1768,2,0)+1,0),IF(OR(CODE(MID(K67,2,1))=77,CODE(MID(K67,3,1))=77),HLOOKUP($U$9,コード一覧表!$C$1789:$Y$1897,VLOOKUP(K67,コード一覧表!$AA$1789:$AB$1897,2,0)+1,0),HLOOKUP($U$9,コード一覧表!$C$2:$Y$1768,VLOOKUP(K67,コード一覧表!$AA$3:$AB$1768,2,0)+1,0))))","v":""},{"$f":"IF(L67=\"\",\"\",IF(OR(LEN(L67)<3,LEN(L67)>4),HLOOKUP($U$9,コード一覧表!$C$2:$Y$1768,VLOOKUP(L67,コード一覧表!$AA$3:$AB$1768,2,0)+1,0),IF(OR(CODE(MID(L67,2,1))=77,CODE(MID(L67,3,1))=77),HLOOKUP($U$9,コード一覧表!$C$1789:$Y$1897,VLOOKUP(L67,コード一覧表!$AA$1789:$AB$1897,2,0)+1,0),HLOOKUP($U$9,コード一覧表!$C$2:$Y$1768,VLOOKUP(L67,コード一覧表!$AA$3:$AB$1768,2,0)+1,0))))","v":""},{"$f":"IF(M67=\"\",\"\",IF(OR(LEN(M67)<3,LEN(M67)>4),HLOOKUP($U$9,コード一覧表!$C$2:$Y$1768,VLOOKUP(M67,コード一覧表!$AA$3:$AB$1768,2,0)+1,0),IF(OR(CODE(MID(M67,2,1))=77,CODE(MID(M67,3,1))=77),HLOOKUP($U$9,コード一覧表!$C$1789:$Y$1897,VLOOKUP(M67,コード一覧表!$AA$1789:$AB$1897,2,0)+1,0),HLOOKUP($U$9,コード一覧表!$C$2:$Y$1768,VLOOKUP(M67,コード一覧表!$AA$3:$AB$1768,2,0)+1,0))))","v":""},{"$f":"IF(N67=\"\",\"\",IF(OR(LEN(N67)<3,LEN(N67)>4),HLOOKUP($U$9,コード一覧表!$C$2:$Y$1768,VLOOKUP(N67,コード一覧表!$AA$3:$AB$1768,2,0)+1,0),IF(OR(CODE(MID(N67,2,1))=77,CODE(MID(N67,3,1))=77),HLOOKUP($U$9,コード一覧表!$C$1789:$Y$1897,VLOOKUP(N67,コード一覧表!$AA$1789:$AB$1897,2,0)+1,0),HLOOKUP($U$9,コード一覧表!$C$2:$Y$1768,VLOOKUP(N67,コード一覧表!$AA$3:$AB$1768,2,0)+1,0))))","v":""},{"$f":"IF(O67=\"\",\"\",IF(OR(LEN(O67)<3,LEN(O67)>4),HLOOKUP($U$9,コード一覧表!$C$2:$Y$1768,VLOOKUP(O67,コード一覧表!$AA$3:$AB$1768,2,0)+1,0),IF(OR(CODE(MID(O67,2,1))=77,CODE(MID(O67,3,1))=77),HLOOKUP($U$9,コード一覧表!$C$1789:$Y$1897,VLOOKUP(O67,コード一覧表!$AA$1789:$AB$1897,2,0)+1,0),HLOOKUP($U$9,コード一覧表!$C$2:$Y$1768,VLOOKUP(O67,コード一覧表!$AA$3:$AB$1768,2,0)+1,0))))","v":""},{"$f":"IF(P67=\"\",\"\",IF(OR(LEN(P67)<3,LEN(P67)>4),HLOOKUP($U$9,コード一覧表!$C$2:$Y$1768,VLOOKUP(P67,コード一覧表!$AA$3:$AB$1768,2,0)+1,0),IF(OR(CODE(MID(P67,2,1))=77,CODE(MID(P67,3,1))=77),HLOOKUP($U$9,コード一覧表!$C$1789:$Y$1897,VLOOKUP(P67,コード一覧表!$AA$1789:$AB$1897,2,0)+1,0),HLOOKUP($U$9,コード一覧表!$C$2:$Y$1768,VLOOKUP(P67,コード一覧表!$AA$3:$AB$1768,2,0)+1,0))))","v":""},{"$f":"IF(Q67=\"\",\"\",IF(OR(LEN(Q67)<3,LEN(Q67)>4),HLOOKUP($U$9,コード一覧表!$C$2:$Y$1768,VLOOKUP(Q67,コード一覧表!$AA$3:$AB$1768,2,0)+1,0),IF(OR(CODE(MID(Q67,2,1))=77,CODE(MID(Q67,3,1))=77),HLOOKUP($U$9,コード一覧表!$C$1789:$Y$1897,VLOOKUP(Q67,コード一覧表!$AA$1789:$AB$1897,2,0)+1,0),HLOOKUP($U$9,コード一覧表!$C$2:$Y$1768,VLOOKUP(Q67,コード一覧表!$AA$3:$AB$1768,2,0)+1,0))))","v":""}]
[]
[null,null,null,null,null,null,null,null,null,null,null,null,null,null,null,null,null,null,"入力行23"]
[null,{"$f":"IF(B70=\"\",\"\",IF(OR(LEN(B70)<3,LEN(B70)>4),HLOOKUP($U$9,コード一覧表!$C$2:$Y$1768,VLOOKUP(B70,コード一覧表!$AA$3:$AB$1768,2,0)+1,0),IF(OR(CODE(MID(B70,2,1))=77,CODE(MID(B70,3,1))=77),HLOOKUP($U$9,コード一覧表!$C$1789:$Y$1897,VLOOKUP(B70,コード一覧表!$AA$1789:$AB$1897,2,0)+1,0),HLOOKUP($U$9,コード一覧表!$C$2:$Y$1768,VLOOKUP(B70,コード一覧表!$AA$3:$AB$1768,2,0)+1,0))))","v":""},{"$f":"IF(C70=\"\",\"\",IF(OR(LEN(C70)<3,LEN(C70)>4),HLOOKUP($U$9,コード一覧表!$C$2:$Y$1768,VLOOKUP(C70,コード一覧表!$AA$3:$AB$1768,2,0)+1,0),IF(OR(CODE(MID(C70,2,1))=77,CODE(MID(C70,3,1))=77),HLOOKUP($U$9,コード一覧表!$C$1789:$Y$1897,VLOOKUP(C70,コード一覧表!$AA$1789:$AB$1897,2,0)+1,0),HLOOKUP($U$9,コード一覧表!$C$2:$Y$1768,VLOOKUP(C70,コード一覧表!$AA$3:$AB$1768,2,0)+1,0))))","v":""},{"$f":"IF(D70=\"\",\"\",IF(OR(LEN(D70)<3,LEN(D70)>4),HLOOKUP($U$9,コード一覧表!$C$2:$Y$1768,VLOOKUP(D70,コード一覧表!$AA$3:$AB$1768,2,0)+1,0),IF(OR(CODE(MID(D70,2,1))=77,CODE(MID(D70,3,1))=77),HLOOKUP($U$9,コード一覧表!$C$1789:$Y$1897,VLOOKUP(D70,コード一覧表!$AA$1789:$AB$1897,2,0)+1,0),HLOOKUP($U$9,コード一覧表!$C$2:$Y$1768,VLOOKUP(D70,コード一覧表!$AA$3:$AB$1768,2,0)+1,0))))","v":""},{"$f":"IF(E70=\"\",\"\",IF(OR(LEN(E70)<3,LEN(E70)>4),HLOOKUP($U$9,コード一覧表!$C$2:$Y$1768,VLOOKUP(E70,コード一覧表!$AA$3:$AB$1768,2,0)+1,0),IF(OR(CODE(MID(E70,2,1))=77,CODE(MID(E70,3,1))=77),HLOOKUP($U$9,コード一覧表!$C$1789:$Y$1897,VLOOKUP(E70,コード一覧表!$AA$1789:$AB$1897,2,0)+1,0),HLOOKUP($U$9,コード一覧表!$C$2:$Y$1768,VLOOKUP(E70,コード一覧表!$AA$3:$AB$1768,2,0)+1,0))))","v":""},{"$f":"IF(F70=\"\",\"\",IF(OR(LEN(F70)<3,LEN(F70)>4),HLOOKUP($U$9,コード一覧表!$C$2:$Y$1768,VLOOKUP(F70,コード一覧表!$AA$3:$AB$1768,2,0)+1,0),IF(OR(CODE(MID(F70,2,1))=77,CODE(MID(F70,3,1))=77),HLOOKUP($U$9,コード一覧表!$C$1789:$Y$1897,VLOOKUP(F70,コード一覧表!$AA$1789:$AB$1897,2,0)+1,0),HLOOKUP($U$9,コード一覧表!$C$2:$Y$1768,VLOOKUP(F70,コード一覧表!$AA$3:$AB$1768,2,0)+1,0))))","v":""},{"$f":"IF(G70=\"\",\"\",IF(OR(LEN(G70)<3,LEN(G70)>4),HLOOKUP($U$9,コード一覧表!$C$2:$Y$1768,VLOOKUP(G70,コード一覧表!$AA$3:$AB$1768,2,0)+1,0),IF(OR(CODE(MID(G70,2,1))=77,CODE(MID(G70,3,1))=77),HLOOKUP($U$9,コード一覧表!$C$1789:$Y$1897,VLOOKUP(G70,コード一覧表!$AA$1789:$AB$1897,2,0)+1,0),HLOOKUP($U$9,コード一覧表!$C$2:$Y$1768,VLOOKUP(G70,コード一覧表!$AA$3:$AB$1768,2,0)+1,0))))","v":""},{"$f":"IF(H70=\"\",\"\",IF(OR(LEN(H70)<3,LEN(H70)>4),HLOOKUP($U$9,コード一覧表!$C$2:$Y$1768,VLOOKUP(H70,コード一覧表!$AA$3:$AB$1768,2,0)+1,0),IF(OR(CODE(MID(H70,2,1))=77,CODE(MID(H70,3,1))=77),HLOOKUP($U$9,コード一覧表!$C$1789:$Y$1897,VLOOKUP(H70,コード一覧表!$AA$1789:$AB$1897,2,0)+1,0),HLOOKUP($U$9,コード一覧表!$C$2:$Y$1768,VLOOKUP(H70,コード一覧表!$AA$3:$AB$1768,2,0)+1,0))))","v":""},{"$f":"IF(I70=\"\",\"\",IF(OR(LEN(I70)<3,LEN(I70)>4),HLOOKUP($U$9,コード一覧表!$C$2:$Y$1768,VLOOKUP(I70,コード一覧表!$AA$3:$AB$1768,2,0)+1,0),IF(OR(CODE(MID(I70,2,1))=77,CODE(MID(I70,3,1))=77),HLOOKUP($U$9,コード一覧表!$C$1789:$Y$1897,VLOOKUP(I70,コード一覧表!$AA$1789:$AB$1897,2,0)+1,0),HLOOKUP($U$9,コード一覧表!$C$2:$Y$1768,VLOOKUP(I70,コード一覧表!$AA$3:$AB$1768,2,0)+1,0))))","v":""},{"$f":"IF(J70=\"\",\"\",IF(OR(LEN(J70)<3,LEN(J70)>4),HLOOKUP($U$9,コード一覧表!$C$2:$Y$1768,VLOOKUP(J70,コード一覧表!$AA$3:$AB$1768,2,0)+1,0),IF(OR(CODE(MID(J70,2,1))=77,CODE(MID(J70,3,1))=77),HLOOKUP($U$9,コード一覧表!$C$1789:$Y$1897,VLOOKUP(J70,コード一覧表!$AA$1789:$AB$1897,2,0)+1,0),HLOOKUP($U$9,コード一覧表!$C$2:$Y$1768,VLOOKUP(J70,コード一覧表!$AA$3:$AB$1768,2,0)+1,0))))","v":""},{"$f":"IF(K70=\"\",\"\",IF(OR(LEN(K70)<3,LEN(K70)>4),HLOOKUP($U$9,コード一覧表!$C$2:$Y$1768,VLOOKUP(K70,コード一覧表!$AA$3:$AB$1768,2,0)+1,0),IF(OR(CODE(MID(K70,2,1))=77,CODE(MID(K70,3,1))=77),HLOOKUP($U$9,コード一覧表!$C$1789:$Y$1897,VLOOKUP(K70,コード一覧表!$AA$1789:$AB$1897,2,0)+1,0),HLOOKUP($U$9,コード一覧表!$C$2:$Y$1768,VLOOKUP(K70,コード一覧表!$AA$3:$AB$1768,2,0)+1,0))))","v":""},{"$f":"IF(L70=\"\",\"\",IF(OR(LEN(L70)<3,LEN(L70)>4),HLOOKUP($U$9,コード一覧表!$C$2:$Y$1768,VLOOKUP(L70,コード一覧表!$AA$3:$AB$1768,2,0)+1,0),IF(OR(CODE(MID(L70,2,1))=77,CODE(MID(L70,3,1))=77),HLOOKUP($U$9,コード一覧表!$C$1789:$Y$1897,VLOOKUP(L70,コード一覧表!$AA$1789:$AB$1897,2,0)+1,0),HLOOKUP($U$9,コード一覧表!$C$2:$Y$1768,VLOOKUP(L70,コード一覧表!$AA$3:$AB$1768,2,0)+1,0))))","v":""},{"$f":"IF(M70=\"\",\"\",IF(OR(LEN(M70)<3,LEN(M70)>4),HLOOKUP($U$9,コード一覧表!$C$2:$Y$1768,VLOOKUP(M70,コード一覧表!$AA$3:$AB$1768,2,0)+1,0),IF(OR(CODE(MID(M70,2,1))=77,CODE(MID(M70,3,1))=77),HLOOKUP($U$9,コード一覧表!$C$1789:$Y$1897,VLOOKUP(M70,コード一覧表!$AA$1789:$AB$1897,2,0)+1,0),HLOOKUP($U$9,コード一覧表!$C$2:$Y$1768,VLOOKUP(M70,コード一覧表!$AA$3:$AB$1768,2,0)+1,0))))","v":""},{"$f":"IF(N70=\"\",\"\",IF(OR(LEN(N70)<3,LEN(N70)>4),HLOOKUP($U$9,コード一覧表!$C$2:$Y$1768,VLOOKUP(N70,コード一覧表!$AA$3:$AB$1768,2,0)+1,0),IF(OR(CODE(MID(N70,2,1))=77,CODE(MID(N70,3,1))=77),HLOOKUP($U$9,コード一覧表!$C$1789:$Y$1897,VLOOKUP(N70,コード一覧表!$AA$1789:$AB$1897,2,0)+1,0),HLOOKUP($U$9,コード一覧表!$C$2:$Y$1768,VLOOKUP(N70,コード一覧表!$AA$3:$AB$1768,2,0)+1,0))))","v":""},{"$f":"IF(O70=\"\",\"\",IF(OR(LEN(O70)<3,LEN(O70)>4),HLOOKUP($U$9,コード一覧表!$C$2:$Y$1768,VLOOKUP(O70,コード一覧表!$AA$3:$AB$1768,2,0)+1,0),IF(OR(CODE(MID(O70,2,1))=77,CODE(MID(O70,3,1))=77),HLOOKUP($U$9,コード一覧表!$C$1789:$Y$1897,VLOOKUP(O70,コード一覧表!$AA$1789:$AB$1897,2,0)+1,0),HLOOKUP($U$9,コード一覧表!$C$2:$Y$1768,VLOOKUP(O70,コード一覧表!$AA$3:$AB$1768,2,0)+1,0))))","v":""},{"$f":"IF(P70=\"\",\"\",IF(OR(LEN(P70)<3,LEN(P70)>4),HLOOKUP($U$9,コード一覧表!$C$2:$Y$1768,VLOOKUP(P70,コード一覧表!$AA$3:$AB$1768,2,0)+1,0),IF(OR(CODE(MID(P70,2,1))=77,CODE(MID(P70,3,1))=77),HLOOKUP($U$9,コード一覧表!$C$1789:$Y$1897,VLOOKUP(P70,コード一覧表!$AA$1789:$AB$1897,2,0)+1,0),HLOOKUP($U$9,コード一覧表!$C$2:$Y$1768,VLOOKUP(P70,コード一覧表!$AA$3:$AB$1768,2,0)+1,0))))","v":""},{"$f":"IF(Q70=\"\",\"\",IF(OR(LEN(Q70)<3,LEN(Q70)>4),HLOOKUP($U$9,コード一覧表!$C$2:$Y$1768,VLOOKUP(Q70,コード一覧表!$AA$3:$AB$1768,2,0)+1,0),IF(OR(CODE(MID(Q70,2,1))=77,CODE(MID(Q70,3,1))=77),HLOOKUP($U$9,コード一覧表!$C$1789:$Y$1897,VLOOKUP(Q70,コード一覧表!$AA$1789:$AB$1897,2,0)+1,0),HLOOKUP($U$9,コード一覧表!$C$2:$Y$1768,VLOOKUP(Q70,コード一覧表!$AA$3:$AB$1768,2,0)+1,0))))","v":""}]
[]
[null,null,null,null,null,null,null,null,null,null,null,null,null,null,null,null,null,null,"入力行24"]
[null,{"$f":"IF(B73=\"\",\"\",IF(OR(LEN(B73)<3,LEN(B73)>4),HLOOKUP($U$9,コード一覧表!$C$2:$Y$1768,VLOOKUP(B73,コード一覧表!$AA$3:$AB$1768,2,0)+1,0),IF(OR(CODE(MID(B73,2,1))=77,CODE(MID(B73,3,1))=77),HLOOKUP($U$9,コード一覧表!$C$1789:$Y$1897,VLOOKUP(B73,コード一覧表!$AA$1789:$AB$1897,2,0)+1,0),HLOOKUP($U$9,コード一覧表!$C$2:$Y$1768,VLOOKUP(B73,コード一覧表!$AA$3:$AB$1768,2,0)+1,0))))","v":""},{"$f":"IF(C73=\"\",\"\",IF(OR(LEN(C73)<3,LEN(C73)>4),HLOOKUP($U$9,コード一覧表!$C$2:$Y$1768,VLOOKUP(C73,コード一覧表!$AA$3:$AB$1768,2,0)+1,0),IF(OR(CODE(MID(C73,2,1))=77,CODE(MID(C73,3,1))=77),HLOOKUP($U$9,コード一覧表!$C$1789:$Y$1897,VLOOKUP(C73,コード一覧表!$AA$1789:$AB$1897,2,0)+1,0),HLOOKUP($U$9,コード一覧表!$C$2:$Y$1768,VLOOKUP(C73,コード一覧表!$AA$3:$AB$1768,2,0)+1,0))))","v":""},{"$f":"IF(D73=\"\",\"\",IF(OR(LEN(D73)<3,LEN(D73)>4),HLOOKUP($U$9,コード一覧表!$C$2:$Y$1768,VLOOKUP(D73,コード一覧表!$AA$3:$AB$1768,2,0)+1,0),IF(OR(CODE(MID(D73,2,1))=77,CODE(MID(D73,3,1))=77),HLOOKUP($U$9,コード一覧表!$C$1789:$Y$1897,VLOOKUP(D73,コード一覧表!$AA$1789:$AB$1897,2,0)+1,0),HLOOKUP($U$9,コード一覧表!$C$2:$Y$1768,VLOOKUP(D73,コード一覧表!$AA$3:$AB$1768,2,0)+1,0))))","v":""},{"$f":"IF(E73=\"\",\"\",IF(OR(LEN(E73)<3,LEN(E73)>4),HLOOKUP($U$9,コード一覧表!$C$2:$Y$1768,VLOOKUP(E73,コード一覧表!$AA$3:$AB$1768,2,0)+1,0),IF(OR(CODE(MID(E73,2,1))=77,CODE(MID(E73,3,1))=77),HLOOKUP($U$9,コード一覧表!$C$1789:$Y$1897,VLOOKUP(E73,コード一覧表!$AA$1789:$AB$1897,2,0)+1,0),HLOOKUP($U$9,コード一覧表!$C$2:$Y$1768,VLOOKUP(E73,コード一覧表!$AA$3:$AB$1768,2,0)+1,0))))","v":""},{"$f":"IF(F73=\"\",\"\",IF(OR(LEN(F73)<3,LEN(F73)>4),HLOOKUP($U$9,コード一覧表!$C$2:$Y$1768,VLOOKUP(F73,コード一覧表!$AA$3:$AB$1768,2,0)+1,0),IF(OR(CODE(MID(F73,2,1))=77,CODE(MID(F73,3,1))=77),HLOOKUP($U$9,コード一覧表!$C$1789:$Y$1897,VLOOKUP(F73,コード一覧表!$AA$1789:$AB$1897,2,0)+1,0),HLOOKUP($U$9,コード一覧表!$C$2:$Y$1768,VLOOKUP(F73,コード一覧表!$AA$3:$AB$1768,2,0)+1,0))))","v":""},{"$f":"IF(G73=\"\",\"\",IF(OR(LEN(G73)<3,LEN(G73)>4),HLOOKUP($U$9,コード一覧表!$C$2:$Y$1768,VLOOKUP(G73,コード一覧表!$AA$3:$AB$1768,2,0)+1,0),IF(OR(CODE(MID(G73,2,1))=77,CODE(MID(G73,3,1))=77),HLOOKUP($U$9,コード一覧表!$C$1789:$Y$1897,VLOOKUP(G73,コード一覧表!$AA$1789:$AB$1897,2,0)+1,0),HLOOKUP($U$9,コード一覧表!$C$2:$Y$1768,VLOOKUP(G73,コード一覧表!$AA$3:$AB$1768,2,0)+1,0))))","v":""},{"$f":"IF(H73=\"\",\"\",IF(OR(LEN(H73)<3,LEN(H73)>4),HLOOKUP($U$9,コード一覧表!$C$2:$Y$1768,VLOOKUP(H73,コード一覧表!$AA$3:$AB$1768,2,0)+1,0),IF(OR(CODE(MID(H73,2,1))=77,CODE(MID(H73,3,1))=77),HLOOKUP($U$9,コード一覧表!$C$1789:$Y$1897,VLOOKUP(H73,コード一覧表!$AA$1789:$AB$1897,2,0)+1,0),HLOOKUP($U$9,コード一覧表!$C$2:$Y$1768,VLOOKUP(H73,コード一覧表!$AA$3:$AB$1768,2,0)+1,0))))","v":""},{"$f":"IF(I73=\"\",\"\",IF(OR(LEN(I73)<3,LEN(I73)>4),HLOOKUP($U$9,コード一覧表!$C$2:$Y$1768,VLOOKUP(I73,コード一覧表!$AA$3:$AB$1768,2,0)+1,0),IF(OR(CODE(MID(I73,2,1))=77,CODE(MID(I73,3,1))=77),HLOOKUP($U$9,コード一覧表!$C$1789:$Y$1897,VLOOKUP(I73,コード一覧表!$AA$1789:$AB$1897,2,0)+1,0),HLOOKUP($U$9,コード一覧表!$C$2:$Y$1768,VLOOKUP(I73,コード一覧表!$AA$3:$AB$1768,2,0)+1,0))))","v":""},{"$f":"IF(J73=\"\",\"\",IF(OR(LEN(J73)<3,LEN(J73)>4),HLOOKUP($U$9,コード一覧表!$C$2:$Y$1768,VLOOKUP(J73,コード一覧表!$AA$3:$AB$1768,2,0)+1,0),IF(OR(CODE(MID(J73,2,1))=77,CODE(MID(J73,3,1))=77),HLOOKUP($U$9,コード一覧表!$C$1789:$Y$1897,VLOOKUP(J73,コード一覧表!$AA$1789:$AB$1897,2,0)+1,0),HLOOKUP($U$9,コード一覧表!$C$2:$Y$1768,VLOOKUP(J73,コード一覧表!$AA$3:$AB$1768,2,0)+1,0))))","v":""},{"$f":"IF(K73=\"\",\"\",IF(OR(LEN(K73)<3,LEN(K73)>4),HLOOKUP($U$9,コード一覧表!$C$2:$Y$1768,VLOOKUP(K73,コード一覧表!$AA$3:$AB$1768,2,0)+1,0),IF(OR(CODE(MID(K73,2,1))=77,CODE(MID(K73,3,1))=77),HLOOKUP($U$9,コード一覧表!$C$1789:$Y$1897,VLOOKUP(K73,コード一覧表!$AA$1789:$AB$1897,2,0)+1,0),HLOOKUP($U$9,コード一覧表!$C$2:$Y$1768,VLOOKUP(K73,コード一覧表!$AA$3:$AB$1768,2,0)+1,0))))","v":""},{"$f":"IF(L73=\"\",\"\",IF(OR(LEN(L73)<3,LEN(L73)>4),HLOOKUP($U$9,コード一覧表!$C$2:$Y$1768,VLOOKUP(L73,コード一覧表!$AA$3:$AB$1768,2,0)+1,0),IF(OR(CODE(MID(L73,2,1))=77,CODE(MID(L73,3,1))=77),HLOOKUP($U$9,コード一覧表!$C$1789:$Y$1897,VLOOKUP(L73,コード一覧表!$AA$1789:$AB$1897,2,0)+1,0),HLOOKUP($U$9,コード一覧表!$C$2:$Y$1768,VLOOKUP(L73,コード一覧表!$AA$3:$AB$1768,2,0)+1,0))))","v":""},{"$f":"IF(M73=\"\",\"\",IF(OR(LEN(M73)<3,LEN(M73)>4),HLOOKUP($U$9,コード一覧表!$C$2:$Y$1768,VLOOKUP(M73,コード一覧表!$AA$3:$AB$1768,2,0)+1,0),IF(OR(CODE(MID(M73,2,1))=77,CODE(MID(M73,3,1))=77),HLOOKUP($U$9,コード一覧表!$C$1789:$Y$1897,VLOOKUP(M73,コード一覧表!$AA$1789:$AB$1897,2,0)+1,0),HLOOKUP($U$9,コード一覧表!$C$2:$Y$1768,VLOOKUP(M73,コード一覧表!$AA$3:$AB$1768,2,0)+1,0))))","v":""},{"$f":"IF(N73=\"\",\"\",IF(OR(LEN(N73)<3,LEN(N73)>4),HLOOKUP($U$9,コード一覧表!$C$2:$Y$1768,VLOOKUP(N73,コード一覧表!$AA$3:$AB$1768,2,0)+1,0),IF(OR(CODE(MID(N73,2,1))=77,CODE(MID(N73,3,1))=77),HLOOKUP($U$9,コード一覧表!$C$1789:$Y$1897,VLOOKUP(N73,コード一覧表!$AA$1789:$AB$1897,2,0)+1,0),HLOOKUP($U$9,コード一覧表!$C$2:$Y$1768,VLOOKUP(N73,コード一覧表!$AA$3:$AB$1768,2,0)+1,0))))","v":""},{"$f":"IF(O73=\"\",\"\",IF(OR(LEN(O73)<3,LEN(O73)>4),HLOOKUP($U$9,コード一覧表!$C$2:$Y$1768,VLOOKUP(O73,コード一覧表!$AA$3:$AB$1768,2,0)+1,0),IF(OR(CODE(MID(O73,2,1))=77,CODE(MID(O73,3,1))=77),HLOOKUP($U$9,コード一覧表!$C$1789:$Y$1897,VLOOKUP(O73,コード一覧表!$AA$1789:$AB$1897,2,0)+1,0),HLOOKUP($U$9,コード一覧表!$C$2:$Y$1768,VLOOKUP(O73,コード一覧表!$AA$3:$AB$1768,2,0)+1,0))))","v":""},{"$f":"IF(P73=\"\",\"\",IF(OR(LEN(P73)<3,LEN(P73)>4),HLOOKUP($U$9,コード一覧表!$C$2:$Y$1768,VLOOKUP(P73,コード一覧表!$AA$3:$AB$1768,2,0)+1,0),IF(OR(CODE(MID(P73,2,1))=77,CODE(MID(P73,3,1))=77),HLOOKUP($U$9,コード一覧表!$C$1789:$Y$1897,VLOOKUP(P73,コード一覧表!$AA$1789:$AB$1897,2,0)+1,0),HLOOKUP($U$9,コード一覧表!$C$2:$Y$1768,VLOOKUP(P73,コード一覧表!$AA$3:$AB$1768,2,0)+1,0))))","v":""},{"$f":"IF(Q73=\"\",\"\",IF(OR(LEN(Q73)<3,LEN(Q73)>4),HLOOKUP($U$9,コード一覧表!$C$2:$Y$1768,VLOOKUP(Q73,コード一覧表!$AA$3:$AB$1768,2,0)+1,0),IF(OR(CODE(MID(Q73,2,1))=77,CODE(MID(Q73,3,1))=77),HLOOKUP($U$9,コード一覧表!$C$1789:$Y$1897,VLOOKUP(Q73,コード一覧表!$AA$1789:$AB$1897,2,0)+1,0),HLOOKUP($U$9,コード一覧表!$C$2:$Y$1768,VLOOKUP(Q73,コード一覧表!$AA$3:$AB$1768,2,0)+1,0))))","v":""}]
[]
[null,null,null,null,null,null,null,null,null,null,null,null,null,null,null,null,null,null,"入力行25"]
[null,{"$f":"IF(B76=\"\",\"\",IF(OR(LEN(B76)<3,LEN(B76)>4),HLOOKUP($U$9,コード一覧表!$C$2:$Y$1768,VLOOKUP(B76,コード一覧表!$AA$3:$AB$1768,2,0)+1,0),IF(OR(CODE(MID(B76,2,1))=77,CODE(MID(B76,3,1))=77),HLOOKUP($U$9,コード一覧表!$C$1789:$Y$1897,VLOOKUP(B76,コード一覧表!$AA$1789:$AB$1897,2,0)+1,0),HLOOKUP($U$9,コード一覧表!$C$2:$Y$1768,VLOOKUP(B76,コード一覧表!$AA$3:$AB$1768,2,0)+1,0))))","v":""},{"$f":"IF(C76=\"\",\"\",IF(OR(LEN(C76)<3,LEN(C76)>4),HLOOKUP($U$9,コード一覧表!$C$2:$Y$1768,VLOOKUP(C76,コード一覧表!$AA$3:$AB$1768,2,0)+1,0),IF(OR(CODE(MID(C76,2,1))=77,CODE(MID(C76,3,1))=77),HLOOKUP($U$9,コード一覧表!$C$1789:$Y$1897,VLOOKUP(C76,コード一覧表!$AA$1789:$AB$1897,2,0)+1,0),HLOOKUP($U$9,コード一覧表!$C$2:$Y$1768,VLOOKUP(C76,コード一覧表!$AA$3:$AB$1768,2,0)+1,0))))","v":""},{"$f":"IF(D76=\"\",\"\",IF(OR(LEN(D76)<3,LEN(D76)>4),HLOOKUP($U$9,コード一覧表!$C$2:$Y$1768,VLOOKUP(D76,コード一覧表!$AA$3:$AB$1768,2,0)+1,0),IF(OR(CODE(MID(D76,2,1))=77,CODE(MID(D76,3,1))=77),HLOOKUP($U$9,コード一覧表!$C$1789:$Y$1897,VLOOKUP(D76,コード一覧表!$AA$1789:$AB$1897,2,0)+1,0),HLOOKUP($U$9,コード一覧表!$C$2:$Y$1768,VLOOKUP(D76,コード一覧表!$AA$3:$AB$1768,2,0)+1,0))))","v":""},{"$f":"IF(E76=\"\",\"\",IF(OR(LEN(E76)<3,LEN(E76)>4),HLOOKUP($U$9,コード一覧表!$C$2:$Y$1768,VLOOKUP(E76,コード一覧表!$AA$3:$AB$1768,2,0)+1,0),IF(OR(CODE(MID(E76,2,1))=77,CODE(MID(E76,3,1))=77),HLOOKUP($U$9,コード一覧表!$C$1789:$Y$1897,VLOOKUP(E76,コード一覧表!$AA$1789:$AB$1897,2,0)+1,0),HLOOKUP($U$9,コード一覧表!$C$2:$Y$1768,VLOOKUP(E76,コード一覧表!$AA$3:$AB$1768,2,0)+1,0))))","v":""},{"$f":"IF(F76=\"\",\"\",IF(OR(LEN(F76)<3,LEN(F76)>4),HLOOKUP($U$9,コード一覧表!$C$2:$Y$1768,VLOOKUP(F76,コード一覧表!$AA$3:$AB$1768,2,0)+1,0),IF(OR(CODE(MID(F76,2,1))=77,CODE(MID(F76,3,1))=77),HLOOKUP($U$9,コード一覧表!$C$1789:$Y$1897,VLOOKUP(F76,コード一覧表!$AA$1789:$AB$1897,2,0)+1,0),HLOOKUP($U$9,コード一覧表!$C$2:$Y$1768,VLOOKUP(F76,コード一覧表!$AA$3:$AB$1768,2,0)+1,0))))","v":""},{"$f":"IF(G76=\"\",\"\",IF(OR(LEN(G76)<3,LEN(G76)>4),HLOOKUP($U$9,コード一覧表!$C$2:$Y$1768,VLOOKUP(G76,コード一覧表!$AA$3:$AB$1768,2,0)+1,0),IF(OR(CODE(MID(G76,2,1))=77,CODE(MID(G76,3,1))=77),HLOOKUP($U$9,コード一覧表!$C$1789:$Y$1897,VLOOKUP(G76,コード一覧表!$AA$1789:$AB$1897,2,0)+1,0),HLOOKUP($U$9,コード一覧表!$C$2:$Y$1768,VLOOKUP(G76,コード一覧表!$AA$3:$AB$1768,2,0)+1,0))))","v":""},{"$f":"IF(H76=\"\",\"\",IF(OR(LEN(H76)<3,LEN(H76)>4),HLOOKUP($U$9,コード一覧表!$C$2:$Y$1768,VLOOKUP(H76,コード一覧表!$AA$3:$AB$1768,2,0)+1,0),IF(OR(CODE(MID(H76,2,1))=77,CODE(MID(H76,3,1))=77),HLOOKUP($U$9,コード一覧表!$C$1789:$Y$1897,VLOOKUP(H76,コード一覧表!$AA$1789:$AB$1897,2,0)+1,0),HLOOKUP($U$9,コード一覧表!$C$2:$Y$1768,VLOOKUP(H76,コード一覧表!$AA$3:$AB$1768,2,0)+1,0))))","v":""},{"$f":"IF(I76=\"\",\"\",IF(OR(LEN(I76)<3,LEN(I76)>4),HLOOKUP($U$9,コード一覧表!$C$2:$Y$1768,VLOOKUP(I76,コード一覧表!$AA$3:$AB$1768,2,0)+1,0),IF(OR(CODE(MID(I76,2,1))=77,CODE(MID(I76,3,1))=77),HLOOKUP($U$9,コード一覧表!$C$1789:$Y$1897,VLOOKUP(I76,コード一覧表!$AA$1789:$AB$1897,2,0)+1,0),HLOOKUP($U$9,コード一覧表!$C$2:$Y$1768,VLOOKUP(I76,コード一覧表!$AA$3:$AB$1768,2,0)+1,0))))","v":""},{"$f":"IF(J76=\"\",\"\",IF(OR(LEN(J76)<3,LEN(J76)>4),HLOOKUP($U$9,コード一覧表!$C$2:$Y$1768,VLOOKUP(J76,コード一覧表!$AA$3:$AB$1768,2,0)+1,0),IF(OR(CODE(MID(J76,2,1))=77,CODE(MID(J76,3,1))=77),HLOOKUP($U$9,コード一覧表!$C$1789:$Y$1897,VLOOKUP(J76,コード一覧表!$AA$1789:$AB$1897,2,0)+1,0),HLOOKUP($U$9,コード一覧表!$C$2:$Y$1768,VLOOKUP(J76,コード一覧表!$AA$3:$AB$1768,2,0)+1,0))))","v":""},{"$f":"IF(K76=\"\",\"\",IF(OR(LEN(K76)<3,LEN(K76)>4),HLOOKUP($U$9,コード一覧表!$C$2:$Y$1768,VLOOKUP(K76,コード一覧表!$AA$3:$AB$1768,2,0)+1,0),IF(OR(CODE(MID(K76,2,1))=77,CODE(MID(K76,3,1))=77),HLOOKUP($U$9,コード一覧表!$C$1789:$Y$1897,VLOOKUP(K76,コード一覧表!$AA$1789:$AB$1897,2,0)+1,0),HLOOKUP($U$9,コード一覧表!$C$2:$Y$1768,VLOOKUP(K76,コード一覧表!$AA$3:$AB$1768,2,0)+1,0))))","v":""},{"$f":"IF(L76=\"\",\"\",IF(OR(LEN(L76)<3,LEN(L76)>4),HLOOKUP($U$9,コード一覧表!$C$2:$Y$1768,VLOOKUP(L76,コード一覧表!$AA$3:$AB$1768,2,0)+1,0),IF(OR(CODE(MID(L76,2,1))=77,CODE(MID(L76,3,1))=77),HLOOKUP($U$9,コード一覧表!$C$1789:$Y$1897,VLOOKUP(L76,コード一覧表!$AA$1789:$AB$1897,2,0)+1,0),HLOOKUP($U$9,コード一覧表!$C$2:$Y$1768,VLOOKUP(L76,コード一覧表!$AA$3:$AB$1768,2,0)+1,0))))","v":""},{"$f":"IF(M76=\"\",\"\",IF(OR(LEN(M76)<3,LEN(M76)>4),HLOOKUP($U$9,コード一覧表!$C$2:$Y$1768,VLOOKUP(M76,コード一覧表!$AA$3:$AB$1768,2,0)+1,0),IF(OR(CODE(MID(M76,2,1))=77,CODE(MID(M76,3,1))=77),HLOOKUP($U$9,コード一覧表!$C$1789:$Y$1897,VLOOKUP(M76,コード一覧表!$AA$1789:$AB$1897,2,0)+1,0),HLOOKUP($U$9,コード一覧表!$C$2:$Y$1768,VLOOKUP(M76,コード一覧表!$AA$3:$AB$1768,2,0)+1,0))))","v":""},{"$f":"IF(N76=\"\",\"\",IF(OR(LEN(N76)<3,LEN(N76)>4),HLOOKUP($U$9,コード一覧表!$C$2:$Y$1768,VLOOKUP(N76,コード一覧表!$AA$3:$AB$1768,2,0)+1,0),IF(OR(CODE(MID(N76,2,1))=77,CODE(MID(N76,3,1))=77),HLOOKUP($U$9,コード一覧表!$C$1789:$Y$1897,VLOOKUP(N76,コード一覧表!$AA$1789:$AB$1897,2,0)+1,0),HLOOKUP($U$9,コード一覧表!$C$2:$Y$1768,VLOOKUP(N76,コード一覧表!$AA$3:$AB$1768,2,0)+1,0))))","v":""},{"$f":"IF(O76=\"\",\"\",IF(OR(LEN(O76)<3,LEN(O76)>4),HLOOKUP($U$9,コード一覧表!$C$2:$Y$1768,VLOOKUP(O76,コード一覧表!$AA$3:$AB$1768,2,0)+1,0),IF(OR(CODE(MID(O76,2,1))=77,CODE(MID(O76,3,1))=77),HLOOKUP($U$9,コード一覧表!$C$1789:$Y$1897,VLOOKUP(O76,コード一覧表!$AA$1789:$AB$1897,2,0)+1,0),HLOOKUP($U$9,コード一覧表!$C$2:$Y$1768,VLOOKUP(O76,コード一覧表!$AA$3:$AB$1768,2,0)+1,0))))","v":""},{"$f":"IF(P76=\"\",\"\",IF(OR(LEN(P76)<3,LEN(P76)>4),HLOOKUP($U$9,コード一覧表!$C$2:$Y$1768,VLOOKUP(P76,コード一覧表!$AA$3:$AB$1768,2,0)+1,0),IF(OR(CODE(MID(P76,2,1))=77,CODE(MID(P76,3,1))=77),HLOOKUP($U$9,コード一覧表!$C$1789:$Y$1897,VLOOKUP(P76,コード一覧表!$AA$1789:$AB$1897,2,0)+1,0),HLOOKUP($U$9,コード一覧表!$C$2:$Y$1768,VLOOKUP(P76,コード一覧表!$AA$3:$AB$1768,2,0)+1,0))))","v":""},{"$f":"IF(Q76=\"\",\"\",IF(OR(LEN(Q76)<3,LEN(Q76)>4),HLOOKUP($U$9,コード一覧表!$C$2:$Y$1768,VLOOKUP(Q76,コード一覧表!$AA$3:$AB$1768,2,0)+1,0),IF(OR(CODE(MID(Q76,2,1))=77,CODE(MID(Q76,3,1))=77),HLOOKUP($U$9,コード一覧表!$C$1789:$Y$1897,VLOOKUP(Q76,コード一覧表!$AA$1789:$AB$1897,2,0)+1,0),HLOOKUP($U$9,コード一覧表!$C$2:$Y$1768,VLOOKUP(Q76,コード一覧表!$AA$3:$AB$1768,2,0)+1,0))))","v":""}]
[]
[null,null,null,null,null,null,null,null,null,null,null,null,null,null,null,null,null,null,"入力行26"]
[null,{"$f":"IF(B79=\"\",\"\",IF(OR(LEN(B79)<3,LEN(B79)>4),HLOOKUP($U$9,コード一覧表!$C$2:$Y$1768,VLOOKUP(B79,コード一覧表!$AA$3:$AB$1768,2,0)+1,0),IF(OR(CODE(MID(B79,2,1))=77,CODE(MID(B79,3,1))=77),HLOOKUP($U$9,コード一覧表!$C$1789:$Y$1897,VLOOKUP(B79,コード一覧表!$AA$1789:$AB$1897,2,0)+1,0),HLOOKUP($U$9,コード一覧表!$C$2:$Y$1768,VLOOKUP(B79,コード一覧表!$AA$3:$AB$1768,2,0)+1,0))))","v":""},{"$f":"IF(C79=\"\",\"\",IF(OR(LEN(C79)<3,LEN(C79)>4),HLOOKUP($U$9,コード一覧表!$C$2:$Y$1768,VLOOKUP(C79,コード一覧表!$AA$3:$AB$1768,2,0)+1,0),IF(OR(CODE(MID(C79,2,1))=77,CODE(MID(C79,3,1))=77),HLOOKUP($U$9,コード一覧表!$C$1789:$Y$1897,VLOOKUP(C79,コード一覧表!$AA$1789:$AB$1897,2,0)+1,0),HLOOKUP($U$9,コード一覧表!$C$2:$Y$1768,VLOOKUP(C79,コード一覧表!$AA$3:$AB$1768,2,0)+1,0))))","v":""},{"$f":"IF(D79=\"\",\"\",IF(OR(LEN(D79)<3,LEN(D79)>4),HLOOKUP($U$9,コード一覧表!$C$2:$Y$1768,VLOOKUP(D79,コード一覧表!$AA$3:$AB$1768,2,0)+1,0),IF(OR(CODE(MID(D79,2,1))=77,CODE(MID(D79,3,1))=77),HLOOKUP($U$9,コード一覧表!$C$1789:$Y$1897,VLOOKUP(D79,コード一覧表!$AA$1789:$AB$1897,2,0)+1,0),HLOOKUP($U$9,コード一覧表!$C$2:$Y$1768,VLOOKUP(D79,コード一覧表!$AA$3:$AB$1768,2,0)+1,0))))","v":""},{"$f":"IF(E79=\"\",\"\",IF(OR(LEN(E79)<3,LEN(E79)>4),HLOOKUP($U$9,コード一覧表!$C$2:$Y$1768,VLOOKUP(E79,コード一覧表!$AA$3:$AB$1768,2,0)+1,0),IF(OR(CODE(MID(E79,2,1))=77,CODE(MID(E79,3,1))=77),HLOOKUP($U$9,コード一覧表!$C$1789:$Y$1897,VLOOKUP(E79,コード一覧表!$AA$1789:$AB$1897,2,0)+1,0),HLOOKUP($U$9,コード一覧表!$C$2:$Y$1768,VLOOKUP(E79,コード一覧表!$AA$3:$AB$1768,2,0)+1,0))))","v":""},{"$f":"IF(F79=\"\",\"\",IF(OR(LEN(F79)<3,LEN(F79)>4),HLOOKUP($U$9,コード一覧表!$C$2:$Y$1768,VLOOKUP(F79,コード一覧表!$AA$3:$AB$1768,2,0)+1,0),IF(OR(CODE(MID(F79,2,1))=77,CODE(MID(F79,3,1))=77),HLOOKUP($U$9,コード一覧表!$C$1789:$Y$1897,VLOOKUP(F79,コード一覧表!$AA$1789:$AB$1897,2,0)+1,0),HLOOKUP($U$9,コード一覧表!$C$2:$Y$1768,VLOOKUP(F79,コード一覧表!$AA$3:$AB$1768,2,0)+1,0))))","v":""},{"$f":"IF(G79=\"\",\"\",IF(OR(LEN(G79)<3,LEN(G79)>4),HLOOKUP($U$9,コード一覧表!$C$2:$Y$1768,VLOOKUP(G79,コード一覧表!$AA$3:$AB$1768,2,0)+1,0),IF(OR(CODE(MID(G79,2,1))=77,CODE(MID(G79,3,1))=77),HLOOKUP($U$9,コード一覧表!$C$1789:$Y$1897,VLOOKUP(G79,コード一覧表!$AA$1789:$AB$1897,2,0)+1,0),HLOOKUP($U$9,コード一覧表!$C$2:$Y$1768,VLOOKUP(G79,コード一覧表!$AA$3:$AB$1768,2,0)+1,0))))","v":""},{"$f":"IF(H79=\"\",\"\",IF(OR(LEN(H79)<3,LEN(H79)>4),HLOOKUP($U$9,コード一覧表!$C$2:$Y$1768,VLOOKUP(H79,コード一覧表!$AA$3:$AB$1768,2,0)+1,0),IF(OR(CODE(MID(H79,2,1))=77,CODE(MID(H79,3,1))=77),HLOOKUP($U$9,コード一覧表!$C$1789:$Y$1897,VLOOKUP(H79,コード一覧表!$AA$1789:$AB$1897,2,0)+1,0),HLOOKUP($U$9,コード一覧表!$C$2:$Y$1768,VLOOKUP(H79,コード一覧表!$AA$3:$AB$1768,2,0)+1,0))))","v":""},{"$f":"IF(I79=\"\",\"\",IF(OR(LEN(I79)<3,LEN(I79)>4),HLOOKUP($U$9,コード一覧表!$C$2:$Y$1768,VLOOKUP(I79,コード一覧表!$AA$3:$AB$1768,2,0)+1,0),IF(OR(CODE(MID(I79,2,1))=77,CODE(MID(I79,3,1))=77),HLOOKUP($U$9,コード一覧表!$C$1789:$Y$1897,VLOOKUP(I79,コード一覧表!$AA$1789:$AB$1897,2,0)+1,0),HLOOKUP($U$9,コード一覧表!$C$2:$Y$1768,VLOOKUP(I79,コード一覧表!$AA$3:$AB$1768,2,0)+1,0))))","v":""},{"$f":"IF(J79=\"\",\"\",IF(OR(LEN(J79)<3,LEN(J79)>4),HLOOKUP($U$9,コード一覧表!$C$2:$Y$1768,VLOOKUP(J79,コード一覧表!$AA$3:$AB$1768,2,0)+1,0),IF(OR(CODE(MID(J79,2,1))=77,CODE(MID(J79,3,1))=77),HLOOKUP($U$9,コード一覧表!$C$1789:$Y$1897,VLOOKUP(J79,コード一覧表!$AA$1789:$AB$1897,2,0)+1,0),HLOOKUP($U$9,コード一覧表!$C$2:$Y$1768,VLOOKUP(J79,コード一覧表!$AA$3:$AB$1768,2,0)+1,0))))","v":""},{"$f":"IF(K79=\"\",\"\",IF(OR(LEN(K79)<3,LEN(K79)>4),HLOOKUP($U$9,コード一覧表!$C$2:$Y$1768,VLOOKUP(K79,コード一覧表!$AA$3:$AB$1768,2,0)+1,0),IF(OR(CODE(MID(K79,2,1))=77,CODE(MID(K79,3,1))=77),HLOOKUP($U$9,コード一覧表!$C$1789:$Y$1897,VLOOKUP(K79,コード一覧表!$AA$1789:$AB$1897,2,0)+1,0),HLOOKUP($U$9,コード一覧表!$C$2:$Y$1768,VLOOKUP(K79,コード一覧表!$AA$3:$AB$1768,2,0)+1,0))))","v":""},{"$f":"IF(L79=\"\",\"\",IF(OR(LEN(L79)<3,LEN(L79)>4),HLOOKUP($U$9,コード一覧表!$C$2:$Y$1768,VLOOKUP(L79,コード一覧表!$AA$3:$AB$1768,2,0)+1,0),IF(OR(CODE(MID(L79,2,1))=77,CODE(MID(L79,3,1))=77),HLOOKUP($U$9,コード一覧表!$C$1789:$Y$1897,VLOOKUP(L79,コード一覧表!$AA$1789:$AB$1897,2,0)+1,0),HLOOKUP($U$9,コード一覧表!$C$2:$Y$1768,VLOOKUP(L79,コード一覧表!$AA$3:$AB$1768,2,0)+1,0))))","v":""},{"$f":"IF(M79=\"\",\"\",IF(OR(LEN(M79)<3,LEN(M79)>4),HLOOKUP($U$9,コード一覧表!$C$2:$Y$1768,VLOOKUP(M79,コード一覧表!$AA$3:$AB$1768,2,0)+1,0),IF(OR(CODE(MID(M79,2,1))=77,CODE(MID(M79,3,1))=77),HLOOKUP($U$9,コード一覧表!$C$1789:$Y$1897,VLOOKUP(M79,コード一覧表!$AA$1789:$AB$1897,2,0)+1,0),HLOOKUP($U$9,コード一覧表!$C$2:$Y$1768,VLOOKUP(M79,コード一覧表!$AA$3:$AB$1768,2,0)+1,0))))","v":""},{"$f":"IF(N79=\"\",\"\",IF(OR(LEN(N79)<3,LEN(N79)>4),HLOOKUP($U$9,コード一覧表!$C$2:$Y$1768,VLOOKUP(N79,コード一覧表!$AA$3:$AB$1768,2,0)+1,0),IF(OR(CODE(MID(N79,2,1))=77,CODE(MID(N79,3,1))=77),HLOOKUP($U$9,コード一覧表!$C$1789:$Y$1897,VLOOKUP(N79,コード一覧表!$AA$1789:$AB$1897,2,0)+1,0),HLOOKUP($U$9,コード一覧表!$C$2:$Y$1768,VLOOKUP(N79,コード一覧表!$AA$3:$AB$1768,2,0)+1,0))))","v":""},{"$f":"IF(O79=\"\",\"\",IF(OR(LEN(O79)<3,LEN(O79)>4),HLOOKUP($U$9,コード一覧表!$C$2:$Y$1768,VLOOKUP(O79,コード一覧表!$AA$3:$AB$1768,2,0)+1,0),IF(OR(CODE(MID(O79,2,1))=77,CODE(MID(O79,3,1))=77),HLOOKUP($U$9,コード一覧表!$C$1789:$Y$1897,VLOOKUP(O79,コード一覧表!$AA$1789:$AB$1897,2,0)+1,0),HLOOKUP($U$9,コード一覧表!$C$2:$Y$1768,VLOOKUP(O79,コード一覧表!$AA$3:$AB$1768,2,0)+1,0))))","v":""},{"$f":"IF(P79=\"\",\"\",IF(OR(LEN(P79)<3,LEN(P79)>4),HLOOKUP($U$9,コード一覧表!$C$2:$Y$1768,VLOOKUP(P79,コード一覧表!$AA$3:$AB$1768,2,0)+1,0),IF(OR(CODE(MID(P79,2,1))=77,CODE(MID(P79,3,1))=77),HLOOKUP($U$9,コード一覧表!$C$1789:$Y$1897,VLOOKUP(P79,コード一覧表!$AA$1789:$AB$1897,2,0)+1,0),HLOOKUP($U$9,コード一覧表!$C$2:$Y$1768,VLOOKUP(P79,コード一覧表!$AA$3:$AB$1768,2,0)+1,0))))","v":""},{"$f":"IF(Q79=\"\",\"\",IF(OR(LEN(Q79)<3,LEN(Q79)>4),HLOOKUP($U$9,コード一覧表!$C$2:$Y$1768,VLOOKUP(Q79,コード一覧表!$AA$3:$AB$1768,2,0)+1,0),IF(OR(CODE(MID(Q79,2,1))=77,CODE(MID(Q79,3,1))=77),HLOOKUP($U$9,コード一覧表!$C$1789:$Y$1897,VLOOKUP(Q79,コード一覧表!$AA$1789:$AB$1897,2,0)+1,0),HLOOKUP($U$9,コード一覧表!$C$2:$Y$1768,VLOOKUP(Q79,コード一覧表!$AA$3:$AB$1768,2,0)+1,0))))","v":""}]
[]
[null,null,null,null,null,null,null,null,null,null,null,null,null,null,null,null,null,null,"入力行27"]
[null,{"$f":"IF(B82=\"\",\"\",IF(OR(LEN(B82)<3,LEN(B82)>4),HLOOKUP($U$9,コード一覧表!$C$2:$Y$1768,VLOOKUP(B82,コード一覧表!$AA$3:$AB$1768,2,0)+1,0),IF(OR(CODE(MID(B82,2,1))=77,CODE(MID(B82,3,1))=77),HLOOKUP($U$9,コード一覧表!$C$1789:$Y$1897,VLOOKUP(B82,コード一覧表!$AA$1789:$AB$1897,2,0)+1,0),HLOOKUP($U$9,コード一覧表!$C$2:$Y$1768,VLOOKUP(B82,コード一覧表!$AA$3:$AB$1768,2,0)+1,0))))","v":""},{"$f":"IF(C82=\"\",\"\",IF(OR(LEN(C82)<3,LEN(C82)>4),HLOOKUP($U$9,コード一覧表!$C$2:$Y$1768,VLOOKUP(C82,コード一覧表!$AA$3:$AB$1768,2,0)+1,0),IF(OR(CODE(MID(C82,2,1))=77,CODE(MID(C82,3,1))=77),HLOOKUP($U$9,コード一覧表!$C$1789:$Y$1897,VLOOKUP(C82,コード一覧表!$AA$1789:$AB$1897,2,0)+1,0),HLOOKUP($U$9,コード一覧表!$C$2:$Y$1768,VLOOKUP(C82,コード一覧表!$AA$3:$AB$1768,2,0)+1,0))))","v":""},{"$f":"IF(D82=\"\",\"\",IF(OR(LEN(D82)<3,LEN(D82)>4),HLOOKUP($U$9,コード一覧表!$C$2:$Y$1768,VLOOKUP(D82,コード一覧表!$AA$3:$AB$1768,2,0)+1,0),IF(OR(CODE(MID(D82,2,1))=77,CODE(MID(D82,3,1))=77),HLOOKUP($U$9,コード一覧表!$C$1789:$Y$1897,VLOOKUP(D82,コード一覧表!$AA$1789:$AB$1897,2,0)+1,0),HLOOKUP($U$9,コード一覧表!$C$2:$Y$1768,VLOOKUP(D82,コード一覧表!$AA$3:$AB$1768,2,0)+1,0))))","v":""},{"$f":"IF(E82=\"\",\"\",IF(OR(LEN(E82)<3,LEN(E82)>4),HLOOKUP($U$9,コード一覧表!$C$2:$Y$1768,VLOOKUP(E82,コード一覧表!$AA$3:$AB$1768,2,0)+1,0),IF(OR(CODE(MID(E82,2,1))=77,CODE(MID(E82,3,1))=77),HLOOKUP($U$9,コード一覧表!$C$1789:$Y$1897,VLOOKUP(E82,コード一覧表!$AA$1789:$AB$1897,2,0)+1,0),HLOOKUP($U$9,コード一覧表!$C$2:$Y$1768,VLOOKUP(E82,コード一覧表!$AA$3:$AB$1768,2,0)+1,0))))","v":""},{"$f":"IF(F82=\"\",\"\",IF(OR(LEN(F82)<3,LEN(F82)>4),HLOOKUP($U$9,コード一覧表!$C$2:$Y$1768,VLOOKUP(F82,コード一覧表!$AA$3:$AB$1768,2,0)+1,0),IF(OR(CODE(MID(F82,2,1))=77,CODE(MID(F82,3,1))=77),HLOOKUP($U$9,コード一覧表!$C$1789:$Y$1897,VLOOKUP(F82,コード一覧表!$AA$1789:$AB$1897,2,0)+1,0),HLOOKUP($U$9,コード一覧表!$C$2:$Y$1768,VLOOKUP(F82,コード一覧表!$AA$3:$AB$1768,2,0)+1,0))))","v":""},{"$f":"IF(G82=\"\",\"\",IF(OR(LEN(G82)<3,LEN(G82)>4),HLOOKUP($U$9,コード一覧表!$C$2:$Y$1768,VLOOKUP(G82,コード一覧表!$AA$3:$AB$1768,2,0)+1,0),IF(OR(CODE(MID(G82,2,1))=77,CODE(MID(G82,3,1))=77),HLOOKUP($U$9,コード一覧表!$C$1789:$Y$1897,VLOOKUP(G82,コード一覧表!$AA$1789:$AB$1897,2,0)+1,0),HLOOKUP($U$9,コード一覧表!$C$2:$Y$1768,VLOOKUP(G82,コード一覧表!$AA$3:$AB$1768,2,0)+1,0))))","v":""},{"$f":"IF(H82=\"\",\"\",IF(OR(LEN(H82)<3,LEN(H82)>4),HLOOKUP($U$9,コード一覧表!$C$2:$Y$1768,VLOOKUP(H82,コード一覧表!$AA$3:$AB$1768,2,0)+1,0),IF(OR(CODE(MID(H82,2,1))=77,CODE(MID(H82,3,1))=77),HLOOKUP($U$9,コード一覧表!$C$1789:$Y$1897,VLOOKUP(H82,コード一覧表!$AA$1789:$AB$1897,2,0)+1,0),HLOOKUP($U$9,コード一覧表!$C$2:$Y$1768,VLOOKUP(H82,コード一覧表!$AA$3:$AB$1768,2,0)+1,0))))","v":""},{"$f":"IF(I82=\"\",\"\",IF(OR(LEN(I82)<3,LEN(I82)>4),HLOOKUP($U$9,コード一覧表!$C$2:$Y$1768,VLOOKUP(I82,コード一覧表!$AA$3:$AB$1768,2,0)+1,0),IF(OR(CODE(MID(I82,2,1))=77,CODE(MID(I82,3,1))=77),HLOOKUP($U$9,コード一覧表!$C$1789:$Y$1897,VLOOKUP(I82,コード一覧表!$AA$1789:$AB$1897,2,0)+1,0),HLOOKUP($U$9,コード一覧表!$C$2:$Y$1768,VLOOKUP(I82,コード一覧表!$AA$3:$AB$1768,2,0)+1,0))))","v":""},{"$f":"IF(J82=\"\",\"\",IF(OR(LEN(J82)<3,LEN(J82)>4),HLOOKUP($U$9,コード一覧表!$C$2:$Y$1768,VLOOKUP(J82,コード一覧表!$AA$3:$AB$1768,2,0)+1,0),IF(OR(CODE(MID(J82,2,1))=77,CODE(MID(J82,3,1))=77),HLOOKUP($U$9,コード一覧表!$C$1789:$Y$1897,VLOOKUP(J82,コード一覧表!$AA$1789:$AB$1897,2,0)+1,0),HLOOKUP($U$9,コード一覧表!$C$2:$Y$1768,VLOOKUP(J82,コード一覧表!$AA$3:$AB$1768,2,0)+1,0))))","v":""},{"$f":"IF(K82=\"\",\"\",IF(OR(LEN(K82)<3,LEN(K82)>4),HLOOKUP($U$9,コード一覧表!$C$2:$Y$1768,VLOOKUP(K82,コード一覧表!$AA$3:$AB$1768,2,0)+1,0),IF(OR(CODE(MID(K82,2,1))=77,CODE(MID(K82,3,1))=77),HLOOKUP($U$9,コード一覧表!$C$1789:$Y$1897,VLOOKUP(K82,コード一覧表!$AA$1789:$AB$1897,2,0)+1,0),HLOOKUP($U$9,コード一覧表!$C$2:$Y$1768,VLOOKUP(K82,コード一覧表!$AA$3:$AB$1768,2,0)+1,0))))","v":""},{"$f":"IF(L82=\"\",\"\",IF(OR(LEN(L82)<3,LEN(L82)>4),HLOOKUP($U$9,コード一覧表!$C$2:$Y$1768,VLOOKUP(L82,コード一覧表!$AA$3:$AB$1768,2,0)+1,0),IF(OR(CODE(MID(L82,2,1))=77,CODE(MID(L82,3,1))=77),HLOOKUP($U$9,コード一覧表!$C$1789:$Y$1897,VLOOKUP(L82,コード一覧表!$AA$1789:$AB$1897,2,0)+1,0),HLOOKUP($U$9,コード一覧表!$C$2:$Y$1768,VLOOKUP(L82,コード一覧表!$AA$3:$AB$1768,2,0)+1,0))))","v":""},{"$f":"IF(M82=\"\",\"\",IF(OR(LEN(M82)<3,LEN(M82)>4),HLOOKUP($U$9,コード一覧表!$C$2:$Y$1768,VLOOKUP(M82,コード一覧表!$AA$3:$AB$1768,2,0)+1,0),IF(OR(CODE(MID(M82,2,1))=77,CODE(MID(M82,3,1))=77),HLOOKUP($U$9,コード一覧表!$C$1789:$Y$1897,VLOOKUP(M82,コード一覧表!$AA$1789:$AB$1897,2,0)+1,0),HLOOKUP($U$9,コード一覧表!$C$2:$Y$1768,VLOOKUP(M82,コード一覧表!$AA$3:$AB$1768,2,0)+1,0))))","v":""},{"$f":"IF(N82=\"\",\"\",IF(OR(LEN(N82)<3,LEN(N82)>4),HLOOKUP($U$9,コード一覧表!$C$2:$Y$1768,VLOOKUP(N82,コード一覧表!$AA$3:$AB$1768,2,0)+1,0),IF(OR(CODE(MID(N82,2,1))=77,CODE(MID(N82,3,1))=77),HLOOKUP($U$9,コード一覧表!$C$1789:$Y$1897,VLOOKUP(N82,コード一覧表!$AA$1789:$AB$1897,2,0)+1,0),HLOOKUP($U$9,コード一覧表!$C$2:$Y$1768,VLOOKUP(N82,コード一覧表!$AA$3:$AB$1768,2,0)+1,0))))","v":""},{"$f":"IF(O82=\"\",\"\",IF(OR(LEN(O82)<3,LEN(O82)>4),HLOOKUP($U$9,コード一覧表!$C$2:$Y$1768,VLOOKUP(O82,コード一覧表!$AA$3:$AB$1768,2,0)+1,0),IF(OR(CODE(MID(O82,2,1))=77,CODE(MID(O82,3,1))=77),HLOOKUP($U$9,コード一覧表!$C$1789:$Y$1897,VLOOKUP(O82,コード一覧表!$AA$1789:$AB$1897,2,0)+1,0),HLOOKUP($U$9,コード一覧表!$C$2:$Y$1768,VLOOKUP(O82,コード一覧表!$AA$3:$AB$1768,2,0)+1,0))))","v":""},{"$f":"IF(P82=\"\",\"\",IF(OR(LEN(P82)<3,LEN(P82)>4),HLOOKUP($U$9,コード一覧表!$C$2:$Y$1768,VLOOKUP(P82,コード一覧表!$AA$3:$AB$1768,2,0)+1,0),IF(OR(CODE(MID(P82,2,1))=77,CODE(MID(P82,3,1))=77),HLOOKUP($U$9,コード一覧表!$C$1789:$Y$1897,VLOOKUP(P82,コード一覧表!$AA$1789:$AB$1897,2,0)+1,0),HLOOKUP($U$9,コード一覧表!$C$2:$Y$1768,VLOOKUP(P82,コード一覧表!$AA$3:$AB$1768,2,0)+1,0))))","v":""},{"$f":"IF(Q82=\"\",\"\",IF(OR(LEN(Q82)<3,LEN(Q82)>4),HLOOKUP($U$9,コード一覧表!$C$2:$Y$1768,VLOOKUP(Q82,コード一覧表!$AA$3:$AB$1768,2,0)+1,0),IF(OR(CODE(MID(Q82,2,1))=77,CODE(MID(Q82,3,1))=77),HLOOKUP($U$9,コード一覧表!$C$1789:$Y$1897,VLOOKUP(Q82,コード一覧表!$AA$1789:$AB$1897,2,0)+1,0),HLOOKUP($U$9,コード一覧表!$C$2:$Y$1768,VLOOKUP(Q82,コード一覧表!$AA$3:$AB$1768,2,0)+1,0))))","v":""}]
[]
[null,null,null,null,null,null,null,null,null,null,null,null,null,null,null,null,null,null,"入力行28"]
[null,{"$f":"IF(B85=\"\",\"\",IF(OR(LEN(B85)<3,LEN(B85)>4),HLOOKUP($U$9,コード一覧表!$C$2:$Y$1768,VLOOKUP(B85,コード一覧表!$AA$3:$AB$1768,2,0)+1,0),IF(OR(CODE(MID(B85,2,1))=77,CODE(MID(B85,3,1))=77),HLOOKUP($U$9,コード一覧表!$C$1789:$Y$1897,VLOOKUP(B85,コード一覧表!$AA$1789:$AB$1897,2,0)+1,0),HLOOKUP($U$9,コード一覧表!$C$2:$Y$1768,VLOOKUP(B85,コード一覧表!$AA$3:$AB$1768,2,0)+1,0))))","v":""},{"$f":"IF(C85=\"\",\"\",IF(OR(LEN(C85)<3,LEN(C85)>4),HLOOKUP($U$9,コード一覧表!$C$2:$Y$1768,VLOOKUP(C85,コード一覧表!$AA$3:$AB$1768,2,0)+1,0),IF(OR(CODE(MID(C85,2,1))=77,CODE(MID(C85,3,1))=77),HLOOKUP($U$9,コード一覧表!$C$1789:$Y$1897,VLOOKUP(C85,コード一覧表!$AA$1789:$AB$1897,2,0)+1,0),HLOOKUP($U$9,コード一覧表!$C$2:$Y$1768,VLOOKUP(C85,コード一覧表!$AA$3:$AB$1768,2,0)+1,0))))","v":""},{"$f":"IF(D85=\"\",\"\",IF(OR(LEN(D85)<3,LEN(D85)>4),HLOOKUP($U$9,コード一覧表!$C$2:$Y$1768,VLOOKUP(D85,コード一覧表!$AA$3:$AB$1768,2,0)+1,0),IF(OR(CODE(MID(D85,2,1))=77,CODE(MID(D85,3,1))=77),HLOOKUP($U$9,コード一覧表!$C$1789:$Y$1897,VLOOKUP(D85,コード一覧表!$AA$1789:$AB$1897,2,0)+1,0),HLOOKUP($U$9,コード一覧表!$C$2:$Y$1768,VLOOKUP(D85,コード一覧表!$AA$3:$AB$1768,2,0)+1,0))))","v":""},{"$f":"IF(E85=\"\",\"\",IF(OR(LEN(E85)<3,LEN(E85)>4),HLOOKUP($U$9,コード一覧表!$C$2:$Y$1768,VLOOKUP(E85,コード一覧表!$AA$3:$AB$1768,2,0)+1,0),IF(OR(CODE(MID(E85,2,1))=77,CODE(MID(E85,3,1))=77),HLOOKUP($U$9,コード一覧表!$C$1789:$Y$1897,VLOOKUP(E85,コード一覧表!$AA$1789:$AB$1897,2,0)+1,0),HLOOKUP($U$9,コード一覧表!$C$2:$Y$1768,VLOOKUP(E85,コード一覧表!$AA$3:$AB$1768,2,0)+1,0))))","v":""},{"$f":"IF(F85=\"\",\"\",IF(OR(LEN(F85)<3,LEN(F85)>4),HLOOKUP($U$9,コード一覧表!$C$2:$Y$1768,VLOOKUP(F85,コード一覧表!$AA$3:$AB$1768,2,0)+1,0),IF(OR(CODE(MID(F85,2,1))=77,CODE(MID(F85,3,1))=77),HLOOKUP($U$9,コード一覧表!$C$1789:$Y$1897,VLOOKUP(F85,コード一覧表!$AA$1789:$AB$1897,2,0)+1,0),HLOOKUP($U$9,コード一覧表!$C$2:$Y$1768,VLOOKUP(F85,コード一覧表!$AA$3:$AB$1768,2,0)+1,0))))","v":""},{"$f":"IF(G85=\"\",\"\",IF(OR(LEN(G85)<3,LEN(G85)>4),HLOOKUP($U$9,コード一覧表!$C$2:$Y$1768,VLOOKUP(G85,コード一覧表!$AA$3:$AB$1768,2,0)+1,0),IF(OR(CODE(MID(G85,2,1))=77,CODE(MID(G85,3,1))=77),HLOOKUP($U$9,コード一覧表!$C$1789:$Y$1897,VLOOKUP(G85,コード一覧表!$AA$1789:$AB$1897,2,0)+1,0),HLOOKUP($U$9,コード一覧表!$C$2:$Y$1768,VLOOKUP(G85,コード一覧表!$AA$3:$AB$1768,2,0)+1,0))))","v":""},{"$f":"IF(H85=\"\",\"\",IF(OR(LEN(H85)<3,LEN(H85)>4),HLOOKUP($U$9,コード一覧表!$C$2:$Y$1768,VLOOKUP(H85,コード一覧表!$AA$3:$AB$1768,2,0)+1,0),IF(OR(CODE(MID(H85,2,1))=77,CODE(MID(H85,3,1))=77),HLOOKUP($U$9,コード一覧表!$C$1789:$Y$1897,VLOOKUP(H85,コード一覧表!$AA$1789:$AB$1897,2,0)+1,0),HLOOKUP($U$9,コード一覧表!$C$2:$Y$1768,VLOOKUP(H85,コード一覧表!$AA$3:$AB$1768,2,0)+1,0))))","v":""},{"$f":"IF(I85=\"\",\"\",IF(OR(LEN(I85)<3,LEN(I85)>4),HLOOKUP($U$9,コード一覧表!$C$2:$Y$1768,VLOOKUP(I85,コード一覧表!$AA$3:$AB$1768,2,0)+1,0),IF(OR(CODE(MID(I85,2,1))=77,CODE(MID(I85,3,1))=77),HLOOKUP($U$9,コード一覧表!$C$1789:$Y$1897,VLOOKUP(I85,コード一覧表!$AA$1789:$AB$1897,2,0)+1,0),HLOOKUP($U$9,コード一覧表!$C$2:$Y$1768,VLOOKUP(I85,コード一覧表!$AA$3:$AB$1768,2,0)+1,0))))","v":""},{"$f":"IF(J85=\"\",\"\",IF(OR(LEN(J85)<3,LEN(J85)>4),HLOOKUP($U$9,コード一覧表!$C$2:$Y$1768,VLOOKUP(J85,コード一覧表!$AA$3:$AB$1768,2,0)+1,0),IF(OR(CODE(MID(J85,2,1))=77,CODE(MID(J85,3,1))=77),HLOOKUP($U$9,コード一覧表!$C$1789:$Y$1897,VLOOKUP(J85,コード一覧表!$AA$1789:$AB$1897,2,0)+1,0),HLOOKUP($U$9,コード一覧表!$C$2:$Y$1768,VLOOKUP(J85,コード一覧表!$AA$3:$AB$1768,2,0)+1,0))))","v":""},{"$f":"IF(K85=\"\",\"\",IF(OR(LEN(K85)<3,LEN(K85)>4),HLOOKUP($U$9,コード一覧表!$C$2:$Y$1768,VLOOKUP(K85,コード一覧表!$AA$3:$AB$1768,2,0)+1,0),IF(OR(CODE(MID(K85,2,1))=77,CODE(MID(K85,3,1))=77),HLOOKUP($U$9,コード一覧表!$C$1789:$Y$1897,VLOOKUP(K85,コード一覧表!$AA$1789:$AB$1897,2,0)+1,0),HLOOKUP($U$9,コード一覧表!$C$2:$Y$1768,VLOOKUP(K85,コード一覧表!$AA$3:$AB$1768,2,0)+1,0))))","v":""},{"$f":"IF(L85=\"\",\"\",IF(OR(LEN(L85)<3,LEN(L85)>4),HLOOKUP($U$9,コード一覧表!$C$2:$Y$1768,VLOOKUP(L85,コード一覧表!$AA$3:$AB$1768,2,0)+1,0),IF(OR(CODE(MID(L85,2,1))=77,CODE(MID(L85,3,1))=77),HLOOKUP($U$9,コード一覧表!$C$1789:$Y$1897,VLOOKUP(L85,コード一覧表!$AA$1789:$AB$1897,2,0)+1,0),HLOOKUP($U$9,コード一覧表!$C$2:$Y$1768,VLOOKUP(L85,コード一覧表!$AA$3:$AB$1768,2,0)+1,0))))","v":""},{"$f":"IF(M85=\"\",\"\",IF(OR(LEN(M85)<3,LEN(M85)>4),HLOOKUP($U$9,コード一覧表!$C$2:$Y$1768,VLOOKUP(M85,コード一覧表!$AA$3:$AB$1768,2,0)+1,0),IF(OR(CODE(MID(M85,2,1))=77,CODE(MID(M85,3,1))=77),HLOOKUP($U$9,コード一覧表!$C$1789:$Y$1897,VLOOKUP(M85,コード一覧表!$AA$1789:$AB$1897,2,0)+1,0),HLOOKUP($U$9,コード一覧表!$C$2:$Y$1768,VLOOKUP(M85,コード一覧表!$AA$3:$AB$1768,2,0)+1,0))))","v":""},{"$f":"IF(N85=\"\",\"\",IF(OR(LEN(N85)<3,LEN(N85)>4),HLOOKUP($U$9,コード一覧表!$C$2:$Y$1768,VLOOKUP(N85,コード一覧表!$AA$3:$AB$1768,2,0)+1,0),IF(OR(CODE(MID(N85,2,1))=77,CODE(MID(N85,3,1))=77),HLOOKUP($U$9,コード一覧表!$C$1789:$Y$1897,VLOOKUP(N85,コード一覧表!$AA$1789:$AB$1897,2,0)+1,0),HLOOKUP($U$9,コード一覧表!$C$2:$Y$1768,VLOOKUP(N85,コード一覧表!$AA$3:$AB$1768,2,0)+1,0))))","v":""},{"$f":"IF(O85=\"\",\"\",IF(OR(LEN(O85)<3,LEN(O85)>4),HLOOKUP($U$9,コード一覧表!$C$2:$Y$1768,VLOOKUP(O85,コード一覧表!$AA$3:$AB$1768,2,0)+1,0),IF(OR(CODE(MID(O85,2,1))=77,CODE(MID(O85,3,1))=77),HLOOKUP($U$9,コード一覧表!$C$1789:$Y$1897,VLOOKUP(O85,コード一覧表!$AA$1789:$AB$1897,2,0)+1,0),HLOOKUP($U$9,コード一覧表!$C$2:$Y$1768,VLOOKUP(O85,コード一覧表!$AA$3:$AB$1768,2,0)+1,0))))","v":""},{"$f":"IF(P85=\"\",\"\",IF(OR(LEN(P85)<3,LEN(P85)>4),HLOOKUP($U$9,コード一覧表!$C$2:$Y$1768,VLOOKUP(P85,コード一覧表!$AA$3:$AB$1768,2,0)+1,0),IF(OR(CODE(MID(P85,2,1))=77,CODE(MID(P85,3,1))=77),HLOOKUP($U$9,コード一覧表!$C$1789:$Y$1897,VLOOKUP(P85,コード一覧表!$AA$1789:$AB$1897,2,0)+1,0),HLOOKUP($U$9,コード一覧表!$C$2:$Y$1768,VLOOKUP(P85,コード一覧表!$AA$3:$AB$1768,2,0)+1,0))))","v":""},{"$f":"IF(Q85=\"\",\"\",IF(OR(LEN(Q85)<3,LEN(Q85)>4),HLOOKUP($U$9,コード一覧表!$C$2:$Y$1768,VLOOKUP(Q85,コード一覧表!$AA$3:$AB$1768,2,0)+1,0),IF(OR(CODE(MID(Q85,2,1))=77,CODE(MID(Q85,3,1))=77),HLOOKUP($U$9,コード一覧表!$C$1789:$Y$1897,VLOOKUP(Q85,コード一覧表!$AA$1789:$AB$1897,2,0)+1,0),HLOOKUP($U$9,コード一覧表!$C$2:$Y$1768,VLOOKUP(Q85,コード一覧表!$AA$3:$AB$1768,2,0)+1,0))))","v":""}]
[]
[null,null,null,null,null,null,null,null,null,null,null,null,null,null,null,null,null,null,"入力行29"]
[null,{"$f":"IF(B88=\"\",\"\",IF(OR(LEN(B88)<3,LEN(B88)>4),HLOOKUP($U$9,コード一覧表!$C$2:$Y$1768,VLOOKUP(B88,コード一覧表!$AA$3:$AB$1768,2,0)+1,0),IF(OR(CODE(MID(B88,2,1))=77,CODE(MID(B88,3,1))=77),HLOOKUP($U$9,コード一覧表!$C$1789:$Y$1897,VLOOKUP(B88,コード一覧表!$AA$1789:$AB$1897,2,0)+1,0),HLOOKUP($U$9,コード一覧表!$C$2:$Y$1768,VLOOKUP(B88,コード一覧表!$AA$3:$AB$1768,2,0)+1,0))))","v":""},{"$f":"IF(C88=\"\",\"\",IF(OR(LEN(C88)<3,LEN(C88)>4),HLOOKUP($U$9,コード一覧表!$C$2:$Y$1768,VLOOKUP(C88,コード一覧表!$AA$3:$AB$1768,2,0)+1,0),IF(OR(CODE(MID(C88,2,1))=77,CODE(MID(C88,3,1))=77),HLOOKUP($U$9,コード一覧表!$C$1789:$Y$1897,VLOOKUP(C88,コード一覧表!$AA$1789:$AB$1897,2,0)+1,0),HLOOKUP($U$9,コード一覧表!$C$2:$Y$1768,VLOOKUP(C88,コード一覧表!$AA$3:$AB$1768,2,0)+1,0))))","v":""},{"$f":"IF(D88=\"\",\"\",IF(OR(LEN(D88)<3,LEN(D88)>4),HLOOKUP($U$9,コード一覧表!$C$2:$Y$1768,VLOOKUP(D88,コード一覧表!$AA$3:$AB$1768,2,0)+1,0),IF(OR(CODE(MID(D88,2,1))=77,CODE(MID(D88,3,1))=77),HLOOKUP($U$9,コード一覧表!$C$1789:$Y$1897,VLOOKUP(D88,コード一覧表!$AA$1789:$AB$1897,2,0)+1,0),HLOOKUP($U$9,コード一覧表!$C$2:$Y$1768,VLOOKUP(D88,コード一覧表!$AA$3:$AB$1768,2,0)+1,0))))","v":""},{"$f":"IF(E88=\"\",\"\",IF(OR(LEN(E88)<3,LEN(E88)>4),HLOOKUP($U$9,コード一覧表!$C$2:$Y$1768,VLOOKUP(E88,コード一覧表!$AA$3:$AB$1768,2,0)+1,0),IF(OR(CODE(MID(E88,2,1))=77,CODE(MID(E88,3,1))=77),HLOOKUP($U$9,コード一覧表!$C$1789:$Y$1897,VLOOKUP(E88,コード一覧表!$AA$1789:$AB$1897,2,0)+1,0),HLOOKUP($U$9,コード一覧表!$C$2:$Y$1768,VLOOKUP(E88,コード一覧表!$AA$3:$AB$1768,2,0)+1,0))))","v":""},{"$f":"IF(F88=\"\",\"\",IF(OR(LEN(F88)<3,LEN(F88)>4),HLOOKUP($U$9,コード一覧表!$C$2:$Y$1768,VLOOKUP(F88,コード一覧表!$AA$3:$AB$1768,2,0)+1,0),IF(OR(CODE(MID(F88,2,1))=77,CODE(MID(F88,3,1))=77),HLOOKUP($U$9,コード一覧表!$C$1789:$Y$1897,VLOOKUP(F88,コード一覧表!$AA$1789:$AB$1897,2,0)+1,0),HLOOKUP($U$9,コード一覧表!$C$2:$Y$1768,VLOOKUP(F88,コード一覧表!$AA$3:$AB$1768,2,0)+1,0))))","v":""},{"$f":"IF(G88=\"\",\"\",IF(OR(LEN(G88)<3,LEN(G88)>4),HLOOKUP($U$9,コード一覧表!$C$2:$Y$1768,VLOOKUP(G88,コード一覧表!$AA$3:$AB$1768,2,0)+1,0),IF(OR(CODE(MID(G88,2,1))=77,CODE(MID(G88,3,1))=77),HLOOKUP($U$9,コード一覧表!$C$1789:$Y$1897,VLOOKUP(G88,コード一覧表!$AA$1789:$AB$1897,2,0)+1,0),HLOOKUP($U$9,コード一覧表!$C$2:$Y$1768,VLOOKUP(G88,コード一覧表!$AA$3:$AB$1768,2,0)+1,0))))","v":""},{"$f":"IF(H88=\"\",\"\",IF(OR(LEN(H88)<3,LEN(H88)>4),HLOOKUP($U$9,コード一覧表!$C$2:$Y$1768,VLOOKUP(H88,コード一覧表!$AA$3:$AB$1768,2,0)+1,0),IF(OR(CODE(MID(H88,2,1))=77,CODE(MID(H88,3,1))=77),HLOOKUP($U$9,コード一覧表!$C$1789:$Y$1897,VLOOKUP(H88,コード一覧表!$AA$1789:$AB$1897,2,0)+1,0),HLOOKUP($U$9,コード一覧表!$C$2:$Y$1768,VLOOKUP(H88,コード一覧表!$AA$3:$AB$1768,2,0)+1,0))))","v":""},{"$f":"IF(I88=\"\",\"\",IF(OR(LEN(I88)<3,LEN(I88)>4),HLOOKUP($U$9,コード一覧表!$C$2:$Y$1768,VLOOKUP(I88,コード一覧表!$AA$3:$AB$1768,2,0)+1,0),IF(OR(CODE(MID(I88,2,1))=77,CODE(MID(I88,3,1))=77),HLOOKUP($U$9,コード一覧表!$C$1789:$Y$1897,VLOOKUP(I88,コード一覧表!$AA$1789:$AB$1897,2,0)+1,0),HLOOKUP($U$9,コード一覧表!$C$2:$Y$1768,VLOOKUP(I88,コード一覧表!$AA$3:$AB$1768,2,0)+1,0))))","v":""},{"$f":"IF(J88=\"\",\"\",IF(OR(LEN(J88)<3,LEN(J88)>4),HLOOKUP($U$9,コード一覧表!$C$2:$Y$1768,VLOOKUP(J88,コード一覧表!$AA$3:$AB$1768,2,0)+1,0),IF(OR(CODE(MID(J88,2,1))=77,CODE(MID(J88,3,1))=77),HLOOKUP($U$9,コード一覧表!$C$1789:$Y$1897,VLOOKUP(J88,コード一覧表!$AA$1789:$AB$1897,2,0)+1,0),HLOOKUP($U$9,コード一覧表!$C$2:$Y$1768,VLOOKUP(J88,コード一覧表!$AA$3:$AB$1768,2,0)+1,0))))","v":""},{"$f":"IF(K88=\"\",\"\",IF(OR(LEN(K88)<3,LEN(K88)>4),HLOOKUP($U$9,コード一覧表!$C$2:$Y$1768,VLOOKUP(K88,コード一覧表!$AA$3:$AB$1768,2,0)+1,0),IF(OR(CODE(MID(K88,2,1))=77,CODE(MID(K88,3,1))=77),HLOOKUP($U$9,コード一覧表!$C$1789:$Y$1897,VLOOKUP(K88,コード一覧表!$AA$1789:$AB$1897,2,0)+1,0),HLOOKUP($U$9,コード一覧表!$C$2:$Y$1768,VLOOKUP(K88,コード一覧表!$AA$3:$AB$1768,2,0)+1,0))))","v":""},{"$f":"IF(L88=\"\",\"\",IF(OR(LEN(L88)<3,LEN(L88)>4),HLOOKUP($U$9,コード一覧表!$C$2:$Y$1768,VLOOKUP(L88,コード一覧表!$AA$3:$AB$1768,2,0)+1,0),IF(OR(CODE(MID(L88,2,1))=77,CODE(MID(L88,3,1))=77),HLOOKUP($U$9,コード一覧表!$C$1789:$Y$1897,VLOOKUP(L88,コード一覧表!$AA$1789:$AB$1897,2,0)+1,0),HLOOKUP($U$9,コード一覧表!$C$2:$Y$1768,VLOOKUP(L88,コード一覧表!$AA$3:$AB$1768,2,0)+1,0))))","v":""},{"$f":"IF(M88=\"\",\"\",IF(OR(LEN(M88)<3,LEN(M88)>4),HLOOKUP($U$9,コード一覧表!$C$2:$Y$1768,VLOOKUP(M88,コード一覧表!$AA$3:$AB$1768,2,0)+1,0),IF(OR(CODE(MID(M88,2,1))=77,CODE(MID(M88,3,1))=77),HLOOKUP($U$9,コード一覧表!$C$1789:$Y$1897,VLOOKUP(M88,コード一覧表!$AA$1789:$AB$1897,2,0)+1,0),HLOOKUP($U$9,コード一覧表!$C$2:$Y$1768,VLOOKUP(M88,コード一覧表!$AA$3:$AB$1768,2,0)+1,0))))","v":""},{"$f":"IF(N88=\"\",\"\",IF(OR(LEN(N88)<3,LEN(N88)>4),HLOOKUP($U$9,コード一覧表!$C$2:$Y$1768,VLOOKUP(N88,コード一覧表!$AA$3:$AB$1768,2,0)+1,0),IF(OR(CODE(MID(N88,2,1))=77,CODE(MID(N88,3,1))=77),HLOOKUP($U$9,コード一覧表!$C$1789:$Y$1897,VLOOKUP(N88,コード一覧表!$AA$1789:$AB$1897,2,0)+1,0),HLOOKUP($U$9,コード一覧表!$C$2:$Y$1768,VLOOKUP(N88,コード一覧表!$AA$3:$AB$1768,2,0)+1,0))))","v":""},{"$f":"IF(O88=\"\",\"\",IF(OR(LEN(O88)<3,LEN(O88)>4),HLOOKUP($U$9,コード一覧表!$C$2:$Y$1768,VLOOKUP(O88,コード一覧表!$AA$3:$AB$1768,2,0)+1,0),IF(OR(CODE(MID(O88,2,1))=77,CODE(MID(O88,3,1))=77),HLOOKUP($U$9,コード一覧表!$C$1789:$Y$1897,VLOOKUP(O88,コード一覧表!$AA$1789:$AB$1897,2,0)+1,0),HLOOKUP($U$9,コード一覧表!$C$2:$Y$1768,VLOOKUP(O88,コード一覧表!$AA$3:$AB$1768,2,0)+1,0))))","v":""},{"$f":"IF(P88=\"\",\"\",IF(OR(LEN(P88)<3,LEN(P88)>4),HLOOKUP($U$9,コード一覧表!$C$2:$Y$1768,VLOOKUP(P88,コード一覧表!$AA$3:$AB$1768,2,0)+1,0),IF(OR(CODE(MID(P88,2,1))=77,CODE(MID(P88,3,1))=77),HLOOKUP($U$9,コード一覧表!$C$1789:$Y$1897,VLOOKUP(P88,コード一覧表!$AA$1789:$AB$1897,2,0)+1,0),HLOOKUP($U$9,コード一覧表!$C$2:$Y$1768,VLOOKUP(P88,コード一覧表!$AA$3:$AB$1768,2,0)+1,0))))","v":""},{"$f":"IF(Q88=\"\",\"\",IF(OR(LEN(Q88)<3,LEN(Q88)>4),HLOOKUP($U$9,コード一覧表!$C$2:$Y$1768,VLOOKUP(Q88,コード一覧表!$AA$3:$AB$1768,2,0)+1,0),IF(OR(CODE(MID(Q88,2,1))=77,CODE(MID(Q88,3,1))=77),HLOOKUP($U$9,コード一覧表!$C$1789:$Y$1897,VLOOKUP(Q88,コード一覧表!$AA$1789:$AB$1897,2,0)+1,0),HLOOKUP($U$9,コード一覧表!$C$2:$Y$1768,VLOOKUP(Q88,コード一覧表!$AA$3:$AB$1768,2,0)+1,0))))","v":""}]
[]
[null,null,null,null,null,null,null,null,null,null,null,null,null,null,null,null,null,null,"入力行30"]
[null,{"$f":"IF(B91=\"\",\"\",IF(OR(LEN(B91)<3,LEN(B91)>4),HLOOKUP($U$9,コード一覧表!$C$2:$Y$1768,VLOOKUP(B91,コード一覧表!$AA$3:$AB$1768,2,0)+1,0),IF(OR(CODE(MID(B91,2,1))=77,CODE(MID(B91,3,1))=77),HLOOKUP($U$9,コード一覧表!$C$1789:$Y$1897,VLOOKUP(B91,コード一覧表!$AA$1789:$AB$1897,2,0)+1,0),HLOOKUP($U$9,コード一覧表!$C$2:$Y$1768,VLOOKUP(B91,コード一覧表!$AA$3:$AB$1768,2,0)+1,0))))","v":""},{"$f":"IF(C91=\"\",\"\",IF(OR(LEN(C91)<3,LEN(C91)>4),HLOOKUP($U$9,コード一覧表!$C$2:$Y$1768,VLOOKUP(C91,コード一覧表!$AA$3:$AB$1768,2,0)+1,0),IF(OR(CODE(MID(C91,2,1))=77,CODE(MID(C91,3,1))=77),HLOOKUP($U$9,コード一覧表!$C$1789:$Y$1897,VLOOKUP(C91,コード一覧表!$AA$1789:$AB$1897,2,0)+1,0),HLOOKUP($U$9,コード一覧表!$C$2:$Y$1768,VLOOKUP(C91,コード一覧表!$AA$3:$AB$1768,2,0)+1,0))))","v":""},{"$f":"IF(D91=\"\",\"\",IF(OR(LEN(D91)<3,LEN(D91)>4),HLOOKUP($U$9,コード一覧表!$C$2:$Y$1768,VLOOKUP(D91,コード一覧表!$AA$3:$AB$1768,2,0)+1,0),IF(OR(CODE(MID(D91,2,1))=77,CODE(MID(D91,3,1))=77),HLOOKUP($U$9,コード一覧表!$C$1789:$Y$1897,VLOOKUP(D91,コード一覧表!$AA$1789:$AB$1897,2,0)+1,0),HLOOKUP($U$9,コード一覧表!$C$2:$Y$1768,VLOOKUP(D91,コード一覧表!$AA$3:$AB$1768,2,0)+1,0))))","v":""},{"$f":"IF(E91=\"\",\"\",IF(OR(LEN(E91)<3,LEN(E91)>4),HLOOKUP($U$9,コード一覧表!$C$2:$Y$1768,VLOOKUP(E91,コード一覧表!$AA$3:$AB$1768,2,0)+1,0),IF(OR(CODE(MID(E91,2,1))=77,CODE(MID(E91,3,1))=77),HLOOKUP($U$9,コード一覧表!$C$1789:$Y$1897,VLOOKUP(E91,コード一覧表!$AA$1789:$AB$1897,2,0)+1,0),HLOOKUP($U$9,コード一覧表!$C$2:$Y$1768,VLOOKUP(E91,コード一覧表!$AA$3:$AB$1768,2,0)+1,0))))","v":""},{"$f":"IF(F91=\"\",\"\",IF(OR(LEN(F91)<3,LEN(F91)>4),HLOOKUP($U$9,コード一覧表!$C$2:$Y$1768,VLOOKUP(F91,コード一覧表!$AA$3:$AB$1768,2,0)+1,0),IF(OR(CODE(MID(F91,2,1))=77,CODE(MID(F91,3,1))=77),HLOOKUP($U$9,コード一覧表!$C$1789:$Y$1897,VLOOKUP(F91,コード一覧表!$AA$1789:$AB$1897,2,0)+1,0),HLOOKUP($U$9,コード一覧表!$C$2:$Y$1768,VLOOKUP(F91,コード一覧表!$AA$3:$AB$1768,2,0)+1,0))))","v":""},{"$f":"IF(G91=\"\",\"\",IF(OR(LEN(G91)<3,LEN(G91)>4),HLOOKUP($U$9,コード一覧表!$C$2:$Y$1768,VLOOKUP(G91,コード一覧表!$AA$3:$AB$1768,2,0)+1,0),IF(OR(CODE(MID(G91,2,1))=77,CODE(MID(G91,3,1))=77),HLOOKUP($U$9,コード一覧表!$C$1789:$Y$1897,VLOOKUP(G91,コード一覧表!$AA$1789:$AB$1897,2,0)+1,0),HLOOKUP($U$9,コード一覧表!$C$2:$Y$1768,VLOOKUP(G91,コード一覧表!$AA$3:$AB$1768,2,0)+1,0))))","v":""},{"$f":"IF(H91=\"\",\"\",IF(OR(LEN(H91)<3,LEN(H91)>4),HLOOKUP($U$9,コード一覧表!$C$2:$Y$1768,VLOOKUP(H91,コード一覧表!$AA$3:$AB$1768,2,0)+1,0),IF(OR(CODE(MID(H91,2,1))=77,CODE(MID(H91,3,1))=77),HLOOKUP($U$9,コード一覧表!$C$1789:$Y$1897,VLOOKUP(H91,コード一覧表!$AA$1789:$AB$1897,2,0)+1,0),HLOOKUP($U$9,コード一覧表!$C$2:$Y$1768,VLOOKUP(H91,コード一覧表!$AA$3:$AB$1768,2,0)+1,0))))","v":""},{"$f":"IF(I91=\"\",\"\",IF(OR(LEN(I91)<3,LEN(I91)>4),HLOOKUP($U$9,コード一覧表!$C$2:$Y$1768,VLOOKUP(I91,コード一覧表!$AA$3:$AB$1768,2,0)+1,0),IF(OR(CODE(MID(I91,2,1))=77,CODE(MID(I91,3,1))=77),HLOOKUP($U$9,コード一覧表!$C$1789:$Y$1897,VLOOKUP(I91,コード一覧表!$AA$1789:$AB$1897,2,0)+1,0),HLOOKUP($U$9,コード一覧表!$C$2:$Y$1768,VLOOKUP(I91,コード一覧表!$AA$3:$AB$1768,2,0)+1,0))))","v":""},{"$f":"IF(J91=\"\",\"\",IF(OR(LEN(J91)<3,LEN(J91)>4),HLOOKUP($U$9,コード一覧表!$C$2:$Y$1768,VLOOKUP(J91,コード一覧表!$AA$3:$AB$1768,2,0)+1,0),IF(OR(CODE(MID(J91,2,1))=77,CODE(MID(J91,3,1))=77),HLOOKUP($U$9,コード一覧表!$C$1789:$Y$1897,VLOOKUP(J91,コード一覧表!$AA$1789:$AB$1897,2,0)+1,0),HLOOKUP($U$9,コード一覧表!$C$2:$Y$1768,VLOOKUP(J91,コード一覧表!$AA$3:$AB$1768,2,0)+1,0))))","v":""},{"$f":"IF(K91=\"\",\"\",IF(OR(LEN(K91)<3,LEN(K91)>4),HLOOKUP($U$9,コード一覧表!$C$2:$Y$1768,VLOOKUP(K91,コード一覧表!$AA$3:$AB$1768,2,0)+1,0),IF(OR(CODE(MID(K91,2,1))=77,CODE(MID(K91,3,1))=77),HLOOKUP($U$9,コード一覧表!$C$1789:$Y$1897,VLOOKUP(K91,コード一覧表!$AA$1789:$AB$1897,2,0)+1,0),HLOOKUP($U$9,コード一覧表!$C$2:$Y$1768,VLOOKUP(K91,コード一覧表!$AA$3:$AB$1768,2,0)+1,0))))","v":""},{"$f":"IF(L91=\"\",\"\",IF(OR(LEN(L91)<3,LEN(L91)>4),HLOOKUP($U$9,コード一覧表!$C$2:$Y$1768,VLOOKUP(L91,コード一覧表!$AA$3:$AB$1768,2,0)+1,0),IF(OR(CODE(MID(L91,2,1))=77,CODE(MID(L91,3,1))=77),HLOOKUP($U$9,コード一覧表!$C$1789:$Y$1897,VLOOKUP(L91,コード一覧表!$AA$1789:$AB$1897,2,0)+1,0),HLOOKUP($U$9,コード一覧表!$C$2:$Y$1768,VLOOKUP(L91,コード一覧表!$AA$3:$AB$1768,2,0)+1,0))))","v":""},{"$f":"IF(M91=\"\",\"\",IF(OR(LEN(M91)<3,LEN(M91)>4),HLOOKUP($U$9,コード一覧表!$C$2:$Y$1768,VLOOKUP(M91,コード一覧表!$AA$3:$AB$1768,2,0)+1,0),IF(OR(CODE(MID(M91,2,1))=77,CODE(MID(M91,3,1))=77),HLOOKUP($U$9,コード一覧表!$C$1789:$Y$1897,VLOOKUP(M91,コード一覧表!$AA$1789:$AB$1897,2,0)+1,0),HLOOKUP($U$9,コード一覧表!$C$2:$Y$1768,VLOOKUP(M91,コード一覧表!$AA$3:$AB$1768,2,0)+1,0))))","v":""},{"$f":"IF(N91=\"\",\"\",IF(OR(LEN(N91)<3,LEN(N91)>4),HLOOKUP($U$9,コード一覧表!$C$2:$Y$1768,VLOOKUP(N91,コード一覧表!$AA$3:$AB$1768,2,0)+1,0),IF(OR(CODE(MID(N91,2,1))=77,CODE(MID(N91,3,1))=77),HLOOKUP($U$9,コード一覧表!$C$1789:$Y$1897,VLOOKUP(N91,コード一覧表!$AA$1789:$AB$1897,2,0)+1,0),HLOOKUP($U$9,コード一覧表!$C$2:$Y$1768,VLOOKUP(N91,コード一覧表!$AA$3:$AB$1768,2,0)+1,0))))","v":""},{"$f":"IF(O91=\"\",\"\",IF(OR(LEN(O91)<3,LEN(O91)>4),HLOOKUP($U$9,コード一覧表!$C$2:$Y$1768,VLOOKUP(O91,コード一覧表!$AA$3:$AB$1768,2,0)+1,0),IF(OR(CODE(MID(O91,2,1))=77,CODE(MID(O91,3,1))=77),HLOOKUP($U$9,コード一覧表!$C$1789:$Y$1897,VLOOKUP(O91,コード一覧表!$AA$1789:$AB$1897,2,0)+1,0),HLOOKUP($U$9,コード一覧表!$C$2:$Y$1768,VLOOKUP(O91,コード一覧表!$AA$3:$AB$1768,2,0)+1,0))))","v":""},{"$f":"IF(P91=\"\",\"\",IF(OR(LEN(P91)<3,LEN(P91)>4),HLOOKUP($U$9,コード一覧表!$C$2:$Y$1768,VLOOKUP(P91,コード一覧表!$AA$3:$AB$1768,2,0)+1,0),IF(OR(CODE(MID(P91,2,1))=77,CODE(MID(P91,3,1))=77),HLOOKUP($U$9,コード一覧表!$C$1789:$Y$1897,VLOOKUP(P91,コード一覧表!$AA$1789:$AB$1897,2,0)+1,0),HLOOKUP($U$9,コード一覧表!$C$2:$Y$1768,VLOOKUP(P91,コード一覧表!$AA$3:$AB$1768,2,0)+1,0))))","v":""},{"$f":"IF(Q91=\"\",\"\",IF(OR(LEN(Q91)<3,LEN(Q91)>4),HLOOKUP($U$9,コード一覧表!$C$2:$Y$1768,VLOOKUP(Q91,コード一覧表!$AA$3:$AB$1768,2,0)+1,0),IF(OR(CODE(MID(Q91,2,1))=77,CODE(MID(Q91,3,1))=77),HLOOKUP($U$9,コード一覧表!$C$1789:$Y$1897,VLOOKUP(Q91,コード一覧表!$AA$1789:$AB$1897,2,0)+1,0),HLOOKUP($U$9,コード一覧表!$C$2:$Y$1768,VLOOKUP(Q91,コード一覧表!$AA$3:$AB$1768,2,0)+1,0))))","v":""}]
[]
[null,null,null,null,null,null,null,null,null,null,null,null,null,null,null,null,null,null,"入力行31"]
[null,{"$f":"IF(B94=\"\",\"\",IF(OR(LEN(B94)<3,LEN(B94)>4),HLOOKUP($U$9,コード一覧表!$C$2:$Y$1768,VLOOKUP(B94,コード一覧表!$AA$3:$AB$1768,2,0)+1,0),IF(OR(CODE(MID(B94,2,1))=77,CODE(MID(B94,3,1))=77),HLOOKUP($U$9,コード一覧表!$C$1789:$Y$1897,VLOOKUP(B94,コード一覧表!$AA$1789:$AB$1897,2,0)+1,0),HLOOKUP($U$9,コード一覧表!$C$2:$Y$1768,VLOOKUP(B94,コード一覧表!$AA$3:$AB$1768,2,0)+1,0))))","v":""},{"$f":"IF(C94=\"\",\"\",IF(OR(LEN(C94)<3,LEN(C94)>4),HLOOKUP($U$9,コード一覧表!$C$2:$Y$1768,VLOOKUP(C94,コード一覧表!$AA$3:$AB$1768,2,0)+1,0),IF(OR(CODE(MID(C94,2,1))=77,CODE(MID(C94,3,1))=77),HLOOKUP($U$9,コード一覧表!$C$1789:$Y$1897,VLOOKUP(C94,コード一覧表!$AA$1789:$AB$1897,2,0)+1,0),HLOOKUP($U$9,コード一覧表!$C$2:$Y$1768,VLOOKUP(C94,コード一覧表!$AA$3:$AB$1768,2,0)+1,0))))","v":""},{"$f":"IF(D94=\"\",\"\",IF(OR(LEN(D94)<3,LEN(D94)>4),HLOOKUP($U$9,コード一覧表!$C$2:$Y$1768,VLOOKUP(D94,コード一覧表!$AA$3:$AB$1768,2,0)+1,0),IF(OR(CODE(MID(D94,2,1))=77,CODE(MID(D94,3,1))=77),HLOOKUP($U$9,コード一覧表!$C$1789:$Y$1897,VLOOKUP(D94,コード一覧表!$AA$1789:$AB$1897,2,0)+1,0),HLOOKUP($U$9,コード一覧表!$C$2:$Y$1768,VLOOKUP(D94,コード一覧表!$AA$3:$AB$1768,2,0)+1,0))))","v":""},{"$f":"IF(E94=\"\",\"\",IF(OR(LEN(E94)<3,LEN(E94)>4),HLOOKUP($U$9,コード一覧表!$C$2:$Y$1768,VLOOKUP(E94,コード一覧表!$AA$3:$AB$1768,2,0)+1,0),IF(OR(CODE(MID(E94,2,1))=77,CODE(MID(E94,3,1))=77),HLOOKUP($U$9,コード一覧表!$C$1789:$Y$1897,VLOOKUP(E94,コード一覧表!$AA$1789:$AB$1897,2,0)+1,0),HLOOKUP($U$9,コード一覧表!$C$2:$Y$1768,VLOOKUP(E94,コード一覧表!$AA$3:$AB$1768,2,0)+1,0))))","v":""},{"$f":"IF(F94=\"\",\"\",IF(OR(LEN(F94)<3,LEN(F94)>4),HLOOKUP($U$9,コード一覧表!$C$2:$Y$1768,VLOOKUP(F94,コード一覧表!$AA$3:$AB$1768,2,0)+1,0),IF(OR(CODE(MID(F94,2,1))=77,CODE(MID(F94,3,1))=77),HLOOKUP($U$9,コード一覧表!$C$1789:$Y$1897,VLOOKUP(F94,コード一覧表!$AA$1789:$AB$1897,2,0)+1,0),HLOOKUP($U$9,コード一覧表!$C$2:$Y$1768,VLOOKUP(F94,コード一覧表!$AA$3:$AB$1768,2,0)+1,0))))","v":""},{"$f":"IF(G94=\"\",\"\",IF(OR(LEN(G94)<3,LEN(G94)>4),HLOOKUP($U$9,コード一覧表!$C$2:$Y$1768,VLOOKUP(G94,コード一覧表!$AA$3:$AB$1768,2,0)+1,0),IF(OR(CODE(MID(G94,2,1))=77,CODE(MID(G94,3,1))=77),HLOOKUP($U$9,コード一覧表!$C$1789:$Y$1897,VLOOKUP(G94,コード一覧表!$AA$1789:$AB$1897,2,0)+1,0),HLOOKUP($U$9,コード一覧表!$C$2:$Y$1768,VLOOKUP(G94,コード一覧表!$AA$3:$AB$1768,2,0)+1,0))))","v":""},{"$f":"IF(H94=\"\",\"\",IF(OR(LEN(H94)<3,LEN(H94)>4),HLOOKUP($U$9,コード一覧表!$C$2:$Y$1768,VLOOKUP(H94,コード一覧表!$AA$3:$AB$1768,2,0)+1,0),IF(OR(CODE(MID(H94,2,1))=77,CODE(MID(H94,3,1))=77),HLOOKUP($U$9,コード一覧表!$C$1789:$Y$1897,VLOOKUP(H94,コード一覧表!$AA$1789:$AB$1897,2,0)+1,0),HLOOKUP($U$9,コード一覧表!$C$2:$Y$1768,VLOOKUP(H94,コード一覧表!$AA$3:$AB$1768,2,0)+1,0))))","v":""},{"$f":"IF(I94=\"\",\"\",IF(OR(LEN(I94)<3,LEN(I94)>4),HLOOKUP($U$9,コード一覧表!$C$2:$Y$1768,VLOOKUP(I94,コード一覧表!$AA$3:$AB$1768,2,0)+1,0),IF(OR(CODE(MID(I94,2,1))=77,CODE(MID(I94,3,1))=77),HLOOKUP($U$9,コード一覧表!$C$1789:$Y$1897,VLOOKUP(I94,コード一覧表!$AA$1789:$AB$1897,2,0)+1,0),HLOOKUP($U$9,コード一覧表!$C$2:$Y$1768,VLOOKUP(I94,コード一覧表!$AA$3:$AB$1768,2,0)+1,0))))","v":""},{"$f":"IF(J94=\"\",\"\",IF(OR(LEN(J94)<3,LEN(J94)>4),HLOOKUP($U$9,コード一覧表!$C$2:$Y$1768,VLOOKUP(J94,コード一覧表!$AA$3:$AB$1768,2,0)+1,0),IF(OR(CODE(MID(J94,2,1))=77,CODE(MID(J94,3,1))=77),HLOOKUP($U$9,コード一覧表!$C$1789:$Y$1897,VLOOKUP(J94,コード一覧表!$AA$1789:$AB$1897,2,0)+1,0),HLOOKUP($U$9,コード一覧表!$C$2:$Y$1768,VLOOKUP(J94,コード一覧表!$AA$3:$AB$1768,2,0)+1,0))))","v":""},{"$f":"IF(K94=\"\",\"\",IF(OR(LEN(K94)<3,LEN(K94)>4),HLOOKUP($U$9,コード一覧表!$C$2:$Y$1768,VLOOKUP(K94,コード一覧表!$AA$3:$AB$1768,2,0)+1,0),IF(OR(CODE(MID(K94,2,1))=77,CODE(MID(K94,3,1))=77),HLOOKUP($U$9,コード一覧表!$C$1789:$Y$1897,VLOOKUP(K94,コード一覧表!$AA$1789:$AB$1897,2,0)+1,0),HLOOKUP($U$9,コード一覧表!$C$2:$Y$1768,VLOOKUP(K94,コード一覧表!$AA$3:$AB$1768,2,0)+1,0))))","v":""},{"$f":"IF(L94=\"\",\"\",IF(OR(LEN(L94)<3,LEN(L94)>4),HLOOKUP($U$9,コード一覧表!$C$2:$Y$1768,VLOOKUP(L94,コード一覧表!$AA$3:$AB$1768,2,0)+1,0),IF(OR(CODE(MID(L94,2,1))=77,CODE(MID(L94,3,1))=77),HLOOKUP($U$9,コード一覧表!$C$1789:$Y$1897,VLOOKUP(L94,コード一覧表!$AA$1789:$AB$1897,2,0)+1,0),HLOOKUP($U$9,コード一覧表!$C$2:$Y$1768,VLOOKUP(L94,コード一覧表!$AA$3:$AB$1768,2,0)+1,0))))","v":""},{"$f":"IF(M94=\"\",\"\",IF(OR(LEN(M94)<3,LEN(M94)>4),HLOOKUP($U$9,コード一覧表!$C$2:$Y$1768,VLOOKUP(M94,コード一覧表!$AA$3:$AB$1768,2,0)+1,0),IF(OR(CODE(MID(M94,2,1))=77,CODE(MID(M94,3,1))=77),HLOOKUP($U$9,コード一覧表!$C$1789:$Y$1897,VLOOKUP(M94,コード一覧表!$AA$1789:$AB$1897,2,0)+1,0),HLOOKUP($U$9,コード一覧表!$C$2:$Y$1768,VLOOKUP(M94,コード一覧表!$AA$3:$AB$1768,2,0)+1,0))))","v":""},{"$f":"IF(N94=\"\",\"\",IF(OR(LEN(N94)<3,LEN(N94)>4),HLOOKUP($U$9,コード一覧表!$C$2:$Y$1768,VLOOKUP(N94,コード一覧表!$AA$3:$AB$1768,2,0)+1,0),IF(OR(CODE(MID(N94,2,1))=77,CODE(MID(N94,3,1))=77),HLOOKUP($U$9,コード一覧表!$C$1789:$Y$1897,VLOOKUP(N94,コード一覧表!$AA$1789:$AB$1897,2,0)+1,0),HLOOKUP($U$9,コード一覧表!$C$2:$Y$1768,VLOOKUP(N94,コード一覧表!$AA$3:$AB$1768,2,0)+1,0))))","v":""},{"$f":"IF(O94=\"\",\"\",IF(OR(LEN(O94)<3,LEN(O94)>4),HLOOKUP($U$9,コード一覧表!$C$2:$Y$1768,VLOOKUP(O94,コード一覧表!$AA$3:$AB$1768,2,0)+1,0),IF(OR(CODE(MID(O94,2,1))=77,CODE(MID(O94,3,1))=77),HLOOKUP($U$9,コード一覧表!$C$1789:$Y$1897,VLOOKUP(O94,コード一覧表!$AA$1789:$AB$1897,2,0)+1,0),HLOOKUP($U$9,コード一覧表!$C$2:$Y$1768,VLOOKUP(O94,コード一覧表!$AA$3:$AB$1768,2,0)+1,0))))","v":""},{"$f":"IF(P94=\"\",\"\",IF(OR(LEN(P94)<3,LEN(P94)>4),HLOOKUP($U$9,コード一覧表!$C$2:$Y$1768,VLOOKUP(P94,コード一覧表!$AA$3:$AB$1768,2,0)+1,0),IF(OR(CODE(MID(P94,2,1))=77,CODE(MID(P94,3,1))=77),HLOOKUP($U$9,コード一覧表!$C$1789:$Y$1897,VLOOKUP(P94,コード一覧表!$AA$1789:$AB$1897,2,0)+1,0),HLOOKUP($U$9,コード一覧表!$C$2:$Y$1768,VLOOKUP(P94,コード一覧表!$AA$3:$AB$1768,2,0)+1,0))))","v":""},{"$f":"IF(Q94=\"\",\"\",IF(OR(LEN(Q94)<3,LEN(Q94)>4),HLOOKUP($U$9,コード一覧表!$C$2:$Y$1768,VLOOKUP(Q94,コード一覧表!$AA$3:$AB$1768,2,0)+1,0),IF(OR(CODE(MID(Q94,2,1))=77,CODE(MID(Q94,3,1))=77),HLOOKUP($U$9,コード一覧表!$C$1789:$Y$1897,VLOOKUP(Q94,コード一覧表!$AA$1789:$AB$1897,2,0)+1,0),HLOOKUP($U$9,コード一覧表!$C$2:$Y$1768,VLOOKUP(Q94,コード一覧表!$AA$3:$AB$1768,2,0)+1,0))))","v":""}]
[]
[null,null,null,null,null,null,null,null,null,null,null,null,null,null,null,null,null,null,"入力行32"]
[null,{"$f":"IF(B97=\"\",\"\",IF(OR(LEN(B97)<3,LEN(B97)>4),HLOOKUP($U$9,コード一覧表!$C$2:$Y$1768,VLOOKUP(B97,コード一覧表!$AA$3:$AB$1768,2,0)+1,0),IF(OR(CODE(MID(B97,2,1))=77,CODE(MID(B97,3,1))=77),HLOOKUP($U$9,コード一覧表!$C$1789:$Y$1897,VLOOKUP(B97,コード一覧表!$AA$1789:$AB$1897,2,0)+1,0),HLOOKUP($U$9,コード一覧表!$C$2:$Y$1768,VLOOKUP(B97,コード一覧表!$AA$3:$AB$1768,2,0)+1,0))))","v":""},{"$f":"IF(C97=\"\",\"\",IF(OR(LEN(C97)<3,LEN(C97)>4),HLOOKUP($U$9,コード一覧表!$C$2:$Y$1768,VLOOKUP(C97,コード一覧表!$AA$3:$AB$1768,2,0)+1,0),IF(OR(CODE(MID(C97,2,1))=77,CODE(MID(C97,3,1))=77),HLOOKUP($U$9,コード一覧表!$C$1789:$Y$1897,VLOOKUP(C97,コード一覧表!$AA$1789:$AB$1897,2,0)+1,0),HLOOKUP($U$9,コード一覧表!$C$2:$Y$1768,VLOOKUP(C97,コード一覧表!$AA$3:$AB$1768,2,0)+1,0))))","v":""},{"$f":"IF(D97=\"\",\"\",IF(OR(LEN(D97)<3,LEN(D97)>4),HLOOKUP($U$9,コード一覧表!$C$2:$Y$1768,VLOOKUP(D97,コード一覧表!$AA$3:$AB$1768,2,0)+1,0),IF(OR(CODE(MID(D97,2,1))=77,CODE(MID(D97,3,1))=77),HLOOKUP($U$9,コード一覧表!$C$1789:$Y$1897,VLOOKUP(D97,コード一覧表!$AA$1789:$AB$1897,2,0)+1,0),HLOOKUP($U$9,コード一覧表!$C$2:$Y$1768,VLOOKUP(D97,コード一覧表!$AA$3:$AB$1768,2,0)+1,0))))","v":""},{"$f":"IF(E97=\"\",\"\",IF(OR(LEN(E97)<3,LEN(E97)>4),HLOOKUP($U$9,コード一覧表!$C$2:$Y$1768,VLOOKUP(E97,コード一覧表!$AA$3:$AB$1768,2,0)+1,0),IF(OR(CODE(MID(E97,2,1))=77,CODE(MID(E97,3,1))=77),HLOOKUP($U$9,コード一覧表!$C$1789:$Y$1897,VLOOKUP(E97,コード一覧表!$AA$1789:$AB$1897,2,0)+1,0),HLOOKUP($U$9,コード一覧表!$C$2:$Y$1768,VLOOKUP(E97,コード一覧表!$AA$3:$AB$1768,2,0)+1,0))))","v":""},{"$f":"IF(F97=\"\",\"\",IF(OR(LEN(F97)<3,LEN(F97)>4),HLOOKUP($U$9,コード一覧表!$C$2:$Y$1768,VLOOKUP(F97,コード一覧表!$AA$3:$AB$1768,2,0)+1,0),IF(OR(CODE(MID(F97,2,1))=77,CODE(MID(F97,3,1))=77),HLOOKUP($U$9,コード一覧表!$C$1789:$Y$1897,VLOOKUP(F97,コード一覧表!$AA$1789:$AB$1897,2,0)+1,0),HLOOKUP($U$9,コード一覧表!$C$2:$Y$1768,VLOOKUP(F97,コード一覧表!$AA$3:$AB$1768,2,0)+1,0))))","v":""},{"$f":"IF(G97=\"\",\"\",IF(OR(LEN(G97)<3,LEN(G97)>4),HLOOKUP($U$9,コード一覧表!$C$2:$Y$1768,VLOOKUP(G97,コード一覧表!$AA$3:$AB$1768,2,0)+1,0),IF(OR(CODE(MID(G97,2,1))=77,CODE(MID(G97,3,1))=77),HLOOKUP($U$9,コード一覧表!$C$1789:$Y$1897,VLOOKUP(G97,コード一覧表!$AA$1789:$AB$1897,2,0)+1,0),HLOOKUP($U$9,コード一覧表!$C$2:$Y$1768,VLOOKUP(G97,コード一覧表!$AA$3:$AB$1768,2,0)+1,0))))","v":""},{"$f":"IF(H97=\"\",\"\",IF(OR(LEN(H97)<3,LEN(H97)>4),HLOOKUP($U$9,コード一覧表!$C$2:$Y$1768,VLOOKUP(H97,コード一覧表!$AA$3:$AB$1768,2,0)+1,0),IF(OR(CODE(MID(H97,2,1))=77,CODE(MID(H97,3,1))=77),HLOOKUP($U$9,コード一覧表!$C$1789:$Y$1897,VLOOKUP(H97,コード一覧表!$AA$1789:$AB$1897,2,0)+1,0),HLOOKUP($U$9,コード一覧表!$C$2:$Y$1768,VLOOKUP(H97,コード一覧表!$AA$3:$AB$1768,2,0)+1,0))))","v":""},{"$f":"IF(I97=\"\",\"\",IF(OR(LEN(I97)<3,LEN(I97)>4),HLOOKUP($U$9,コード一覧表!$C$2:$Y$1768,VLOOKUP(I97,コード一覧表!$AA$3:$AB$1768,2,0)+1,0),IF(OR(CODE(MID(I97,2,1))=77,CODE(MID(I97,3,1))=77),HLOOKUP($U$9,コード一覧表!$C$1789:$Y$1897,VLOOKUP(I97,コード一覧表!$AA$1789:$AB$1897,2,0)+1,0),HLOOKUP($U$9,コード一覧表!$C$2:$Y$1768,VLOOKUP(I97,コード一覧表!$AA$3:$AB$1768,2,0)+1,0))))","v":""},{"$f":"IF(J97=\"\",\"\",IF(OR(LEN(J97)<3,LEN(J97)>4),HLOOKUP($U$9,コード一覧表!$C$2:$Y$1768,VLOOKUP(J97,コード一覧表!$AA$3:$AB$1768,2,0)+1,0),IF(OR(CODE(MID(J97,2,1))=77,CODE(MID(J97,3,1))=77),HLOOKUP($U$9,コード一覧表!$C$1789:$Y$1897,VLOOKUP(J97,コード一覧表!$AA$1789:$AB$1897,2,0)+1,0),HLOOKUP($U$9,コード一覧表!$C$2:$Y$1768,VLOOKUP(J97,コード一覧表!$AA$3:$AB$1768,2,0)+1,0))))","v":""},{"$f":"IF(K97=\"\",\"\",IF(OR(LEN(K97)<3,LEN(K97)>4),HLOOKUP($U$9,コード一覧表!$C$2:$Y$1768,VLOOKUP(K97,コード一覧表!$AA$3:$AB$1768,2,0)+1,0),IF(OR(CODE(MID(K97,2,1))=77,CODE(MID(K97,3,1))=77),HLOOKUP($U$9,コード一覧表!$C$1789:$Y$1897,VLOOKUP(K97,コード一覧表!$AA$1789:$AB$1897,2,0)+1,0),HLOOKUP($U$9,コード一覧表!$C$2:$Y$1768,VLOOKUP(K97,コード一覧表!$AA$3:$AB$1768,2,0)+1,0))))","v":""},{"$f":"IF(L97=\"\",\"\",IF(OR(LEN(L97)<3,LEN(L97)>4),HLOOKUP($U$9,コード一覧表!$C$2:$Y$1768,VLOOKUP(L97,コード一覧表!$AA$3:$AB$1768,2,0)+1,0),IF(OR(CODE(MID(L97,2,1))=77,CODE(MID(L97,3,1))=77),HLOOKUP($U$9,コード一覧表!$C$1789:$Y$1897,VLOOKUP(L97,コード一覧表!$AA$1789:$AB$1897,2,0)+1,0),HLOOKUP($U$9,コード一覧表!$C$2:$Y$1768,VLOOKUP(L97,コード一覧表!$AA$3:$AB$1768,2,0)+1,0))))","v":""},{"$f":"IF(M97=\"\",\"\",IF(OR(LEN(M97)<3,LEN(M97)>4),HLOOKUP($U$9,コード一覧表!$C$2:$Y$1768,VLOOKUP(M97,コード一覧表!$AA$3:$AB$1768,2,0)+1,0),IF(OR(CODE(MID(M97,2,1))=77,CODE(MID(M97,3,1))=77),HLOOKUP($U$9,コード一覧表!$C$1789:$Y$1897,VLOOKUP(M97,コード一覧表!$AA$1789:$AB$1897,2,0)+1,0),HLOOKUP($U$9,コード一覧表!$C$2:$Y$1768,VLOOKUP(M97,コード一覧表!$AA$3:$AB$1768,2,0)+1,0))))","v":""},{"$f":"IF(N97=\"\",\"\",IF(OR(LEN(N97)<3,LEN(N97)>4),HLOOKUP($U$9,コード一覧表!$C$2:$Y$1768,VLOOKUP(N97,コード一覧表!$AA$3:$AB$1768,2,0)+1,0),IF(OR(CODE(MID(N97,2,1))=77,CODE(MID(N97,3,1))=77),HLOOKUP($U$9,コード一覧表!$C$1789:$Y$1897,VLOOKUP(N97,コード一覧表!$AA$1789:$AB$1897,2,0)+1,0),HLOOKUP($U$9,コード一覧表!$C$2:$Y$1768,VLOOKUP(N97,コード一覧表!$AA$3:$AB$1768,2,0)+1,0))))","v":""},{"$f":"IF(O97=\"\",\"\",IF(OR(LEN(O97)<3,LEN(O97)>4),HLOOKUP($U$9,コード一覧表!$C$2:$Y$1768,VLOOKUP(O97,コード一覧表!$AA$3:$AB$1768,2,0)+1,0),IF(OR(CODE(MID(O97,2,1))=77,CODE(MID(O97,3,1))=77),HLOOKUP($U$9,コード一覧表!$C$1789:$Y$1897,VLOOKUP(O97,コード一覧表!$AA$1789:$AB$1897,2,0)+1,0),HLOOKUP($U$9,コード一覧表!$C$2:$Y$1768,VLOOKUP(O97,コード一覧表!$AA$3:$AB$1768,2,0)+1,0))))","v":""},{"$f":"IF(P97=\"\",\"\",IF(OR(LEN(P97)<3,LEN(P97)>4),HLOOKUP($U$9,コード一覧表!$C$2:$Y$1768,VLOOKUP(P97,コード一覧表!$AA$3:$AB$1768,2,0)+1,0),IF(OR(CODE(MID(P97,2,1))=77,CODE(MID(P97,3,1))=77),HLOOKUP($U$9,コード一覧表!$C$1789:$Y$1897,VLOOKUP(P97,コード一覧表!$AA$1789:$AB$1897,2,0)+1,0),HLOOKUP($U$9,コード一覧表!$C$2:$Y$1768,VLOOKUP(P97,コード一覧表!$AA$3:$AB$1768,2,0)+1,0))))","v":""},{"$f":"IF(Q97=\"\",\"\",IF(OR(LEN(Q97)<3,LEN(Q97)>4),HLOOKUP($U$9,コード一覧表!$C$2:$Y$1768,VLOOKUP(Q97,コード一覧表!$AA$3:$AB$1768,2,0)+1,0),IF(OR(CODE(MID(Q97,2,1))=77,CODE(MID(Q97,3,1))=77),HLOOKUP($U$9,コード一覧表!$C$1789:$Y$1897,VLOOKUP(Q97,コード一覧表!$AA$1789:$AB$1897,2,0)+1,0),HLOOKUP($U$9,コード一覧表!$C$2:$Y$1768,VLOOKUP(Q97,コード一覧表!$AA$3:$AB$1768,2,0)+1,0))))","v":""}]
[]
[null,null,null,null,null,null,null,null,null,null,null,null,null,null,null,null,null,null,"入力行33"]
[null,{"$f":"IF(B100=\"\",\"\",IF(OR(LEN(B100)<3,LEN(B100)>4),HLOOKUP($U$9,コード一覧表!$C$2:$Y$1768,VLOOKUP(B100,コード一覧表!$AA$3:$AB$1768,2,0)+1,0),IF(OR(CODE(MID(B100,2,1))=77,CODE(MID(B100,3,1))=77),HLOOKUP($U$9,コード一覧表!$C$1789:$Y$1897,VLOOKUP(B100,コード一覧表!$AA$1789:$AB$1897,2,0)+1,0),HLOOKUP($U$9,コード一覧表!$C$2:$Y$1768,VLOOKUP(B100,コード一覧表!$AA$3:$AB$1768,2,0)+1,0))))","v":""},{"$f":"IF(C100=\"\",\"\",IF(OR(LEN(C100)<3,LEN(C100)>4),HLOOKUP($U$9,コード一覧表!$C$2:$Y$1768,VLOOKUP(C100,コード一覧表!$AA$3:$AB$1768,2,0)+1,0),IF(OR(CODE(MID(C100,2,1))=77,CODE(MID(C100,3,1))=77),HLOOKUP($U$9,コード一覧表!$C$1789:$Y$1897,VLOOKUP(C100,コード一覧表!$AA$1789:$AB$1897,2,0)+1,0),HLOOKUP($U$9,コード一覧表!$C$2:$Y$1768,VLOOKUP(C100,コード一覧表!$AA$3:$AB$1768,2,0)+1,0))))","v":""},{"$f":"IF(D100=\"\",\"\",IF(OR(LEN(D100)<3,LEN(D100)>4),HLOOKUP($U$9,コード一覧表!$C$2:$Y$1768,VLOOKUP(D100,コード一覧表!$AA$3:$AB$1768,2,0)+1,0),IF(OR(CODE(MID(D100,2,1))=77,CODE(MID(D100,3,1))=77),HLOOKUP($U$9,コード一覧表!$C$1789:$Y$1897,VLOOKUP(D100,コード一覧表!$AA$1789:$AB$1897,2,0)+1,0),HLOOKUP($U$9,コード一覧表!$C$2:$Y$1768,VLOOKUP(D100,コード一覧表!$AA$3:$AB$1768,2,0)+1,0))))","v":""},{"$f":"IF(E100=\"\",\"\",IF(OR(LEN(E100)<3,LEN(E100)>4),HLOOKUP($U$9,コード一覧表!$C$2:$Y$1768,VLOOKUP(E100,コード一覧表!$AA$3:$AB$1768,2,0)+1,0),IF(OR(CODE(MID(E100,2,1))=77,CODE(MID(E100,3,1))=77),HLOOKUP($U$9,コード一覧表!$C$1789:$Y$1897,VLOOKUP(E100,コード一覧表!$AA$1789:$AB$1897,2,0)+1,0),HLOOKUP($U$9,コード一覧表!$C$2:$Y$1768,VLOOKUP(E100,コード一覧表!$AA$3:$AB$1768,2,0)+1,0))))","v":""},{"$f":"IF(F100=\"\",\"\",IF(OR(LEN(F100)<3,LEN(F100)>4),HLOOKUP($U$9,コード一覧表!$C$2:$Y$1768,VLOOKUP(F100,コード一覧表!$AA$3:$AB$1768,2,0)+1,0),IF(OR(CODE(MID(F100,2,1))=77,CODE(MID(F100,3,1))=77),HLOOKUP($U$9,コード一覧表!$C$1789:$Y$1897,VLOOKUP(F100,コード一覧表!$AA$1789:$AB$1897,2,0)+1,0),HLOOKUP($U$9,コード一覧表!$C$2:$Y$1768,VLOOKUP(F100,コード一覧表!$AA$3:$AB$1768,2,0)+1,0))))","v":""},{"$f":"IF(G100=\"\",\"\",IF(OR(LEN(G100)<3,LEN(G100)>4),HLOOKUP($U$9,コード一覧表!$C$2:$Y$1768,VLOOKUP(G100,コード一覧表!$AA$3:$AB$1768,2,0)+1,0),IF(OR(CODE(MID(G100,2,1))=77,CODE(MID(G100,3,1))=77),HLOOKUP($U$9,コード一覧表!$C$1789:$Y$1897,VLOOKUP(G100,コード一覧表!$AA$1789:$AB$1897,2,0)+1,0),HLOOKUP($U$9,コード一覧表!$C$2:$Y$1768,VLOOKUP(G100,コード一覧表!$AA$3:$AB$1768,2,0)+1,0))))","v":""},{"$f":"IF(H100=\"\",\"\",IF(OR(LEN(H100)<3,LEN(H100)>4),HLOOKUP($U$9,コード一覧表!$C$2:$Y$1768,VLOOKUP(H100,コード一覧表!$AA$3:$AB$1768,2,0)+1,0),IF(OR(CODE(MID(H100,2,1))=77,CODE(MID(H100,3,1))=77),HLOOKUP($U$9,コード一覧表!$C$1789:$Y$1897,VLOOKUP(H100,コード一覧表!$AA$1789:$AB$1897,2,0)+1,0),HLOOKUP($U$9,コード一覧表!$C$2:$Y$1768,VLOOKUP(H100,コード一覧表!$AA$3:$AB$1768,2,0)+1,0))))","v":""},{"$f":"IF(I100=\"\",\"\",IF(OR(LEN(I100)<3,LEN(I100)>4),HLOOKUP($U$9,コード一覧表!$C$2:$Y$1768,VLOOKUP(I100,コード一覧表!$AA$3:$AB$1768,2,0)+1,0),IF(OR(CODE(MID(I100,2,1))=77,CODE(MID(I100,3,1))=77),HLOOKUP($U$9,コード一覧表!$C$1789:$Y$1897,VLOOKUP(I100,コード一覧表!$AA$1789:$AB$1897,2,0)+1,0),HLOOKUP($U$9,コード一覧表!$C$2:$Y$1768,VLOOKUP(I100,コード一覧表!$AA$3:$AB$1768,2,0)+1,0))))","v":""},{"$f":"IF(J100=\"\",\"\",IF(OR(LEN(J100)<3,LEN(J100)>4),HLOOKUP($U$9,コード一覧表!$C$2:$Y$1768,VLOOKUP(J100,コード一覧表!$AA$3:$AB$1768,2,0)+1,0),IF(OR(CODE(MID(J100,2,1))=77,CODE(MID(J100,3,1))=77),HLOOKUP($U$9,コード一覧表!$C$1789:$Y$1897,VLOOKUP(J100,コード一覧表!$AA$1789:$AB$1897,2,0)+1,0),HLOOKUP($U$9,コード一覧表!$C$2:$Y$1768,VLOOKUP(J100,コード一覧表!$AA$3:$AB$1768,2,0)+1,0))))","v":""},{"$f":"IF(K100=\"\",\"\",IF(OR(LEN(K100)<3,LEN(K100)>4),HLOOKUP($U$9,コード一覧表!$C$2:$Y$1768,VLOOKUP(K100,コード一覧表!$AA$3:$AB$1768,2,0)+1,0),IF(OR(CODE(MID(K100,2,1))=77,CODE(MID(K100,3,1))=77),HLOOKUP($U$9,コード一覧表!$C$1789:$Y$1897,VLOOKUP(K100,コード一覧表!$AA$1789:$AB$1897,2,0)+1,0),HLOOKUP($U$9,コード一覧表!$C$2:$Y$1768,VLOOKUP(K100,コード一覧表!$AA$3:$AB$1768,2,0)+1,0))))","v":""},{"$f":"IF(L100=\"\",\"\",IF(OR(LEN(L100)<3,LEN(L100)>4),HLOOKUP($U$9,コード一覧表!$C$2:$Y$1768,VLOOKUP(L100,コード一覧表!$AA$3:$AB$1768,2,0)+1,0),IF(OR(CODE(MID(L100,2,1))=77,CODE(MID(L100,3,1))=77),HLOOKUP($U$9,コード一覧表!$C$1789:$Y$1897,VLOOKUP(L100,コード一覧表!$AA$1789:$AB$1897,2,0)+1,0),HLOOKUP($U$9,コード一覧表!$C$2:$Y$1768,VLOOKUP(L100,コード一覧表!$AA$3:$AB$1768,2,0)+1,0))))","v":""},{"$f":"IF(M100=\"\",\"\",IF(OR(LEN(M100)<3,LEN(M100)>4),HLOOKUP($U$9,コード一覧表!$C$2:$Y$1768,VLOOKUP(M100,コード一覧表!$AA$3:$AB$1768,2,0)+1,0),IF(OR(CODE(MID(M100,2,1))=77,CODE(MID(M100,3,1))=77),HLOOKUP($U$9,コード一覧表!$C$1789:$Y$1897,VLOOKUP(M100,コード一覧表!$AA$1789:$AB$1897,2,0)+1,0),HLOOKUP($U$9,コード一覧表!$C$2:$Y$1768,VLOOKUP(M100,コード一覧表!$AA$3:$AB$1768,2,0)+1,0))))","v":""},{"$f":"IF(N100=\"\",\"\",IF(OR(LEN(N100)<3,LEN(N100)>4),HLOOKUP($U$9,コード一覧表!$C$2:$Y$1768,VLOOKUP(N100,コード一覧表!$AA$3:$AB$1768,2,0)+1,0),IF(OR(CODE(MID(N100,2,1))=77,CODE(MID(N100,3,1))=77),HLOOKUP($U$9,コード一覧表!$C$1789:$Y$1897,VLOOKUP(N100,コード一覧表!$AA$1789:$AB$1897,2,0)+1,0),HLOOKUP($U$9,コード一覧表!$C$2:$Y$1768,VLOOKUP(N100,コード一覧表!$AA$3:$AB$1768,2,0)+1,0))))","v":""},{"$f":"IF(O100=\"\",\"\",IF(OR(LEN(O100)<3,LEN(O100)>4),HLOOKUP($U$9,コード一覧表!$C$2:$Y$1768,VLOOKUP(O100,コード一覧表!$AA$3:$AB$1768,2,0)+1,0),IF(OR(CODE(MID(O100,2,1))=77,CODE(MID(O100,3,1))=77),HLOOKUP($U$9,コード一覧表!$C$1789:$Y$1897,VLOOKUP(O100,コード一覧表!$AA$1789:$AB$1897,2,0)+1,0),HLOOKUP($U$9,コード一覧表!$C$2:$Y$1768,VLOOKUP(O100,コード一覧表!$AA$3:$AB$1768,2,0)+1,0))))","v":""},{"$f":"IF(P100=\"\",\"\",IF(OR(LEN(P100)<3,LEN(P100)>4),HLOOKUP($U$9,コード一覧表!$C$2:$Y$1768,VLOOKUP(P100,コード一覧表!$AA$3:$AB$1768,2,0)+1,0),IF(OR(CODE(MID(P100,2,1))=77,CODE(MID(P100,3,1))=77),HLOOKUP($U$9,コード一覧表!$C$1789:$Y$1897,VLOOKUP(P100,コード一覧表!$AA$1789:$AB$1897,2,0)+1,0),HLOOKUP($U$9,コード一覧表!$C$2:$Y$1768,VLOOKUP(P100,コード一覧表!$AA$3:$AB$1768,2,0)+1,0))))","v":""},{"$f":"IF(Q100=\"\",\"\",IF(OR(LEN(Q100)<3,LEN(Q100)>4),HLOOKUP($U$9,コード一覧表!$C$2:$Y$1768,VLOOKUP(Q100,コード一覧表!$AA$3:$AB$1768,2,0)+1,0),IF(OR(CODE(MID(Q100,2,1))=77,CODE(MID(Q100,3,1))=77),HLOOKUP($U$9,コード一覧表!$C$1789:$Y$1897,VLOOKUP(Q100,コード一覧表!$AA$1789:$AB$1897,2,0)+1,0),HLOOKUP($U$9,コード一覧表!$C$2:$Y$1768,VLOOKUP(Q100,コード一覧表!$AA$3:$AB$1768,2,0)+1,0))))","v":""}]
[]
[null,null,null,null,null,null,null,null,null,null,null,null,null,null,null,null,null,null,"入力行34"]
[null,{"$f":"IF(B103=\"\",\"\",IF(OR(LEN(B103)<3,LEN(B103)>4),HLOOKUP($U$9,コード一覧表!$C$2:$Y$1768,VLOOKUP(B103,コード一覧表!$AA$3:$AB$1768,2,0)+1,0),IF(OR(CODE(MID(B103,2,1))=77,CODE(MID(B103,3,1))=77),HLOOKUP($U$9,コード一覧表!$C$1789:$Y$1897,VLOOKUP(B103,コード一覧表!$AA$1789:$AB$1897,2,0)+1,0),HLOOKUP($U$9,コード一覧表!$C$2:$Y$1768,VLOOKUP(B103,コード一覧表!$AA$3:$AB$1768,2,0)+1,0))))","v":""},{"$f":"IF(C103=\"\",\"\",IF(OR(LEN(C103)<3,LEN(C103)>4),HLOOKUP($U$9,コード一覧表!$C$2:$Y$1768,VLOOKUP(C103,コード一覧表!$AA$3:$AB$1768,2,0)+1,0),IF(OR(CODE(MID(C103,2,1))=77,CODE(MID(C103,3,1))=77),HLOOKUP($U$9,コード一覧表!$C$1789:$Y$1897,VLOOKUP(C103,コード一覧表!$AA$1789:$AB$1897,2,0)+1,0),HLOOKUP($U$9,コード一覧表!$C$2:$Y$1768,VLOOKUP(C103,コード一覧表!$AA$3:$AB$1768,2,0)+1,0))))","v":""},{"$f":"IF(D103=\"\",\"\",IF(OR(LEN(D103)<3,LEN(D103)>4),HLOOKUP($U$9,コード一覧表!$C$2:$Y$1768,VLOOKUP(D103,コード一覧表!$AA$3:$AB$1768,2,0)+1,0),IF(OR(CODE(MID(D103,2,1))=77,CODE(MID(D103,3,1))=77),HLOOKUP($U$9,コード一覧表!$C$1789:$Y$1897,VLOOKUP(D103,コード一覧表!$AA$1789:$AB$1897,2,0)+1,0),HLOOKUP($U$9,コード一覧表!$C$2:$Y$1768,VLOOKUP(D103,コード一覧表!$AA$3:$AB$1768,2,0)+1,0))))","v":""},{"$f":"IF(E103=\"\",\"\",IF(OR(LEN(E103)<3,LEN(E103)>4),HLOOKUP($U$9,コード一覧表!$C$2:$Y$1768,VLOOKUP(E103,コード一覧表!$AA$3:$AB$1768,2,0)+1,0),IF(OR(CODE(MID(E103,2,1))=77,CODE(MID(E103,3,1))=77),HLOOKUP($U$9,コード一覧表!$C$1789:$Y$1897,VLOOKUP(E103,コード一覧表!$AA$1789:$AB$1897,2,0)+1,0),HLOOKUP($U$9,コード一覧表!$C$2:$Y$1768,VLOOKUP(E103,コード一覧表!$AA$3:$AB$1768,2,0)+1,0))))","v":""},{"$f":"IF(F103=\"\",\"\",IF(OR(LEN(F103)<3,LEN(F103)>4),HLOOKUP($U$9,コード一覧表!$C$2:$Y$1768,VLOOKUP(F103,コード一覧表!$AA$3:$AB$1768,2,0)+1,0),IF(OR(CODE(MID(F103,2,1))=77,CODE(MID(F103,3,1))=77),HLOOKUP($U$9,コード一覧表!$C$1789:$Y$1897,VLOOKUP(F103,コード一覧表!$AA$1789:$AB$1897,2,0)+1,0),HLOOKUP($U$9,コード一覧表!$C$2:$Y$1768,VLOOKUP(F103,コード一覧表!$AA$3:$AB$1768,2,0)+1,0))))","v":""},{"$f":"IF(G103=\"\",\"\",IF(OR(LEN(G103)<3,LEN(G103)>4),HLOOKUP($U$9,コード一覧表!$C$2:$Y$1768,VLOOKUP(G103,コード一覧表!$AA$3:$AB$1768,2,0)+1,0),IF(OR(CODE(MID(G103,2,1))=77,CODE(MID(G103,3,1))=77),HLOOKUP($U$9,コード一覧表!$C$1789:$Y$1897,VLOOKUP(G103,コード一覧表!$AA$1789:$AB$1897,2,0)+1,0),HLOOKUP($U$9,コード一覧表!$C$2:$Y$1768,VLOOKUP(G103,コード一覧表!$AA$3:$AB$1768,2,0)+1,0))))","v":""},{"$f":"IF(H103=\"\",\"\",IF(OR(LEN(H103)<3,LEN(H103)>4),HLOOKUP($U$9,コード一覧表!$C$2:$Y$1768,VLOOKUP(H103,コード一覧表!$AA$3:$AB$1768,2,0)+1,0),IF(OR(CODE(MID(H103,2,1))=77,CODE(MID(H103,3,1))=77),HLOOKUP($U$9,コード一覧表!$C$1789:$Y$1897,VLOOKUP(H103,コード一覧表!$AA$1789:$AB$1897,2,0)+1,0),HLOOKUP($U$9,コード一覧表!$C$2:$Y$1768,VLOOKUP(H103,コード一覧表!$AA$3:$AB$1768,2,0)+1,0))))","v":""},{"$f":"IF(I103=\"\",\"\",IF(OR(LEN(I103)<3,LEN(I103)>4),HLOOKUP($U$9,コード一覧表!$C$2:$Y$1768,VLOOKUP(I103,コード一覧表!$AA$3:$AB$1768,2,0)+1,0),IF(OR(CODE(MID(I103,2,1))=77,CODE(MID(I103,3,1))=77),HLOOKUP($U$9,コード一覧表!$C$1789:$Y$1897,VLOOKUP(I103,コード一覧表!$AA$1789:$AB$1897,2,0)+1,0),HLOOKUP($U$9,コード一覧表!$C$2:$Y$1768,VLOOKUP(I103,コード一覧表!$AA$3:$AB$1768,2,0)+1,0))))","v":""},{"$f":"IF(J103=\"\",\"\",IF(OR(LEN(J103)<3,LEN(J103)>4),HLOOKUP($U$9,コード一覧表!$C$2:$Y$1768,VLOOKUP(J103,コード一覧表!$AA$3:$AB$1768,2,0)+1,0),IF(OR(CODE(MID(J103,2,1))=77,CODE(MID(J103,3,1))=77),HLOOKUP($U$9,コード一覧表!$C$1789:$Y$1897,VLOOKUP(J103,コード一覧表!$AA$1789:$AB$1897,2,0)+1,0),HLOOKUP($U$9,コード一覧表!$C$2:$Y$1768,VLOOKUP(J103,コード一覧表!$AA$3:$AB$1768,2,0)+1,0))))","v":""},{"$f":"IF(K103=\"\",\"\",IF(OR(LEN(K103)<3,LEN(K103)>4),HLOOKUP($U$9,コード一覧表!$C$2:$Y$1768,VLOOKUP(K103,コード一覧表!$AA$3:$AB$1768,2,0)+1,0),IF(OR(CODE(MID(K103,2,1))=77,CODE(MID(K103,3,1))=77),HLOOKUP($U$9,コード一覧表!$C$1789:$Y$1897,VLOOKUP(K103,コード一覧表!$AA$1789:$AB$1897,2,0)+1,0),HLOOKUP($U$9,コード一覧表!$C$2:$Y$1768,VLOOKUP(K103,コード一覧表!$AA$3:$AB$1768,2,0)+1,0))))","v":""},{"$f":"IF(L103=\"\",\"\",IF(OR(LEN(L103)<3,LEN(L103)>4),HLOOKUP($U$9,コード一覧表!$C$2:$Y$1768,VLOOKUP(L103,コード一覧表!$AA$3:$AB$1768,2,0)+1,0),IF(OR(CODE(MID(L103,2,1))=77,CODE(MID(L103,3,1))=77),HLOOKUP($U$9,コード一覧表!$C$1789:$Y$1897,VLOOKUP(L103,コード一覧表!$AA$1789:$AB$1897,2,0)+1,0),HLOOKUP($U$9,コード一覧表!$C$2:$Y$1768,VLOOKUP(L103,コード一覧表!$AA$3:$AB$1768,2,0)+1,0))))","v":""},{"$f":"IF(M103=\"\",\"\",IF(OR(LEN(M103)<3,LEN(M103)>4),HLOOKUP($U$9,コード一覧表!$C$2:$Y$1768,VLOOKUP(M103,コード一覧表!$AA$3:$AB$1768,2,0)+1,0),IF(OR(CODE(MID(M103,2,1))=77,CODE(MID(M103,3,1))=77),HLOOKUP($U$9,コード一覧表!$C$1789:$Y$1897,VLOOKUP(M103,コード一覧表!$AA$1789:$AB$1897,2,0)+1,0),HLOOKUP($U$9,コード一覧表!$C$2:$Y$1768,VLOOKUP(M103,コード一覧表!$AA$3:$AB$1768,2,0)+1,0))))","v":""},{"$f":"IF(N103=\"\",\"\",IF(OR(LEN(N103)<3,LEN(N103)>4),HLOOKUP($U$9,コード一覧表!$C$2:$Y$1768,VLOOKUP(N103,コード一覧表!$AA$3:$AB$1768,2,0)+1,0),IF(OR(CODE(MID(N103,2,1))=77,CODE(MID(N103,3,1))=77),HLOOKUP($U$9,コード一覧表!$C$1789:$Y$1897,VLOOKUP(N103,コード一覧表!$AA$1789:$AB$1897,2,0)+1,0),HLOOKUP($U$9,コード一覧表!$C$2:$Y$1768,VLOOKUP(N103,コード一覧表!$AA$3:$AB$1768,2,0)+1,0))))","v":""},{"$f":"IF(O103=\"\",\"\",IF(OR(LEN(O103)<3,LEN(O103)>4),HLOOKUP($U$9,コード一覧表!$C$2:$Y$1768,VLOOKUP(O103,コード一覧表!$AA$3:$AB$1768,2,0)+1,0),IF(OR(CODE(MID(O103,2,1))=77,CODE(MID(O103,3,1))=77),HLOOKUP($U$9,コード一覧表!$C$1789:$Y$1897,VLOOKUP(O103,コード一覧表!$AA$1789:$AB$1897,2,0)+1,0),HLOOKUP($U$9,コード一覧表!$C$2:$Y$1768,VLOOKUP(O103,コード一覧表!$AA$3:$AB$1768,2,0)+1,0))))","v":""},{"$f":"IF(P103=\"\",\"\",IF(OR(LEN(P103)<3,LEN(P103)>4),HLOOKUP($U$9,コード一覧表!$C$2:$Y$1768,VLOOKUP(P103,コード一覧表!$AA$3:$AB$1768,2,0)+1,0),IF(OR(CODE(MID(P103,2,1))=77,CODE(MID(P103,3,1))=77),HLOOKUP($U$9,コード一覧表!$C$1789:$Y$1897,VLOOKUP(P103,コード一覧表!$AA$1789:$AB$1897,2,0)+1,0),HLOOKUP($U$9,コード一覧表!$C$2:$Y$1768,VLOOKUP(P103,コード一覧表!$AA$3:$AB$1768,2,0)+1,0))))","v":""},{"$f":"IF(Q103=\"\",\"\",IF(OR(LEN(Q103)<3,LEN(Q103)>4),HLOOKUP($U$9,コード一覧表!$C$2:$Y$1768,VLOOKUP(Q103,コード一覧表!$AA$3:$AB$1768,2,0)+1,0),IF(OR(CODE(MID(Q103,2,1))=77,CODE(MID(Q103,3,1))=77),HLOOKUP($U$9,コード一覧表!$C$1789:$Y$1897,VLOOKUP(Q103,コード一覧表!$AA$1789:$AB$1897,2,0)+1,0),HLOOKUP($U$9,コード一覧表!$C$2:$Y$1768,VLOOKUP(Q103,コード一覧表!$AA$3:$AB$1768,2,0)+1,0))))","v":""}]
[]
[null,null,null,null,null,null,null,null,null,null,null,null,null,null,null,null,null,null,"入力行35"]
[null,{"$f":"IF(B106=\"\",\"\",IF(OR(LEN(B106)<3,LEN(B106)>4),HLOOKUP($U$9,コード一覧表!$C$2:$Y$1768,VLOOKUP(B106,コード一覧表!$AA$3:$AB$1768,2,0)+1,0),IF(OR(CODE(MID(B106,2,1))=77,CODE(MID(B106,3,1))=77),HLOOKUP($U$9,コード一覧表!$C$1789:$Y$1897,VLOOKUP(B106,コード一覧表!$AA$1789:$AB$1897,2,0)+1,0),HLOOKUP($U$9,コード一覧表!$C$2:$Y$1768,VLOOKUP(B106,コード一覧表!$AA$3:$AB$1768,2,0)+1,0))))","v":""},{"$f":"IF(C106=\"\",\"\",IF(OR(LEN(C106)<3,LEN(C106)>4),HLOOKUP($U$9,コード一覧表!$C$2:$Y$1768,VLOOKUP(C106,コード一覧表!$AA$3:$AB$1768,2,0)+1,0),IF(OR(CODE(MID(C106,2,1))=77,CODE(MID(C106,3,1))=77),HLOOKUP($U$9,コード一覧表!$C$1789:$Y$1897,VLOOKUP(C106,コード一覧表!$AA$1789:$AB$1897,2,0)+1,0),HLOOKUP($U$9,コード一覧表!$C$2:$Y$1768,VLOOKUP(C106,コード一覧表!$AA$3:$AB$1768,2,0)+1,0))))","v":""},{"$f":"IF(D106=\"\",\"\",IF(OR(LEN(D106)<3,LEN(D106)>4),HLOOKUP($U$9,コード一覧表!$C$2:$Y$1768,VLOOKUP(D106,コード一覧表!$AA$3:$AB$1768,2,0)+1,0),IF(OR(CODE(MID(D106,2,1))=77,CODE(MID(D106,3,1))=77),HLOOKUP($U$9,コード一覧表!$C$1789:$Y$1897,VLOOKUP(D106,コード一覧表!$AA$1789:$AB$1897,2,0)+1,0),HLOOKUP($U$9,コード一覧表!$C$2:$Y$1768,VLOOKUP(D106,コード一覧表!$AA$3:$AB$1768,2,0)+1,0))))","v":""},{"$f":"IF(E106=\"\",\"\",IF(OR(LEN(E106)<3,LEN(E106)>4),HLOOKUP($U$9,コード一覧表!$C$2:$Y$1768,VLOOKUP(E106,コード一覧表!$AA$3:$AB$1768,2,0)+1,0),IF(OR(CODE(MID(E106,2,1))=77,CODE(MID(E106,3,1))=77),HLOOKUP($U$9,コード一覧表!$C$1789:$Y$1897,VLOOKUP(E106,コード一覧表!$AA$1789:$AB$1897,2,0)+1,0),HLOOKUP($U$9,コード一覧表!$C$2:$Y$1768,VLOOKUP(E106,コード一覧表!$AA$3:$AB$1768,2,0)+1,0))))","v":""},{"$f":"IF(F106=\"\",\"\",IF(OR(LEN(F106)<3,LEN(F106)>4),HLOOKUP($U$9,コード一覧表!$C$2:$Y$1768,VLOOKUP(F106,コード一覧表!$AA$3:$AB$1768,2,0)+1,0),IF(OR(CODE(MID(F106,2,1))=77,CODE(MID(F106,3,1))=77),HLOOKUP($U$9,コード一覧表!$C$1789:$Y$1897,VLOOKUP(F106,コード一覧表!$AA$1789:$AB$1897,2,0)+1,0),HLOOKUP($U$9,コード一覧表!$C$2:$Y$1768,VLOOKUP(F106,コード一覧表!$AA$3:$AB$1768,2,0)+1,0))))","v":""},{"$f":"IF(G106=\"\",\"\",IF(OR(LEN(G106)<3,LEN(G106)>4),HLOOKUP($U$9,コード一覧表!$C$2:$Y$1768,VLOOKUP(G106,コード一覧表!$AA$3:$AB$1768,2,0)+1,0),IF(OR(CODE(MID(G106,2,1))=77,CODE(MID(G106,3,1))=77),HLOOKUP($U$9,コード一覧表!$C$1789:$Y$1897,VLOOKUP(G106,コード一覧表!$AA$1789:$AB$1897,2,0)+1,0),HLOOKUP($U$9,コード一覧表!$C$2:$Y$1768,VLOOKUP(G106,コード一覧表!$AA$3:$AB$1768,2,0)+1,0))))","v":""},{"$f":"IF(H106=\"\",\"\",IF(OR(LEN(H106)<3,LEN(H106)>4),HLOOKUP($U$9,コード一覧表!$C$2:$Y$1768,VLOOKUP(H106,コード一覧表!$AA$3:$AB$1768,2,0)+1,0),IF(OR(CODE(MID(H106,2,1))=77,CODE(MID(H106,3,1))=77),HLOOKUP($U$9,コード一覧表!$C$1789:$Y$1897,VLOOKUP(H106,コード一覧表!$AA$1789:$AB$1897,2,0)+1,0),HLOOKUP($U$9,コード一覧表!$C$2:$Y$1768,VLOOKUP(H106,コード一覧表!$AA$3:$AB$1768,2,0)+1,0))))","v":""},{"$f":"IF(I106=\"\",\"\",IF(OR(LEN(I106)<3,LEN(I106)>4),HLOOKUP($U$9,コード一覧表!$C$2:$Y$1768,VLOOKUP(I106,コード一覧表!$AA$3:$AB$1768,2,0)+1,0),IF(OR(CODE(MID(I106,2,1))=77,CODE(MID(I106,3,1))=77),HLOOKUP($U$9,コード一覧表!$C$1789:$Y$1897,VLOOKUP(I106,コード一覧表!$AA$1789:$AB$1897,2,0)+1,0),HLOOKUP($U$9,コード一覧表!$C$2:$Y$1768,VLOOKUP(I106,コード一覧表!$AA$3:$AB$1768,2,0)+1,0))))","v":""},{"$f":"IF(J106=\"\",\"\",IF(OR(LEN(J106)<3,LEN(J106)>4),HLOOKUP($U$9,コード一覧表!$C$2:$Y$1768,VLOOKUP(J106,コード一覧表!$AA$3:$AB$1768,2,0)+1,0),IF(OR(CODE(MID(J106,2,1))=77,CODE(MID(J106,3,1))=77),HLOOKUP($U$9,コード一覧表!$C$1789:$Y$1897,VLOOKUP(J106,コード一覧表!$AA$1789:$AB$1897,2,0)+1,0),HLOOKUP($U$9,コード一覧表!$C$2:$Y$1768,VLOOKUP(J106,コード一覧表!$AA$3:$AB$1768,2,0)+1,0))))","v":""},{"$f":"IF(K106=\"\",\"\",IF(OR(LEN(K106)<3,LEN(K106)>4),HLOOKUP($U$9,コード一覧表!$C$2:$Y$1768,VLOOKUP(K106,コード一覧表!$AA$3:$AB$1768,2,0)+1,0),IF(OR(CODE(MID(K106,2,1))=77,CODE(MID(K106,3,1))=77),HLOOKUP($U$9,コード一覧表!$C$1789:$Y$1897,VLOOKUP(K106,コード一覧表!$AA$1789:$AB$1897,2,0)+1,0),HLOOKUP($U$9,コード一覧表!$C$2:$Y$1768,VLOOKUP(K106,コード一覧表!$AA$3:$AB$1768,2,0)+1,0))))","v":""},{"$f":"IF(L106=\"\",\"\",IF(OR(LEN(L106)<3,LEN(L106)>4),HLOOKUP($U$9,コード一覧表!$C$2:$Y$1768,VLOOKUP(L106,コード一覧表!$AA$3:$AB$1768,2,0)+1,0),IF(OR(CODE(MID(L106,2,1))=77,CODE(MID(L106,3,1))=77),HLOOKUP($U$9,コード一覧表!$C$1789:$Y$1897,VLOOKUP(L106,コード一覧表!$AA$1789:$AB$1897,2,0)+1,0),HLOOKUP($U$9,コード一覧表!$C$2:$Y$1768,VLOOKUP(L106,コード一覧表!$AA$3:$AB$1768,2,0)+1,0))))","v":""},{"$f":"IF(M106=\"\",\"\",IF(OR(LEN(M106)<3,LEN(M106)>4),HLOOKUP($U$9,コード一覧表!$C$2:$Y$1768,VLOOKUP(M106,コード一覧表!$AA$3:$AB$1768,2,0)+1,0),IF(OR(CODE(MID(M106,2,1))=77,CODE(MID(M106,3,1))=77),HLOOKUP($U$9,コード一覧表!$C$1789:$Y$1897,VLOOKUP(M106,コード一覧表!$AA$1789:$AB$1897,2,0)+1,0),HLOOKUP($U$9,コード一覧表!$C$2:$Y$1768,VLOOKUP(M106,コード一覧表!$AA$3:$AB$1768,2,0)+1,0))))","v":""},{"$f":"IF(N106=\"\",\"\",IF(OR(LEN(N106)<3,LEN(N106)>4),HLOOKUP($U$9,コード一覧表!$C$2:$Y$1768,VLOOKUP(N106,コード一覧表!$AA$3:$AB$1768,2,0)+1,0),IF(OR(CODE(MID(N106,2,1))=77,CODE(MID(N106,3,1))=77),HLOOKUP($U$9,コード一覧表!$C$1789:$Y$1897,VLOOKUP(N106,コード一覧表!$AA$1789:$AB$1897,2,0)+1,0),HLOOKUP($U$9,コード一覧表!$C$2:$Y$1768,VLOOKUP(N106,コード一覧表!$AA$3:$AB$1768,2,0)+1,0))))","v":""},{"$f":"IF(O106=\"\",\"\",IF(OR(LEN(O106)<3,LEN(O106)>4),HLOOKUP($U$9,コード一覧表!$C$2:$Y$1768,VLOOKUP(O106,コード一覧表!$AA$3:$AB$1768,2,0)+1,0),IF(OR(CODE(MID(O106,2,1))=77,CODE(MID(O106,3,1))=77),HLOOKUP($U$9,コード一覧表!$C$1789:$Y$1897,VLOOKUP(O106,コード一覧表!$AA$1789:$AB$1897,2,0)+1,0),HLOOKUP($U$9,コード一覧表!$C$2:$Y$1768,VLOOKUP(O106,コード一覧表!$AA$3:$AB$1768,2,0)+1,0))))","v":""},{"$f":"IF(P106=\"\",\"\",IF(OR(LEN(P106)<3,LEN(P106)>4),HLOOKUP($U$9,コード一覧表!$C$2:$Y$1768,VLOOKUP(P106,コード一覧表!$AA$3:$AB$1768,2,0)+1,0),IF(OR(CODE(MID(P106,2,1))=77,CODE(MID(P106,3,1))=77),HLOOKUP($U$9,コード一覧表!$C$1789:$Y$1897,VLOOKUP(P106,コード一覧表!$AA$1789:$AB$1897,2,0)+1,0),HLOOKUP($U$9,コード一覧表!$C$2:$Y$1768,VLOOKUP(P106,コード一覧表!$AA$3:$AB$1768,2,0)+1,0))))","v":""},{"$f":"IF(Q106=\"\",\"\",IF(OR(LEN(Q106)<3,LEN(Q106)>4),HLOOKUP($U$9,コード一覧表!$C$2:$Y$1768,VLOOKUP(Q106,コード一覧表!$AA$3:$AB$1768,2,0)+1,0),IF(OR(CODE(MID(Q106,2,1))=77,CODE(MID(Q106,3,1))=77),HLOOKUP($U$9,コード一覧表!$C$1789:$Y$1897,VLOOKUP(Q106,コード一覧表!$AA$1789:$AB$1897,2,0)+1,0),HLOOKUP($U$9,コード一覧表!$C$2:$Y$1768,VLOOKUP(Q106,コード一覧表!$AA$3:$AB$1768,2,0)+1,0))))","v":""}]
[]
[null,null,null,null,null,null,null,null,null,null,null,null,null,null,null,null,null,null,"入力行36"]
[null,{"$f":"IF(B109=\"\",\"\",IF(OR(LEN(B109)<3,LEN(B109)>4),HLOOKUP($U$9,コード一覧表!$C$2:$Y$1768,VLOOKUP(B109,コード一覧表!$AA$3:$AB$1768,2,0)+1,0),IF(OR(CODE(MID(B109,2,1))=77,CODE(MID(B109,3,1))=77),HLOOKUP($U$9,コード一覧表!$C$1789:$Y$1897,VLOOKUP(B109,コード一覧表!$AA$1789:$AB$1897,2,0)+1,0),HLOOKUP($U$9,コード一覧表!$C$2:$Y$1768,VLOOKUP(B109,コード一覧表!$AA$3:$AB$1768,2,0)+1,0))))","v":""},{"$f":"IF(C109=\"\",\"\",IF(OR(LEN(C109)<3,LEN(C109)>4),HLOOKUP($U$9,コード一覧表!$C$2:$Y$1768,VLOOKUP(C109,コード一覧表!$AA$3:$AB$1768,2,0)+1,0),IF(OR(CODE(MID(C109,2,1))=77,CODE(MID(C109,3,1))=77),HLOOKUP($U$9,コード一覧表!$C$1789:$Y$1897,VLOOKUP(C109,コード一覧表!$AA$1789:$AB$1897,2,0)+1,0),HLOOKUP($U$9,コード一覧表!$C$2:$Y$1768,VLOOKUP(C109,コード一覧表!$AA$3:$AB$1768,2,0)+1,0))))","v":""},{"$f":"IF(D109=\"\",\"\",IF(OR(LEN(D109)<3,LEN(D109)>4),HLOOKUP($U$9,コード一覧表!$C$2:$Y$1768,VLOOKUP(D109,コード一覧表!$AA$3:$AB$1768,2,0)+1,0),IF(OR(CODE(MID(D109,2,1))=77,CODE(MID(D109,3,1))=77),HLOOKUP($U$9,コード一覧表!$C$1789:$Y$1897,VLOOKUP(D109,コード一覧表!$AA$1789:$AB$1897,2,0)+1,0),HLOOKUP($U$9,コード一覧表!$C$2:$Y$1768,VLOOKUP(D109,コード一覧表!$AA$3:$AB$1768,2,0)+1,0))))","v":""},{"$f":"IF(E109=\"\",\"\",IF(OR(LEN(E109)<3,LEN(E109)>4),HLOOKUP($U$9,コード一覧表!$C$2:$Y$1768,VLOOKUP(E109,コード一覧表!$AA$3:$AB$1768,2,0)+1,0),IF(OR(CODE(MID(E109,2,1))=77,CODE(MID(E109,3,1))=77),HLOOKUP($U$9,コード一覧表!$C$1789:$Y$1897,VLOOKUP(E109,コード一覧表!$AA$1789:$AB$1897,2,0)+1,0),HLOOKUP($U$9,コード一覧表!$C$2:$Y$1768,VLOOKUP(E109,コード一覧表!$AA$3:$AB$1768,2,0)+1,0))))","v":""},{"$f":"IF(F109=\"\",\"\",IF(OR(LEN(F109)<3,LEN(F109)>4),HLOOKUP($U$9,コード一覧表!$C$2:$Y$1768,VLOOKUP(F109,コード一覧表!$AA$3:$AB$1768,2,0)+1,0),IF(OR(CODE(MID(F109,2,1))=77,CODE(MID(F109,3,1))=77),HLOOKUP($U$9,コード一覧表!$C$1789:$Y$1897,VLOOKUP(F109,コード一覧表!$AA$1789:$AB$1897,2,0)+1,0),HLOOKUP($U$9,コード一覧表!$C$2:$Y$1768,VLOOKUP(F109,コード一覧表!$AA$3:$AB$1768,2,0)+1,0))))","v":""},{"$f":"IF(G109=\"\",\"\",IF(OR(LEN(G109)<3,LEN(G109)>4),HLOOKUP($U$9,コード一覧表!$C$2:$Y$1768,VLOOKUP(G109,コード一覧表!$AA$3:$AB$1768,2,0)+1,0),IF(OR(CODE(MID(G109,2,1))=77,CODE(MID(G109,3,1))=77),HLOOKUP($U$9,コード一覧表!$C$1789:$Y$1897,VLOOKUP(G109,コード一覧表!$AA$1789:$AB$1897,2,0)+1,0),HLOOKUP($U$9,コード一覧表!$C$2:$Y$1768,VLOOKUP(G109,コード一覧表!$AA$3:$AB$1768,2,0)+1,0))))","v":""},{"$f":"IF(H109=\"\",\"\",IF(OR(LEN(H109)<3,LEN(H109)>4),HLOOKUP($U$9,コード一覧表!$C$2:$Y$1768,VLOOKUP(H109,コード一覧表!$AA$3:$AB$1768,2,0)+1,0),IF(OR(CODE(MID(H109,2,1))=77,CODE(MID(H109,3,1))=77),HLOOKUP($U$9,コード一覧表!$C$1789:$Y$1897,VLOOKUP(H109,コード一覧表!$AA$1789:$AB$1897,2,0)+1,0),HLOOKUP($U$9,コード一覧表!$C$2:$Y$1768,VLOOKUP(H109,コード一覧表!$AA$3:$AB$1768,2,0)+1,0))))","v":""},{"$f":"IF(I109=\"\",\"\",IF(OR(LEN(I109)<3,LEN(I109)>4),HLOOKUP($U$9,コード一覧表!$C$2:$Y$1768,VLOOKUP(I109,コード一覧表!$AA$3:$AB$1768,2,0)+1,0),IF(OR(CODE(MID(I109,2,1))=77,CODE(MID(I109,3,1))=77),HLOOKUP($U$9,コード一覧表!$C$1789:$Y$1897,VLOOKUP(I109,コード一覧表!$AA$1789:$AB$1897,2,0)+1,0),HLOOKUP($U$9,コード一覧表!$C$2:$Y$1768,VLOOKUP(I109,コード一覧表!$AA$3:$AB$1768,2,0)+1,0))))","v":""},{"$f":"IF(J109=\"\",\"\",IF(OR(LEN(J109)<3,LEN(J109)>4),HLOOKUP($U$9,コード一覧表!$C$2:$Y$1768,VLOOKUP(J109,コード一覧表!$AA$3:$AB$1768,2,0)+1,0),IF(OR(CODE(MID(J109,2,1))=77,CODE(MID(J109,3,1))=77),HLOOKUP($U$9,コード一覧表!$C$1789:$Y$1897,VLOOKUP(J109,コード一覧表!$AA$1789:$AB$1897,2,0)+1,0),HLOOKUP($U$9,コード一覧表!$C$2:$Y$1768,VLOOKUP(J109,コード一覧表!$AA$3:$AB$1768,2,0)+1,0))))","v":""},{"$f":"IF(K109=\"\",\"\",IF(OR(LEN(K109)<3,LEN(K109)>4),HLOOKUP($U$9,コード一覧表!$C$2:$Y$1768,VLOOKUP(K109,コード一覧表!$AA$3:$AB$1768,2,0)+1,0),IF(OR(CODE(MID(K109,2,1))=77,CODE(MID(K109,3,1))=77),HLOOKUP($U$9,コード一覧表!$C$1789:$Y$1897,VLOOKUP(K109,コード一覧表!$AA$1789:$AB$1897,2,0)+1,0),HLOOKUP($U$9,コード一覧表!$C$2:$Y$1768,VLOOKUP(K109,コード一覧表!$AA$3:$AB$1768,2,0)+1,0))))","v":""},{"$f":"IF(L109=\"\",\"\",IF(OR(LEN(L109)<3,LEN(L109)>4),HLOOKUP($U$9,コード一覧表!$C$2:$Y$1768,VLOOKUP(L109,コード一覧表!$AA$3:$AB$1768,2,0)+1,0),IF(OR(CODE(MID(L109,2,1))=77,CODE(MID(L109,3,1))=77),HLOOKUP($U$9,コード一覧表!$C$1789:$Y$1897,VLOOKUP(L109,コード一覧表!$AA$1789:$AB$1897,2,0)+1,0),HLOOKUP($U$9,コード一覧表!$C$2:$Y$1768,VLOOKUP(L109,コード一覧表!$AA$3:$AB$1768,2,0)+1,0))))","v":""},{"$f":"IF(M109=\"\",\"\",IF(OR(LEN(M109)<3,LEN(M109)>4),HLOOKUP($U$9,コード一覧表!$C$2:$Y$1768,VLOOKUP(M109,コード一覧表!$AA$3:$AB$1768,2,0)+1,0),IF(OR(CODE(MID(M109,2,1))=77,CODE(MID(M109,3,1))=77),HLOOKUP($U$9,コード一覧表!$C$1789:$Y$1897,VLOOKUP(M109,コード一覧表!$AA$1789:$AB$1897,2,0)+1,0),HLOOKUP($U$9,コード一覧表!$C$2:$Y$1768,VLOOKUP(M109,コード一覧表!$AA$3:$AB$1768,2,0)+1,0))))","v":""},{"$f":"IF(N109=\"\",\"\",IF(OR(LEN(N109)<3,LEN(N109)>4),HLOOKUP($U$9,コード一覧表!$C$2:$Y$1768,VLOOKUP(N109,コード一覧表!$AA$3:$AB$1768,2,0)+1,0),IF(OR(CODE(MID(N109,2,1))=77,CODE(MID(N109,3,1))=77),HLOOKUP($U$9,コード一覧表!$C$1789:$Y$1897,VLOOKUP(N109,コード一覧表!$AA$1789:$AB$1897,2,0)+1,0),HLOOKUP($U$9,コード一覧表!$C$2:$Y$1768,VLOOKUP(N109,コード一覧表!$AA$3:$AB$1768,2,0)+1,0))))","v":""},{"$f":"IF(O109=\"\",\"\",IF(OR(LEN(O109)<3,LEN(O109)>4),HLOOKUP($U$9,コード一覧表!$C$2:$Y$1768,VLOOKUP(O109,コード一覧表!$AA$3:$AB$1768,2,0)+1,0),IF(OR(CODE(MID(O109,2,1))=77,CODE(MID(O109,3,1))=77),HLOOKUP($U$9,コード一覧表!$C$1789:$Y$1897,VLOOKUP(O109,コード一覧表!$AA$1789:$AB$1897,2,0)+1,0),HLOOKUP($U$9,コード一覧表!$C$2:$Y$1768,VLOOKUP(O109,コード一覧表!$AA$3:$AB$1768,2,0)+1,0))))","v":""},{"$f":"IF(P109=\"\",\"\",IF(OR(LEN(P109)<3,LEN(P109)>4),HLOOKUP($U$9,コード一覧表!$C$2:$Y$1768,VLOOKUP(P109,コード一覧表!$AA$3:$AB$1768,2,0)+1,0),IF(OR(CODE(MID(P109,2,1))=77,CODE(MID(P109,3,1))=77),HLOOKUP($U$9,コード一覧表!$C$1789:$Y$1897,VLOOKUP(P109,コード一覧表!$AA$1789:$AB$1897,2,0)+1,0),HLOOKUP($U$9,コード一覧表!$C$2:$Y$1768,VLOOKUP(P109,コード一覧表!$AA$3:$AB$1768,2,0)+1,0))))","v":""},{"$f":"IF(Q109=\"\",\"\",IF(OR(LEN(Q109)<3,LEN(Q109)>4),HLOOKUP($U$9,コード一覧表!$C$2:$Y$1768,VLOOKUP(Q109,コード一覧表!$AA$3:$AB$1768,2,0)+1,0),IF(OR(CODE(MID(Q109,2,1))=77,CODE(MID(Q109,3,1))=77),HLOOKUP($U$9,コード一覧表!$C$1789:$Y$1897,VLOOKUP(Q109,コード一覧表!$AA$1789:$AB$1897,2,0)+1,0),HLOOKUP($U$9,コード一覧表!$C$2:$Y$1768,VLOOKUP(Q109,コード一覧表!$AA$3:$AB$1768,2,0)+1,0))))","v":""}]
[]
[null,null,null,null,null,null,null,null,null,null,null,null,null,null,null,null,null,null,"入力行37"]
[null,{"$f":"IF(B112=\"\",\"\",IF(OR(LEN(B112)<3,LEN(B112)>4),HLOOKUP($U$9,コード一覧表!$C$2:$Y$1768,VLOOKUP(B112,コード一覧表!$AA$3:$AB$1768,2,0)+1,0),IF(OR(CODE(MID(B112,2,1))=77,CODE(MID(B112,3,1))=77),HLOOKUP($U$9,コード一覧表!$C$1789:$Y$1897,VLOOKUP(B112,コード一覧表!$AA$1789:$AB$1897,2,0)+1,0),HLOOKUP($U$9,コード一覧表!$C$2:$Y$1768,VLOOKUP(B112,コード一覧表!$AA$3:$AB$1768,2,0)+1,0))))","v":""},{"$f":"IF(C112=\"\",\"\",IF(OR(LEN(C112)<3,LEN(C112)>4),HLOOKUP($U$9,コード一覧表!$C$2:$Y$1768,VLOOKUP(C112,コード一覧表!$AA$3:$AB$1768,2,0)+1,0),IF(OR(CODE(MID(C112,2,1))=77,CODE(MID(C112,3,1))=77),HLOOKUP($U$9,コード一覧表!$C$1789:$Y$1897,VLOOKUP(C112,コード一覧表!$AA$1789:$AB$1897,2,0)+1,0),HLOOKUP($U$9,コード一覧表!$C$2:$Y$1768,VLOOKUP(C112,コード一覧表!$AA$3:$AB$1768,2,0)+1,0))))","v":""},{"$f":"IF(D112=\"\",\"\",IF(OR(LEN(D112)<3,LEN(D112)>4),HLOOKUP($U$9,コード一覧表!$C$2:$Y$1768,VLOOKUP(D112,コード一覧表!$AA$3:$AB$1768,2,0)+1,0),IF(OR(CODE(MID(D112,2,1))=77,CODE(MID(D112,3,1))=77),HLOOKUP($U$9,コード一覧表!$C$1789:$Y$1897,VLOOKUP(D112,コード一覧表!$AA$1789:$AB$1897,2,0)+1,0),HLOOKUP($U$9,コード一覧表!$C$2:$Y$1768,VLOOKUP(D112,コード一覧表!$AA$3:$AB$1768,2,0)+1,0))))","v":""},{"$f":"IF(E112=\"\",\"\",IF(OR(LEN(E112)<3,LEN(E112)>4),HLOOKUP($U$9,コード一覧表!$C$2:$Y$1768,VLOOKUP(E112,コード一覧表!$AA$3:$AB$1768,2,0)+1,0),IF(OR(CODE(MID(E112,2,1))=77,CODE(MID(E112,3,1))=77),HLOOKUP($U$9,コード一覧表!$C$1789:$Y$1897,VLOOKUP(E112,コード一覧表!$AA$1789:$AB$1897,2,0)+1,0),HLOOKUP($U$9,コード一覧表!$C$2:$Y$1768,VLOOKUP(E112,コード一覧表!$AA$3:$AB$1768,2,0)+1,0))))","v":""},{"$f":"IF(F112=\"\",\"\",IF(OR(LEN(F112)<3,LEN(F112)>4),HLOOKUP($U$9,コード一覧表!$C$2:$Y$1768,VLOOKUP(F112,コード一覧表!$AA$3:$AB$1768,2,0)+1,0),IF(OR(CODE(MID(F112,2,1))=77,CODE(MID(F112,3,1))=77),HLOOKUP($U$9,コード一覧表!$C$1789:$Y$1897,VLOOKUP(F112,コード一覧表!$AA$1789:$AB$1897,2,0)+1,0),HLOOKUP($U$9,コード一覧表!$C$2:$Y$1768,VLOOKUP(F112,コード一覧表!$AA$3:$AB$1768,2,0)+1,0))))","v":""},{"$f":"IF(G112=\"\",\"\",IF(OR(LEN(G112)<3,LEN(G112)>4),HLOOKUP($U$9,コード一覧表!$C$2:$Y$1768,VLOOKUP(G112,コード一覧表!$AA$3:$AB$1768,2,0)+1,0),IF(OR(CODE(MID(G112,2,1))=77,CODE(MID(G112,3,1))=77),HLOOKUP($U$9,コード一覧表!$C$1789:$Y$1897,VLOOKUP(G112,コード一覧表!$AA$1789:$AB$1897,2,0)+1,0),HLOOKUP($U$9,コード一覧表!$C$2:$Y$1768,VLOOKUP(G112,コード一覧表!$AA$3:$AB$1768,2,0)+1,0))))","v":""},{"$f":"IF(H112=\"\",\"\",IF(OR(LEN(H112)<3,LEN(H112)>4),HLOOKUP($U$9,コード一覧表!$C$2:$Y$1768,VLOOKUP(H112,コード一覧表!$AA$3:$AB$1768,2,0)+1,0),IF(OR(CODE(MID(H112,2,1))=77,CODE(MID(H112,3,1))=77),HLOOKUP($U$9,コード一覧表!$C$1789:$Y$1897,VLOOKUP(H112,コード一覧表!$AA$1789:$AB$1897,2,0)+1,0),HLOOKUP($U$9,コード一覧表!$C$2:$Y$1768,VLOOKUP(H112,コード一覧表!$AA$3:$AB$1768,2,0)+1,0))))","v":""},{"$f":"IF(I112=\"\",\"\",IF(OR(LEN(I112)<3,LEN(I112)>4),HLOOKUP($U$9,コード一覧表!$C$2:$Y$1768,VLOOKUP(I112,コード一覧表!$AA$3:$AB$1768,2,0)+1,0),IF(OR(CODE(MID(I112,2,1))=77,CODE(MID(I112,3,1))=77),HLOOKUP($U$9,コード一覧表!$C$1789:$Y$1897,VLOOKUP(I112,コード一覧表!$AA$1789:$AB$1897,2,0)+1,0),HLOOKUP($U$9,コード一覧表!$C$2:$Y$1768,VLOOKUP(I112,コード一覧表!$AA$3:$AB$1768,2,0)+1,0))))","v":""},{"$f":"IF(J112=\"\",\"\",IF(OR(LEN(J112)<3,LEN(J112)>4),HLOOKUP($U$9,コード一覧表!$C$2:$Y$1768,VLOOKUP(J112,コード一覧表!$AA$3:$AB$1768,2,0)+1,0),IF(OR(CODE(MID(J112,2,1))=77,CODE(MID(J112,3,1))=77),HLOOKUP($U$9,コード一覧表!$C$1789:$Y$1897,VLOOKUP(J112,コード一覧表!$AA$1789:$AB$1897,2,0)+1,0),HLOOKUP($U$9,コード一覧表!$C$2:$Y$1768,VLOOKUP(J112,コード一覧表!$AA$3:$AB$1768,2,0)+1,0))))","v":""},{"$f":"IF(K112=\"\",\"\",IF(OR(LEN(K112)<3,LEN(K112)>4),HLOOKUP($U$9,コード一覧表!$C$2:$Y$1768,VLOOKUP(K112,コード一覧表!$AA$3:$AB$1768,2,0)+1,0),IF(OR(CODE(MID(K112,2,1))=77,CODE(MID(K112,3,1))=77),HLOOKUP($U$9,コード一覧表!$C$1789:$Y$1897,VLOOKUP(K112,コード一覧表!$AA$1789:$AB$1897,2,0)+1,0),HLOOKUP($U$9,コード一覧表!$C$2:$Y$1768,VLOOKUP(K112,コード一覧表!$AA$3:$AB$1768,2,0)+1,0))))","v":""},{"$f":"IF(L112=\"\",\"\",IF(OR(LEN(L112)<3,LEN(L112)>4),HLOOKUP($U$9,コード一覧表!$C$2:$Y$1768,VLOOKUP(L112,コード一覧表!$AA$3:$AB$1768,2,0)+1,0),IF(OR(CODE(MID(L112,2,1))=77,CODE(MID(L112,3,1))=77),HLOOKUP($U$9,コード一覧表!$C$1789:$Y$1897,VLOOKUP(L112,コード一覧表!$AA$1789:$AB$1897,2,0)+1,0),HLOOKUP($U$9,コード一覧表!$C$2:$Y$1768,VLOOKUP(L112,コード一覧表!$AA$3:$AB$1768,2,0)+1,0))))","v":""},{"$f":"IF(M112=\"\",\"\",IF(OR(LEN(M112)<3,LEN(M112)>4),HLOOKUP($U$9,コード一覧表!$C$2:$Y$1768,VLOOKUP(M112,コード一覧表!$AA$3:$AB$1768,2,0)+1,0),IF(OR(CODE(MID(M112,2,1))=77,CODE(MID(M112,3,1))=77),HLOOKUP($U$9,コード一覧表!$C$1789:$Y$1897,VLOOKUP(M112,コード一覧表!$AA$1789:$AB$1897,2,0)+1,0),HLOOKUP($U$9,コード一覧表!$C$2:$Y$1768,VLOOKUP(M112,コード一覧表!$AA$3:$AB$1768,2,0)+1,0))))","v":""},{"$f":"IF(N112=\"\",\"\",IF(OR(LEN(N112)<3,LEN(N112)>4),HLOOKUP($U$9,コード一覧表!$C$2:$Y$1768,VLOOKUP(N112,コード一覧表!$AA$3:$AB$1768,2,0)+1,0),IF(OR(CODE(MID(N112,2,1))=77,CODE(MID(N112,3,1))=77),HLOOKUP($U$9,コード一覧表!$C$1789:$Y$1897,VLOOKUP(N112,コード一覧表!$AA$1789:$AB$1897,2,0)+1,0),HLOOKUP($U$9,コード一覧表!$C$2:$Y$1768,VLOOKUP(N112,コード一覧表!$AA$3:$AB$1768,2,0)+1,0))))","v":""},{"$f":"IF(O112=\"\",\"\",IF(OR(LEN(O112)<3,LEN(O112)>4),HLOOKUP($U$9,コード一覧表!$C$2:$Y$1768,VLOOKUP(O112,コード一覧表!$AA$3:$AB$1768,2,0)+1,0),IF(OR(CODE(MID(O112,2,1))=77,CODE(MID(O112,3,1))=77),HLOOKUP($U$9,コード一覧表!$C$1789:$Y$1897,VLOOKUP(O112,コード一覧表!$AA$1789:$AB$1897,2,0)+1,0),HLOOKUP($U$9,コード一覧表!$C$2:$Y$1768,VLOOKUP(O112,コード一覧表!$AA$3:$AB$1768,2,0)+1,0))))","v":""},{"$f":"IF(P112=\"\",\"\",IF(OR(LEN(P112)<3,LEN(P112)>4),HLOOKUP($U$9,コード一覧表!$C$2:$Y$1768,VLOOKUP(P112,コード一覧表!$AA$3:$AB$1768,2,0)+1,0),IF(OR(CODE(MID(P112,2,1))=77,CODE(MID(P112,3,1))=77),HLOOKUP($U$9,コード一覧表!$C$1789:$Y$1897,VLOOKUP(P112,コード一覧表!$AA$1789:$AB$1897,2,0)+1,0),HLOOKUP($U$9,コード一覧表!$C$2:$Y$1768,VLOOKUP(P112,コード一覧表!$AA$3:$AB$1768,2,0)+1,0))))","v":""},{"$f":"IF(Q112=\"\",\"\",IF(OR(LEN(Q112)<3,LEN(Q112)>4),HLOOKUP($U$9,コード一覧表!$C$2:$Y$1768,VLOOKUP(Q112,コード一覧表!$AA$3:$AB$1768,2,0)+1,0),IF(OR(CODE(MID(Q112,2,1))=77,CODE(MID(Q112,3,1))=77),HLOOKUP($U$9,コード一覧表!$C$1789:$Y$1897,VLOOKUP(Q112,コード一覧表!$AA$1789:$AB$1897,2,0)+1,0),HLOOKUP($U$9,コード一覧表!$C$2:$Y$1768,VLOOKUP(Q112,コード一覧表!$AA$3:$AB$1768,2,0)+1,0))))","v":""}]
[]
[null,null,null,null,null,null,null,null,null,null,null,null,null,null,null,null,null,null,"入力行38"]
[null,{"$f":"IF(B115=\"\",\"\",IF(OR(LEN(B115)<3,LEN(B115)>4),HLOOKUP($U$9,コード一覧表!$C$2:$Y$1768,VLOOKUP(B115,コード一覧表!$AA$3:$AB$1768,2,0)+1,0),IF(OR(CODE(MID(B115,2,1))=77,CODE(MID(B115,3,1))=77),HLOOKUP($U$9,コード一覧表!$C$1789:$Y$1897,VLOOKUP(B115,コード一覧表!$AA$1789:$AB$1897,2,0)+1,0),HLOOKUP($U$9,コード一覧表!$C$2:$Y$1768,VLOOKUP(B115,コード一覧表!$AA$3:$AB$1768,2,0)+1,0))))","v":""},{"$f":"IF(C115=\"\",\"\",IF(OR(LEN(C115)<3,LEN(C115)>4),HLOOKUP($U$9,コード一覧表!$C$2:$Y$1768,VLOOKUP(C115,コード一覧表!$AA$3:$AB$1768,2,0)+1,0),IF(OR(CODE(MID(C115,2,1))=77,CODE(MID(C115,3,1))=77),HLOOKUP($U$9,コード一覧表!$C$1789:$Y$1897,VLOOKUP(C115,コード一覧表!$AA$1789:$AB$1897,2,0)+1,0),HLOOKUP($U$9,コード一覧表!$C$2:$Y$1768,VLOOKUP(C115,コード一覧表!$AA$3:$AB$1768,2,0)+1,0))))","v":""},{"$f":"IF(D115=\"\",\"\",IF(OR(LEN(D115)<3,LEN(D115)>4),HLOOKUP($U$9,コード一覧表!$C$2:$Y$1768,VLOOKUP(D115,コード一覧表!$AA$3:$AB$1768,2,0)+1,0),IF(OR(CODE(MID(D115,2,1))=77,CODE(MID(D115,3,1))=77),HLOOKUP($U$9,コード一覧表!$C$1789:$Y$1897,VLOOKUP(D115,コード一覧表!$AA$1789:$AB$1897,2,0)+1,0),HLOOKUP($U$9,コード一覧表!$C$2:$Y$1768,VLOOKUP(D115,コード一覧表!$AA$3:$AB$1768,2,0)+1,0))))","v":""},{"$f":"IF(E115=\"\",\"\",IF(OR(LEN(E115)<3,LEN(E115)>4),HLOOKUP($U$9,コード一覧表!$C$2:$Y$1768,VLOOKUP(E115,コード一覧表!$AA$3:$AB$1768,2,0)+1,0),IF(OR(CODE(MID(E115,2,1))=77,CODE(MID(E115,3,1))=77),HLOOKUP($U$9,コード一覧表!$C$1789:$Y$1897,VLOOKUP(E115,コード一覧表!$AA$1789:$AB$1897,2,0)+1,0),HLOOKUP($U$9,コード一覧表!$C$2:$Y$1768,VLOOKUP(E115,コード一覧表!$AA$3:$AB$1768,2,0)+1,0))))","v":""},{"$f":"IF(F115=\"\",\"\",IF(OR(LEN(F115)<3,LEN(F115)>4),HLOOKUP($U$9,コード一覧表!$C$2:$Y$1768,VLOOKUP(F115,コード一覧表!$AA$3:$AB$1768,2,0)+1,0),IF(OR(CODE(MID(F115,2,1))=77,CODE(MID(F115,3,1))=77),HLOOKUP($U$9,コード一覧表!$C$1789:$Y$1897,VLOOKUP(F115,コード一覧表!$AA$1789:$AB$1897,2,0)+1,0),HLOOKUP($U$9,コード一覧表!$C$2:$Y$1768,VLOOKUP(F115,コード一覧表!$AA$3:$AB$1768,2,0)+1,0))))","v":""},{"$f":"IF(G115=\"\",\"\",IF(OR(LEN(G115)<3,LEN(G115)>4),HLOOKUP($U$9,コード一覧表!$C$2:$Y$1768,VLOOKUP(G115,コード一覧表!$AA$3:$AB$1768,2,0)+1,0),IF(OR(CODE(MID(G115,2,1))=77,CODE(MID(G115,3,1))=77),HLOOKUP($U$9,コード一覧表!$C$1789:$Y$1897,VLOOKUP(G115,コード一覧表!$AA$1789:$AB$1897,2,0)+1,0),HLOOKUP($U$9,コード一覧表!$C$2:$Y$1768,VLOOKUP(G115,コード一覧表!$AA$3:$AB$1768,2,0)+1,0))))","v":""},{"$f":"IF(H115=\"\",\"\",IF(OR(LEN(H115)<3,LEN(H115)>4),HLOOKUP($U$9,コード一覧表!$C$2:$Y$1768,VLOOKUP(H115,コード一覧表!$AA$3:$AB$1768,2,0)+1,0),IF(OR(CODE(MID(H115,2,1))=77,CODE(MID(H115,3,1))=77),HLOOKUP($U$9,コード一覧表!$C$1789:$Y$1897,VLOOKUP(H115,コード一覧表!$AA$1789:$AB$1897,2,0)+1,0),HLOOKUP($U$9,コード一覧表!$C$2:$Y$1768,VLOOKUP(H115,コード一覧表!$AA$3:$AB$1768,2,0)+1,0))))","v":""},{"$f":"IF(I115=\"\",\"\",IF(OR(LEN(I115)<3,LEN(I115)>4),HLOOKUP($U$9,コード一覧表!$C$2:$Y$1768,VLOOKUP(I115,コード一覧表!$AA$3:$AB$1768,2,0)+1,0),IF(OR(CODE(MID(I115,2,1))=77,CODE(MID(I115,3,1))=77),HLOOKUP($U$9,コード一覧表!$C$1789:$Y$1897,VLOOKUP(I115,コード一覧表!$AA$1789:$AB$1897,2,0)+1,0),HLOOKUP($U$9,コード一覧表!$C$2:$Y$1768,VLOOKUP(I115,コード一覧表!$AA$3:$AB$1768,2,0)+1,0))))","v":""},{"$f":"IF(J115=\"\",\"\",IF(OR(LEN(J115)<3,LEN(J115)>4),HLOOKUP($U$9,コード一覧表!$C$2:$Y$1768,VLOOKUP(J115,コード一覧表!$AA$3:$AB$1768,2,0)+1,0),IF(OR(CODE(MID(J115,2,1))=77,CODE(MID(J115,3,1))=77),HLOOKUP($U$9,コード一覧表!$C$1789:$Y$1897,VLOOKUP(J115,コード一覧表!$AA$1789:$AB$1897,2,0)+1,0),HLOOKUP($U$9,コード一覧表!$C$2:$Y$1768,VLOOKUP(J115,コード一覧表!$AA$3:$AB$1768,2,0)+1,0))))","v":""},{"$f":"IF(K115=\"\",\"\",IF(OR(LEN(K115)<3,LEN(K115)>4),HLOOKUP($U$9,コード一覧表!$C$2:$Y$1768,VLOOKUP(K115,コード一覧表!$AA$3:$AB$1768,2,0)+1,0),IF(OR(CODE(MID(K115,2,1))=77,CODE(MID(K115,3,1))=77),HLOOKUP($U$9,コード一覧表!$C$1789:$Y$1897,VLOOKUP(K115,コード一覧表!$AA$1789:$AB$1897,2,0)+1,0),HLOOKUP($U$9,コード一覧表!$C$2:$Y$1768,VLOOKUP(K115,コード一覧表!$AA$3:$AB$1768,2,0)+1,0))))","v":""},{"$f":"IF(L115=\"\",\"\",IF(OR(LEN(L115)<3,LEN(L115)>4),HLOOKUP($U$9,コード一覧表!$C$2:$Y$1768,VLOOKUP(L115,コード一覧表!$AA$3:$AB$1768,2,0)+1,0),IF(OR(CODE(MID(L115,2,1))=77,CODE(MID(L115,3,1))=77),HLOOKUP($U$9,コード一覧表!$C$1789:$Y$1897,VLOOKUP(L115,コード一覧表!$AA$1789:$AB$1897,2,0)+1,0),HLOOKUP($U$9,コード一覧表!$C$2:$Y$1768,VLOOKUP(L115,コード一覧表!$AA$3:$AB$1768,2,0)+1,0))))","v":""},{"$f":"IF(M115=\"\",\"\",IF(OR(LEN(M115)<3,LEN(M115)>4),HLOOKUP($U$9,コード一覧表!$C$2:$Y$1768,VLOOKUP(M115,コード一覧表!$AA$3:$AB$1768,2,0)+1,0),IF(OR(CODE(MID(M115,2,1))=77,CODE(MID(M115,3,1))=77),HLOOKUP($U$9,コード一覧表!$C$1789:$Y$1897,VLOOKUP(M115,コード一覧表!$AA$1789:$AB$1897,2,0)+1,0),HLOOKUP($U$9,コード一覧表!$C$2:$Y$1768,VLOOKUP(M115,コード一覧表!$AA$3:$AB$1768,2,0)+1,0))))","v":""},{"$f":"IF(N115=\"\",\"\",IF(OR(LEN(N115)<3,LEN(N115)>4),HLOOKUP($U$9,コード一覧表!$C$2:$Y$1768,VLOOKUP(N115,コード一覧表!$AA$3:$AB$1768,2,0)+1,0),IF(OR(CODE(MID(N115,2,1))=77,CODE(MID(N115,3,1))=77),HLOOKUP($U$9,コード一覧表!$C$1789:$Y$1897,VLOOKUP(N115,コード一覧表!$AA$1789:$AB$1897,2,0)+1,0),HLOOKUP($U$9,コード一覧表!$C$2:$Y$1768,VLOOKUP(N115,コード一覧表!$AA$3:$AB$1768,2,0)+1,0))))","v":""},{"$f":"IF(O115=\"\",\"\",IF(OR(LEN(O115)<3,LEN(O115)>4),HLOOKUP($U$9,コード一覧表!$C$2:$Y$1768,VLOOKUP(O115,コード一覧表!$AA$3:$AB$1768,2,0)+1,0),IF(OR(CODE(MID(O115,2,1))=77,CODE(MID(O115,3,1))=77),HLOOKUP($U$9,コード一覧表!$C$1789:$Y$1897,VLOOKUP(O115,コード一覧表!$AA$1789:$AB$1897,2,0)+1,0),HLOOKUP($U$9,コード一覧表!$C$2:$Y$1768,VLOOKUP(O115,コード一覧表!$AA$3:$AB$1768,2,0)+1,0))))","v":""},{"$f":"IF(P115=\"\",\"\",IF(OR(LEN(P115)<3,LEN(P115)>4),HLOOKUP($U$9,コード一覧表!$C$2:$Y$1768,VLOOKUP(P115,コード一覧表!$AA$3:$AB$1768,2,0)+1,0),IF(OR(CODE(MID(P115,2,1))=77,CODE(MID(P115,3,1))=77),HLOOKUP($U$9,コード一覧表!$C$1789:$Y$1897,VLOOKUP(P115,コード一覧表!$AA$1789:$AB$1897,2,0)+1,0),HLOOKUP($U$9,コード一覧表!$C$2:$Y$1768,VLOOKUP(P115,コード一覧表!$AA$3:$AB$1768,2,0)+1,0))))","v":""},{"$f":"IF(Q115=\"\",\"\",IF(OR(LEN(Q115)<3,LEN(Q115)>4),HLOOKUP($U$9,コード一覧表!$C$2:$Y$1768,VLOOKUP(Q115,コード一覧表!$AA$3:$AB$1768,2,0)+1,0),IF(OR(CODE(MID(Q115,2,1))=77,CODE(MID(Q115,3,1))=77),HLOOKUP($U$9,コード一覧表!$C$1789:$Y$1897,VLOOKUP(Q115,コード一覧表!$AA$1789:$AB$1897,2,0)+1,0),HLOOKUP($U$9,コード一覧表!$C$2:$Y$1768,VLOOKUP(Q115,コード一覧表!$AA$3:$AB$1768,2,0)+1,0))))","v":""}]
[]
[null,null,null,null,null,null,null,null,null,null,null,null,null,null,null,null,null,null,"入力行39"]
[null,{"$f":"IF(B118=\"\",\"\",IF(OR(LEN(B118)<3,LEN(B118)>4),HLOOKUP($U$9,コード一覧表!$C$2:$Y$1768,VLOOKUP(B118,コード一覧表!$AA$3:$AB$1768,2,0)+1,0),IF(OR(CODE(MID(B118,2,1))=77,CODE(MID(B118,3,1))=77),HLOOKUP($U$9,コード一覧表!$C$1789:$Y$1897,VLOOKUP(B118,コード一覧表!$AA$1789:$AB$1897,2,0)+1,0),HLOOKUP($U$9,コード一覧表!$C$2:$Y$1768,VLOOKUP(B118,コード一覧表!$AA$3:$AB$1768,2,0)+1,0))))","v":""},{"$f":"IF(C118=\"\",\"\",IF(OR(LEN(C118)<3,LEN(C118)>4),HLOOKUP($U$9,コード一覧表!$C$2:$Y$1768,VLOOKUP(C118,コード一覧表!$AA$3:$AB$1768,2,0)+1,0),IF(OR(CODE(MID(C118,2,1))=77,CODE(MID(C118,3,1))=77),HLOOKUP($U$9,コード一覧表!$C$1789:$Y$1897,VLOOKUP(C118,コード一覧表!$AA$1789:$AB$1897,2,0)+1,0),HLOOKUP($U$9,コード一覧表!$C$2:$Y$1768,VLOOKUP(C118,コード一覧表!$AA$3:$AB$1768,2,0)+1,0))))","v":""},{"$f":"IF(D118=\"\",\"\",IF(OR(LEN(D118)<3,LEN(D118)>4),HLOOKUP($U$9,コード一覧表!$C$2:$Y$1768,VLOOKUP(D118,コード一覧表!$AA$3:$AB$1768,2,0)+1,0),IF(OR(CODE(MID(D118,2,1))=77,CODE(MID(D118,3,1))=77),HLOOKUP($U$9,コード一覧表!$C$1789:$Y$1897,VLOOKUP(D118,コード一覧表!$AA$1789:$AB$1897,2,0)+1,0),HLOOKUP($U$9,コード一覧表!$C$2:$Y$1768,VLOOKUP(D118,コード一覧表!$AA$3:$AB$1768,2,0)+1,0))))","v":""},{"$f":"IF(E118=\"\",\"\",IF(OR(LEN(E118)<3,LEN(E118)>4),HLOOKUP($U$9,コード一覧表!$C$2:$Y$1768,VLOOKUP(E118,コード一覧表!$AA$3:$AB$1768,2,0)+1,0),IF(OR(CODE(MID(E118,2,1))=77,CODE(MID(E118,3,1))=77),HLOOKUP($U$9,コード一覧表!$C$1789:$Y$1897,VLOOKUP(E118,コード一覧表!$AA$1789:$AB$1897,2,0)+1,0),HLOOKUP($U$9,コード一覧表!$C$2:$Y$1768,VLOOKUP(E118,コード一覧表!$AA$3:$AB$1768,2,0)+1,0))))","v":""},{"$f":"IF(F118=\"\",\"\",IF(OR(LEN(F118)<3,LEN(F118)>4),HLOOKUP($U$9,コード一覧表!$C$2:$Y$1768,VLOOKUP(F118,コード一覧表!$AA$3:$AB$1768,2,0)+1,0),IF(OR(CODE(MID(F118,2,1))=77,CODE(MID(F118,3,1))=77),HLOOKUP($U$9,コード一覧表!$C$1789:$Y$1897,VLOOKUP(F118,コード一覧表!$AA$1789:$AB$1897,2,0)+1,0),HLOOKUP($U$9,コード一覧表!$C$2:$Y$1768,VLOOKUP(F118,コード一覧表!$AA$3:$AB$1768,2,0)+1,0))))","v":""},{"$f":"IF(G118=\"\",\"\",IF(OR(LEN(G118)<3,LEN(G118)>4),HLOOKUP($U$9,コード一覧表!$C$2:$Y$1768,VLOOKUP(G118,コード一覧表!$AA$3:$AB$1768,2,0)+1,0),IF(OR(CODE(MID(G118,2,1))=77,CODE(MID(G118,3,1))=77),HLOOKUP($U$9,コード一覧表!$C$1789:$Y$1897,VLOOKUP(G118,コード一覧表!$AA$1789:$AB$1897,2,0)+1,0),HLOOKUP($U$9,コード一覧表!$C$2:$Y$1768,VLOOKUP(G118,コード一覧表!$AA$3:$AB$1768,2,0)+1,0))))","v":""},{"$f":"IF(H118=\"\",\"\",IF(OR(LEN(H118)<3,LEN(H118)>4),HLOOKUP($U$9,コード一覧表!$C$2:$Y$1768,VLOOKUP(H118,コード一覧表!$AA$3:$AB$1768,2,0)+1,0),IF(OR(CODE(MID(H118,2,1))=77,CODE(MID(H118,3,1))=77),HLOOKUP($U$9,コード一覧表!$C$1789:$Y$1897,VLOOKUP(H118,コード一覧表!$AA$1789:$AB$1897,2,0)+1,0),HLOOKUP($U$9,コード一覧表!$C$2:$Y$1768,VLOOKUP(H118,コード一覧表!$AA$3:$AB$1768,2,0)+1,0))))","v":""},{"$f":"IF(I118=\"\",\"\",IF(OR(LEN(I118)<3,LEN(I118)>4),HLOOKUP($U$9,コード一覧表!$C$2:$Y$1768,VLOOKUP(I118,コード一覧表!$AA$3:$AB$1768,2,0)+1,0),IF(OR(CODE(MID(I118,2,1))=77,CODE(MID(I118,3,1))=77),HLOOKUP($U$9,コード一覧表!$C$1789:$Y$1897,VLOOKUP(I118,コード一覧表!$AA$1789:$AB$1897,2,0)+1,0),HLOOKUP($U$9,コード一覧表!$C$2:$Y$1768,VLOOKUP(I118,コード一覧表!$AA$3:$AB$1768,2,0)+1,0))))","v":""},{"$f":"IF(J118=\"\",\"\",IF(OR(LEN(J118)<3,LEN(J118)>4),HLOOKUP($U$9,コード一覧表!$C$2:$Y$1768,VLOOKUP(J118,コード一覧表!$AA$3:$AB$1768,2,0)+1,0),IF(OR(CODE(MID(J118,2,1))=77,CODE(MID(J118,3,1))=77),HLOOKUP($U$9,コード一覧表!$C$1789:$Y$1897,VLOOKUP(J118,コード一覧表!$AA$1789:$AB$1897,2,0)+1,0),HLOOKUP($U$9,コード一覧表!$C$2:$Y$1768,VLOOKUP(J118,コード一覧表!$AA$3:$AB$1768,2,0)+1,0))))","v":""},{"$f":"IF(K118=\"\",\"\",IF(OR(LEN(K118)<3,LEN(K118)>4),HLOOKUP($U$9,コード一覧表!$C$2:$Y$1768,VLOOKUP(K118,コード一覧表!$AA$3:$AB$1768,2,0)+1,0),IF(OR(CODE(MID(K118,2,1))=77,CODE(MID(K118,3,1))=77),HLOOKUP($U$9,コード一覧表!$C$1789:$Y$1897,VLOOKUP(K118,コード一覧表!$AA$1789:$AB$1897,2,0)+1,0),HLOOKUP($U$9,コード一覧表!$C$2:$Y$1768,VLOOKUP(K118,コード一覧表!$AA$3:$AB$1768,2,0)+1,0))))","v":""},{"$f":"IF(L118=\"\",\"\",IF(OR(LEN(L118)<3,LEN(L118)>4),HLOOKUP($U$9,コード一覧表!$C$2:$Y$1768,VLOOKUP(L118,コード一覧表!$AA$3:$AB$1768,2,0)+1,0),IF(OR(CODE(MID(L118,2,1))=77,CODE(MID(L118,3,1))=77),HLOOKUP($U$9,コード一覧表!$C$1789:$Y$1897,VLOOKUP(L118,コード一覧表!$AA$1789:$AB$1897,2,0)+1,0),HLOOKUP($U$9,コード一覧表!$C$2:$Y$1768,VLOOKUP(L118,コード一覧表!$AA$3:$AB$1768,2,0)+1,0))))","v":""},{"$f":"IF(M118=\"\",\"\",IF(OR(LEN(M118)<3,LEN(M118)>4),HLOOKUP($U$9,コード一覧表!$C$2:$Y$1768,VLOOKUP(M118,コード一覧表!$AA$3:$AB$1768,2,0)+1,0),IF(OR(CODE(MID(M118,2,1))=77,CODE(MID(M118,3,1))=77),HLOOKUP($U$9,コード一覧表!$C$1789:$Y$1897,VLOOKUP(M118,コード一覧表!$AA$1789:$AB$1897,2,0)+1,0),HLOOKUP($U$9,コード一覧表!$C$2:$Y$1768,VLOOKUP(M118,コード一覧表!$AA$3:$AB$1768,2,0)+1,0))))","v":""},{"$f":"IF(N118=\"\",\"\",IF(OR(LEN(N118)<3,LEN(N118)>4),HLOOKUP($U$9,コード一覧表!$C$2:$Y$1768,VLOOKUP(N118,コード一覧表!$AA$3:$AB$1768,2,0)+1,0),IF(OR(CODE(MID(N118,2,1))=77,CODE(MID(N118,3,1))=77),HLOOKUP($U$9,コード一覧表!$C$1789:$Y$1897,VLOOKUP(N118,コード一覧表!$AA$1789:$AB$1897,2,0)+1,0),HLOOKUP($U$9,コード一覧表!$C$2:$Y$1768,VLOOKUP(N118,コード一覧表!$AA$3:$AB$1768,2,0)+1,0))))","v":""},{"$f":"IF(O118=\"\",\"\",IF(OR(LEN(O118)<3,LEN(O118)>4),HLOOKUP($U$9,コード一覧表!$C$2:$Y$1768,VLOOKUP(O118,コード一覧表!$AA$3:$AB$1768,2,0)+1,0),IF(OR(CODE(MID(O118,2,1))=77,CODE(MID(O118,3,1))=77),HLOOKUP($U$9,コード一覧表!$C$1789:$Y$1897,VLOOKUP(O118,コード一覧表!$AA$1789:$AB$1897,2,0)+1,0),HLOOKUP($U$9,コード一覧表!$C$2:$Y$1768,VLOOKUP(O118,コード一覧表!$AA$3:$AB$1768,2,0)+1,0))))","v":""},{"$f":"IF(P118=\"\",\"\",IF(OR(LEN(P118)<3,LEN(P118)>4),HLOOKUP($U$9,コード一覧表!$C$2:$Y$1768,VLOOKUP(P118,コード一覧表!$AA$3:$AB$1768,2,0)+1,0),IF(OR(CODE(MID(P118,2,1))=77,CODE(MID(P118,3,1))=77),HLOOKUP($U$9,コード一覧表!$C$1789:$Y$1897,VLOOKUP(P118,コード一覧表!$AA$1789:$AB$1897,2,0)+1,0),HLOOKUP($U$9,コード一覧表!$C$2:$Y$1768,VLOOKUP(P118,コード一覧表!$AA$3:$AB$1768,2,0)+1,0))))","v":""},{"$f":"IF(Q118=\"\",\"\",IF(OR(LEN(Q118)<3,LEN(Q118)>4),HLOOKUP($U$9,コード一覧表!$C$2:$Y$1768,VLOOKUP(Q118,コード一覧表!$AA$3:$AB$1768,2,0)+1,0),IF(OR(CODE(MID(Q118,2,1))=77,CODE(MID(Q118,3,1))=77),HLOOKUP($U$9,コード一覧表!$C$1789:$Y$1897,VLOOKUP(Q118,コード一覧表!$AA$1789:$AB$1897,2,0)+1,0),HLOOKUP($U$9,コード一覧表!$C$2:$Y$1768,VLOOKUP(Q118,コード一覧表!$AA$3:$AB$1768,2,0)+1,0))))","v":""}]
[]
[null,null,null,null,null,null,null,null,null,null,null,null,null,null,null,null,null,null,"入力行40"]
[null,{"$f":"IF(B121=\"\",\"\",IF(OR(LEN(B121)<3,LEN(B121)>4),HLOOKUP($U$9,コード一覧表!$C$2:$Y$1768,VLOOKUP(B121,コード一覧表!$AA$3:$AB$1768,2,0)+1,0),IF(OR(CODE(MID(B121,2,1))=77,CODE(MID(B121,3,1))=77),HLOOKUP($U$9,コード一覧表!$C$1789:$Y$1897,VLOOKUP(B121,コード一覧表!$AA$1789:$AB$1897,2,0)+1,0),HLOOKUP($U$9,コード一覧表!$C$2:$Y$1768,VLOOKUP(B121,コード一覧表!$AA$3:$AB$1768,2,0)+1,0))))","v":""},{"$f":"IF(C121=\"\",\"\",IF(OR(LEN(C121)<3,LEN(C121)>4),HLOOKUP($U$9,コード一覧表!$C$2:$Y$1768,VLOOKUP(C121,コード一覧表!$AA$3:$AB$1768,2,0)+1,0),IF(OR(CODE(MID(C121,2,1))=77,CODE(MID(C121,3,1))=77),HLOOKUP($U$9,コード一覧表!$C$1789:$Y$1897,VLOOKUP(C121,コード一覧表!$AA$1789:$AB$1897,2,0)+1,0),HLOOKUP($U$9,コード一覧表!$C$2:$Y$1768,VLOOKUP(C121,コード一覧表!$AA$3:$AB$1768,2,0)+1,0))))","v":""},{"$f":"IF(D121=\"\",\"\",IF(OR(LEN(D121)<3,LEN(D121)>4),HLOOKUP($U$9,コード一覧表!$C$2:$Y$1768,VLOOKUP(D121,コード一覧表!$AA$3:$AB$1768,2,0)+1,0),IF(OR(CODE(MID(D121,2,1))=77,CODE(MID(D121,3,1))=77),HLOOKUP($U$9,コード一覧表!$C$1789:$Y$1897,VLOOKUP(D121,コード一覧表!$AA$1789:$AB$1897,2,0)+1,0),HLOOKUP($U$9,コード一覧表!$C$2:$Y$1768,VLOOKUP(D121,コード一覧表!$AA$3:$AB$1768,2,0)+1,0))))","v":""},{"$f":"IF(E121=\"\",\"\",IF(OR(LEN(E121)<3,LEN(E121)>4),HLOOKUP($U$9,コード一覧表!$C$2:$Y$1768,VLOOKUP(E121,コード一覧表!$AA$3:$AB$1768,2,0)+1,0),IF(OR(CODE(MID(E121,2,1))=77,CODE(MID(E121,3,1))=77),HLOOKUP($U$9,コード一覧表!$C$1789:$Y$1897,VLOOKUP(E121,コード一覧表!$AA$1789:$AB$1897,2,0)+1,0),HLOOKUP($U$9,コード一覧表!$C$2:$Y$1768,VLOOKUP(E121,コード一覧表!$AA$3:$AB$1768,2,0)+1,0))))","v":""},{"$f":"IF(F121=\"\",\"\",IF(OR(LEN(F121)<3,LEN(F121)>4),HLOOKUP($U$9,コード一覧表!$C$2:$Y$1768,VLOOKUP(F121,コード一覧表!$AA$3:$AB$1768,2,0)+1,0),IF(OR(CODE(MID(F121,2,1))=77,CODE(MID(F121,3,1))=77),HLOOKUP($U$9,コード一覧表!$C$1789:$Y$1897,VLOOKUP(F121,コード一覧表!$AA$1789:$AB$1897,2,0)+1,0),HLOOKUP($U$9,コード一覧表!$C$2:$Y$1768,VLOOKUP(F121,コード一覧表!$AA$3:$AB$1768,2,0)+1,0))))","v":""},{"$f":"IF(G121=\"\",\"\",IF(OR(LEN(G121)<3,LEN(G121)>4),HLOOKUP($U$9,コード一覧表!$C$2:$Y$1768,VLOOKUP(G121,コード一覧表!$AA$3:$AB$1768,2,0)+1,0),IF(OR(CODE(MID(G121,2,1))=77,CODE(MID(G121,3,1))=77),HLOOKUP($U$9,コード一覧表!$C$1789:$Y$1897,VLOOKUP(G121,コード一覧表!$AA$1789:$AB$1897,2,0)+1,0),HLOOKUP($U$9,コード一覧表!$C$2:$Y$1768,VLOOKUP(G121,コード一覧表!$AA$3:$AB$1768,2,0)+1,0))))","v":""},{"$f":"IF(H121=\"\",\"\",IF(OR(LEN(H121)<3,LEN(H121)>4),HLOOKUP($U$9,コード一覧表!$C$2:$Y$1768,VLOOKUP(H121,コード一覧表!$AA$3:$AB$1768,2,0)+1,0),IF(OR(CODE(MID(H121,2,1))=77,CODE(MID(H121,3,1))=77),HLOOKUP($U$9,コード一覧表!$C$1789:$Y$1897,VLOOKUP(H121,コード一覧表!$AA$1789:$AB$1897,2,0)+1,0),HLOOKUP($U$9,コード一覧表!$C$2:$Y$1768,VLOOKUP(H121,コード一覧表!$AA$3:$AB$1768,2,0)+1,0))))","v":""},{"$f":"IF(I121=\"\",\"\",IF(OR(LEN(I121)<3,LEN(I121)>4),HLOOKUP($U$9,コード一覧表!$C$2:$Y$1768,VLOOKUP(I121,コード一覧表!$AA$3:$AB$1768,2,0)+1,0),IF(OR(CODE(MID(I121,2,1))=77,CODE(MID(I121,3,1))=77),HLOOKUP($U$9,コード一覧表!$C$1789:$Y$1897,VLOOKUP(I121,コード一覧表!$AA$1789:$AB$1897,2,0)+1,0),HLOOKUP($U$9,コード一覧表!$C$2:$Y$1768,VLOOKUP(I121,コード一覧表!$AA$3:$AB$1768,2,0)+1,0))))","v":""},{"$f":"IF(J121=\"\",\"\",IF(OR(LEN(J121)<3,LEN(J121)>4),HLOOKUP($U$9,コード一覧表!$C$2:$Y$1768,VLOOKUP(J121,コード一覧表!$AA$3:$AB$1768,2,0)+1,0),IF(OR(CODE(MID(J121,2,1))=77,CODE(MID(J121,3,1))=77),HLOOKUP($U$9,コード一覧表!$C$1789:$Y$1897,VLOOKUP(J121,コード一覧表!$AA$1789:$AB$1897,2,0)+1,0),HLOOKUP($U$9,コード一覧表!$C$2:$Y$1768,VLOOKUP(J121,コード一覧表!$AA$3:$AB$1768,2,0)+1,0))))","v":""},{"$f":"IF(K121=\"\",\"\",IF(OR(LEN(K121)<3,LEN(K121)>4),HLOOKUP($U$9,コード一覧表!$C$2:$Y$1768,VLOOKUP(K121,コード一覧表!$AA$3:$AB$1768,2,0)+1,0),IF(OR(CODE(MID(K121,2,1))=77,CODE(MID(K121,3,1))=77),HLOOKUP($U$9,コード一覧表!$C$1789:$Y$1897,VLOOKUP(K121,コード一覧表!$AA$1789:$AB$1897,2,0)+1,0),HLOOKUP($U$9,コード一覧表!$C$2:$Y$1768,VLOOKUP(K121,コード一覧表!$AA$3:$AB$1768,2,0)+1,0))))","v":""},{"$f":"IF(L121=\"\",\"\",IF(OR(LEN(L121)<3,LEN(L121)>4),HLOOKUP($U$9,コード一覧表!$C$2:$Y$1768,VLOOKUP(L121,コード一覧表!$AA$3:$AB$1768,2,0)+1,0),IF(OR(CODE(MID(L121,2,1))=77,CODE(MID(L121,3,1))=77),HLOOKUP($U$9,コード一覧表!$C$1789:$Y$1897,VLOOKUP(L121,コード一覧表!$AA$1789:$AB$1897,2,0)+1,0),HLOOKUP($U$9,コード一覧表!$C$2:$Y$1768,VLOOKUP(L121,コード一覧表!$AA$3:$AB$1768,2,0)+1,0))))","v":""},{"$f":"IF(M121=\"\",\"\",IF(OR(LEN(M121)<3,LEN(M121)>4),HLOOKUP($U$9,コード一覧表!$C$2:$Y$1768,VLOOKUP(M121,コード一覧表!$AA$3:$AB$1768,2,0)+1,0),IF(OR(CODE(MID(M121,2,1))=77,CODE(MID(M121,3,1))=77),HLOOKUP($U$9,コード一覧表!$C$1789:$Y$1897,VLOOKUP(M121,コード一覧表!$AA$1789:$AB$1897,2,0)+1,0),HLOOKUP($U$9,コード一覧表!$C$2:$Y$1768,VLOOKUP(M121,コード一覧表!$AA$3:$AB$1768,2,0)+1,0))))","v":""},{"$f":"IF(N121=\"\",\"\",IF(OR(LEN(N121)<3,LEN(N121)>4),HLOOKUP($U$9,コード一覧表!$C$2:$Y$1768,VLOOKUP(N121,コード一覧表!$AA$3:$AB$1768,2,0)+1,0),IF(OR(CODE(MID(N121,2,1))=77,CODE(MID(N121,3,1))=77),HLOOKUP($U$9,コード一覧表!$C$1789:$Y$1897,VLOOKUP(N121,コード一覧表!$AA$1789:$AB$1897,2,0)+1,0),HLOOKUP($U$9,コード一覧表!$C$2:$Y$1768,VLOOKUP(N121,コード一覧表!$AA$3:$AB$1768,2,0)+1,0))))","v":""},{"$f":"IF(O121=\"\",\"\",IF(OR(LEN(O121)<3,LEN(O121)>4),HLOOKUP($U$9,コード一覧表!$C$2:$Y$1768,VLOOKUP(O121,コード一覧表!$AA$3:$AB$1768,2,0)+1,0),IF(OR(CODE(MID(O121,2,1))=77,CODE(MID(O121,3,1))=77),HLOOKUP($U$9,コード一覧表!$C$1789:$Y$1897,VLOOKUP(O121,コード一覧表!$AA$1789:$AB$1897,2,0)+1,0),HLOOKUP($U$9,コード一覧表!$C$2:$Y$1768,VLOOKUP(O121,コード一覧表!$AA$3:$AB$1768,2,0)+1,0))))","v":""},{"$f":"IF(P121=\"\",\"\",IF(OR(LEN(P121)<3,LEN(P121)>4),HLOOKUP($U$9,コード一覧表!$C$2:$Y$1768,VLOOKUP(P121,コード一覧表!$AA$3:$AB$1768,2,0)+1,0),IF(OR(CODE(MID(P121,2,1))=77,CODE(MID(P121,3,1))=77),HLOOKUP($U$9,コード一覧表!$C$1789:$Y$1897,VLOOKUP(P121,コード一覧表!$AA$1789:$AB$1897,2,0)+1,0),HLOOKUP($U$9,コード一覧表!$C$2:$Y$1768,VLOOKUP(P121,コード一覧表!$AA$3:$AB$1768,2,0)+1,0))))","v":""},{"$f":"IF(Q121=\"\",\"\",IF(OR(LEN(Q121)<3,LEN(Q121)>4),HLOOKUP($U$9,コード一覧表!$C$2:$Y$1768,VLOOKUP(Q121,コード一覧表!$AA$3:$AB$1768,2,0)+1,0),IF(OR(CODE(MID(Q121,2,1))=77,CODE(MID(Q121,3,1))=77),HLOOKUP($U$9,コード一覧表!$C$1789:$Y$1897,VLOOKUP(Q121,コード一覧表!$AA$1789:$AB$1897,2,0)+1,0),HLOOKUP($U$9,コード一覧表!$C$2:$Y$1768,VLOOKUP(Q121,コード一覧表!$AA$3:$AB$1768,2,0)+1,0))))","v":""}]
[]
[null,null,null,null,null,null,null,null,null,null,null,null,null,null,null,null,null,null,"入力行41"]
[null,{"$f":"IF(B124=\"\",\"\",IF(OR(LEN(B124)<3,LEN(B124)>4),HLOOKUP($U$9,コード一覧表!$C$2:$Y$1768,VLOOKUP(B124,コード一覧表!$AA$3:$AB$1768,2,0)+1,0),IF(OR(CODE(MID(B124,2,1))=77,CODE(MID(B124,3,1))=77),HLOOKUP($U$9,コード一覧表!$C$1789:$Y$1897,VLOOKUP(B124,コード一覧表!$AA$1789:$AB$1897,2,0)+1,0),HLOOKUP($U$9,コード一覧表!$C$2:$Y$1768,VLOOKUP(B124,コード一覧表!$AA$3:$AB$1768,2,0)+1,0))))","v":""},{"$f":"IF(C124=\"\",\"\",IF(OR(LEN(C124)<3,LEN(C124)>4),HLOOKUP($U$9,コード一覧表!$C$2:$Y$1768,VLOOKUP(C124,コード一覧表!$AA$3:$AB$1768,2,0)+1,0),IF(OR(CODE(MID(C124,2,1))=77,CODE(MID(C124,3,1))=77),HLOOKUP($U$9,コード一覧表!$C$1789:$Y$1897,VLOOKUP(C124,コード一覧表!$AA$1789:$AB$1897,2,0)+1,0),HLOOKUP($U$9,コード一覧表!$C$2:$Y$1768,VLOOKUP(C124,コード一覧表!$AA$3:$AB$1768,2,0)+1,0))))","v":""},{"$f":"IF(D124=\"\",\"\",IF(OR(LEN(D124)<3,LEN(D124)>4),HLOOKUP($U$9,コード一覧表!$C$2:$Y$1768,VLOOKUP(D124,コード一覧表!$AA$3:$AB$1768,2,0)+1,0),IF(OR(CODE(MID(D124,2,1))=77,CODE(MID(D124,3,1))=77),HLOOKUP($U$9,コード一覧表!$C$1789:$Y$1897,VLOOKUP(D124,コード一覧表!$AA$1789:$AB$1897,2,0)+1,0),HLOOKUP($U$9,コード一覧表!$C$2:$Y$1768,VLOOKUP(D124,コード一覧表!$AA$3:$AB$1768,2,0)+1,0))))","v":""},{"$f":"IF(E124=\"\",\"\",IF(OR(LEN(E124)<3,LEN(E124)>4),HLOOKUP($U$9,コード一覧表!$C$2:$Y$1768,VLOOKUP(E124,コード一覧表!$AA$3:$AB$1768,2,0)+1,0),IF(OR(CODE(MID(E124,2,1))=77,CODE(MID(E124,3,1))=77),HLOOKUP($U$9,コード一覧表!$C$1789:$Y$1897,VLOOKUP(E124,コード一覧表!$AA$1789:$AB$1897,2,0)+1,0),HLOOKUP($U$9,コード一覧表!$C$2:$Y$1768,VLOOKUP(E124,コード一覧表!$AA$3:$AB$1768,2,0)+1,0))))","v":""},{"$f":"IF(F124=\"\",\"\",IF(OR(LEN(F124)<3,LEN(F124)>4),HLOOKUP($U$9,コード一覧表!$C$2:$Y$1768,VLOOKUP(F124,コード一覧表!$AA$3:$AB$1768,2,0)+1,0),IF(OR(CODE(MID(F124,2,1))=77,CODE(MID(F124,3,1))=77),HLOOKUP($U$9,コード一覧表!$C$1789:$Y$1897,VLOOKUP(F124,コード一覧表!$AA$1789:$AB$1897,2,0)+1,0),HLOOKUP($U$9,コード一覧表!$C$2:$Y$1768,VLOOKUP(F124,コード一覧表!$AA$3:$AB$1768,2,0)+1,0))))","v":""},{"$f":"IF(G124=\"\",\"\",IF(OR(LEN(G124)<3,LEN(G124)>4),HLOOKUP($U$9,コード一覧表!$C$2:$Y$1768,VLOOKUP(G124,コード一覧表!$AA$3:$AB$1768,2,0)+1,0),IF(OR(CODE(MID(G124,2,1))=77,CODE(MID(G124,3,1))=77),HLOOKUP($U$9,コード一覧表!$C$1789:$Y$1897,VLOOKUP(G124,コード一覧表!$AA$1789:$AB$1897,2,0)+1,0),HLOOKUP($U$9,コード一覧表!$C$2:$Y$1768,VLOOKUP(G124,コード一覧表!$AA$3:$AB$1768,2,0)+1,0))))","v":""},{"$f":"IF(H124=\"\",\"\",IF(OR(LEN(H124)<3,LEN(H124)>4),HLOOKUP($U$9,コード一覧表!$C$2:$Y$1768,VLOOKUP(H124,コード一覧表!$AA$3:$AB$1768,2,0)+1,0),IF(OR(CODE(MID(H124,2,1))=77,CODE(MID(H124,3,1))=77),HLOOKUP($U$9,コード一覧表!$C$1789:$Y$1897,VLOOKUP(H124,コード一覧表!$AA$1789:$AB$1897,2,0)+1,0),HLOOKUP($U$9,コード一覧表!$C$2:$Y$1768,VLOOKUP(H124,コード一覧表!$AA$3:$AB$1768,2,0)+1,0))))","v":""},{"$f":"IF(I124=\"\",\"\",IF(OR(LEN(I124)<3,LEN(I124)>4),HLOOKUP($U$9,コード一覧表!$C$2:$Y$1768,VLOOKUP(I124,コード一覧表!$AA$3:$AB$1768,2,0)+1,0),IF(OR(CODE(MID(I124,2,1))=77,CODE(MID(I124,3,1))=77),HLOOKUP($U$9,コード一覧表!$C$1789:$Y$1897,VLOOKUP(I124,コード一覧表!$AA$1789:$AB$1897,2,0)+1,0),HLOOKUP($U$9,コード一覧表!$C$2:$Y$1768,VLOOKUP(I124,コード一覧表!$AA$3:$AB$1768,2,0)+1,0))))","v":""},{"$f":"IF(J124=\"\",\"\",IF(OR(LEN(J124)<3,LEN(J124)>4),HLOOKUP($U$9,コード一覧表!$C$2:$Y$1768,VLOOKUP(J124,コード一覧表!$AA$3:$AB$1768,2,0)+1,0),IF(OR(CODE(MID(J124,2,1))=77,CODE(MID(J124,3,1))=77),HLOOKUP($U$9,コード一覧表!$C$1789:$Y$1897,VLOOKUP(J124,コード一覧表!$AA$1789:$AB$1897,2,0)+1,0),HLOOKUP($U$9,コード一覧表!$C$2:$Y$1768,VLOOKUP(J124,コード一覧表!$AA$3:$AB$1768,2,0)+1,0))))","v":""},{"$f":"IF(K124=\"\",\"\",IF(OR(LEN(K124)<3,LEN(K124)>4),HLOOKUP($U$9,コード一覧表!$C$2:$Y$1768,VLOOKUP(K124,コード一覧表!$AA$3:$AB$1768,2,0)+1,0),IF(OR(CODE(MID(K124,2,1))=77,CODE(MID(K124,3,1))=77),HLOOKUP($U$9,コード一覧表!$C$1789:$Y$1897,VLOOKUP(K124,コード一覧表!$AA$1789:$AB$1897,2,0)+1,0),HLOOKUP($U$9,コード一覧表!$C$2:$Y$1768,VLOOKUP(K124,コード一覧表!$AA$3:$AB$1768,2,0)+1,0))))","v":""},{"$f":"IF(L124=\"\",\"\",IF(OR(LEN(L124)<3,LEN(L124)>4),HLOOKUP($U$9,コード一覧表!$C$2:$Y$1768,VLOOKUP(L124,コード一覧表!$AA$3:$AB$1768,2,0)+1,0),IF(OR(CODE(MID(L124,2,1))=77,CODE(MID(L124,3,1))=77),HLOOKUP($U$9,コード一覧表!$C$1789:$Y$1897,VLOOKUP(L124,コード一覧表!$AA$1789:$AB$1897,2,0)+1,0),HLOOKUP($U$9,コード一覧表!$C$2:$Y$1768,VLOOKUP(L124,コード一覧表!$AA$3:$AB$1768,2,0)+1,0))))","v":""},{"$f":"IF(M124=\"\",\"\",IF(OR(LEN(M124)<3,LEN(M124)>4),HLOOKUP($U$9,コード一覧表!$C$2:$Y$1768,VLOOKUP(M124,コード一覧表!$AA$3:$AB$1768,2,0)+1,0),IF(OR(CODE(MID(M124,2,1))=77,CODE(MID(M124,3,1))=77),HLOOKUP($U$9,コード一覧表!$C$1789:$Y$1897,VLOOKUP(M124,コード一覧表!$AA$1789:$AB$1897,2,0)+1,0),HLOOKUP($U$9,コード一覧表!$C$2:$Y$1768,VLOOKUP(M124,コード一覧表!$AA$3:$AB$1768,2,0)+1,0))))","v":""},{"$f":"IF(N124=\"\",\"\",IF(OR(LEN(N124)<3,LEN(N124)>4),HLOOKUP($U$9,コード一覧表!$C$2:$Y$1768,VLOOKUP(N124,コード一覧表!$AA$3:$AB$1768,2,0)+1,0),IF(OR(CODE(MID(N124,2,1))=77,CODE(MID(N124,3,1))=77),HLOOKUP($U$9,コード一覧表!$C$1789:$Y$1897,VLOOKUP(N124,コード一覧表!$AA$1789:$AB$1897,2,0)+1,0),HLOOKUP($U$9,コード一覧表!$C$2:$Y$1768,VLOOKUP(N124,コード一覧表!$AA$3:$AB$1768,2,0)+1,0))))","v":""},{"$f":"IF(O124=\"\",\"\",IF(OR(LEN(O124)<3,LEN(O124)>4),HLOOKUP($U$9,コード一覧表!$C$2:$Y$1768,VLOOKUP(O124,コード一覧表!$AA$3:$AB$1768,2,0)+1,0),IF(OR(CODE(MID(O124,2,1))=77,CODE(MID(O124,3,1))=77),HLOOKUP($U$9,コード一覧表!$C$1789:$Y$1897,VLOOKUP(O124,コード一覧表!$AA$1789:$AB$1897,2,0)+1,0),HLOOKUP($U$9,コード一覧表!$C$2:$Y$1768,VLOOKUP(O124,コード一覧表!$AA$3:$AB$1768,2,0)+1,0))))","v":""},{"$f":"IF(P124=\"\",\"\",IF(OR(LEN(P124)<3,LEN(P124)>4),HLOOKUP($U$9,コード一覧表!$C$2:$Y$1768,VLOOKUP(P124,コード一覧表!$AA$3:$AB$1768,2,0)+1,0),IF(OR(CODE(MID(P124,2,1))=77,CODE(MID(P124,3,1))=77),HLOOKUP($U$9,コード一覧表!$C$1789:$Y$1897,VLOOKUP(P124,コード一覧表!$AA$1789:$AB$1897,2,0)+1,0),HLOOKUP($U$9,コード一覧表!$C$2:$Y$1768,VLOOKUP(P124,コード一覧表!$AA$3:$AB$1768,2,0)+1,0))))","v":""},{"$f":"IF(Q124=\"\",\"\",IF(OR(LEN(Q124)<3,LEN(Q124)>4),HLOOKUP($U$9,コード一覧表!$C$2:$Y$1768,VLOOKUP(Q124,コード一覧表!$AA$3:$AB$1768,2,0)+1,0),IF(OR(CODE(MID(Q124,2,1))=77,CODE(MID(Q124,3,1))=77),HLOOKUP($U$9,コード一覧表!$C$1789:$Y$1897,VLOOKUP(Q124,コード一覧表!$AA$1789:$AB$1897,2,0)+1,0),HLOOKUP($U$9,コード一覧表!$C$2:$Y$1768,VLOOKUP(Q124,コード一覧表!$AA$3:$AB$1768,2,0)+1,0))))","v":""}]
[]
[null,null,null,null,null,null,null,null,null,null,null,null,null,null,null,null,null,null,"入力行42"]
[null,{"$f":"IF(B127=\"\",\"\",IF(OR(LEN(B127)<3,LEN(B127)>4),HLOOKUP($U$9,コード一覧表!$C$2:$Y$1768,VLOOKUP(B127,コード一覧表!$AA$3:$AB$1768,2,0)+1,0),IF(OR(CODE(MID(B127,2,1))=77,CODE(MID(B127,3,1))=77),HLOOKUP($U$9,コード一覧表!$C$1789:$Y$1897,VLOOKUP(B127,コード一覧表!$AA$1789:$AB$1897,2,0)+1,0),HLOOKUP($U$9,コード一覧表!$C$2:$Y$1768,VLOOKUP(B127,コード一覧表!$AA$3:$AB$1768,2,0)+1,0))))","v":""},{"$f":"IF(C127=\"\",\"\",IF(OR(LEN(C127)<3,LEN(C127)>4),HLOOKUP($U$9,コード一覧表!$C$2:$Y$1768,VLOOKUP(C127,コード一覧表!$AA$3:$AB$1768,2,0)+1,0),IF(OR(CODE(MID(C127,2,1))=77,CODE(MID(C127,3,1))=77),HLOOKUP($U$9,コード一覧表!$C$1789:$Y$1897,VLOOKUP(C127,コード一覧表!$AA$1789:$AB$1897,2,0)+1,0),HLOOKUP($U$9,コード一覧表!$C$2:$Y$1768,VLOOKUP(C127,コード一覧表!$AA$3:$AB$1768,2,0)+1,0))))","v":""},{"$f":"IF(D127=\"\",\"\",IF(OR(LEN(D127)<3,LEN(D127)>4),HLOOKUP($U$9,コード一覧表!$C$2:$Y$1768,VLOOKUP(D127,コード一覧表!$AA$3:$AB$1768,2,0)+1,0),IF(OR(CODE(MID(D127,2,1))=77,CODE(MID(D127,3,1))=77),HLOOKUP($U$9,コード一覧表!$C$1789:$Y$1897,VLOOKUP(D127,コード一覧表!$AA$1789:$AB$1897,2,0)+1,0),HLOOKUP($U$9,コード一覧表!$C$2:$Y$1768,VLOOKUP(D127,コード一覧表!$AA$3:$AB$1768,2,0)+1,0))))","v":""},{"$f":"IF(E127=\"\",\"\",IF(OR(LEN(E127)<3,LEN(E127)>4),HLOOKUP($U$9,コード一覧表!$C$2:$Y$1768,VLOOKUP(E127,コード一覧表!$AA$3:$AB$1768,2,0)+1,0),IF(OR(CODE(MID(E127,2,1))=77,CODE(MID(E127,3,1))=77),HLOOKUP($U$9,コード一覧表!$C$1789:$Y$1897,VLOOKUP(E127,コード一覧表!$AA$1789:$AB$1897,2,0)+1,0),HLOOKUP($U$9,コード一覧表!$C$2:$Y$1768,VLOOKUP(E127,コード一覧表!$AA$3:$AB$1768,2,0)+1,0))))","v":""},{"$f":"IF(F127=\"\",\"\",IF(OR(LEN(F127)<3,LEN(F127)>4),HLOOKUP($U$9,コード一覧表!$C$2:$Y$1768,VLOOKUP(F127,コード一覧表!$AA$3:$AB$1768,2,0)+1,0),IF(OR(CODE(MID(F127,2,1))=77,CODE(MID(F127,3,1))=77),HLOOKUP($U$9,コード一覧表!$C$1789:$Y$1897,VLOOKUP(F127,コード一覧表!$AA$1789:$AB$1897,2,0)+1,0),HLOOKUP($U$9,コード一覧表!$C$2:$Y$1768,VLOOKUP(F127,コード一覧表!$AA$3:$AB$1768,2,0)+1,0))))","v":""},{"$f":"IF(G127=\"\",\"\",IF(OR(LEN(G127)<3,LEN(G127)>4),HLOOKUP($U$9,コード一覧表!$C$2:$Y$1768,VLOOKUP(G127,コード一覧表!$AA$3:$AB$1768,2,0)+1,0),IF(OR(CODE(MID(G127,2,1))=77,CODE(MID(G127,3,1))=77),HLOOKUP($U$9,コード一覧表!$C$1789:$Y$1897,VLOOKUP(G127,コード一覧表!$AA$1789:$AB$1897,2,0)+1,0),HLOOKUP($U$9,コード一覧表!$C$2:$Y$1768,VLOOKUP(G127,コード一覧表!$AA$3:$AB$1768,2,0)+1,0))))","v":""},{"$f":"IF(H127=\"\",\"\",IF(OR(LEN(H127)<3,LEN(H127)>4),HLOOKUP($U$9,コード一覧表!$C$2:$Y$1768,VLOOKUP(H127,コード一覧表!$AA$3:$AB$1768,2,0)+1,0),IF(OR(CODE(MID(H127,2,1))=77,CODE(MID(H127,3,1))=77),HLOOKUP($U$9,コード一覧表!$C$1789:$Y$1897,VLOOKUP(H127,コード一覧表!$AA$1789:$AB$1897,2,0)+1,0),HLOOKUP($U$9,コード一覧表!$C$2:$Y$1768,VLOOKUP(H127,コード一覧表!$AA$3:$AB$1768,2,0)+1,0))))","v":""},{"$f":"IF(I127=\"\",\"\",IF(OR(LEN(I127)<3,LEN(I127)>4),HLOOKUP($U$9,コード一覧表!$C$2:$Y$1768,VLOOKUP(I127,コード一覧表!$AA$3:$AB$1768,2,0)+1,0),IF(OR(CODE(MID(I127,2,1))=77,CODE(MID(I127,3,1))=77),HLOOKUP($U$9,コード一覧表!$C$1789:$Y$1897,VLOOKUP(I127,コード一覧表!$AA$1789:$AB$1897,2,0)+1,0),HLOOKUP($U$9,コード一覧表!$C$2:$Y$1768,VLOOKUP(I127,コード一覧表!$AA$3:$AB$1768,2,0)+1,0))))","v":""},{"$f":"IF(J127=\"\",\"\",IF(OR(LEN(J127)<3,LEN(J127)>4),HLOOKUP($U$9,コード一覧表!$C$2:$Y$1768,VLOOKUP(J127,コード一覧表!$AA$3:$AB$1768,2,0)+1,0),IF(OR(CODE(MID(J127,2,1))=77,CODE(MID(J127,3,1))=77),HLOOKUP($U$9,コード一覧表!$C$1789:$Y$1897,VLOOKUP(J127,コード一覧表!$AA$1789:$AB$1897,2,0)+1,0),HLOOKUP($U$9,コード一覧表!$C$2:$Y$1768,VLOOKUP(J127,コード一覧表!$AA$3:$AB$1768,2,0)+1,0))))","v":""},{"$f":"IF(K127=\"\",\"\",IF(OR(LEN(K127)<3,LEN(K127)>4),HLOOKUP($U$9,コード一覧表!$C$2:$Y$1768,VLOOKUP(K127,コード一覧表!$AA$3:$AB$1768,2,0)+1,0),IF(OR(CODE(MID(K127,2,1))=77,CODE(MID(K127,3,1))=77),HLOOKUP($U$9,コード一覧表!$C$1789:$Y$1897,VLOOKUP(K127,コード一覧表!$AA$1789:$AB$1897,2,0)+1,0),HLOOKUP($U$9,コード一覧表!$C$2:$Y$1768,VLOOKUP(K127,コード一覧表!$AA$3:$AB$1768,2,0)+1,0))))","v":""},{"$f":"IF(L127=\"\",\"\",IF(OR(LEN(L127)<3,LEN(L127)>4),HLOOKUP($U$9,コード一覧表!$C$2:$Y$1768,VLOOKUP(L127,コード一覧表!$AA$3:$AB$1768,2,0)+1,0),IF(OR(CODE(MID(L127,2,1))=77,CODE(MID(L127,3,1))=77),HLOOKUP($U$9,コード一覧表!$C$1789:$Y$1897,VLOOKUP(L127,コード一覧表!$AA$1789:$AB$1897,2,0)+1,0),HLOOKUP($U$9,コード一覧表!$C$2:$Y$1768,VLOOKUP(L127,コード一覧表!$AA$3:$AB$1768,2,0)+1,0))))","v":""},{"$f":"IF(M127=\"\",\"\",IF(OR(LEN(M127)<3,LEN(M127)>4),HLOOKUP($U$9,コード一覧表!$C$2:$Y$1768,VLOOKUP(M127,コード一覧表!$AA$3:$AB$1768,2,0)+1,0),IF(OR(CODE(MID(M127,2,1))=77,CODE(MID(M127,3,1))=77),HLOOKUP($U$9,コード一覧表!$C$1789:$Y$1897,VLOOKUP(M127,コード一覧表!$AA$1789:$AB$1897,2,0)+1,0),HLOOKUP($U$9,コード一覧表!$C$2:$Y$1768,VLOOKUP(M127,コード一覧表!$AA$3:$AB$1768,2,0)+1,0))))","v":""},{"$f":"IF(N127=\"\",\"\",IF(OR(LEN(N127)<3,LEN(N127)>4),HLOOKUP($U$9,コード一覧表!$C$2:$Y$1768,VLOOKUP(N127,コード一覧表!$AA$3:$AB$1768,2,0)+1,0),IF(OR(CODE(MID(N127,2,1))=77,CODE(MID(N127,3,1))=77),HLOOKUP($U$9,コード一覧表!$C$1789:$Y$1897,VLOOKUP(N127,コード一覧表!$AA$1789:$AB$1897,2,0)+1,0),HLOOKUP($U$9,コード一覧表!$C$2:$Y$1768,VLOOKUP(N127,コード一覧表!$AA$3:$AB$1768,2,0)+1,0))))","v":""},{"$f":"IF(O127=\"\",\"\",IF(OR(LEN(O127)<3,LEN(O127)>4),HLOOKUP($U$9,コード一覧表!$C$2:$Y$1768,VLOOKUP(O127,コード一覧表!$AA$3:$AB$1768,2,0)+1,0),IF(OR(CODE(MID(O127,2,1))=77,CODE(MID(O127,3,1))=77),HLOOKUP($U$9,コード一覧表!$C$1789:$Y$1897,VLOOKUP(O127,コード一覧表!$AA$1789:$AB$1897,2,0)+1,0),HLOOKUP($U$9,コード一覧表!$C$2:$Y$1768,VLOOKUP(O127,コード一覧表!$AA$3:$AB$1768,2,0)+1,0))))","v":""},{"$f":"IF(P127=\"\",\"\",IF(OR(LEN(P127)<3,LEN(P127)>4),HLOOKUP($U$9,コード一覧表!$C$2:$Y$1768,VLOOKUP(P127,コード一覧表!$AA$3:$AB$1768,2,0)+1,0),IF(OR(CODE(MID(P127,2,1))=77,CODE(MID(P127,3,1))=77),HLOOKUP($U$9,コード一覧表!$C$1789:$Y$1897,VLOOKUP(P127,コード一覧表!$AA$1789:$AB$1897,2,0)+1,0),HLOOKUP($U$9,コード一覧表!$C$2:$Y$1768,VLOOKUP(P127,コード一覧表!$AA$3:$AB$1768,2,0)+1,0))))","v":""},{"$f":"IF(Q127=\"\",\"\",IF(OR(LEN(Q127)<3,LEN(Q127)>4),HLOOKUP($U$9,コード一覧表!$C$2:$Y$1768,VLOOKUP(Q127,コード一覧表!$AA$3:$AB$1768,2,0)+1,0),IF(OR(CODE(MID(Q127,2,1))=77,CODE(MID(Q127,3,1))=77),HLOOKUP($U$9,コード一覧表!$C$1789:$Y$1897,VLOOKUP(Q127,コード一覧表!$AA$1789:$AB$1897,2,0)+1,0),HLOOKUP($U$9,コード一覧表!$C$2:$Y$1768,VLOOKUP(Q127,コード一覧表!$AA$3:$AB$1768,2,0)+1,0))))","v":""}]
[]
[null,null,null,null,null,null,null,null,null,null,null,null,null,null,null,null,null,null,"入力行43"]
[null,{"$f":"IF(B130=\"\",\"\",IF(OR(LEN(B130)<3,LEN(B130)>4),HLOOKUP($U$9,コード一覧表!$C$2:$Y$1768,VLOOKUP(B130,コード一覧表!$AA$3:$AB$1768,2,0)+1,0),IF(OR(CODE(MID(B130,2,1))=77,CODE(MID(B130,3,1))=77),HLOOKUP($U$9,コード一覧表!$C$1789:$Y$1897,VLOOKUP(B130,コード一覧表!$AA$1789:$AB$1897,2,0)+1,0),HLOOKUP($U$9,コード一覧表!$C$2:$Y$1768,VLOOKUP(B130,コード一覧表!$AA$3:$AB$1768,2,0)+1,0))))","v":""},{"$f":"IF(C130=\"\",\"\",IF(OR(LEN(C130)<3,LEN(C130)>4),HLOOKUP($U$9,コード一覧表!$C$2:$Y$1768,VLOOKUP(C130,コード一覧表!$AA$3:$AB$1768,2,0)+1,0),IF(OR(CODE(MID(C130,2,1))=77,CODE(MID(C130,3,1))=77),HLOOKUP($U$9,コード一覧表!$C$1789:$Y$1897,VLOOKUP(C130,コード一覧表!$AA$1789:$AB$1897,2,0)+1,0),HLOOKUP($U$9,コード一覧表!$C$2:$Y$1768,VLOOKUP(C130,コード一覧表!$AA$3:$AB$1768,2,0)+1,0))))","v":""},{"$f":"IF(D130=\"\",\"\",IF(OR(LEN(D130)<3,LEN(D130)>4),HLOOKUP($U$9,コード一覧表!$C$2:$Y$1768,VLOOKUP(D130,コード一覧表!$AA$3:$AB$1768,2,0)+1,0),IF(OR(CODE(MID(D130,2,1))=77,CODE(MID(D130,3,1))=77),HLOOKUP($U$9,コード一覧表!$C$1789:$Y$1897,VLOOKUP(D130,コード一覧表!$AA$1789:$AB$1897,2,0)+1,0),HLOOKUP($U$9,コード一覧表!$C$2:$Y$1768,VLOOKUP(D130,コード一覧表!$AA$3:$AB$1768,2,0)+1,0))))","v":""},{"$f":"IF(E130=\"\",\"\",IF(OR(LEN(E130)<3,LEN(E130)>4),HLOOKUP($U$9,コード一覧表!$C$2:$Y$1768,VLOOKUP(E130,コード一覧表!$AA$3:$AB$1768,2,0)+1,0),IF(OR(CODE(MID(E130,2,1))=77,CODE(MID(E130,3,1))=77),HLOOKUP($U$9,コード一覧表!$C$1789:$Y$1897,VLOOKUP(E130,コード一覧表!$AA$1789:$AB$1897,2,0)+1,0),HLOOKUP($U$9,コード一覧表!$C$2:$Y$1768,VLOOKUP(E130,コード一覧表!$AA$3:$AB$1768,2,0)+1,0))))","v":""},{"$f":"IF(F130=\"\",\"\",IF(OR(LEN(F130)<3,LEN(F130)>4),HLOOKUP($U$9,コード一覧表!$C$2:$Y$1768,VLOOKUP(F130,コード一覧表!$AA$3:$AB$1768,2,0)+1,0),IF(OR(CODE(MID(F130,2,1))=77,CODE(MID(F130,3,1))=77),HLOOKUP($U$9,コード一覧表!$C$1789:$Y$1897,VLOOKUP(F130,コード一覧表!$AA$1789:$AB$1897,2,0)+1,0),HLOOKUP($U$9,コード一覧表!$C$2:$Y$1768,VLOOKUP(F130,コード一覧表!$AA$3:$AB$1768,2,0)+1,0))))","v":""},{"$f":"IF(G130=\"\",\"\",IF(OR(LEN(G130)<3,LEN(G130)>4),HLOOKUP($U$9,コード一覧表!$C$2:$Y$1768,VLOOKUP(G130,コード一覧表!$AA$3:$AB$1768,2,0)+1,0),IF(OR(CODE(MID(G130,2,1))=77,CODE(MID(G130,3,1))=77),HLOOKUP($U$9,コード一覧表!$C$1789:$Y$1897,VLOOKUP(G130,コード一覧表!$AA$1789:$AB$1897,2,0)+1,0),HLOOKUP($U$9,コード一覧表!$C$2:$Y$1768,VLOOKUP(G130,コード一覧表!$AA$3:$AB$1768,2,0)+1,0))))","v":""},{"$f":"IF(H130=\"\",\"\",IF(OR(LEN(H130)<3,LEN(H130)>4),HLOOKUP($U$9,コード一覧表!$C$2:$Y$1768,VLOOKUP(H130,コード一覧表!$AA$3:$AB$1768,2,0)+1,0),IF(OR(CODE(MID(H130,2,1))=77,CODE(MID(H130,3,1))=77),HLOOKUP($U$9,コード一覧表!$C$1789:$Y$1897,VLOOKUP(H130,コード一覧表!$AA$1789:$AB$1897,2,0)+1,0),HLOOKUP($U$9,コード一覧表!$C$2:$Y$1768,VLOOKUP(H130,コード一覧表!$AA$3:$AB$1768,2,0)+1,0))))","v":""},{"$f":"IF(I130=\"\",\"\",IF(OR(LEN(I130)<3,LEN(I130)>4),HLOOKUP($U$9,コード一覧表!$C$2:$Y$1768,VLOOKUP(I130,コード一覧表!$AA$3:$AB$1768,2,0)+1,0),IF(OR(CODE(MID(I130,2,1))=77,CODE(MID(I130,3,1))=77),HLOOKUP($U$9,コード一覧表!$C$1789:$Y$1897,VLOOKUP(I130,コード一覧表!$AA$1789:$AB$1897,2,0)+1,0),HLOOKUP($U$9,コード一覧表!$C$2:$Y$1768,VLOOKUP(I130,コード一覧表!$AA$3:$AB$1768,2,0)+1,0))))","v":""},{"$f":"IF(J130=\"\",\"\",IF(OR(LEN(J130)<3,LEN(J130)>4),HLOOKUP($U$9,コード一覧表!$C$2:$Y$1768,VLOOKUP(J130,コード一覧表!$AA$3:$AB$1768,2,0)+1,0),IF(OR(CODE(MID(J130,2,1))=77,CODE(MID(J130,3,1))=77),HLOOKUP($U$9,コード一覧表!$C$1789:$Y$1897,VLOOKUP(J130,コード一覧表!$AA$1789:$AB$1897,2,0)+1,0),HLOOKUP($U$9,コード一覧表!$C$2:$Y$1768,VLOOKUP(J130,コード一覧表!$AA$3:$AB$1768,2,0)+1,0))))","v":""},{"$f":"IF(K130=\"\",\"\",IF(OR(LEN(K130)<3,LEN(K130)>4),HLOOKUP($U$9,コード一覧表!$C$2:$Y$1768,VLOOKUP(K130,コード一覧表!$AA$3:$AB$1768,2,0)+1,0),IF(OR(CODE(MID(K130,2,1))=77,CODE(MID(K130,3,1))=77),HLOOKUP($U$9,コード一覧表!$C$1789:$Y$1897,VLOOKUP(K130,コード一覧表!$AA$1789:$AB$1897,2,0)+1,0),HLOOKUP($U$9,コード一覧表!$C$2:$Y$1768,VLOOKUP(K130,コード一覧表!$AA$3:$AB$1768,2,0)+1,0))))","v":""},{"$f":"IF(L130=\"\",\"\",IF(OR(LEN(L130)<3,LEN(L130)>4),HLOOKUP($U$9,コード一覧表!$C$2:$Y$1768,VLOOKUP(L130,コード一覧表!$AA$3:$AB$1768,2,0)+1,0),IF(OR(CODE(MID(L130,2,1))=77,CODE(MID(L130,3,1))=77),HLOOKUP($U$9,コード一覧表!$C$1789:$Y$1897,VLOOKUP(L130,コード一覧表!$AA$1789:$AB$1897,2,0)+1,0),HLOOKUP($U$9,コード一覧表!$C$2:$Y$1768,VLOOKUP(L130,コード一覧表!$AA$3:$AB$1768,2,0)+1,0))))","v":""},{"$f":"IF(M130=\"\",\"\",IF(OR(LEN(M130)<3,LEN(M130)>4),HLOOKUP($U$9,コード一覧表!$C$2:$Y$1768,VLOOKUP(M130,コード一覧表!$AA$3:$AB$1768,2,0)+1,0),IF(OR(CODE(MID(M130,2,1))=77,CODE(MID(M130,3,1))=77),HLOOKUP($U$9,コード一覧表!$C$1789:$Y$1897,VLOOKUP(M130,コード一覧表!$AA$1789:$AB$1897,2,0)+1,0),HLOOKUP($U$9,コード一覧表!$C$2:$Y$1768,VLOOKUP(M130,コード一覧表!$AA$3:$AB$1768,2,0)+1,0))))","v":""},{"$f":"IF(N130=\"\",\"\",IF(OR(LEN(N130)<3,LEN(N130)>4),HLOOKUP($U$9,コード一覧表!$C$2:$Y$1768,VLOOKUP(N130,コード一覧表!$AA$3:$AB$1768,2,0)+1,0),IF(OR(CODE(MID(N130,2,1))=77,CODE(MID(N130,3,1))=77),HLOOKUP($U$9,コード一覧表!$C$1789:$Y$1897,VLOOKUP(N130,コード一覧表!$AA$1789:$AB$1897,2,0)+1,0),HLOOKUP($U$9,コード一覧表!$C$2:$Y$1768,VLOOKUP(N130,コード一覧表!$AA$3:$AB$1768,2,0)+1,0))))","v":""},{"$f":"IF(O130=\"\",\"\",IF(OR(LEN(O130)<3,LEN(O130)>4),HLOOKUP($U$9,コード一覧表!$C$2:$Y$1768,VLOOKUP(O130,コード一覧表!$AA$3:$AB$1768,2,0)+1,0),IF(OR(CODE(MID(O130,2,1))=77,CODE(MID(O130,3,1))=77),HLOOKUP($U$9,コード一覧表!$C$1789:$Y$1897,VLOOKUP(O130,コード一覧表!$AA$1789:$AB$1897,2,0)+1,0),HLOOKUP($U$9,コード一覧表!$C$2:$Y$1768,VLOOKUP(O130,コード一覧表!$AA$3:$AB$1768,2,0)+1,0))))","v":""},{"$f":"IF(P130=\"\",\"\",IF(OR(LEN(P130)<3,LEN(P130)>4),HLOOKUP($U$9,コード一覧表!$C$2:$Y$1768,VLOOKUP(P130,コード一覧表!$AA$3:$AB$1768,2,0)+1,0),IF(OR(CODE(MID(P130,2,1))=77,CODE(MID(P130,3,1))=77),HLOOKUP($U$9,コード一覧表!$C$1789:$Y$1897,VLOOKUP(P130,コード一覧表!$AA$1789:$AB$1897,2,0)+1,0),HLOOKUP($U$9,コード一覧表!$C$2:$Y$1768,VLOOKUP(P130,コード一覧表!$AA$3:$AB$1768,2,0)+1,0))))","v":""},{"$f":"IF(Q130=\"\",\"\",IF(OR(LEN(Q130)<3,LEN(Q130)>4),HLOOKUP($U$9,コード一覧表!$C$2:$Y$1768,VLOOKUP(Q130,コード一覧表!$AA$3:$AB$1768,2,0)+1,0),IF(OR(CODE(MID(Q130,2,1))=77,CODE(MID(Q130,3,1))=77),HLOOKUP($U$9,コード一覧表!$C$1789:$Y$1897,VLOOKUP(Q130,コード一覧表!$AA$1789:$AB$1897,2,0)+1,0),HLOOKUP($U$9,コード一覧表!$C$2:$Y$1768,VLOOKUP(Q130,コード一覧表!$AA$3:$AB$1768,2,0)+1,0))))","v":""}]
[]
[null,null,null,null,null,null,null,null,null,null,null,null,null,null,null,null,null,null,"入力行44"]
[null,{"$f":"IF(B133=\"\",\"\",IF(OR(LEN(B133)<3,LEN(B133)>4),HLOOKUP($U$9,コード一覧表!$C$2:$Y$1768,VLOOKUP(B133,コード一覧表!$AA$3:$AB$1768,2,0)+1,0),IF(OR(CODE(MID(B133,2,1))=77,CODE(MID(B133,3,1))=77),HLOOKUP($U$9,コード一覧表!$C$1789:$Y$1897,VLOOKUP(B133,コード一覧表!$AA$1789:$AB$1897,2,0)+1,0),HLOOKUP($U$9,コード一覧表!$C$2:$Y$1768,VLOOKUP(B133,コード一覧表!$AA$3:$AB$1768,2,0)+1,0))))","v":""},{"$f":"IF(C133=\"\",\"\",IF(OR(LEN(C133)<3,LEN(C133)>4),HLOOKUP($U$9,コード一覧表!$C$2:$Y$1768,VLOOKUP(C133,コード一覧表!$AA$3:$AB$1768,2,0)+1,0),IF(OR(CODE(MID(C133,2,1))=77,CODE(MID(C133,3,1))=77),HLOOKUP($U$9,コード一覧表!$C$1789:$Y$1897,VLOOKUP(C133,コード一覧表!$AA$1789:$AB$1897,2,0)+1,0),HLOOKUP($U$9,コード一覧表!$C$2:$Y$1768,VLOOKUP(C133,コード一覧表!$AA$3:$AB$1768,2,0)+1,0))))","v":""},{"$f":"IF(D133=\"\",\"\",IF(OR(LEN(D133)<3,LEN(D133)>4),HLOOKUP($U$9,コード一覧表!$C$2:$Y$1768,VLOOKUP(D133,コード一覧表!$AA$3:$AB$1768,2,0)+1,0),IF(OR(CODE(MID(D133,2,1))=77,CODE(MID(D133,3,1))=77),HLOOKUP($U$9,コード一覧表!$C$1789:$Y$1897,VLOOKUP(D133,コード一覧表!$AA$1789:$AB$1897,2,0)+1,0),HLOOKUP($U$9,コード一覧表!$C$2:$Y$1768,VLOOKUP(D133,コード一覧表!$AA$3:$AB$1768,2,0)+1,0))))","v":""},{"$f":"IF(E133=\"\",\"\",IF(OR(LEN(E133)<3,LEN(E133)>4),HLOOKUP($U$9,コード一覧表!$C$2:$Y$1768,VLOOKUP(E133,コード一覧表!$AA$3:$AB$1768,2,0)+1,0),IF(OR(CODE(MID(E133,2,1))=77,CODE(MID(E133,3,1))=77),HLOOKUP($U$9,コード一覧表!$C$1789:$Y$1897,VLOOKUP(E133,コード一覧表!$AA$1789:$AB$1897,2,0)+1,0),HLOOKUP($U$9,コード一覧表!$C$2:$Y$1768,VLOOKUP(E133,コード一覧表!$AA$3:$AB$1768,2,0)+1,0))))","v":""},{"$f":"IF(F133=\"\",\"\",IF(OR(LEN(F133)<3,LEN(F133)>4),HLOOKUP($U$9,コード一覧表!$C$2:$Y$1768,VLOOKUP(F133,コード一覧表!$AA$3:$AB$1768,2,0)+1,0),IF(OR(CODE(MID(F133,2,1))=77,CODE(MID(F133,3,1))=77),HLOOKUP($U$9,コード一覧表!$C$1789:$Y$1897,VLOOKUP(F133,コード一覧表!$AA$1789:$AB$1897,2,0)+1,0),HLOOKUP($U$9,コード一覧表!$C$2:$Y$1768,VLOOKUP(F133,コード一覧表!$AA$3:$AB$1768,2,0)+1,0))))","v":""},{"$f":"IF(G133=\"\",\"\",IF(OR(LEN(G133)<3,LEN(G133)>4),HLOOKUP($U$9,コード一覧表!$C$2:$Y$1768,VLOOKUP(G133,コード一覧表!$AA$3:$AB$1768,2,0)+1,0),IF(OR(CODE(MID(G133,2,1))=77,CODE(MID(G133,3,1))=77),HLOOKUP($U$9,コード一覧表!$C$1789:$Y$1897,VLOOKUP(G133,コード一覧表!$AA$1789:$AB$1897,2,0)+1,0),HLOOKUP($U$9,コード一覧表!$C$2:$Y$1768,VLOOKUP(G133,コード一覧表!$AA$3:$AB$1768,2,0)+1,0))))","v":""},{"$f":"IF(H133=\"\",\"\",IF(OR(LEN(H133)<3,LEN(H133)>4),HLOOKUP($U$9,コード一覧表!$C$2:$Y$1768,VLOOKUP(H133,コード一覧表!$AA$3:$AB$1768,2,0)+1,0),IF(OR(CODE(MID(H133,2,1))=77,CODE(MID(H133,3,1))=77),HLOOKUP($U$9,コード一覧表!$C$1789:$Y$1897,VLOOKUP(H133,コード一覧表!$AA$1789:$AB$1897,2,0)+1,0),HLOOKUP($U$9,コード一覧表!$C$2:$Y$1768,VLOOKUP(H133,コード一覧表!$AA$3:$AB$1768,2,0)+1,0))))","v":""},{"$f":"IF(I133=\"\",\"\",IF(OR(LEN(I133)<3,LEN(I133)>4),HLOOKUP($U$9,コード一覧表!$C$2:$Y$1768,VLOOKUP(I133,コード一覧表!$AA$3:$AB$1768,2,0)+1,0),IF(OR(CODE(MID(I133,2,1))=77,CODE(MID(I133,3,1))=77),HLOOKUP($U$9,コード一覧表!$C$1789:$Y$1897,VLOOKUP(I133,コード一覧表!$AA$1789:$AB$1897,2,0)+1,0),HLOOKUP($U$9,コード一覧表!$C$2:$Y$1768,VLOOKUP(I133,コード一覧表!$AA$3:$AB$1768,2,0)+1,0))))","v":""},{"$f":"IF(J133=\"\",\"\",IF(OR(LEN(J133)<3,LEN(J133)>4),HLOOKUP($U$9,コード一覧表!$C$2:$Y$1768,VLOOKUP(J133,コード一覧表!$AA$3:$AB$1768,2,0)+1,0),IF(OR(CODE(MID(J133,2,1))=77,CODE(MID(J133,3,1))=77),HLOOKUP($U$9,コード一覧表!$C$1789:$Y$1897,VLOOKUP(J133,コード一覧表!$AA$1789:$AB$1897,2,0)+1,0),HLOOKUP($U$9,コード一覧表!$C$2:$Y$1768,VLOOKUP(J133,コード一覧表!$AA$3:$AB$1768,2,0)+1,0))))","v":""},{"$f":"IF(K133=\"\",\"\",IF(OR(LEN(K133)<3,LEN(K133)>4),HLOOKUP($U$9,コード一覧表!$C$2:$Y$1768,VLOOKUP(K133,コード一覧表!$AA$3:$AB$1768,2,0)+1,0),IF(OR(CODE(MID(K133,2,1))=77,CODE(MID(K133,3,1))=77),HLOOKUP($U$9,コード一覧表!$C$1789:$Y$1897,VLOOKUP(K133,コード一覧表!$AA$1789:$AB$1897,2,0)+1,0),HLOOKUP($U$9,コード一覧表!$C$2:$Y$1768,VLOOKUP(K133,コード一覧表!$AA$3:$AB$1768,2,0)+1,0))))","v":""},{"$f":"IF(L133=\"\",\"\",IF(OR(LEN(L133)<3,LEN(L133)>4),HLOOKUP($U$9,コード一覧表!$C$2:$Y$1768,VLOOKUP(L133,コード一覧表!$AA$3:$AB$1768,2,0)+1,0),IF(OR(CODE(MID(L133,2,1))=77,CODE(MID(L133,3,1))=77),HLOOKUP($U$9,コード一覧表!$C$1789:$Y$1897,VLOOKUP(L133,コード一覧表!$AA$1789:$AB$1897,2,0)+1,0),HLOOKUP($U$9,コード一覧表!$C$2:$Y$1768,VLOOKUP(L133,コード一覧表!$AA$3:$AB$1768,2,0)+1,0))))","v":""},{"$f":"IF(M133=\"\",\"\",IF(OR(LEN(M133)<3,LEN(M133)>4),HLOOKUP($U$9,コード一覧表!$C$2:$Y$1768,VLOOKUP(M133,コード一覧表!$AA$3:$AB$1768,2,0)+1,0),IF(OR(CODE(MID(M133,2,1))=77,CODE(MID(M133,3,1))=77),HLOOKUP($U$9,コード一覧表!$C$1789:$Y$1897,VLOOKUP(M133,コード一覧表!$AA$1789:$AB$1897,2,0)+1,0),HLOOKUP($U$9,コード一覧表!$C$2:$Y$1768,VLOOKUP(M133,コード一覧表!$AA$3:$AB$1768,2,0)+1,0))))","v":""},{"$f":"IF(N133=\"\",\"\",IF(OR(LEN(N133)<3,LEN(N133)>4),HLOOKUP($U$9,コード一覧表!$C$2:$Y$1768,VLOOKUP(N133,コード一覧表!$AA$3:$AB$1768,2,0)+1,0),IF(OR(CODE(MID(N133,2,1))=77,CODE(MID(N133,3,1))=77),HLOOKUP($U$9,コード一覧表!$C$1789:$Y$1897,VLOOKUP(N133,コード一覧表!$AA$1789:$AB$1897,2,0)+1,0),HLOOKUP($U$9,コード一覧表!$C$2:$Y$1768,VLOOKUP(N133,コード一覧表!$AA$3:$AB$1768,2,0)+1,0))))","v":""},{"$f":"IF(O133=\"\",\"\",IF(OR(LEN(O133)<3,LEN(O133)>4),HLOOKUP($U$9,コード一覧表!$C$2:$Y$1768,VLOOKUP(O133,コード一覧表!$AA$3:$AB$1768,2,0)+1,0),IF(OR(CODE(MID(O133,2,1))=77,CODE(MID(O133,3,1))=77),HLOOKUP($U$9,コード一覧表!$C$1789:$Y$1897,VLOOKUP(O133,コード一覧表!$AA$1789:$AB$1897,2,0)+1,0),HLOOKUP($U$9,コード一覧表!$C$2:$Y$1768,VLOOKUP(O133,コード一覧表!$AA$3:$AB$1768,2,0)+1,0))))","v":""},{"$f":"IF(P133=\"\",\"\",IF(OR(LEN(P133)<3,LEN(P133)>4),HLOOKUP($U$9,コード一覧表!$C$2:$Y$1768,VLOOKUP(P133,コード一覧表!$AA$3:$AB$1768,2,0)+1,0),IF(OR(CODE(MID(P133,2,1))=77,CODE(MID(P133,3,1))=77),HLOOKUP($U$9,コード一覧表!$C$1789:$Y$1897,VLOOKUP(P133,コード一覧表!$AA$1789:$AB$1897,2,0)+1,0),HLOOKUP($U$9,コード一覧表!$C$2:$Y$1768,VLOOKUP(P133,コード一覧表!$AA$3:$AB$1768,2,0)+1,0))))","v":""},{"$f":"IF(Q133=\"\",\"\",IF(OR(LEN(Q133)<3,LEN(Q133)>4),HLOOKUP($U$9,コード一覧表!$C$2:$Y$1768,VLOOKUP(Q133,コード一覧表!$AA$3:$AB$1768,2,0)+1,0),IF(OR(CODE(MID(Q133,2,1))=77,CODE(MID(Q133,3,1))=77),HLOOKUP($U$9,コード一覧表!$C$1789:$Y$1897,VLOOKUP(Q133,コード一覧表!$AA$1789:$AB$1897,2,0)+1,0),HLOOKUP($U$9,コード一覧表!$C$2:$Y$1768,VLOOKUP(Q133,コード一覧表!$AA$3:$AB$1768,2,0)+1,0))))","v":""}]
[]
[null,null,null,null,null,null,null,null,null,null,null,null,null,null,null,null,null,null,"入力行45"]
[null,{"$f":"IF(B136=\"\",\"\",IF(OR(LEN(B136)<3,LEN(B136)>4),HLOOKUP($U$9,コード一覧表!$C$2:$Y$1768,VLOOKUP(B136,コード一覧表!$AA$3:$AB$1768,2,0)+1,0),IF(OR(CODE(MID(B136,2,1))=77,CODE(MID(B136,3,1))=77),HLOOKUP($U$9,コード一覧表!$C$1789:$Y$1897,VLOOKUP(B136,コード一覧表!$AA$1789:$AB$1897,2,0)+1,0),HLOOKUP($U$9,コード一覧表!$C$2:$Y$1768,VLOOKUP(B136,コード一覧表!$AA$3:$AB$1768,2,0)+1,0))))","v":""},{"$f":"IF(C136=\"\",\"\",IF(OR(LEN(C136)<3,LEN(C136)>4),HLOOKUP($U$9,コード一覧表!$C$2:$Y$1768,VLOOKUP(C136,コード一覧表!$AA$3:$AB$1768,2,0)+1,0),IF(OR(CODE(MID(C136,2,1))=77,CODE(MID(C136,3,1))=77),HLOOKUP($U$9,コード一覧表!$C$1789:$Y$1897,VLOOKUP(C136,コード一覧表!$AA$1789:$AB$1897,2,0)+1,0),HLOOKUP($U$9,コード一覧表!$C$2:$Y$1768,VLOOKUP(C136,コード一覧表!$AA$3:$AB$1768,2,0)+1,0))))","v":""},{"$f":"IF(D136=\"\",\"\",IF(OR(LEN(D136)<3,LEN(D136)>4),HLOOKUP($U$9,コード一覧表!$C$2:$Y$1768,VLOOKUP(D136,コード一覧表!$AA$3:$AB$1768,2,0)+1,0),IF(OR(CODE(MID(D136,2,1))=77,CODE(MID(D136,3,1))=77),HLOOKUP($U$9,コード一覧表!$C$1789:$Y$1897,VLOOKUP(D136,コード一覧表!$AA$1789:$AB$1897,2,0)+1,0),HLOOKUP($U$9,コード一覧表!$C$2:$Y$1768,VLOOKUP(D136,コード一覧表!$AA$3:$AB$1768,2,0)+1,0))))","v":""},{"$f":"IF(E136=\"\",\"\",IF(OR(LEN(E136)<3,LEN(E136)>4),HLOOKUP($U$9,コード一覧表!$C$2:$Y$1768,VLOOKUP(E136,コード一覧表!$AA$3:$AB$1768,2,0)+1,0),IF(OR(CODE(MID(E136,2,1))=77,CODE(MID(E136,3,1))=77),HLOOKUP($U$9,コード一覧表!$C$1789:$Y$1897,VLOOKUP(E136,コード一覧表!$AA$1789:$AB$1897,2,0)+1,0),HLOOKUP($U$9,コード一覧表!$C$2:$Y$1768,VLOOKUP(E136,コード一覧表!$AA$3:$AB$1768,2,0)+1,0))))","v":""},{"$f":"IF(F136=\"\",\"\",IF(OR(LEN(F136)<3,LEN(F136)>4),HLOOKUP($U$9,コード一覧表!$C$2:$Y$1768,VLOOKUP(F136,コード一覧表!$AA$3:$AB$1768,2,0)+1,0),IF(OR(CODE(MID(F136,2,1))=77,CODE(MID(F136,3,1))=77),HLOOKUP($U$9,コード一覧表!$C$1789:$Y$1897,VLOOKUP(F136,コード一覧表!$AA$1789:$AB$1897,2,0)+1,0),HLOOKUP($U$9,コード一覧表!$C$2:$Y$1768,VLOOKUP(F136,コード一覧表!$AA$3:$AB$1768,2,0)+1,0))))","v":""},{"$f":"IF(G136=\"\",\"\",IF(OR(LEN(G136)<3,LEN(G136)>4),HLOOKUP($U$9,コード一覧表!$C$2:$Y$1768,VLOOKUP(G136,コード一覧表!$AA$3:$AB$1768,2,0)+1,0),IF(OR(CODE(MID(G136,2,1))=77,CODE(MID(G136,3,1))=77),HLOOKUP($U$9,コード一覧表!$C$1789:$Y$1897,VLOOKUP(G136,コード一覧表!$AA$1789:$AB$1897,2,0)+1,0),HLOOKUP($U$9,コード一覧表!$C$2:$Y$1768,VLOOKUP(G136,コード一覧表!$AA$3:$AB$1768,2,0)+1,0))))","v":""},{"$f":"IF(H136=\"\",\"\",IF(OR(LEN(H136)<3,LEN(H136)>4),HLOOKUP($U$9,コード一覧表!$C$2:$Y$1768,VLOOKUP(H136,コード一覧表!$AA$3:$AB$1768,2,0)+1,0),IF(OR(CODE(MID(H136,2,1))=77,CODE(MID(H136,3,1))=77),HLOOKUP($U$9,コード一覧表!$C$1789:$Y$1897,VLOOKUP(H136,コード一覧表!$AA$1789:$AB$1897,2,0)+1,0),HLOOKUP($U$9,コード一覧表!$C$2:$Y$1768,VLOOKUP(H136,コード一覧表!$AA$3:$AB$1768,2,0)+1,0))))","v":""},{"$f":"IF(I136=\"\",\"\",IF(OR(LEN(I136)<3,LEN(I136)>4),HLOOKUP($U$9,コード一覧表!$C$2:$Y$1768,VLOOKUP(I136,コード一覧表!$AA$3:$AB$1768,2,0)+1,0),IF(OR(CODE(MID(I136,2,1))=77,CODE(MID(I136,3,1))=77),HLOOKUP($U$9,コード一覧表!$C$1789:$Y$1897,VLOOKUP(I136,コード一覧表!$AA$1789:$AB$1897,2,0)+1,0),HLOOKUP($U$9,コード一覧表!$C$2:$Y$1768,VLOOKUP(I136,コード一覧表!$AA$3:$AB$1768,2,0)+1,0))))","v":""},{"$f":"IF(J136=\"\",\"\",IF(OR(LEN(J136)<3,LEN(J136)>4),HLOOKUP($U$9,コード一覧表!$C$2:$Y$1768,VLOOKUP(J136,コード一覧表!$AA$3:$AB$1768,2,0)+1,0),IF(OR(CODE(MID(J136,2,1))=77,CODE(MID(J136,3,1))=77),HLOOKUP($U$9,コード一覧表!$C$1789:$Y$1897,VLOOKUP(J136,コード一覧表!$AA$1789:$AB$1897,2,0)+1,0),HLOOKUP($U$9,コード一覧表!$C$2:$Y$1768,VLOOKUP(J136,コード一覧表!$AA$3:$AB$1768,2,0)+1,0))))","v":""},{"$f":"IF(K136=\"\",\"\",IF(OR(LEN(K136)<3,LEN(K136)>4),HLOOKUP($U$9,コード一覧表!$C$2:$Y$1768,VLOOKUP(K136,コード一覧表!$AA$3:$AB$1768,2,0)+1,0),IF(OR(CODE(MID(K136,2,1))=77,CODE(MID(K136,3,1))=77),HLOOKUP($U$9,コード一覧表!$C$1789:$Y$1897,VLOOKUP(K136,コード一覧表!$AA$1789:$AB$1897,2,0)+1,0),HLOOKUP($U$9,コード一覧表!$C$2:$Y$1768,VLOOKUP(K136,コード一覧表!$AA$3:$AB$1768,2,0)+1,0))))","v":""},{"$f":"IF(L136=\"\",\"\",IF(OR(LEN(L136)<3,LEN(L136)>4),HLOOKUP($U$9,コード一覧表!$C$2:$Y$1768,VLOOKUP(L136,コード一覧表!$AA$3:$AB$1768,2,0)+1,0),IF(OR(CODE(MID(L136,2,1))=77,CODE(MID(L136,3,1))=77),HLOOKUP($U$9,コード一覧表!$C$1789:$Y$1897,VLOOKUP(L136,コード一覧表!$AA$1789:$AB$1897,2,0)+1,0),HLOOKUP($U$9,コード一覧表!$C$2:$Y$1768,VLOOKUP(L136,コード一覧表!$AA$3:$AB$1768,2,0)+1,0))))","v":""},{"$f":"IF(M136=\"\",\"\",IF(OR(LEN(M136)<3,LEN(M136)>4),HLOOKUP($U$9,コード一覧表!$C$2:$Y$1768,VLOOKUP(M136,コード一覧表!$AA$3:$AB$1768,2,0)+1,0),IF(OR(CODE(MID(M136,2,1))=77,CODE(MID(M136,3,1))=77),HLOOKUP($U$9,コード一覧表!$C$1789:$Y$1897,VLOOKUP(M136,コード一覧表!$AA$1789:$AB$1897,2,0)+1,0),HLOOKUP($U$9,コード一覧表!$C$2:$Y$1768,VLOOKUP(M136,コード一覧表!$AA$3:$AB$1768,2,0)+1,0))))","v":""},{"$f":"IF(N136=\"\",\"\",IF(OR(LEN(N136)<3,LEN(N136)>4),HLOOKUP($U$9,コード一覧表!$C$2:$Y$1768,VLOOKUP(N136,コード一覧表!$AA$3:$AB$1768,2,0)+1,0),IF(OR(CODE(MID(N136,2,1))=77,CODE(MID(N136,3,1))=77),HLOOKUP($U$9,コード一覧表!$C$1789:$Y$1897,VLOOKUP(N136,コード一覧表!$AA$1789:$AB$1897,2,0)+1,0),HLOOKUP($U$9,コード一覧表!$C$2:$Y$1768,VLOOKUP(N136,コード一覧表!$AA$3:$AB$1768,2,0)+1,0))))","v":""},{"$f":"IF(O136=\"\",\"\",IF(OR(LEN(O136)<3,LEN(O136)>4),HLOOKUP($U$9,コード一覧表!$C$2:$Y$1768,VLOOKUP(O136,コード一覧表!$AA$3:$AB$1768,2,0)+1,0),IF(OR(CODE(MID(O136,2,1))=77,CODE(MID(O136,3,1))=77),HLOOKUP($U$9,コード一覧表!$C$1789:$Y$1897,VLOOKUP(O136,コード一覧表!$AA$1789:$AB$1897,2,0)+1,0),HLOOKUP($U$9,コード一覧表!$C$2:$Y$1768,VLOOKUP(O136,コード一覧表!$AA$3:$AB$1768,2,0)+1,0))))","v":""},{"$f":"IF(P136=\"\",\"\",IF(OR(LEN(P136)<3,LEN(P136)>4),HLOOKUP($U$9,コード一覧表!$C$2:$Y$1768,VLOOKUP(P136,コード一覧表!$AA$3:$AB$1768,2,0)+1,0),IF(OR(CODE(MID(P136,2,1))=77,CODE(MID(P136,3,1))=77),HLOOKUP($U$9,コード一覧表!$C$1789:$Y$1897,VLOOKUP(P136,コード一覧表!$AA$1789:$AB$1897,2,0)+1,0),HLOOKUP($U$9,コード一覧表!$C$2:$Y$1768,VLOOKUP(P136,コード一覧表!$AA$3:$AB$1768,2,0)+1,0))))","v":""},{"$f":"IF(Q136=\"\",\"\",IF(OR(LEN(Q136)<3,LEN(Q136)>4),HLOOKUP($U$9,コード一覧表!$C$2:$Y$1768,VLOOKUP(Q136,コード一覧表!$AA$3:$AB$1768,2,0)+1,0),IF(OR(CODE(MID(Q136,2,1))=77,CODE(MID(Q136,3,1))=77),HLOOKUP($U$9,コード一覧表!$C$1789:$Y$1897,VLOOKUP(Q136,コード一覧表!$AA$1789:$AB$1897,2,0)+1,0),HLOOKUP($U$9,コード一覧表!$C$2:$Y$1768,VLOOKUP(Q136,コード一覧表!$AA$3:$AB$1768,2,0)+1,0))))","v":""}]
[]
[null,null,null,null,null,null,null,null,null,null,null,null,null,null,null,null,null,null,"入力行46"]
[null,{"$f":"IF(B139=\"\",\"\",IF(OR(LEN(B139)<3,LEN(B139)>4),HLOOKUP($U$9,コード一覧表!$C$2:$Y$1768,VLOOKUP(B139,コード一覧表!$AA$3:$AB$1768,2,0)+1,0),IF(OR(CODE(MID(B139,2,1))=77,CODE(MID(B139,3,1))=77),HLOOKUP($U$9,コード一覧表!$C$1789:$Y$1897,VLOOKUP(B139,コード一覧表!$AA$1789:$AB$1897,2,0)+1,0),HLOOKUP($U$9,コード一覧表!$C$2:$Y$1768,VLOOKUP(B139,コード一覧表!$AA$3:$AB$1768,2,0)+1,0))))","v":""},{"$f":"IF(C139=\"\",\"\",IF(OR(LEN(C139)<3,LEN(C139)>4),HLOOKUP($U$9,コード一覧表!$C$2:$Y$1768,VLOOKUP(C139,コード一覧表!$AA$3:$AB$1768,2,0)+1,0),IF(OR(CODE(MID(C139,2,1))=77,CODE(MID(C139,3,1))=77),HLOOKUP($U$9,コード一覧表!$C$1789:$Y$1897,VLOOKUP(C139,コード一覧表!$AA$1789:$AB$1897,2,0)+1,0),HLOOKUP($U$9,コード一覧表!$C$2:$Y$1768,VLOOKUP(C139,コード一覧表!$AA$3:$AB$1768,2,0)+1,0))))","v":""},{"$f":"IF(D139=\"\",\"\",IF(OR(LEN(D139)<3,LEN(D139)>4),HLOOKUP($U$9,コード一覧表!$C$2:$Y$1768,VLOOKUP(D139,コード一覧表!$AA$3:$AB$1768,2,0)+1,0),IF(OR(CODE(MID(D139,2,1))=77,CODE(MID(D139,3,1))=77),HLOOKUP($U$9,コード一覧表!$C$1789:$Y$1897,VLOOKUP(D139,コード一覧表!$AA$1789:$AB$1897,2,0)+1,0),HLOOKUP($U$9,コード一覧表!$C$2:$Y$1768,VLOOKUP(D139,コード一覧表!$AA$3:$AB$1768,2,0)+1,0))))","v":""},{"$f":"IF(E139=\"\",\"\",IF(OR(LEN(E139)<3,LEN(E139)>4),HLOOKUP($U$9,コード一覧表!$C$2:$Y$1768,VLOOKUP(E139,コード一覧表!$AA$3:$AB$1768,2,0)+1,0),IF(OR(CODE(MID(E139,2,1))=77,CODE(MID(E139,3,1))=77),HLOOKUP($U$9,コード一覧表!$C$1789:$Y$1897,VLOOKUP(E139,コード一覧表!$AA$1789:$AB$1897,2,0)+1,0),HLOOKUP($U$9,コード一覧表!$C$2:$Y$1768,VLOOKUP(E139,コード一覧表!$AA$3:$AB$1768,2,0)+1,0))))","v":""},{"$f":"IF(F139=\"\",\"\",IF(OR(LEN(F139)<3,LEN(F139)>4),HLOOKUP($U$9,コード一覧表!$C$2:$Y$1768,VLOOKUP(F139,コード一覧表!$AA$3:$AB$1768,2,0)+1,0),IF(OR(CODE(MID(F139,2,1))=77,CODE(MID(F139,3,1))=77),HLOOKUP($U$9,コード一覧表!$C$1789:$Y$1897,VLOOKUP(F139,コード一覧表!$AA$1789:$AB$1897,2,0)+1,0),HLOOKUP($U$9,コード一覧表!$C$2:$Y$1768,VLOOKUP(F139,コード一覧表!$AA$3:$AB$1768,2,0)+1,0))))","v":""},{"$f":"IF(G139=\"\",\"\",IF(OR(LEN(G139)<3,LEN(G139)>4),HLOOKUP($U$9,コード一覧表!$C$2:$Y$1768,VLOOKUP(G139,コード一覧表!$AA$3:$AB$1768,2,0)+1,0),IF(OR(CODE(MID(G139,2,1))=77,CODE(MID(G139,3,1))=77),HLOOKUP($U$9,コード一覧表!$C$1789:$Y$1897,VLOOKUP(G139,コード一覧表!$AA$1789:$AB$1897,2,0)+1,0),HLOOKUP($U$9,コード一覧表!$C$2:$Y$1768,VLOOKUP(G139,コード一覧表!$AA$3:$AB$1768,2,0)+1,0))))","v":""},{"$f":"IF(H139=\"\",\"\",IF(OR(LEN(H139)<3,LEN(H139)>4),HLOOKUP($U$9,コード一覧表!$C$2:$Y$1768,VLOOKUP(H139,コード一覧表!$AA$3:$AB$1768,2,0)+1,0),IF(OR(CODE(MID(H139,2,1))=77,CODE(MID(H139,3,1))=77),HLOOKUP($U$9,コード一覧表!$C$1789:$Y$1897,VLOOKUP(H139,コード一覧表!$AA$1789:$AB$1897,2,0)+1,0),HLOOKUP($U$9,コード一覧表!$C$2:$Y$1768,VLOOKUP(H139,コード一覧表!$AA$3:$AB$1768,2,0)+1,0))))","v":""},{"$f":"IF(I139=\"\",\"\",IF(OR(LEN(I139)<3,LEN(I139)>4),HLOOKUP($U$9,コード一覧表!$C$2:$Y$1768,VLOOKUP(I139,コード一覧表!$AA$3:$AB$1768,2,0)+1,0),IF(OR(CODE(MID(I139,2,1))=77,CODE(MID(I139,3,1))=77),HLOOKUP($U$9,コード一覧表!$C$1789:$Y$1897,VLOOKUP(I139,コード一覧表!$AA$1789:$AB$1897,2,0)+1,0),HLOOKUP($U$9,コード一覧表!$C$2:$Y$1768,VLOOKUP(I139,コード一覧表!$AA$3:$AB$1768,2,0)+1,0))))","v":""},{"$f":"IF(J139=\"\",\"\",IF(OR(LEN(J139)<3,LEN(J139)>4),HLOOKUP($U$9,コード一覧表!$C$2:$Y$1768,VLOOKUP(J139,コード一覧表!$AA$3:$AB$1768,2,0)+1,0),IF(OR(CODE(MID(J139,2,1))=77,CODE(MID(J139,3,1))=77),HLOOKUP($U$9,コード一覧表!$C$1789:$Y$1897,VLOOKUP(J139,コード一覧表!$AA$1789:$AB$1897,2,0)+1,0),HLOOKUP($U$9,コード一覧表!$C$2:$Y$1768,VLOOKUP(J139,コード一覧表!$AA$3:$AB$1768,2,0)+1,0))))","v":""},{"$f":"IF(K139=\"\",\"\",IF(OR(LEN(K139)<3,LEN(K139)>4),HLOOKUP($U$9,コード一覧表!$C$2:$Y$1768,VLOOKUP(K139,コード一覧表!$AA$3:$AB$1768,2,0)+1,0),IF(OR(CODE(MID(K139,2,1))=77,CODE(MID(K139,3,1))=77),HLOOKUP($U$9,コード一覧表!$C$1789:$Y$1897,VLOOKUP(K139,コード一覧表!$AA$1789:$AB$1897,2,0)+1,0),HLOOKUP($U$9,コード一覧表!$C$2:$Y$1768,VLOOKUP(K139,コード一覧表!$AA$3:$AB$1768,2,0)+1,0))))","v":""},{"$f":"IF(L139=\"\",\"\",IF(OR(LEN(L139)<3,LEN(L139)>4),HLOOKUP($U$9,コード一覧表!$C$2:$Y$1768,VLOOKUP(L139,コード一覧表!$AA$3:$AB$1768,2,0)+1,0),IF(OR(CODE(MID(L139,2,1))=77,CODE(MID(L139,3,1))=77),HLOOKUP($U$9,コード一覧表!$C$1789:$Y$1897,VLOOKUP(L139,コード一覧表!$AA$1789:$AB$1897,2,0)+1,0),HLOOKUP($U$9,コード一覧表!$C$2:$Y$1768,VLOOKUP(L139,コード一覧表!$AA$3:$AB$1768,2,0)+1,0))))","v":""},{"$f":"IF(M139=\"\",\"\",IF(OR(LEN(M139)<3,LEN(M139)>4),HLOOKUP($U$9,コード一覧表!$C$2:$Y$1768,VLOOKUP(M139,コード一覧表!$AA$3:$AB$1768,2,0)+1,0),IF(OR(CODE(MID(M139,2,1))=77,CODE(MID(M139,3,1))=77),HLOOKUP($U$9,コード一覧表!$C$1789:$Y$1897,VLOOKUP(M139,コード一覧表!$AA$1789:$AB$1897,2,0)+1,0),HLOOKUP($U$9,コード一覧表!$C$2:$Y$1768,VLOOKUP(M139,コード一覧表!$AA$3:$AB$1768,2,0)+1,0))))","v":""},{"$f":"IF(N139=\"\",\"\",IF(OR(LEN(N139)<3,LEN(N139)>4),HLOOKUP($U$9,コード一覧表!$C$2:$Y$1768,VLOOKUP(N139,コード一覧表!$AA$3:$AB$1768,2,0)+1,0),IF(OR(CODE(MID(N139,2,1))=77,CODE(MID(N139,3,1))=77),HLOOKUP($U$9,コード一覧表!$C$1789:$Y$1897,VLOOKUP(N139,コード一覧表!$AA$1789:$AB$1897,2,0)+1,0),HLOOKUP($U$9,コード一覧表!$C$2:$Y$1768,VLOOKUP(N139,コード一覧表!$AA$3:$AB$1768,2,0)+1,0))))","v":""},{"$f":"IF(O139=\"\",\"\",IF(OR(LEN(O139)<3,LEN(O139)>4),HLOOKUP($U$9,コード一覧表!$C$2:$Y$1768,VLOOKUP(O139,コード一覧表!$AA$3:$AB$1768,2,0)+1,0),IF(OR(CODE(MID(O139,2,1))=77,CODE(MID(O139,3,1))=77),HLOOKUP($U$9,コード一覧表!$C$1789:$Y$1897,VLOOKUP(O139,コード一覧表!$AA$1789:$AB$1897,2,0)+1,0),HLOOKUP($U$9,コード一覧表!$C$2:$Y$1768,VLOOKUP(O139,コード一覧表!$AA$3:$AB$1768,2,0)+1,0))))","v":""},{"$f":"IF(P139=\"\",\"\",IF(OR(LEN(P139)<3,LEN(P139)>4),HLOOKUP($U$9,コード一覧表!$C$2:$Y$1768,VLOOKUP(P139,コード一覧表!$AA$3:$AB$1768,2,0)+1,0),IF(OR(CODE(MID(P139,2,1))=77,CODE(MID(P139,3,1))=77),HLOOKUP($U$9,コード一覧表!$C$1789:$Y$1897,VLOOKUP(P139,コード一覧表!$AA$1789:$AB$1897,2,0)+1,0),HLOOKUP($U$9,コード一覧表!$C$2:$Y$1768,VLOOKUP(P139,コード一覧表!$AA$3:$AB$1768,2,0)+1,0))))","v":""},{"$f":"IF(Q139=\"\",\"\",IF(OR(LEN(Q139)<3,LEN(Q139)>4),HLOOKUP($U$9,コード一覧表!$C$2:$Y$1768,VLOOKUP(Q139,コード一覧表!$AA$3:$AB$1768,2,0)+1,0),IF(OR(CODE(MID(Q139,2,1))=77,CODE(MID(Q139,3,1))=77),HLOOKUP($U$9,コード一覧表!$C$1789:$Y$1897,VLOOKUP(Q139,コード一覧表!$AA$1789:$AB$1897,2,0)+1,0),HLOOKUP($U$9,コード一覧表!$C$2:$Y$1768,VLOOKUP(Q139,コード一覧表!$AA$3:$AB$1768,2,0)+1,0))))","v":""}]
[]
[null,null,null,null,null,null,null,null,null,null,null,null,null,null,null,null,null,null,"入力行47"]
[null,{"$f":"IF(B142=\"\",\"\",IF(OR(LEN(B142)<3,LEN(B142)>4),HLOOKUP($U$9,コード一覧表!$C$2:$Y$1768,VLOOKUP(B142,コード一覧表!$AA$3:$AB$1768,2,0)+1,0),IF(OR(CODE(MID(B142,2,1))=77,CODE(MID(B142,3,1))=77),HLOOKUP($U$9,コード一覧表!$C$1789:$Y$1897,VLOOKUP(B142,コード一覧表!$AA$1789:$AB$1897,2,0)+1,0),HLOOKUP($U$9,コード一覧表!$C$2:$Y$1768,VLOOKUP(B142,コード一覧表!$AA$3:$AB$1768,2,0)+1,0))))","v":""},{"$f":"IF(C142=\"\",\"\",IF(OR(LEN(C142)<3,LEN(C142)>4),HLOOKUP($U$9,コード一覧表!$C$2:$Y$1768,VLOOKUP(C142,コード一覧表!$AA$3:$AB$1768,2,0)+1,0),IF(OR(CODE(MID(C142,2,1))=77,CODE(MID(C142,3,1))=77),HLOOKUP($U$9,コード一覧表!$C$1789:$Y$1897,VLOOKUP(C142,コード一覧表!$AA$1789:$AB$1897,2,0)+1,0),HLOOKUP($U$9,コード一覧表!$C$2:$Y$1768,VLOOKUP(C142,コード一覧表!$AA$3:$AB$1768,2,0)+1,0))))","v":""},{"$f":"IF(D142=\"\",\"\",IF(OR(LEN(D142)<3,LEN(D142)>4),HLOOKUP($U$9,コード一覧表!$C$2:$Y$1768,VLOOKUP(D142,コード一覧表!$AA$3:$AB$1768,2,0)+1,0),IF(OR(CODE(MID(D142,2,1))=77,CODE(MID(D142,3,1))=77),HLOOKUP($U$9,コード一覧表!$C$1789:$Y$1897,VLOOKUP(D142,コード一覧表!$AA$1789:$AB$1897,2,0)+1,0),HLOOKUP($U$9,コード一覧表!$C$2:$Y$1768,VLOOKUP(D142,コード一覧表!$AA$3:$AB$1768,2,0)+1,0))))","v":""},{"$f":"IF(E142=\"\",\"\",IF(OR(LEN(E142)<3,LEN(E142)>4),HLOOKUP($U$9,コード一覧表!$C$2:$Y$1768,VLOOKUP(E142,コード一覧表!$AA$3:$AB$1768,2,0)+1,0),IF(OR(CODE(MID(E142,2,1))=77,CODE(MID(E142,3,1))=77),HLOOKUP($U$9,コード一覧表!$C$1789:$Y$1897,VLOOKUP(E142,コード一覧表!$AA$1789:$AB$1897,2,0)+1,0),HLOOKUP($U$9,コード一覧表!$C$2:$Y$1768,VLOOKUP(E142,コード一覧表!$AA$3:$AB$1768,2,0)+1,0))))","v":""},{"$f":"IF(F142=\"\",\"\",IF(OR(LEN(F142)<3,LEN(F142)>4),HLOOKUP($U$9,コード一覧表!$C$2:$Y$1768,VLOOKUP(F142,コード一覧表!$AA$3:$AB$1768,2,0)+1,0),IF(OR(CODE(MID(F142,2,1))=77,CODE(MID(F142,3,1))=77),HLOOKUP($U$9,コード一覧表!$C$1789:$Y$1897,VLOOKUP(F142,コード一覧表!$AA$1789:$AB$1897,2,0)+1,0),HLOOKUP($U$9,コード一覧表!$C$2:$Y$1768,VLOOKUP(F142,コード一覧表!$AA$3:$AB$1768,2,0)+1,0))))","v":""},{"$f":"IF(G142=\"\",\"\",IF(OR(LEN(G142)<3,LEN(G142)>4),HLOOKUP($U$9,コード一覧表!$C$2:$Y$1768,VLOOKUP(G142,コード一覧表!$AA$3:$AB$1768,2,0)+1,0),IF(OR(CODE(MID(G142,2,1))=77,CODE(MID(G142,3,1))=77),HLOOKUP($U$9,コード一覧表!$C$1789:$Y$1897,VLOOKUP(G142,コード一覧表!$AA$1789:$AB$1897,2,0)+1,0),HLOOKUP($U$9,コード一覧表!$C$2:$Y$1768,VLOOKUP(G142,コード一覧表!$AA$3:$AB$1768,2,0)+1,0))))","v":""},{"$f":"IF(H142=\"\",\"\",IF(OR(LEN(H142)<3,LEN(H142)>4),HLOOKUP($U$9,コード一覧表!$C$2:$Y$1768,VLOOKUP(H142,コード一覧表!$AA$3:$AB$1768,2,0)+1,0),IF(OR(CODE(MID(H142,2,1))=77,CODE(MID(H142,3,1))=77),HLOOKUP($U$9,コード一覧表!$C$1789:$Y$1897,VLOOKUP(H142,コード一覧表!$AA$1789:$AB$1897,2,0)+1,0),HLOOKUP($U$9,コード一覧表!$C$2:$Y$1768,VLOOKUP(H142,コード一覧表!$AA$3:$AB$1768,2,0)+1,0))))","v":""},{"$f":"IF(I142=\"\",\"\",IF(OR(LEN(I142)<3,LEN(I142)>4),HLOOKUP($U$9,コード一覧表!$C$2:$Y$1768,VLOOKUP(I142,コード一覧表!$AA$3:$AB$1768,2,0)+1,0),IF(OR(CODE(MID(I142,2,1))=77,CODE(MID(I142,3,1))=77),HLOOKUP($U$9,コード一覧表!$C$1789:$Y$1897,VLOOKUP(I142,コード一覧表!$AA$1789:$AB$1897,2,0)+1,0),HLOOKUP($U$9,コード一覧表!$C$2:$Y$1768,VLOOKUP(I142,コード一覧表!$AA$3:$AB$1768,2,0)+1,0))))","v":""},{"$f":"IF(J142=\"\",\"\",IF(OR(LEN(J142)<3,LEN(J142)>4),HLOOKUP($U$9,コード一覧表!$C$2:$Y$1768,VLOOKUP(J142,コード一覧表!$AA$3:$AB$1768,2,0)+1,0),IF(OR(CODE(MID(J142,2,1))=77,CODE(MID(J142,3,1))=77),HLOOKUP($U$9,コード一覧表!$C$1789:$Y$1897,VLOOKUP(J142,コード一覧表!$AA$1789:$AB$1897,2,0)+1,0),HLOOKUP($U$9,コード一覧表!$C$2:$Y$1768,VLOOKUP(J142,コード一覧表!$AA$3:$AB$1768,2,0)+1,0))))","v":""},{"$f":"IF(K142=\"\",\"\",IF(OR(LEN(K142)<3,LEN(K142)>4),HLOOKUP($U$9,コード一覧表!$C$2:$Y$1768,VLOOKUP(K142,コード一覧表!$AA$3:$AB$1768,2,0)+1,0),IF(OR(CODE(MID(K142,2,1))=77,CODE(MID(K142,3,1))=77),HLOOKUP($U$9,コード一覧表!$C$1789:$Y$1897,VLOOKUP(K142,コード一覧表!$AA$1789:$AB$1897,2,0)+1,0),HLOOKUP($U$9,コード一覧表!$C$2:$Y$1768,VLOOKUP(K142,コード一覧表!$AA$3:$AB$1768,2,0)+1,0))))","v":""},{"$f":"IF(L142=\"\",\"\",IF(OR(LEN(L142)<3,LEN(L142)>4),HLOOKUP($U$9,コード一覧表!$C$2:$Y$1768,VLOOKUP(L142,コード一覧表!$AA$3:$AB$1768,2,0)+1,0),IF(OR(CODE(MID(L142,2,1))=77,CODE(MID(L142,3,1))=77),HLOOKUP($U$9,コード一覧表!$C$1789:$Y$1897,VLOOKUP(L142,コード一覧表!$AA$1789:$AB$1897,2,0)+1,0),HLOOKUP($U$9,コード一覧表!$C$2:$Y$1768,VLOOKUP(L142,コード一覧表!$AA$3:$AB$1768,2,0)+1,0))))","v":""},{"$f":"IF(M142=\"\",\"\",IF(OR(LEN(M142)<3,LEN(M142)>4),HLOOKUP($U$9,コード一覧表!$C$2:$Y$1768,VLOOKUP(M142,コード一覧表!$AA$3:$AB$1768,2,0)+1,0),IF(OR(CODE(MID(M142,2,1))=77,CODE(MID(M142,3,1))=77),HLOOKUP($U$9,コード一覧表!$C$1789:$Y$1897,VLOOKUP(M142,コード一覧表!$AA$1789:$AB$1897,2,0)+1,0),HLOOKUP($U$9,コード一覧表!$C$2:$Y$1768,VLOOKUP(M142,コード一覧表!$AA$3:$AB$1768,2,0)+1,0))))","v":""},{"$f":"IF(N142=\"\",\"\",IF(OR(LEN(N142)<3,LEN(N142)>4),HLOOKUP($U$9,コード一覧表!$C$2:$Y$1768,VLOOKUP(N142,コード一覧表!$AA$3:$AB$1768,2,0)+1,0),IF(OR(CODE(MID(N142,2,1))=77,CODE(MID(N142,3,1))=77),HLOOKUP($U$9,コード一覧表!$C$1789:$Y$1897,VLOOKUP(N142,コード一覧表!$AA$1789:$AB$1897,2,0)+1,0),HLOOKUP($U$9,コード一覧表!$C$2:$Y$1768,VLOOKUP(N142,コード一覧表!$AA$3:$AB$1768,2,0)+1,0))))","v":""},{"$f":"IF(O142=\"\",\"\",IF(OR(LEN(O142)<3,LEN(O142)>4),HLOOKUP($U$9,コード一覧表!$C$2:$Y$1768,VLOOKUP(O142,コード一覧表!$AA$3:$AB$1768,2,0)+1,0),IF(OR(CODE(MID(O142,2,1))=77,CODE(MID(O142,3,1))=77),HLOOKUP($U$9,コード一覧表!$C$1789:$Y$1897,VLOOKUP(O142,コード一覧表!$AA$1789:$AB$1897,2,0)+1,0),HLOOKUP($U$9,コード一覧表!$C$2:$Y$1768,VLOOKUP(O142,コード一覧表!$AA$3:$AB$1768,2,0)+1,0))))","v":""},{"$f":"IF(P142=\"\",\"\",IF(OR(LEN(P142)<3,LEN(P142)>4),HLOOKUP($U$9,コード一覧表!$C$2:$Y$1768,VLOOKUP(P142,コード一覧表!$AA$3:$AB$1768,2,0)+1,0),IF(OR(CODE(MID(P142,2,1))=77,CODE(MID(P142,3,1))=77),HLOOKUP($U$9,コード一覧表!$C$1789:$Y$1897,VLOOKUP(P142,コード一覧表!$AA$1789:$AB$1897,2,0)+1,0),HLOOKUP($U$9,コード一覧表!$C$2:$Y$1768,VLOOKUP(P142,コード一覧表!$AA$3:$AB$1768,2,0)+1,0))))","v":""},{"$f":"IF(Q142=\"\",\"\",IF(OR(LEN(Q142)<3,LEN(Q142)>4),HLOOKUP($U$9,コード一覧表!$C$2:$Y$1768,VLOOKUP(Q142,コード一覧表!$AA$3:$AB$1768,2,0)+1,0),IF(OR(CODE(MID(Q142,2,1))=77,CODE(MID(Q142,3,1))=77),HLOOKUP($U$9,コード一覧表!$C$1789:$Y$1897,VLOOKUP(Q142,コード一覧表!$AA$1789:$AB$1897,2,0)+1,0),HLOOKUP($U$9,コード一覧表!$C$2:$Y$1768,VLOOKUP(Q142,コード一覧表!$AA$3:$AB$1768,2,0)+1,0))))","v":""}]
[]
[null,null,null,null,null,null,null,null,null,null,null,null,null,null,null,null,null,null,"入力行48"]
[null,{"$f":"IF(B145=\"\",\"\",IF(OR(LEN(B145)<3,LEN(B145)>4),HLOOKUP($U$9,コード一覧表!$C$2:$Y$1768,VLOOKUP(B145,コード一覧表!$AA$3:$AB$1768,2,0)+1,0),IF(OR(CODE(MID(B145,2,1))=77,CODE(MID(B145,3,1))=77),HLOOKUP($U$9,コード一覧表!$C$1789:$Y$1897,VLOOKUP(B145,コード一覧表!$AA$1789:$AB$1897,2,0)+1,0),HLOOKUP($U$9,コード一覧表!$C$2:$Y$1768,VLOOKUP(B145,コード一覧表!$AA$3:$AB$1768,2,0)+1,0))))","v":""},{"$f":"IF(C145=\"\",\"\",IF(OR(LEN(C145)<3,LEN(C145)>4),HLOOKUP($U$9,コード一覧表!$C$2:$Y$1768,VLOOKUP(C145,コード一覧表!$AA$3:$AB$1768,2,0)+1,0),IF(OR(CODE(MID(C145,2,1))=77,CODE(MID(C145,3,1))=77),HLOOKUP($U$9,コード一覧表!$C$1789:$Y$1897,VLOOKUP(C145,コード一覧表!$AA$1789:$AB$1897,2,0)+1,0),HLOOKUP($U$9,コード一覧表!$C$2:$Y$1768,VLOOKUP(C145,コード一覧表!$AA$3:$AB$1768,2,0)+1,0))))","v":""},{"$f":"IF(D145=\"\",\"\",IF(OR(LEN(D145)<3,LEN(D145)>4),HLOOKUP($U$9,コード一覧表!$C$2:$Y$1768,VLOOKUP(D145,コード一覧表!$AA$3:$AB$1768,2,0)+1,0),IF(OR(CODE(MID(D145,2,1))=77,CODE(MID(D145,3,1))=77),HLOOKUP($U$9,コード一覧表!$C$1789:$Y$1897,VLOOKUP(D145,コード一覧表!$AA$1789:$AB$1897,2,0)+1,0),HLOOKUP($U$9,コード一覧表!$C$2:$Y$1768,VLOOKUP(D145,コード一覧表!$AA$3:$AB$1768,2,0)+1,0))))","v":""},{"$f":"IF(E145=\"\",\"\",IF(OR(LEN(E145)<3,LEN(E145)>4),HLOOKUP($U$9,コード一覧表!$C$2:$Y$1768,VLOOKUP(E145,コード一覧表!$AA$3:$AB$1768,2,0)+1,0),IF(OR(CODE(MID(E145,2,1))=77,CODE(MID(E145,3,1))=77),HLOOKUP($U$9,コード一覧表!$C$1789:$Y$1897,VLOOKUP(E145,コード一覧表!$AA$1789:$AB$1897,2,0)+1,0),HLOOKUP($U$9,コード一覧表!$C$2:$Y$1768,VLOOKUP(E145,コード一覧表!$AA$3:$AB$1768,2,0)+1,0))))","v":""},{"$f":"IF(F145=\"\",\"\",IF(OR(LEN(F145)<3,LEN(F145)>4),HLOOKUP($U$9,コード一覧表!$C$2:$Y$1768,VLOOKUP(F145,コード一覧表!$AA$3:$AB$1768,2,0)+1,0),IF(OR(CODE(MID(F145,2,1))=77,CODE(MID(F145,3,1))=77),HLOOKUP($U$9,コード一覧表!$C$1789:$Y$1897,VLOOKUP(F145,コード一覧表!$AA$1789:$AB$1897,2,0)+1,0),HLOOKUP($U$9,コード一覧表!$C$2:$Y$1768,VLOOKUP(F145,コード一覧表!$AA$3:$AB$1768,2,0)+1,0))))","v":""},{"$f":"IF(G145=\"\",\"\",IF(OR(LEN(G145)<3,LEN(G145)>4),HLOOKUP($U$9,コード一覧表!$C$2:$Y$1768,VLOOKUP(G145,コード一覧表!$AA$3:$AB$1768,2,0)+1,0),IF(OR(CODE(MID(G145,2,1))=77,CODE(MID(G145,3,1))=77),HLOOKUP($U$9,コード一覧表!$C$1789:$Y$1897,VLOOKUP(G145,コード一覧表!$AA$1789:$AB$1897,2,0)+1,0),HLOOKUP($U$9,コード一覧表!$C$2:$Y$1768,VLOOKUP(G145,コード一覧表!$AA$3:$AB$1768,2,0)+1,0))))","v":""},{"$f":"IF(H145=\"\",\"\",IF(OR(LEN(H145)<3,LEN(H145)>4),HLOOKUP($U$9,コード一覧表!$C$2:$Y$1768,VLOOKUP(H145,コード一覧表!$AA$3:$AB$1768,2,0)+1,0),IF(OR(CODE(MID(H145,2,1))=77,CODE(MID(H145,3,1))=77),HLOOKUP($U$9,コード一覧表!$C$1789:$Y$1897,VLOOKUP(H145,コード一覧表!$AA$1789:$AB$1897,2,0)+1,0),HLOOKUP($U$9,コード一覧表!$C$2:$Y$1768,VLOOKUP(H145,コード一覧表!$AA$3:$AB$1768,2,0)+1,0))))","v":""},{"$f":"IF(I145=\"\",\"\",IF(OR(LEN(I145)<3,LEN(I145)>4),HLOOKUP($U$9,コード一覧表!$C$2:$Y$1768,VLOOKUP(I145,コード一覧表!$AA$3:$AB$1768,2,0)+1,0),IF(OR(CODE(MID(I145,2,1))=77,CODE(MID(I145,3,1))=77),HLOOKUP($U$9,コード一覧表!$C$1789:$Y$1897,VLOOKUP(I145,コード一覧表!$AA$1789:$AB$1897,2,0)+1,0),HLOOKUP($U$9,コード一覧表!$C$2:$Y$1768,VLOOKUP(I145,コード一覧表!$AA$3:$AB$1768,2,0)+1,0))))","v":""},{"$f":"IF(J145=\"\",\"\",IF(OR(LEN(J145)<3,LEN(J145)>4),HLOOKUP($U$9,コード一覧表!$C$2:$Y$1768,VLOOKUP(J145,コード一覧表!$AA$3:$AB$1768,2,0)+1,0),IF(OR(CODE(MID(J145,2,1))=77,CODE(MID(J145,3,1))=77),HLOOKUP($U$9,コード一覧表!$C$1789:$Y$1897,VLOOKUP(J145,コード一覧表!$AA$1789:$AB$1897,2,0)+1,0),HLOOKUP($U$9,コード一覧表!$C$2:$Y$1768,VLOOKUP(J145,コード一覧表!$AA$3:$AB$1768,2,0)+1,0))))","v":""},{"$f":"IF(K145=\"\",\"\",IF(OR(LEN(K145)<3,LEN(K145)>4),HLOOKUP($U$9,コード一覧表!$C$2:$Y$1768,VLOOKUP(K145,コード一覧表!$AA$3:$AB$1768,2,0)+1,0),IF(OR(CODE(MID(K145,2,1))=77,CODE(MID(K145,3,1))=77),HLOOKUP($U$9,コード一覧表!$C$1789:$Y$1897,VLOOKUP(K145,コード一覧表!$AA$1789:$AB$1897,2,0)+1,0),HLOOKUP($U$9,コード一覧表!$C$2:$Y$1768,VLOOKUP(K145,コード一覧表!$AA$3:$AB$1768,2,0)+1,0))))","v":""},{"$f":"IF(L145=\"\",\"\",IF(OR(LEN(L145)<3,LEN(L145)>4),HLOOKUP($U$9,コード一覧表!$C$2:$Y$1768,VLOOKUP(L145,コード一覧表!$AA$3:$AB$1768,2,0)+1,0),IF(OR(CODE(MID(L145,2,1))=77,CODE(MID(L145,3,1))=77),HLOOKUP($U$9,コード一覧表!$C$1789:$Y$1897,VLOOKUP(L145,コード一覧表!$AA$1789:$AB$1897,2,0)+1,0),HLOOKUP($U$9,コード一覧表!$C$2:$Y$1768,VLOOKUP(L145,コード一覧表!$AA$3:$AB$1768,2,0)+1,0))))","v":""},{"$f":"IF(M145=\"\",\"\",IF(OR(LEN(M145)<3,LEN(M145)>4),HLOOKUP($U$9,コード一覧表!$C$2:$Y$1768,VLOOKUP(M145,コード一覧表!$AA$3:$AB$1768,2,0)+1,0),IF(OR(CODE(MID(M145,2,1))=77,CODE(MID(M145,3,1))=77),HLOOKUP($U$9,コード一覧表!$C$1789:$Y$1897,VLOOKUP(M145,コード一覧表!$AA$1789:$AB$1897,2,0)+1,0),HLOOKUP($U$9,コード一覧表!$C$2:$Y$1768,VLOOKUP(M145,コード一覧表!$AA$3:$AB$1768,2,0)+1,0))))","v":""},{"$f":"IF(N145=\"\",\"\",IF(OR(LEN(N145)<3,LEN(N145)>4),HLOOKUP($U$9,コード一覧表!$C$2:$Y$1768,VLOOKUP(N145,コード一覧表!$AA$3:$AB$1768,2,0)+1,0),IF(OR(CODE(MID(N145,2,1))=77,CODE(MID(N145,3,1))=77),HLOOKUP($U$9,コード一覧表!$C$1789:$Y$1897,VLOOKUP(N145,コード一覧表!$AA$1789:$AB$1897,2,0)+1,0),HLOOKUP($U$9,コード一覧表!$C$2:$Y$1768,VLOOKUP(N145,コード一覧表!$AA$3:$AB$1768,2,0)+1,0))))","v":""},{"$f":"IF(O145=\"\",\"\",IF(OR(LEN(O145)<3,LEN(O145)>4),HLOOKUP($U$9,コード一覧表!$C$2:$Y$1768,VLOOKUP(O145,コード一覧表!$AA$3:$AB$1768,2,0)+1,0),IF(OR(CODE(MID(O145,2,1))=77,CODE(MID(O145,3,1))=77),HLOOKUP($U$9,コード一覧表!$C$1789:$Y$1897,VLOOKUP(O145,コード一覧表!$AA$1789:$AB$1897,2,0)+1,0),HLOOKUP($U$9,コード一覧表!$C$2:$Y$1768,VLOOKUP(O145,コード一覧表!$AA$3:$AB$1768,2,0)+1,0))))","v":""},{"$f":"IF(P145=\"\",\"\",IF(OR(LEN(P145)<3,LEN(P145)>4),HLOOKUP($U$9,コード一覧表!$C$2:$Y$1768,VLOOKUP(P145,コード一覧表!$AA$3:$AB$1768,2,0)+1,0),IF(OR(CODE(MID(P145,2,1))=77,CODE(MID(P145,3,1))=77),HLOOKUP($U$9,コード一覧表!$C$1789:$Y$1897,VLOOKUP(P145,コード一覧表!$AA$1789:$AB$1897,2,0)+1,0),HLOOKUP($U$9,コード一覧表!$C$2:$Y$1768,VLOOKUP(P145,コード一覧表!$AA$3:$AB$1768,2,0)+1,0))))","v":""},{"$f":"IF(Q145=\"\",\"\",IF(OR(LEN(Q145)<3,LEN(Q145)>4),HLOOKUP($U$9,コード一覧表!$C$2:$Y$1768,VLOOKUP(Q145,コード一覧表!$AA$3:$AB$1768,2,0)+1,0),IF(OR(CODE(MID(Q145,2,1))=77,CODE(MID(Q145,3,1))=77),HLOOKUP($U$9,コード一覧表!$C$1789:$Y$1897,VLOOKUP(Q145,コード一覧表!$AA$1789:$AB$1897,2,0)+1,0),HLOOKUP($U$9,コード一覧表!$C$2:$Y$1768,VLOOKUP(Q145,コード一覧表!$AA$3:$AB$1768,2,0)+1,0))))","v":""}]
[]
[null,null,null,null,null,null,null,null,null,null,null,null,null,null,null,null,null,null,"入力行49"]
[null,{"$f":"IF(B148=\"\",\"\",IF(OR(LEN(B148)<3,LEN(B148)>4),HLOOKUP($U$9,コード一覧表!$C$2:$Y$1768,VLOOKUP(B148,コード一覧表!$AA$3:$AB$1768,2,0)+1,0),IF(OR(CODE(MID(B148,2,1))=77,CODE(MID(B148,3,1))=77),HLOOKUP($U$9,コード一覧表!$C$1789:$Y$1897,VLOOKUP(B148,コード一覧表!$AA$1789:$AB$1897,2,0)+1,0),HLOOKUP($U$9,コード一覧表!$C$2:$Y$1768,VLOOKUP(B148,コード一覧表!$AA$3:$AB$1768,2,0)+1,0))))","v":""},{"$f":"IF(C148=\"\",\"\",IF(OR(LEN(C148)<3,LEN(C148)>4),HLOOKUP($U$9,コード一覧表!$C$2:$Y$1768,VLOOKUP(C148,コード一覧表!$AA$3:$AB$1768,2,0)+1,0),IF(OR(CODE(MID(C148,2,1))=77,CODE(MID(C148,3,1))=77),HLOOKUP($U$9,コード一覧表!$C$1789:$Y$1897,VLOOKUP(C148,コード一覧表!$AA$1789:$AB$1897,2,0)+1,0),HLOOKUP($U$9,コード一覧表!$C$2:$Y$1768,VLOOKUP(C148,コード一覧表!$AA$3:$AB$1768,2,0)+1,0))))","v":""},{"$f":"IF(D148=\"\",\"\",IF(OR(LEN(D148)<3,LEN(D148)>4),HLOOKUP($U$9,コード一覧表!$C$2:$Y$1768,VLOOKUP(D148,コード一覧表!$AA$3:$AB$1768,2,0)+1,0),IF(OR(CODE(MID(D148,2,1))=77,CODE(MID(D148,3,1))=77),HLOOKUP($U$9,コード一覧表!$C$1789:$Y$1897,VLOOKUP(D148,コード一覧表!$AA$1789:$AB$1897,2,0)+1,0),HLOOKUP($U$9,コード一覧表!$C$2:$Y$1768,VLOOKUP(D148,コード一覧表!$AA$3:$AB$1768,2,0)+1,0))))","v":""},{"$f":"IF(E148=\"\",\"\",IF(OR(LEN(E148)<3,LEN(E148)>4),HLOOKUP($U$9,コード一覧表!$C$2:$Y$1768,VLOOKUP(E148,コード一覧表!$AA$3:$AB$1768,2,0)+1,0),IF(OR(CODE(MID(E148,2,1))=77,CODE(MID(E148,3,1))=77),HLOOKUP($U$9,コード一覧表!$C$1789:$Y$1897,VLOOKUP(E148,コード一覧表!$AA$1789:$AB$1897,2,0)+1,0),HLOOKUP($U$9,コード一覧表!$C$2:$Y$1768,VLOOKUP(E148,コード一覧表!$AA$3:$AB$1768,2,0)+1,0))))","v":""},{"$f":"IF(F148=\"\",\"\",IF(OR(LEN(F148)<3,LEN(F148)>4),HLOOKUP($U$9,コード一覧表!$C$2:$Y$1768,VLOOKUP(F148,コード一覧表!$AA$3:$AB$1768,2,0)+1,0),IF(OR(CODE(MID(F148,2,1))=77,CODE(MID(F148,3,1))=77),HLOOKUP($U$9,コード一覧表!$C$1789:$Y$1897,VLOOKUP(F148,コード一覧表!$AA$1789:$AB$1897,2,0)+1,0),HLOOKUP($U$9,コード一覧表!$C$2:$Y$1768,VLOOKUP(F148,コード一覧表!$AA$3:$AB$1768,2,0)+1,0))))","v":""},{"$f":"IF(G148=\"\",\"\",IF(OR(LEN(G148)<3,LEN(G148)>4),HLOOKUP($U$9,コード一覧表!$C$2:$Y$1768,VLOOKUP(G148,コード一覧表!$AA$3:$AB$1768,2,0)+1,0),IF(OR(CODE(MID(G148,2,1))=77,CODE(MID(G148,3,1))=77),HLOOKUP($U$9,コード一覧表!$C$1789:$Y$1897,VLOOKUP(G148,コード一覧表!$AA$1789:$AB$1897,2,0)+1,0),HLOOKUP($U$9,コード一覧表!$C$2:$Y$1768,VLOOKUP(G148,コード一覧表!$AA$3:$AB$1768,2,0)+1,0))))","v":""},{"$f":"IF(H148=\"\",\"\",IF(OR(LEN(H148)<3,LEN(H148)>4),HLOOKUP($U$9,コード一覧表!$C$2:$Y$1768,VLOOKUP(H148,コード一覧表!$AA$3:$AB$1768,2,0)+1,0),IF(OR(CODE(MID(H148,2,1))=77,CODE(MID(H148,3,1))=77),HLOOKUP($U$9,コード一覧表!$C$1789:$Y$1897,VLOOKUP(H148,コード一覧表!$AA$1789:$AB$1897,2,0)+1,0),HLOOKUP($U$9,コード一覧表!$C$2:$Y$1768,VLOOKUP(H148,コード一覧表!$AA$3:$AB$1768,2,0)+1,0))))","v":""},{"$f":"IF(I148=\"\",\"\",IF(OR(LEN(I148)<3,LEN(I148)>4),HLOOKUP($U$9,コード一覧表!$C$2:$Y$1768,VLOOKUP(I148,コード一覧表!$AA$3:$AB$1768,2,0)+1,0),IF(OR(CODE(MID(I148,2,1))=77,CODE(MID(I148,3,1))=77),HLOOKUP($U$9,コード一覧表!$C$1789:$Y$1897,VLOOKUP(I148,コード一覧表!$AA$1789:$AB$1897,2,0)+1,0),HLOOKUP($U$9,コード一覧表!$C$2:$Y$1768,VLOOKUP(I148,コード一覧表!$AA$3:$AB$1768,2,0)+1,0))))","v":""},{"$f":"IF(J148=\"\",\"\",IF(OR(LEN(J148)<3,LEN(J148)>4),HLOOKUP($U$9,コード一覧表!$C$2:$Y$1768,VLOOKUP(J148,コード一覧表!$AA$3:$AB$1768,2,0)+1,0),IF(OR(CODE(MID(J148,2,1))=77,CODE(MID(J148,3,1))=77),HLOOKUP($U$9,コード一覧表!$C$1789:$Y$1897,VLOOKUP(J148,コード一覧表!$AA$1789:$AB$1897,2,0)+1,0),HLOOKUP($U$9,コード一覧表!$C$2:$Y$1768,VLOOKUP(J148,コード一覧表!$AA$3:$AB$1768,2,0)+1,0))))","v":""},{"$f":"IF(K148=\"\",\"\",IF(OR(LEN(K148)<3,LEN(K148)>4),HLOOKUP($U$9,コード一覧表!$C$2:$Y$1768,VLOOKUP(K148,コード一覧表!$AA$3:$AB$1768,2,0)+1,0),IF(OR(CODE(MID(K148,2,1))=77,CODE(MID(K148,3,1))=77),HLOOKUP($U$9,コード一覧表!$C$1789:$Y$1897,VLOOKUP(K148,コード一覧表!$AA$1789:$AB$1897,2,0)+1,0),HLOOKUP($U$9,コード一覧表!$C$2:$Y$1768,VLOOKUP(K148,コード一覧表!$AA$3:$AB$1768,2,0)+1,0))))","v":""},{"$f":"IF(L148=\"\",\"\",IF(OR(LEN(L148)<3,LEN(L148)>4),HLOOKUP($U$9,コード一覧表!$C$2:$Y$1768,VLOOKUP(L148,コード一覧表!$AA$3:$AB$1768,2,0)+1,0),IF(OR(CODE(MID(L148,2,1))=77,CODE(MID(L148,3,1))=77),HLOOKUP($U$9,コード一覧表!$C$1789:$Y$1897,VLOOKUP(L148,コード一覧表!$AA$1789:$AB$1897,2,0)+1,0),HLOOKUP($U$9,コード一覧表!$C$2:$Y$1768,VLOOKUP(L148,コード一覧表!$AA$3:$AB$1768,2,0)+1,0))))","v":""},{"$f":"IF(M148=\"\",\"\",IF(OR(LEN(M148)<3,LEN(M148)>4),HLOOKUP($U$9,コード一覧表!$C$2:$Y$1768,VLOOKUP(M148,コード一覧表!$AA$3:$AB$1768,2,0)+1,0),IF(OR(CODE(MID(M148,2,1))=77,CODE(MID(M148,3,1))=77),HLOOKUP($U$9,コード一覧表!$C$1789:$Y$1897,VLOOKUP(M148,コード一覧表!$AA$1789:$AB$1897,2,0)+1,0),HLOOKUP($U$9,コード一覧表!$C$2:$Y$1768,VLOOKUP(M148,コード一覧表!$AA$3:$AB$1768,2,0)+1,0))))","v":""},{"$f":"IF(N148=\"\",\"\",IF(OR(LEN(N148)<3,LEN(N148)>4),HLOOKUP($U$9,コード一覧表!$C$2:$Y$1768,VLOOKUP(N148,コード一覧表!$AA$3:$AB$1768,2,0)+1,0),IF(OR(CODE(MID(N148,2,1))=77,CODE(MID(N148,3,1))=77),HLOOKUP($U$9,コード一覧表!$C$1789:$Y$1897,VLOOKUP(N148,コード一覧表!$AA$1789:$AB$1897,2,0)+1,0),HLOOKUP($U$9,コード一覧表!$C$2:$Y$1768,VLOOKUP(N148,コード一覧表!$AA$3:$AB$1768,2,0)+1,0))))","v":""},{"$f":"IF(O148=\"\",\"\",IF(OR(LEN(O148)<3,LEN(O148)>4),HLOOKUP($U$9,コード一覧表!$C$2:$Y$1768,VLOOKUP(O148,コード一覧表!$AA$3:$AB$1768,2,0)+1,0),IF(OR(CODE(MID(O148,2,1))=77,CODE(MID(O148,3,1))=77),HLOOKUP($U$9,コード一覧表!$C$1789:$Y$1897,VLOOKUP(O148,コード一覧表!$AA$1789:$AB$1897,2,0)+1,0),HLOOKUP($U$9,コード一覧表!$C$2:$Y$1768,VLOOKUP(O148,コード一覧表!$AA$3:$AB$1768,2,0)+1,0))))","v":""},{"$f":"IF(P148=\"\",\"\",IF(OR(LEN(P148)<3,LEN(P148)>4),HLOOKUP($U$9,コード一覧表!$C$2:$Y$1768,VLOOKUP(P148,コード一覧表!$AA$3:$AB$1768,2,0)+1,0),IF(OR(CODE(MID(P148,2,1))=77,CODE(MID(P148,3,1))=77),HLOOKUP($U$9,コード一覧表!$C$1789:$Y$1897,VLOOKUP(P148,コード一覧表!$AA$1789:$AB$1897,2,0)+1,0),HLOOKUP($U$9,コード一覧表!$C$2:$Y$1768,VLOOKUP(P148,コード一覧表!$AA$3:$AB$1768,2,0)+1,0))))","v":""},{"$f":"IF(Q148=\"\",\"\",IF(OR(LEN(Q148)<3,LEN(Q148)>4),HLOOKUP($U$9,コード一覧表!$C$2:$Y$1768,VLOOKUP(Q148,コード一覧表!$AA$3:$AB$1768,2,0)+1,0),IF(OR(CODE(MID(Q148,2,1))=77,CODE(MID(Q148,3,1))=77),HLOOKUP($U$9,コード一覧表!$C$1789:$Y$1897,VLOOKUP(Q148,コード一覧表!$AA$1789:$AB$1897,2,0)+1,0),HLOOKUP($U$9,コード一覧表!$C$2:$Y$1768,VLOOKUP(Q148,コード一覧表!$AA$3:$AB$1768,2,0)+1,0))))","v":""}]
[]
[null,null,null,null,null,null,null,null,null,null,null,null,null,null,null,null,null,null,"入力行50"]
[null,{"$f":"IF(B151=\"\",\"\",IF(OR(LEN(B151)<3,LEN(B151)>4),HLOOKUP($U$9,コード一覧表!$C$2:$Y$1768,VLOOKUP(B151,コード一覧表!$AA$3:$AB$1768,2,0)+1,0),IF(OR(CODE(MID(B151,2,1))=77,CODE(MID(B151,3,1))=77),HLOOKUP($U$9,コード一覧表!$C$1789:$Y$1897,VLOOKUP(B151,コード一覧表!$AA$1789:$AB$1897,2,0)+1,0),HLOOKUP($U$9,コード一覧表!$C$2:$Y$1768,VLOOKUP(B151,コード一覧表!$AA$3:$AB$1768,2,0)+1,0))))","v":""},{"$f":"IF(C151=\"\",\"\",IF(OR(LEN(C151)<3,LEN(C151)>4),HLOOKUP($U$9,コード一覧表!$C$2:$Y$1768,VLOOKUP(C151,コード一覧表!$AA$3:$AB$1768,2,0)+1,0),IF(OR(CODE(MID(C151,2,1))=77,CODE(MID(C151,3,1))=77),HLOOKUP($U$9,コード一覧表!$C$1789:$Y$1897,VLOOKUP(C151,コード一覧表!$AA$1789:$AB$1897,2,0)+1,0),HLOOKUP($U$9,コード一覧表!$C$2:$Y$1768,VLOOKUP(C151,コード一覧表!$AA$3:$AB$1768,2,0)+1,0))))","v":""},{"$f":"IF(D151=\"\",\"\",IF(OR(LEN(D151)<3,LEN(D151)>4),HLOOKUP($U$9,コード一覧表!$C$2:$Y$1768,VLOOKUP(D151,コード一覧表!$AA$3:$AB$1768,2,0)+1,0),IF(OR(CODE(MID(D151,2,1))=77,CODE(MID(D151,3,1))=77),HLOOKUP($U$9,コード一覧表!$C$1789:$Y$1897,VLOOKUP(D151,コード一覧表!$AA$1789:$AB$1897,2,0)+1,0),HLOOKUP($U$9,コード一覧表!$C$2:$Y$1768,VLOOKUP(D151,コード一覧表!$AA$3:$AB$1768,2,0)+1,0))))","v":""},{"$f":"IF(E151=\"\",\"\",IF(OR(LEN(E151)<3,LEN(E151)>4),HLOOKUP($U$9,コード一覧表!$C$2:$Y$1768,VLOOKUP(E151,コード一覧表!$AA$3:$AB$1768,2,0)+1,0),IF(OR(CODE(MID(E151,2,1))=77,CODE(MID(E151,3,1))=77),HLOOKUP($U$9,コード一覧表!$C$1789:$Y$1897,VLOOKUP(E151,コード一覧表!$AA$1789:$AB$1897,2,0)+1,0),HLOOKUP($U$9,コード一覧表!$C$2:$Y$1768,VLOOKUP(E151,コード一覧表!$AA$3:$AB$1768,2,0)+1,0))))","v":""},{"$f":"IF(F151=\"\",\"\",IF(OR(LEN(F151)<3,LEN(F151)>4),HLOOKUP($U$9,コード一覧表!$C$2:$Y$1768,VLOOKUP(F151,コード一覧表!$AA$3:$AB$1768,2,0)+1,0),IF(OR(CODE(MID(F151,2,1))=77,CODE(MID(F151,3,1))=77),HLOOKUP($U$9,コード一覧表!$C$1789:$Y$1897,VLOOKUP(F151,コード一覧表!$AA$1789:$AB$1897,2,0)+1,0),HLOOKUP($U$9,コード一覧表!$C$2:$Y$1768,VLOOKUP(F151,コード一覧表!$AA$3:$AB$1768,2,0)+1,0))))","v":""},{"$f":"IF(G151=\"\",\"\",IF(OR(LEN(G151)<3,LEN(G151)>4),HLOOKUP($U$9,コード一覧表!$C$2:$Y$1768,VLOOKUP(G151,コード一覧表!$AA$3:$AB$1768,2,0)+1,0),IF(OR(CODE(MID(G151,2,1))=77,CODE(MID(G151,3,1))=77),HLOOKUP($U$9,コード一覧表!$C$1789:$Y$1897,VLOOKUP(G151,コード一覧表!$AA$1789:$AB$1897,2,0)+1,0),HLOOKUP($U$9,コード一覧表!$C$2:$Y$1768,VLOOKUP(G151,コード一覧表!$AA$3:$AB$1768,2,0)+1,0))))","v":""},{"$f":"IF(H151=\"\",\"\",IF(OR(LEN(H151)<3,LEN(H151)>4),HLOOKUP($U$9,コード一覧表!$C$2:$Y$1768,VLOOKUP(H151,コード一覧表!$AA$3:$AB$1768,2,0)+1,0),IF(OR(CODE(MID(H151,2,1))=77,CODE(MID(H151,3,1))=77),HLOOKUP($U$9,コード一覧表!$C$1789:$Y$1897,VLOOKUP(H151,コード一覧表!$AA$1789:$AB$1897,2,0)+1,0),HLOOKUP($U$9,コード一覧表!$C$2:$Y$1768,VLOOKUP(H151,コード一覧表!$AA$3:$AB$1768,2,0)+1,0))))","v":""},{"$f":"IF(I151=\"\",\"\",IF(OR(LEN(I151)<3,LEN(I151)>4),HLOOKUP($U$9,コード一覧表!$C$2:$Y$1768,VLOOKUP(I151,コード一覧表!$AA$3:$AB$1768,2,0)+1,0),IF(OR(CODE(MID(I151,2,1))=77,CODE(MID(I151,3,1))=77),HLOOKUP($U$9,コード一覧表!$C$1789:$Y$1897,VLOOKUP(I151,コード一覧表!$AA$1789:$AB$1897,2,0)+1,0),HLOOKUP($U$9,コード一覧表!$C$2:$Y$1768,VLOOKUP(I151,コード一覧表!$AA$3:$AB$1768,2,0)+1,0))))","v":""},{"$f":"IF(J151=\"\",\"\",IF(OR(LEN(J151)<3,LEN(J151)>4),HLOOKUP($U$9,コード一覧表!$C$2:$Y$1768,VLOOKUP(J151,コード一覧表!$AA$3:$AB$1768,2,0)+1,0),IF(OR(CODE(MID(J151,2,1))=77,CODE(MID(J151,3,1))=77),HLOOKUP($U$9,コード一覧表!$C$1789:$Y$1897,VLOOKUP(J151,コード一覧表!$AA$1789:$AB$1897,2,0)+1,0),HLOOKUP($U$9,コード一覧表!$C$2:$Y$1768,VLOOKUP(J151,コード一覧表!$AA$3:$AB$1768,2,0)+1,0))))","v":""},{"$f":"IF(K151=\"\",\"\",IF(OR(LEN(K151)<3,LEN(K151)>4),HLOOKUP($U$9,コード一覧表!$C$2:$Y$1768,VLOOKUP(K151,コード一覧表!$AA$3:$AB$1768,2,0)+1,0),IF(OR(CODE(MID(K151,2,1))=77,CODE(MID(K151,3,1))=77),HLOOKUP($U$9,コード一覧表!$C$1789:$Y$1897,VLOOKUP(K151,コード一覧表!$AA$1789:$AB$1897,2,0)+1,0),HLOOKUP($U$9,コード一覧表!$C$2:$Y$1768,VLOOKUP(K151,コード一覧表!$AA$3:$AB$1768,2,0)+1,0))))","v":""},{"$f":"IF(L151=\"\",\"\",IF(OR(LEN(L151)<3,LEN(L151)>4),HLOOKUP($U$9,コード一覧表!$C$2:$Y$1768,VLOOKUP(L151,コード一覧表!$AA$3:$AB$1768,2,0)+1,0),IF(OR(CODE(MID(L151,2,1))=77,CODE(MID(L151,3,1))=77),HLOOKUP($U$9,コード一覧表!$C$1789:$Y$1897,VLOOKUP(L151,コード一覧表!$AA$1789:$AB$1897,2,0)+1,0),HLOOKUP($U$9,コード一覧表!$C$2:$Y$1768,VLOOKUP(L151,コード一覧表!$AA$3:$AB$1768,2,0)+1,0))))","v":""},{"$f":"IF(M151=\"\",\"\",IF(OR(LEN(M151)<3,LEN(M151)>4),HLOOKUP($U$9,コード一覧表!$C$2:$Y$1768,VLOOKUP(M151,コード一覧表!$AA$3:$AB$1768,2,0)+1,0),IF(OR(CODE(MID(M151,2,1))=77,CODE(MID(M151,3,1))=77),HLOOKUP($U$9,コード一覧表!$C$1789:$Y$1897,VLOOKUP(M151,コード一覧表!$AA$1789:$AB$1897,2,0)+1,0),HLOOKUP($U$9,コード一覧表!$C$2:$Y$1768,VLOOKUP(M151,コード一覧表!$AA$3:$AB$1768,2,0)+1,0))))","v":""},{"$f":"IF(N151=\"\",\"\",IF(OR(LEN(N151)<3,LEN(N151)>4),HLOOKUP($U$9,コード一覧表!$C$2:$Y$1768,VLOOKUP(N151,コード一覧表!$AA$3:$AB$1768,2,0)+1,0),IF(OR(CODE(MID(N151,2,1))=77,CODE(MID(N151,3,1))=77),HLOOKUP($U$9,コード一覧表!$C$1789:$Y$1897,VLOOKUP(N151,コード一覧表!$AA$1789:$AB$1897,2,0)+1,0),HLOOKUP($U$9,コード一覧表!$C$2:$Y$1768,VLOOKUP(N151,コード一覧表!$AA$3:$AB$1768,2,0)+1,0))))","v":""},{"$f":"IF(O151=\"\",\"\",IF(OR(LEN(O151)<3,LEN(O151)>4),HLOOKUP($U$9,コード一覧表!$C$2:$Y$1768,VLOOKUP(O151,コード一覧表!$AA$3:$AB$1768,2,0)+1,0),IF(OR(CODE(MID(O151,2,1))=77,CODE(MID(O151,3,1))=77),HLOOKUP($U$9,コード一覧表!$C$1789:$Y$1897,VLOOKUP(O151,コード一覧表!$AA$1789:$AB$1897,2,0)+1,0),HLOOKUP($U$9,コード一覧表!$C$2:$Y$1768,VLOOKUP(O151,コード一覧表!$AA$3:$AB$1768,2,0)+1,0))))","v":""},{"$f":"IF(P151=\"\",\"\",IF(OR(LEN(P151)<3,LEN(P151)>4),HLOOKUP($U$9,コード一覧表!$C$2:$Y$1768,VLOOKUP(P151,コード一覧表!$AA$3:$AB$1768,2,0)+1,0),IF(OR(CODE(MID(P151,2,1))=77,CODE(MID(P151,3,1))=77),HLOOKUP($U$9,コード一覧表!$C$1789:$Y$1897,VLOOKUP(P151,コード一覧表!$AA$1789:$AB$1897,2,0)+1,0),HLOOKUP($U$9,コード一覧表!$C$2:$Y$1768,VLOOKUP(P151,コード一覧表!$AA$3:$AB$1768,2,0)+1,0))))","v":""},{"$f":"IF(Q151=\"\",\"\",IF(OR(LEN(Q151)<3,LEN(Q151)>4),HLOOKUP($U$9,コード一覧表!$C$2:$Y$1768,VLOOKUP(Q151,コード一覧表!$AA$3:$AB$1768,2,0)+1,0),IF(OR(CODE(MID(Q151,2,1))=77,CODE(MID(Q151,3,1))=77),HLOOKUP($U$9,コード一覧表!$C$1789:$Y$1897,VLOOKUP(Q151,コード一覧表!$AA$1789:$AB$1897,2,0)+1,0),HLOOKUP($U$9,コード一覧表!$C$2:$Y$1768,VLOOKUP(Q151,コード一覧表!$AA$3:$AB$1768,2,0)+1,0))))","v":""}]

{"sheet":"コード一覧表","index":1,"n_rows":1897,"n_cols":37,"rows_kept":1897,"cut":false,"hidden":false,"merged":[]}
[]
[null,null,0,-1,-2,-3,-4,-5,-6,-7,-8,-9,-10,-11,11,10,9,8,7,6,5,4,3,2,1]
[null,1,"C",{"$f":"$C14","v":"B"},{"$f":"$C13","v":"Bb"},{"$f":"$C12","v":"A"},{"$f":"$C11","v":"G#"},{"$f":"$C10","v":"G"},{"$f":"$C9","v":"F#"},{"$f":"$C8","v":"F"},{"$f":"$C7","v":"E"},{"$f":"$C6","v":"Eb"},{"$f":"$C5","v":"D"},{"$f":"$C4","v":"C#"},{"$f":"$C14","v":"B"},{"$f":"$C13","v":"Bb"},{"$f":"$C12","v":"A"},{"$f":"$C11","v":"G#"},{"$f":"$C10","v":"G"},{"$f":"$C9","v":"F#"},{"$f":"$C8","v":"F"},{"$f":"$C7","v":"E"},{"$f":"$C6","v":"Eb"},{"$f":"$C5","v":"D"},{"$f":"$C4","v":"C#"},null,{"$f":"C3","v":"C"},{"$f":"B3","v":1}]
[null,2,{"$f":"IF(印刷用!$T$12=1,$AK$1647,$AK$1648)","v":"C#"},{"$f":"$C3","v":"C"},{"$f":"$C14","v":"B"},{"$f":"$C13","v":"Bb"},{"$f":"$C12","v":"A"},{"$f":"$C11","v":"G#"},"G","F#","F","E","Eb","D",{"$f":"$C3","v":"C"},{"$f":"$C14","v":"B"},{"$f":"$C13","v":"Bb"},{"$f":"$C12","v":"A"},{"$f":"$C11","v":"G#"},"G","F#","F","E","Eb","D",null,"C#",2]
[null,3,"D","C#",{"$f":"$C3","v":"C"},{"$f":"$C14","v":"B"},{"$f":"$C13","v":"Bb"},{"$f":"$C12","v":"A"},"G#","G","F#","F","E","Eb",{"$f":"$C4","v":"C#"},{"$f":"$C3","v":"C"},{"$f":"$C14","v":"B"},{"$f":"$C13","v":"Bb"},{"$f":"$C12","v":"A"},"G#","G","F#","F","E","Eb",null,"D",3]
[null,4,{"$f":"IF(印刷用!$V$12=1,$AK$1649,$AK$1650)","v":"Eb"},"D",{"$f":"$C4","v":"C#"},{"$f":"$C3","v":"C"},{"$f":"$C14","v":"B"},{"$f":"$C13","v":"Bb"},"A","G#","G","F#","F","E","D",{"$f":"$C4","v":"C#"},{"$f":"$C3","v":"C"},{"$f":"$C14","v":"B"},{"$f":"$C13","v":"Bb"},"A","G#","G","F#","F","E",null,"Eb",4]
[null,5,"E","Eb","D",{"$f":"$C4","v":"C#"},{"$f":"$C3","v":"C"},{"$f":"$C14","v":"B"},"Bb","A","G#","G","F#","F","Eb","D",{"$f":"$C4","v":"C#"},{"$f":"$C3","v":"C"},{"$f":"$C14","v":"B"},"Bb","A","G#","G","F#","F",null,"E",5]
[null,6,"F","E","Eb","D",{"$f":"$C4","v":"C#"},{"$f":"$C3","v":"C"},"B","Bb","A","G#","G","F#","E","Eb","D",{"$f":"$C4","v":"C#"},{"$f":"$C3","v":"C"},"B","Bb","A","G#","G","F#",null,"F",6]
[null,7,{"$f":"IF(印刷用!$X$12=1,$AK$1651,AK1652)","v":"F#"},"F","E","Eb","D",{"$f":"$C4","v":"C#"},{"$f":"$C3","v":"C"},{"$f":"$C14","v":"B"},"Bb","A","G#","G","F","E","Eb","D",{"$f":"$C4","v":"C#"},{"$f":"$C3","v":"C"},{"$f":"$C14","v":"B"},"Bb","A","G#","G",null,"F#",7]
[null,8,"G","F#","F","E","Eb","D","C#",{"$f":"$C3","v":"C"},{"$f":"$C14","v":"B"},"Bb","A","G#","F#","F","E","Eb","D","C#",{"$f":"$C3","v":"C"},{"$f":"$C14","v":"B"},"Bb","A","G#",null,"G",8]
[null,9,{"$f":"IF(印刷用!$Z$12=1,$AK$1653,$AK$1654)","v":"G#"},"G","F#","F","E","Eb","D",{"$f":"$C4","v":"C#"},{"$f":"$C3","v":"C"},{"$f":"$C14","v":"B"},"Bb","A","G","F#","F","E","Eb","D",{"$f":"$C4","v":"C#"},{"$f":"$C3","v":"C"},{"$f":"$C14","v":"B"},"Bb","A",null,"G#",9]
[null,10,"A","G#","G","F#","F","E","Eb",{"$f":"$C5","v":"D"},{"$f":"$C4","v":"C#"},{"$f":"$C3","v":"C"},{"$f":"$C14","v":"B"},"Bb","G#","G","F#","F","E","Eb",{"$f":"$C5","v":"D"},{"$f":"$C4","v":"C#"},{"$f":"$C3","v":"C"},{"$f":"$C14","v":"B"},"Bb",null,"A",10]
[null,11,{"$f":"IF(印刷用!$AB$12=1,$AK$1655,$AK$1656)","v":"Bb"},"A","G#","G","F#","F","E",{"$f":"$C6","v":"Eb"},{"$f":"$C5","v":"D"},{"$f":"$C4","v":"C#"},{"$f":"$C3","v":"C"},{"$f":"$C14","v":"B"},"A","G#","G","F#","F","E",{"$f":"$C6","v":"Eb"},{"$f":"$C5","v":"D"},{"$f":"$C4","v":"C#"},{"$f":"$C3","v":"C"},{"$f":"$C14","v":"B"},null,"Bb",11]
[null,12,"B","Bb","A","G#","G","F#","F",{"$f":"$C7","v":"E"},{"$f":"$C6","v":"Eb"},{"$f":"$C5","v":"D"},{"$f":"$C4","v":"C#"},{"$f":"$C3","v":"C"},"Bb","A","G#","G","F#","F",{"$f":"$C7","v":"E"},{"$f":"$C6","v":"Eb"},{"$f":"$C5","v":"D"},{"$f":"$C4","v":"C#"},{"$f":"$C3","v":"C"},null,"B",12]
[null,13,{"$f":"CONCATENATE($C$3,AD15)","v":"Cm"},{"$f":"$C26","v":"Bm"},{"$f":"$C25","v":"Bbm"},{"$f":"$C24","v":"Am"},{"$f":"$C23","v":"G#m"},{"$f":"$C22","v":"Gm"},{"$f":"$C21","v":"F#m"},{"$f":"$C20","v":"Fm"},{"$f":"$C19","v":"Em"},{"$f":"$C18","v":"Ebm"},{"$f":"$C17","v":"Dm"},{"$f":"$C16","v":"C#m"},{"$f":"$C26","v":"Bm"},{"$f":"$C25","v":"Bbm"},{"$f":"$C24","v":"Am"},{"$f":"$C23","v":"G#m"},{"$f":"$C22","v":"Gm"},{"$f":"$C21","v":"F#m"},{"$f":"$C20","v":"Fm"},{"$f":"$C19","v":"Em"},{"$f":"$C18","v":"Ebm"},{"$f":"$C17","v":"Dm"},{"$f":"$C16","v":"C#m"},null,"Cm",13,null,"m"]
[null,14,{"$f":"CONCATENATE($C$4,AD15)","v":"C#m"},{"$f":"$C15","v":"Cm"},{"$f":"$C26","v":"Bm"},{"$f":"$C25","v":"Bbm"},{"$f":"$C24","v":"Am"},{"$f":"$C23","v":"G#m"},"Gm","F#m","Fm","Em",{"$f":"$C18","v":"Ebm"},"Dm",{"$f":"$C15","v":"Cm"},{"$f":"$C26","v":"Bm"},{"$f":"$C25","v":"Bbm"},{"$f":"$C24","v":"Am"},{"$f":"$C23","v":"G#m"},"Gm","F#m","Fm","Em","Ebm","Dm",null,"C#m",14]
[null,15,{"$f":"CONCATENATE($C$5,AD15)","v":"Dm"},{"$f":"$C16","v":"C#m"},{"$f":"$C15","v":"Cm"},{"$f":"$C26","v":"Bm"},{"$f":"$C25","v":"Bbm"},{"$f":"$C24","v":"Am"},"G#m","Gm","F#m","Fm","Em","Ebm",{"$f":"$C16","v":"C#m"},{"$f":"$C15","v":"Cm"},{"$f":"$C26","v":"Bm"},{"$f":"$C25","v":"Bbm"},{"$f":"$C24","v":"Am"},"G#m","Gm","F#m","Fm","Em","Ebm",null,"Dm",15]
[null,16,{"$f":"CONCATENATE($C$6,AD15)","v":"Ebm"},"Dm",{"$f":"$C16","v":"C#m"},{"$f":"$C15","v":"Cm"},{"$f":"$C26","v":"Bm"},{"$f":"$C25","v":"Bbm"},"Am","G#m","Gm","F#m","Fm","Em","Dm",{"$f":"$C16","v":"C#m"},{"$f":"$C15","v":"Cm"},{"$f":"$C26","v":"Bm"},{"$f":"$C25","v":"Bbm"},"Am","G#m","Gm","F#m","Fm","Em",null,"Ebm",16]
[null,17,{"$f":"CONCATENATE($C$7,AD15)","v":"Em"},"Ebm","Dm",{"$f":"$C16","v":"C#m"},{"$f":"$C15","v":"Cm"},{"$f":"$C26","v":"Bm"},"Bbm","Am","G#m","Gm","F#m","Fm","Ebm","Dm",{"$f":"$C16","v":"C#m"},{"$f":"$C15","v":"Cm"},{"$f":"$C26","v":"Bm"},"Bbm","Am","G#m","Gm","F#m","Fm",null,"Em",17]
[null,18,{"$f":"CONCATENATE($C$8,AD15)","v":"Fm"},"Em","Ebm","Dm",{"$f":"$C16","v":"C#m"},{"$f":"$C15","v":"Cm"},"Bm","Bbm","Am","G#m","Gm","F#m","Em","Ebm","Dm",{"$f":"$C16","v":"C#m"},{"$f":"$C15","v":"Cm"},"Bm","Bbm","Am","G#m","Gm","F#m",null,"Fm",18]
[null,19,{"$f":"CONCATENATE($C$9,AD15)","v":"F#m"},"Fm","Em","Ebm","Dm",{"$f":"$C16","v":"C#m"},{"$f":"$C15","v":"Cm"},{"$f":"$C26","v":"Bm"},"Bbm","Am","G#m","Gm","Fm","Em","Ebm","Dm",{"$f":"$C16","v":"C#m"},{"$f":"$C15","v":"Cm"},{"$f":"$C26","v":"Bm"},"Bbm","Am","G#m","Gm",null,"F#m",19]
[null,20,{"$f":"CONCATENATE($C$10,AD15)","v":"Gm"},"F#m","Fm","Em","Ebm","Dm","C#m",{"$f":"$C15","v":"Cm"},{"$f":"$C26","v":"Bm"},"Bbm","Am","G#m","F#m","Fm","Em","Ebm","Dm","C#m",{"$f":"$C15","v":"Cm"},{"$f":"$C26","v":"Bm"},"Bbm","Am","G#m",null,"Gm",20]
[null,21,{"$f":"CONCATENATE($C$11,AD15)","v":"G#m"},"Gm","F#m","Fm","Em","Ebm","Dm",{"$f":"$C16","v":"C#m"},{"$f":"$C15","v":"Cm"},{"$f":"$C26","v":"Bm"},"Bbm","Am","Gm","F#m","Fm","Em","Ebm","Dm",{"$f":"$C16","v":"C#m"},{"$f":"$C15","v":"Cm"},{"$f":"$C26","v":"Bm"},"Bbm","Am",null,"G#m",21]
[null,22,{"$f":"CONCATENATE($C$12,AD15)","v":"Am"},"G#m","Gm","F#m","Fm","Em","Ebm",{"$f":"$C17","v":"Dm"},{"$f":"$C16","v":"C#m"},{"$f":"$C15","v":"Cm"},{"$f":"$C26","v":"Bm"},"Bbm","G#m","Gm","F#m","Fm","Em","Ebm",{"$f":"$C17","v":"Dm"},{"$f":"$C16","v":"C#m"},{"$f":"$C15","v":"Cm"},{"$f":"$C26","v":"Bm"},"Bbm",null,"Am",22]
[null,23,{"$f":"CONCATENATE($C$13,AD15)","v":"Bbm"},"Am","G#m","Gm","F#m","Fm","Em",{"$f":"$C18","v":"Ebm"},{"$f":"$C17","v":"Dm"},{"$f":"$C16","v":"C#m"},{"$f":"$C15","v":"Cm"},{"$f":"$C26","v":"Bm"},"Am","G#m","Gm","F#m","Fm","Em",{"$f":"$C18","v":"Ebm"},{"$f":"$C17","v":"Dm"},{"$f":"$C16","v":"C#m"},{"$f":"$C15","v":"Cm"},{"$f":"$C26","v":"Bm"},null,"Bbm",23]
[null,24,{"$f":"CONCATENATE($C$14,AD15)","v":"Bm"},"Bbm","Am","G#m","Gm","F#m","Fm",{"$f":"$C19","v":"Em"},{"$f":"$C18","v":"Ebm"},{"$f":"$C17","v":"Dm"},{"$f":"$C16","v":"C#m"},{"$f":"$C15","v":"Cm"},"Bbm","Am","G#m","Gm","F#m","Fm",{"$f":"$C19","v":"Em"},{"$f":"$C18","v":"Ebm"},{"$f":"$C17","v":"Dm"},{"$f":"$C16","v":"C#m"},{"$f":"$C15","v":"Cm"},null,"Bm",24]
[null,25,{"$f":"CONCATENATE($C$3,AD27)","v":"C-"},{"$f":"$C38","v":"B-"},{"$f":"$C37","v":"Bb-"},{"$f":"$C36","v":"A-"},{"$f":"$C35","v":"G#-"},{"$f":"$C34","v":"G-"},{"$f":"$C33","v":"F#-"},{"$f":"$C32","v":"F-"},{"$f":"$C31","v":"E-"},{"$f":"$C30","v":"Eb-"},{"$f":"$C29","v":"D-"},{"$f":"$C28","v":"C#-"},{"$f":"$C38","v":"B-"},{"$f":"$C37","v":"Bb-"},{"$f":"$C36","v":"A-"},{"$f":"$C35","v":"G#-"},{"$f":"$C34","v":"G-"},{"$f":"$C33","v":"F#-"},{"$f":"$C32","v":"F-"},{"$f":"$C31","v":"E-"},{"$f":"$C30","v":"Eb-"},{"$f":"$C29","v":"D-"},{"$f":"$C28","v":"C#-"},null,{"$f":"C27","v":"C-"},25,null,"-"]
[null,26,{"$f":"CONCATENATE($C$4,AD27)","v":"C#-"},{"$f":"$C27","v":"C-"},{"$f":"$C38","v":"B-"},{"$f":"$C37","v":"Bb-"},{"$f":"$C36","v":"A-"},{"$f":"$C35","v":"G#-"},"G-","F#-","F-","E-","Eb-","D-",{"$f":"$C27","v":"C-"},{"$f":"$C38","v":"B-"},{"$f":"$C37","v":"Bb-"},{"$f":"$C36","v":"A-"},{"$f":"$C35","v":"G#-"},"G-","F#-","F-","E-","Eb-","D-",null,"C#-",26]
[null,27,{"$f":"CONCATENATE($C$5,AD27)","v":"D-"},{"$f":"$C28","v":"C#-"},{"$f":"$C27","v":"C-"},{"$f":"$C38","v":"B-"},{"$f":"$C37","v":"Bb-"},{"$f":"$C36","v":"A-"},"G#-","G-","F#-","F-","E-","Eb-",{"$f":"$C28","v":"C#-"},{"$f":"$C27","v":"C-"},{"$f":"$C38","v":"B-"},{"$f":"$C37","v":"Bb-"},{"$f":"$C36","v":"A-"},"G#-","G-","F#-","F-","E-","Eb-",null,"D-",27]
[null,28,{"$f":"CONCATENATE($C$6,AD27)","v":"Eb-"},"D-",{"$f":"$C28","v":"C#-"},{"$f":"$C27","v":"C-"},{"$f":"$C38","v":"B-"},{"$f":"$C37","v":"Bb-"},"A-","G#-","G-","F#-","F-","E-","D-",{"$f":"$C28","v":"C#-"},{"$f":"$C27","v":"C-"},{"$f":"$C38","v":"B-"},{"$f":"$C37","v":"Bb-"},"A-","G#-","G-","F#-","F-","E-",null,"Eb-",28]
[null,29,{"$f":"CONCATENATE($C$7,AD27)","v":"E-"},"Eb-","D-",{"$f":"$C28","v":"C#-"},{"$f":"$C27","v":"C-"},{"$f":"$C38","v":"B-"},"Bb-","A-","G#-","G-","F#-","F-","Eb-","D-",{"$f":"$C28","v":"C#-"},{"$f":"$C27","v":"C-"},{"$f":"$C38","v":"B-"},"Bb-","A-","G#-","G-","F#-","F-",null,"E-",29]
[null,30,{"$f":"CONCATENATE($C$8,AD27)","v":"F-"},"E-","Eb-","D-",{"$f":"$C28","v":"C#-"},{"$f":"$C27","v":"C-"},"B-","Bb-","A-","G#-","G-","F#-","E-","Eb-","D-",{"$f":"$C28","v":"C#-"},{"$f":"$C27","v":"C-"},"B-","Bb-","A-","G#-","G-","F#-",null,"F-",30]
[null,31,{"$f":"CONCATENATE($C$9,AD27)","v":"F#-"},"F-","E-","Eb-","D-",{"$f":"$C28","v":"C#-"},{"$f":"$C27","v":"C-"},{"$f":"$C38","v":"B-"},"Bb-","A-","G#-","G-","F-","E-","Eb-","D-",{"$f":"$C28","v":"C#-"},{"$f":"$C27","v":"C-"},{"$f":"$C38","v":"B-"},"Bb-","A-","G#-","G-",null,"F#-",31]
[null,32,{"$f":"CONCATENATE($C$10,AD27)","v":"G-"},"F#-","F-","E-","Eb-","D-","C#-",{"$f":"$C27","v":"C-"},{"$f":"$C38","v":"B-"},"Bb-","A-","G#-","F#-","F-","E-","Eb-","D-","C#-",{"$f":"$C27","v":"C-"},{"$f":"$C38","v":"B-"},"Bb-","A-","G#-",null,"G-",32]
[null,33,{"$f":"CONCATENATE($C$11,AD27)","v":"G#-"},"G-","F#-","F-","E-","Eb-","D-",{"$f":"$C28","v":"C#-"},{"$f":"$C27","v":"C-"},{"$f":"$C38","v":"B-"},"Bb-","A-","G-","F#-","F-","E-","Eb-","D-",{"$f":"$C28","v":"C#-"},{"$f":"$C27","v":"C-"},{"$f":"$C38","v":"B-"},"Bb-","A-",null,"G#-",33]
[null,34,{"$f":"CONCATENATE($C$12,AD27)","v":"A-"},"G#-","G-","F#-","F-","E-","Eb-",{"$f":"$C29","v":"D-"},{"$f":"$C28","v":"C#-"},{"$f":"$C27","v":"C-"},{"$f":"$C38","v":"B-"},"Bb-","G#-","G-","F#-","F-","E-","Eb-",{"$f":"$C29","v":"D-"},{"$f":"$C28","v":"C#-"},{"$f":"$C27","v":"C-"},{"$f":"$C38","v":"B-"},"Bb-",null,"A-",34]
[null,35,{"$f":"CONCATENATE($C$13,AD27)","v":"Bb-"},"A-","G#-","G-","F#-","F-","E-",{"$f":"$C30","v":"Eb-"},{"$f":"$C29","v":"D-"},{"$f":"$C28","v":"C#-"},{"$f":"$C27","v":"C-"},{"$f":"$C38","v":"B-"},"A-","G#-","G-","F#-","F-","E-",{"$f":"$C30","v":"Eb-"},{"$f":"$C29","v":"D-"},{"$f":"$C28","v":"C#-"},{"$f":"$C27","v":"C-"},{"$f":"$C38","v":"B-"},null,"Bb-",35]
[null,36,{"$f":"CONCATENATE($C$14,AD27)","v":"B-"},"Bb-","A-","G#-","G-","F#-","F-",{"$f":"$C31","v":"E-"},{"$f":"$C30","v":"Eb-"},{"$f":"$C29","v":"D-"},{"$f":"$C28","v":"C#-"},{"$f":"$C27","v":"C-"},"Bb-","A-","G#-","G-","F#-","F-",{"$f":"$C31","v":"E-"},{"$f":"$C30","v":"Eb-"},{"$f":"$C29","v":"D-"},{"$f":"$C28","v":"C#-"},{"$f":"$C27","v":"C-"},null,"B-",36]
[null,37,{"$f":"CONCATENATE($C$3,AD39)","v":"Cdim"},{"$f":"$C50","v":"Bdim"},{"$f":"$C49","v":"Bbdim"},{"$f":"$C48","v":"Adim"},{"$f":"$C47","v":"G#dim"},{"$f":"$C46","v":"Gdim"},{"$f":"$C45","v":"F#dim"},{"$f":"$C44","v":"Fdim"},{"$f":"$C43","v":"Edim"},{"$f":"$C42","v":"Ebdim"},{"$f":"$C41","v":"Ddim"},{"$f":"$C40","v":"C#dim"},{"$f":"$C50","v":"Bdim"},{"$f":"$C49","v":"Bbdim"},{"$f":"$C48","v":"Adim"},{"$f":"$C47","v":"G#dim"},{"$f":"$C46","v":"Gdim"},{"$f":"$C45","v":"F#dim"},{"$f":"$C44","v":"Fdim"},{"$f":"$C43","v":"Edim"},{"$f":"$C42","v":"Ebdim"},{"$f":"$C41","v":"Ddim"},{"$f":"$C40","v":"C#dim"},null,"Cdim",37,null,"dim"]
[null,38,{"$f":"CONCATENATE($C$4,AD39)","v":"C#dim"},{"$f":"$C39","v":"Cdim"},{"$f":"$C50","v":"Bdim"},{"$f":"$C49","v":"Bbdim"},{"$f":"$C48","v":"Adim"},{"$f":"$C47","v":"G#dim"},"Gdim","F#dim","Fdim","Edim","Ebdim","Ddim",{"$f":"$C39","v":"Cdim"},{"$f":"$C50","v":"Bdim"},{"$f":"$C49","v":"Bbdim"},{"$f":"$C48","v":"Adim"},{"$f":"$C47","v":"G#dim"},"Gdim","F#dim","Fdim","Edim","Ebdim","Ddim",null,"C#dim",38]
[null,39,{"$f":"CONCATENATE($C$5,AD39)","v":"Ddim"},{"$f":"$C40","v":"C#dim"},{"$f":"$C39","v":"Cdim"},{"$f":"$C50","v":"Bdim"},{"$f":"$C49","v":"Bbdim"},{"$f":"$C48","v":"Adim"},"G#dim","Gdim","F#dim","Fdim","Edim","Ebdim",{"$f":"$C40","v":"C#dim"},{"$f":"$C39","v":"Cdim"},{"$f":"$C50","v":"Bdim"},{"$f":"$C49","v":"Bbdim"},{"$f":"$C48","v":"Adim"},"G#dim","Gdim","F#dim","Fdim","Edim","Ebdim",null,"Ddim",39]
[null,40,{"$f":"CONCATENATE($C$6,AD39)","v":"Ebdim"},"Ddim",{"$f":"$C40","v":"C#dim"},{"$f":"$C39","v":"Cdim"},{"$f":"$C50","v":"Bdim"},{"$f":"$C49","v":"Bbdim"},"Adim","G#dim","Gdim","F#dim","Fdim","Edim","Ddim",{"$f":"$C40","v":"C#dim"},{"$f":"$C39","v":"Cdim"},{"$f":"$C50","v":"Bdim"},{"$f":"$C49","v":"Bbdim"},"Adim","G#dim","Gdim","F#dim","Fdim","Edim",null,"Ebdim",40]
[null,41,{"$f":"CONCATENATE($C$7,AD39)","v":"Edim"},"Ebdim","Ddim",{"$f":"$C40","v":"C#dim"},{"$f":"$C39","v":"Cdim"},{"$f":"$C50","v":"Bdim"},"Bbdim","Adim","G#dim","Gdim","F#dim","Fdim","Ebdim","Ddim",{"$f":"$C40","v":"C#dim"},{"$f":"$C39","v":"Cdim"},{"$f":"$C50","v":"Bdim"},"Bbdim","Adim","G#dim","Gdim","F#dim","Fdim",null,"Edim",41]
[null,42,{"$f":"CONCATENATE($C$8,AD39)","v":"Fdim"},"Edim","Ebdim","Ddim",{"$f":"$C40","v":"C#dim"},{"$f":"$C39","v":"Cdim"},"Bdim","Bbdim","Adim","G#dim","Gdim","F#dim","Edim","Ebdim","Ddim",{"$f":"$C40","v":"C#dim"},{"$f":"$C39","v":"Cdim"},"Bdim","Bbdim","Adim","G#dim","Gdim","F#dim",null,"Fdim",42]
[null,43,{"$f":"CONCATENATE($C$9,AD39)","v":"F#dim"},"Fdim","Edim","Ebdim","Ddim",{"$f":"$C40","v":"C#dim"},{"$f":"$C39","v":"Cdim"},{"$f":"$C50","v":"Bdim"},"Bbdim","Adim","G#dim","Gdim","Fdim","Edim","Ebdim","Ddim",{"$f":"$C40","v":"C#dim"},{"$f":"$C39","v":"Cdim"},{"$f":"$C50","v":"Bdim"},"Bbdim","Adim","G#dim","Gdim",null,"F#dim",43]
[null,44,{"$f":"CONCATENATE($C$10,AD39)","v":"Gdim"},"F#dim","Fdim","Edim","Ebdim","Ddim","C#dim",{"$f":"$C39","v":"Cdim"},{"$f":"$C50","v":"Bdim"},"Bbdim","Adim","G#dim","F#dim","Fdim","Edim","Ebdim","Ddim","C#dim",{"$f":"$C39","v":"Cdim"},{"$f":"$C50","v":"Bdim"},"Bbdim","Adim","G#dim",null,"Gdim",44]
[null,45,{"$f":"CONCATENATE($C$11,AD39)","v":"G#dim"},"Gdim","F#dim","Fdim","Edim","Ebdim","Ddim",{"$f":"$C40","v":"C#dim"},{"$f":"$C39","v":"Cdim"},{"$f":"$C50","v":"Bdim"},"Bbdim","Adim","Gdim","F#dim","Fdim","Edim","Ebdim","Ddim",{"$f":"$C40","v":"C#dim"},{"$f":"$C39","v":"Cdim"},{"$f":"$C50","v":"Bdim"},"Bbdim","Adim",null,"G#dim",45]
[null,46,{"$f":"CONCATENATE($C$12,AD39)","v":"Adim"},"G#dim","Gdim","F#dim","Fdim","Edim","Ebdim",{"$f":"$C41","v":"Ddim"},{"$f":"$C40","v":"C#dim"},{"$f":"$C39","v":"Cdim"},{"$f":"$C50","v":"Bdim"},"Bbdim","G#dim","Gdim","F#dim","Fdim","Edim","Ebdim",{"$f":"$C41","v":"Ddim"},{"$f":"$C40","v":"C#dim"},{"$f":"$C39","v":"Cdim"},{"$f":"$C50","v":"Bdim"},"Bbdim",null,"Adim",46]
[null,47,{"$f":"CONCATENATE($C$13,AD39)","v":"Bbdim"},"Adim","G#dim","Gdim","F#dim","Fdim","Edim",{"$f":"$C42","v":"Ebdim"},{"$f":"$C41","v":"Ddim"},{"$f":"$C40","v":"C#dim"},{"$f":"$C39","v":"Cdim"},{"$f":"$C50","v":"Bdim"},"Adim","G#dim","Gdim","F#dim","Fdim","Edim",{"$f":"$C42","v":"Ebdim"},{"$f":"$C41","v":"Ddim"},{"$f":"$C40","v":"C#dim"},{"$f":"$C39","v":"Cdim"},{"$f":"$C50","v":"Bdim"},null,"Bbdim",47]
[null,48,{"$f":"CONCATENATE($C$14,AD39)","v":"Bdim"},"Bbdim","Adim","G#dim","Gdim","F#dim","Fdim",{"$f":"$C43","v":"Edim"},{"$f":"$C42","v":"Ebdim"},{"$f":"$C41","v":"Ddim"},{"$f":"$C40","v":"C#dim"},{"$f":"$C39","v":"Cdim"},"Bbdim","Adim","G#dim","Gdim","F#dim","Fdim",{"$f":"$C43","v":"Edim"},{"$f":"$C42","v":"Ebdim"},{"$f":"$C41","v":"Ddim"},{"$f":"$C40","v":"C#dim"},{"$f":"$C39","v":"Cdim"},null,"Bdim",48]
[null,49,{"$f":"CONCATENATE($C$3,AD51)","v":"C◯"},{"$f":"$C62","v":"B◯"},{"$f":"$C61","v":"Bb◯"},{"$f":"$C60","v":"A◯"},{"$f":"$C59","v":"G#◯"},{"$f":"$C58","v":"G◯"},{"$f":"$C57","v":"F#◯"},{"$f":"$C56","v":"F◯"},{"$f":"$C55","v":"E◯"},{"$f":"$C54","v":"Eb◯"},{"$f":"$C53","v":"D◯"},{"$f":"$C52","v":"C#◯"},{"$f":"$C62","v":"B◯"},{"$f":"$C61","v":"Bb◯"},{"$f":"$C60","v":"A◯"},{"$f":"$C59","v":"G#◯"},{"$f":"$C58","v":"G◯"},{"$f":"$C57","v":"F#◯"},{"$f":"$C56","v":"F◯"},{"$f":"$C55","v":"E◯"},{"$f":"$C54","v":"Eb◯"},{"$f":"$C53","v":"D◯"},{"$f":"$C52","v":"C#◯"},null,{"$f":"C51","v":"C◯"},49,null,"◯"]
[null,50,{"$f":"CONCATENATE($C$4,AD51)","v":"C#◯"},{"$f":"$C51","v":"C◯"},{"$f":"$C62","v":"B◯"},{"$f":"$C61","v":"Bb◯"},{"$f":"$C60","v":"A◯"},{"$f":"$C59","v":"G#◯"},"G◯","F#◯","F◯","E◯","Eb◯","D◯",{"$f":"$C51","v":"C◯"},{"$f":"$C62","v":"B◯"},{"$f":"$C61","v":"Bb◯"},{"$f":"$C60","v":"A◯"},{"$f":"$C59","v":"G#◯"},"G◯","F#◯","F◯","E◯","Eb◯","D◯",null,"C#◯",50]
[null,51,{"$f":"CONCATENATE($C$5,AD51)","v":"D◯"},{"$f":"$C52","v":"C#◯"},{"$f":"$C51","v":"C◯"},{"$f":"$C62","v":"B◯"},{"$f":"$C61","v":"Bb◯"},{"$f":"$C60","v":"A◯"},"G#◯","G◯","F#◯","F◯","E◯","Eb◯",{"$f":"$C52","v":"C#◯"},{"$f":"$C51","v":"C◯"},{"$f":"$C62","v":"B◯"},{"$f":"$C61","v":"Bb◯"},{"$f":"$C60","v":"A◯"},"G#◯","G◯","F#◯","F◯","E◯","Eb◯",null,"D◯",51]
[null,52,{"$f":"CONCATENATE($C$6,AD51)","v":"Eb◯"},"D◯",{"$f":"$C52","v":"C#◯"},{"$f":"$C51","v":"C◯"},{"$f":"$C62","v":"B◯"},{"$f":"$C61","v":"Bb◯"},"A◯","G#◯","G◯","F#◯","F◯","E◯","D◯",{"$f":"$C52","v":"C#◯"},{"$f":"$C51","v":"C◯"},{"$f":"$C62","v":"B◯"},{"$f":"$C61","v":"Bb◯"},"A◯","G#◯","G◯","F#◯","F◯","E◯",null,"Eb◯",52]
[null,53,{"$f":"CONCATENATE($C$7,AD51)","v":"E◯"},"Eb◯","D◯",{"$f":"$C52","v":"C#◯"},{"$f":"$C51","v":"C◯"},{"$f":"$C62","v":"B◯"},"Bb◯","A◯","G#◯","G◯","F#◯","F◯","Eb◯","D◯",{"$f":"$C52","v":"C#◯"},{"$f":"$C51","v":"C◯"},{"$f":"$C62","v":"B◯"},"Bb◯","A◯","G#◯","G◯","F#◯","F◯",null,"E◯",53]
[null,54,{"$f":"CONCATENATE($C$8,AD51)","v":"F◯"},"E◯","Eb◯","D◯",{"$f":"$C52","v":"C#◯"},{"$f":"$C51","v":"C◯"},"B◯","Bb◯","A◯","G#◯","G◯","F#◯","E◯","Eb◯","D◯",{"$f":"$C52","v":"C#◯"},{"$f":"$C51","v":"C◯"},"B◯","Bb◯","A◯","G#◯","G◯","F#◯",null,"F◯",54]
[null,55,{"$f":"CONCATENATE($C$9,AD51)","v":"F#◯"},"F◯","E◯","Eb◯","D◯",{"$f":"$C52","v":"C#◯"},{"$f":"$C51","v":"C◯"},{"$f":"$C62","v":"B◯"},"Bb◯","A◯","G#◯","G◯","F◯","E◯","Eb◯","D◯",{"$f":"$C52","v":"C#◯"},{"$f":"$C51","v":"C◯"},{"$f":"$C62","v":"B◯"},"Bb◯","A◯","G#◯","G◯",null,"F#◯",55]
[null,56,{"$f":"CONCATENATE($C$10,AD51)","v":"G◯"},"F#◯","F◯","E◯","Eb◯","D◯","C#◯",{"$f":"$C51","v":"C◯"},{"$f":"$C62","v":"B◯"},"Bb◯","A◯","G#◯","F#◯","F◯","E◯","Eb◯","D◯","C#◯",{"$f":"$C51","v":"C◯"},{"$f":"$C62","v":"B◯"},"Bb◯","A◯","G#◯",null,"G◯",56]
[null,57,{"$f":"CONCATENATE($C$11,AD51)","v":"G#◯"},"G◯","F#◯","F◯","E◯","Eb◯","D◯",{"$f":"$C52","v":"C#◯"},{"$f":"$C51","v":"C◯"},{"$f":"$C62","v":"B◯"},"Bb◯","A◯","G◯","F#◯","F◯","E◯","Eb◯","D◯",{"$f":"$C52","v":"C#◯"},{"$f":"$C51","v":"C◯"},{"$f":"$C62","v":"B◯"},"Bb◯","A◯",null,"G#◯",57]
[null,58,{"$f":"CONCATENATE($C$12,AD51)","v":"A◯"},"G#◯","G◯","F#◯","F◯","E◯","Eb◯",{"$f":"$C53","v":"D◯"},{"$f":"$C52","v":"C#◯"},{"$f":"$C51","v":"C◯"},{"$f":"$C62","v":"B◯"},"Bb◯","G#◯","G◯","F#◯","F◯","E◯","Eb◯",{"$f":"$C53","v":"D◯"},{"$f":"$C52","v":"C#◯"},{"$f":"$C51","v":"C◯"},{"$f":"$C62","v":"B◯"},"Bb◯",null,"A◯",58]
[null,59,{"$f":"CONCATENATE($C$13,AD51)","v":"Bb◯"},"A◯","G#◯","G◯","F#◯","F◯","E◯",{"$f":"$C54","v":"Eb◯"},{"$f":"$C53","v":"D◯"},{"$f":"$C52","v":"C#◯"},{"$f":"$C51","v":"C◯"},{"$f":"$C62","v":"B◯"},"A◯","G#◯","G◯","F#◯","F◯","E◯",{"$f":"$C54","v":"Eb◯"},{"$f":"$C53","v":"D◯"},{"$f":"$C52","v":"C#◯"},{"$f":"$C51","v":"C◯"},{"$f":"$C62","v":"B◯"},null,"Bb◯",59]
[null,60,{"$f":"CONCATENATE($C$14,AD51)","v":"B◯"},"Bb◯","A◯","G#◯","G◯","F#◯","F◯",{"$f":"$C55","v":"E◯"},{"$f":"$C54","v":"Eb◯"},{"$f":"$C53","v":"D◯"},{"$f":"$C52","v":"C#◯"},{"$f":"$C51","v":"C◯"},"Bb◯","A◯","G#◯","G◯","F#◯","F◯",{"$f":"$C55","v":"E◯"},{"$f":"$C54","v":"Eb◯"},{"$f":"$C53","v":"D◯"},{"$f":"$C52","v":"C#◯"},{"$f":"$C51","v":"C◯"},null,"B◯",60]
[null,61,{"$f":"CONCATENATE($C$3,AD63)","v":"Cdim7"},{"$f":"$C74","v":"Bdim7"},{"$f":"$C73","v":"Bbdim7"},{"$f":"$C72","v":"Adim7"},{"$f":"$C71","v":"G#dim7"},{"$f":"$C70","v":"Gdim7"},{"$f":"$C69","v":"F#dim7"},{"$f":"$C68","v":"Fdim7"},{"$f":"$C67","v":"Edim7"},{"$f":"$C66","v":"Ebdim7"},{"$f":"$C65","v":"Ddim7"},{"$f":"$C64","v":"C#dim7"},{"$f":"$C74","v":"Bdim7"},{"$f":"$C73","v":"Bbdim7"},{"$f":"$C72","v":"Adim7"},{"$f":"$C71","v":"G#dim7"},{"$f":"$C70","v":"Gdim7"},{"$f":"$C69","v":"F#dim7"},{"$f":"$C68","v":"Fdim7"},{"$f":"$C67","v":"Edim7"},{"$f":"$C66","v":"Ebdim7"},{"$f":"$C65","v":"Ddim7"},{"$f":"$C64","v":"C#dim7"},null,{"$f":"C63","v":"Cdim7"},61,null,"dim7"]
[null,62,{"$f":"CONCATENATE($C$4,AD63)","v":"C#dim7"},{"$f":"$C63","v":"Cdim7"},{"$f":"$C74","v":"Bdim7"},{"$f":"$C73","v":"Bbdim7"},{"$f":"$C72","v":"Adim7"},{"$f":"$C71","v":"G#dim7"},"Gdim7","F#dim7","Fdim7","Edim7","Ebdim7","Ddim7",{"$f":"$C63","v":"Cdim7"},{"$f":"$C74","v":"Bdim7"},{"$f":"$C73","v":"Bbdim7"},{"$f":"$C72","v":"Adim7"},{"$f":"$C71","v":"G#dim7"},"Gdim7","F#dim7","Fdim7","Edim7","Ebdim7","Ddim7",null,"C#dim7",62]
[null,63,{"$f":"CONCATENATE($C$5,AD63)","v":"Ddim7"},{"$f":"$C64","v":"C#dim7"},{"$f":"$C63","v":"Cdim7"},{"$f":"$C74","v":"Bdim7"},{"$f":"$C73","v":"Bbdim7"},{"$f":"$C72","v":"Adim7"},"G#dim7","Gdim7","F#dim7","Fdim7","Edim7","Ebdim7",{"$f":"$C64","v":"C#dim7"},{"$f":"$C63","v":"Cdim7"},{"$f":"$C74","v":"Bdim7"},{"$f":"$C73","v":"Bbdim7"},{"$f":"$C72","v":"Adim7"},"G#dim7","Gdim7","F#dim7","Fdim7","Edim7","Ebdim7",null,"Ddim7",63]
[null,64,{"$f":"CONCATENATE($C$6,AD63)","v":"Ebdim7"},"Ddim7",{"$f":"$C64","v":"C#dim7"},{"$f":"$C63","v":"Cdim7"},{"$f":"$C74","v":"Bdim7"},{"$f":"$C73","v":"Bbdim7"},"Adim7","G#dim7","Gdim7","F#dim7","Fdim7","Edim7","Ddim7",{"$f":"$C64","v":"C#dim7"},{"$f":"$C63","v":"Cdim7"},{"$f":"$C74","v":"Bdim7"},{"$f":"$C73","v":"Bbdim7"},"Adim7","G#dim7","Gdim7","F#dim7","Fdim7","Edim7",null,"Ebdim7",64]
[null,65,{"$f":"CONCATENATE($C$7,AD63)","v":"Edim7"},"Ebdim7","Ddim7",{"$f":"$C64","v":"C#dim7"},{"$f":"$C63","v":"Cdim7"},{"$f":"$C74","v":"Bdim7"},"Bbdim7","Adim7","G#dim7","Gdim7","F#dim7","Fdim7","Ebdim7","Ddim7",{"$f":"$C64","v":"C#dim7"},{"$f":"$C63","v":"Cdim7"},{"$f":"$C74","v":"Bdim7"},"Bbdim7","Adim7","G#dim7","Gdim7","F#dim7","Fdim7",null,"Edim7",{"$f":"B67","v":65}]
[null,66,{"$f":"CONCATENATE($C$8,AD63)","v":"Fdim7"},"Edim7","Ebdim7","Ddim7",{"$f":"$C64","v":"C#dim7"},{"$f":"$C63","v":"Cdim7"},"Bdim7","Bbdim7","Adim7","G#dim7","Gdim7","F#dim7","Edim7","Ebdim7","Ddim7",{"$f":"$C64","v":"C#dim7"},{"$f":"$C63","v":"Cdim7"},"Bdim7","Bbdim7","Adim7","G#dim7","Gdim7","F#dim7",null,"Fdim7",66]
[null,67,{"$f":"CONCATENATE($C$9,AD63)","v":"F#dim7"},"Fdim7","Edim7","Ebdim7","Ddim7",{"$f":"$C64","v":"C#dim7"},{"$f":"$C63","v":"Cdim7"},{"$f":"$C74","v":"Bdim7"},"Bbdim7","Adim7","G#dim7","Gdim7","Fdim7","Edim7","Ebdim7","Ddim7",{"$f":"$C64","v":"C#dim7"},{"$f":"$C63","v":"Cdim7"},{"$f":"$C74","v":"Bdim7"},"Bbdim7","Adim7","G#dim7","Gdim7",null,"F#dim7",67]
[null,68,{"$f":"CONCATENATE($C$10,AD63)","v":"Gdim7"},"F#dim7","Fdim7","Edim7","Ebdim7","Ddim7","C#dim7",{"$f":"$C63","v":"Cdim7"},{"$f":"$C74","v":"Bdim7"},"Bbdim7","Adim7","G#dim7","F#dim7","Fdim7","Edim7","Ebdim7","Ddim7","C#dim7",{"$f":"$C63","v":"Cdim7"},{"$f":"$C74","v":"Bdim7"},"Bbdim7","Adim7","G#dim7",null,"Gdim7",68]
[null,69,{"$f":"CONCATENATE($C$11,AD63)","v":"G#dim7"},"Gdim7","F#dim7","Fdim7","Edim7","Ebdim7","Ddim7",{"$f":"$C64","v":"C#dim7"},{"$f":"$C63","v":"Cdim7"},{"$f":"$C74","v":"Bdim7"},"Bbdim7","Adim7","Gdim7","F#dim7","Fdim7","Edim7","Ebdim7","Ddim7",{"$f":"$C64","v":"C#dim7"},{"$f":"$C63","v":"Cdim7"},{"$f":"$C74","v":"Bdim7"},"Bbdim7","Adim7",null,"G#dim7",69]
[null,70,{"$f":"CONCATENATE($C$12,AD63)","v":"Adim7"},"G#dim7","Gdim7","F#dim7","Fdim7","Edim7","Ebdim7",{"$f":"$C65","v":"Ddim7"},{"$f":"$C64","v":"C#dim7"},{"$f":"$C63","v":"Cdim7"},{"$f":"$C74","v":"Bdim7"},"Bbdim7","G#dim7","Gdim7","F#dim7","Fdim7","Edim7","Ebdim7",{"$f":"$C65","v":"Ddim7"},{"$f":"$C64","v":"C#dim7"},{"$f":"$C63","v":"Cdim7"},{"$f":"$C74","v":"Bdim7"},"Bbdim7",null,"Adim7",70]
[null,71,{"$f":"CONCATENATE($C$13,AD63)","v":"Bbdim7"},"Adim7","G#dim7","Gdim7","F#dim7","Fdim7","Edim7",{"$f":"$C66","v":"Ebdim7"},{"$f":"$C65","v":"Ddim7"},{"$f":"$C64","v":"C#dim7"},{"$f":"$C63","v":"Cdim7"},{"$f":"$C74","v":"Bdim7"},"Adim7","G#dim7","Gdim7","F#dim7","Fdim7","Edim7",{"$f":"$C66","v":"Ebdim7"},{"$f":"$C65","v":"Ddim7"},{"$f":"$C64","v":"C#dim7"},{"$f":"$C63","v":"Cdim7"},{"$f":"$C74","v":"Bdim7"},null,"Bbdim7",71]
[null,72,{"$f":"CONCATENATE($C$14,AD63)","v":"Bdim7"},"Bbdim7","Adim7","G#dim7","Gdim7","F#dim7","Fdim7",{"$f":"$C67","v":"Edim7"},{"$f":"$C66","v":"Ebdim7"},{"$f":"$C65","v":"Ddim7"},{"$f":"$C64","v":"C#dim7"},{"$f":"$C63","v":"Cdim7"},"Bbdim7","Adim7","G#dim7","Gdim7","F#dim7","Fdim7",{"$f":"$C67","v":"Edim7"},{"$f":"$C66","v":"Ebdim7"},{"$f":"$C65","v":"Ddim7"},{"$f":"$C64","v":"C#dim7"},{"$f":"$C63","v":"Cdim7"},null,"Bdim7",72]
[null,73,{"$f":"CONCATENATE($C$3,AD75)","v":"Caug"},{"$f":"$C86","v":"Baug"},{"$f":"$C85","v":"Bbaug"},{"$f":"$C84","v":"Aaug"},{"$f":"$C83","v":"G#aug"},{"$f":"$C82","v":"Gaug"},{"$f":"$C81","v":"F#aug"},{"$f":"$C80","v":"Faug"},{"$f":"$C79","v":"Eaug"},{"$f":"$C78","v":"Ebaug"},{"$f":"$C77","v":"Daug"},{"$f":"$C76","v":"C#aug"},{"$f":"$C86","v":"Baug"},{"$f":"$C85","v":"Bbaug"},{"$f":"$C84","v":"Aaug"},{"$f":"$C83","v":"G#aug"},{"$f":"$C82","v":"Gaug"},{"$f":"$C81","v":"F#aug"},{"$f":"$C80","v":"Faug"},{"$f":"$C79","v":"Eaug"},{"$f":"$C78","v":"Ebaug"},{"$f":"$C77","v":"Daug"},{"$f":"$C76","v":"C#aug"},null,"Caug",73,null,"aug"]
[null,74,{"$f":"CONCATENATE($C$4,AD75)","v":"C#aug"},{"$f":"$C75","v":"Caug"},{"$f":"$C86","v":"Baug"},{"$f":"$C85","v":"Bbaug"},{"$f":"$C84","v":"Aaug"},{"$f":"$C83","v":"G#aug"},"Gaug","F#aug","Faug","Eaug","Ebaug","Daug",{"$f":"$C75","v":"Caug"},{"$f":"$C86","v":"Baug"},{"$f":"$C85","v":"Bbaug"},{"$f":"$C84","v":"Aaug"},{"$f":"$C83","v":"G#aug"},"Gaug","F#aug","Faug","Eaug","Ebaug","Daug",null,"C#aug",74]
[null,75,{"$f":"CONCATENATE($C$5,AD75)","v":"Daug"},{"$f":"$C76","v":"C#aug"},{"$f":"$C75","v":"Caug"},{"$f":"$C86","v":"Baug"},{"$f":"$C85","v":"Bbaug"},{"$f":"$C84","v":"Aaug"},"G#aug","Gaug","F#aug","Faug","Eaug","Ebaug",{"$f":"$C76","v":"C#aug"},{"$f":"$C75","v":"Caug"},{"$f":"$C86","v":"Baug"},{"$f":"$C85","v":"Bbaug"},{"$f":"$C84","v":"Aaug"},"G#aug","Gaug","F#aug","Faug","Eaug","Ebaug",null,"Daug",75]
[null,76,{"$f":"CONCATENATE($C$6,AD75)","v":"Ebaug"},"Daug",{"$f":"$C76","v":"C#aug"},{"$f":"$C75","v":"Caug"},{"$f":"$C86","v":"Baug"},{"$f":"$C85","v":"Bbaug"},"Aaug","G#aug","Gaug","F#aug","Faug","Eaug","Daug",{"$f":"$C76","v":"C#aug"},{"$f":"$C75","v":"Caug"},{"$f":"$C86","v":"Baug"},{"$f":"$C85","v":"Bbaug"},"Aaug","G#aug","Gaug","F#aug","Faug","Eaug",null,"Ebaug",76]
[null,77,{"$f":"CONCATENATE($C$7,AD75)","v":"Eaug"},"Ebaug","Daug",{"$f":"$C76","v":"C#aug"},{"$f":"$C75","v":"Caug"},{"$f":"$C86","v":"Baug"},"Bbaug","Aaug","G#aug","Gaug","F#aug","Faug","Ebaug","Daug",{"$f":"$C76","v":"C#aug"},{"$f":"$C75","v":"Caug"},{"$f":"$C86","v":"Baug"},"Bbaug","Aaug","G#aug","Gaug","F#aug","Faug",null,"Eaug",77]
[null,78,{"$f":"CONCATENATE($C$8,AD75)","v":"Faug"},"Eaug","Ebaug","Daug",{"$f":"$C76","v":"C#aug"},{"$f":"$C75","v":"Caug"},"Baug","Bbaug","Aaug","G#aug","Gaug","F#aug","Eaug","Ebaug","Daug",{"$f":"$C76","v":"C#aug"},{"$f":"$C75","v":"Caug"},"Baug","Bbaug","Aaug","G#aug","Gaug","F#aug",null,"Faug",78]
[null,79,{"$f":"CONCATENATE($C$9,AD75)","v":"F#aug"},"Faug","Eaug","Ebaug","Daug",{"$f":"$C76","v":"C#aug"},{"$f":"$C75","v":"Caug"},{"$f":"$C86","v":"Baug"},"Bbaug","Aaug","G#aug","Gaug","Faug","Eaug","Ebaug","Daug",{"$f":"$C76","v":"C#aug"},{"$f":"$C75","v":"Caug"},{"$f":"$C86","v":"Baug"},"Bbaug","Aaug","G#aug","Gaug",null,"F#aug",79]
[null,80,{"$f":"CONCATENATE($C$10,AD75)","v":"Gaug"},"F#aug","Faug","Eaug","Ebaug","Daug","C#aug",{"$f":"$C75","v":"Caug"},{"$f":"$C86","v":"Baug"},"Bbaug","Aaug","G#aug","F#aug","Faug","Eaug","Ebaug","Daug","C#aug",{"$f":"$C75","v":"Caug"},{"$f":"$C86","v":"Baug"},"Bbaug","Aaug","G#aug",null,"Gaug",80]
[null,81,{"$f":"CONCATENATE($C$11,AD75)","v":"G#aug"},"Gaug","F#aug","Faug","Eaug","Ebaug","Daug",{"$f":"$C76","v":"C#aug"},{"$f":"$C75","v":"Caug"},{"$f":"$C86","v":"Baug"},"Bbaug","Aaug","Gaug","F#aug","Faug","Eaug","Ebaug","Daug",{"$f":"$C76","v":"C#aug"},{"$f":"$C75","v":"Caug"},{"$f":"$C86","v":"Baug"},"Bbaug","Aaug",null,"G#aug",81]
[null,82,{"$f":"CONCATENATE($C$12,AD75)","v":"Aaug"},"G#aug","Gaug","F#aug","Faug","Eaug","Ebaug",{"$f":"$C77","v":"Daug"},{"$f":"$C76","v":"C#aug"},{"$f":"$C75","v":"Caug"},{"$f":"$C86","v":"Baug"},"Bbaug","G#aug","Gaug","F#aug","Faug","Eaug","Ebaug",{"$f":"$C77","v":"Daug"},{"$f":"$C76","v":"C#aug"},{"$f":"$C75","v":"Caug"},{"$f":"$C86","v":"Baug"},"Bbaug",null,"Aaug",82]
[null,83,{"$f":"CONCATENATE($C$13,AD75)","v":"Bbaug"},"Aaug","G#aug","Gaug","F#aug","Faug","Eaug",{"$f":"$C78","v":"Ebaug"},{"$f":"$C77","v":"Daug"},{"$f":"$C76","v":"C#aug"},{"$f":"$C75","v":"Caug"},{"$f":"$C86","v":"Baug"},"Aaug","G#aug","Gaug","F#aug","Faug","Eaug",{"$f":"$C78","v":"Ebaug"},{"$f":"$C77","v":"Daug"},{"$f":"$C76","v":"C#aug"},{"$f":"$C75","v":"Caug"},{"$f":"$C86","v":"Baug"},null,"Bbaug",83]
[null,84,{"$f":"CONCATENATE($C$14,AD75)","v":"Baug"},"Bbaug","Aaug","G#aug","Gaug","F#aug","Faug",{"$f":"$C79","v":"Eaug"},{"$f":"$C78","v":"Ebaug"},{"$f":"$C77","v":"Daug"},{"$f":"$C76","v":"C#aug"},{"$f":"$C75","v":"Caug"},"Bbaug","Aaug","G#aug","Gaug","F#aug","Faug",{"$f":"$C79","v":"Eaug"},{"$f":"$C78","v":"Ebaug"},{"$f":"$C77","v":"Daug"},{"$f":"$C76","v":"C#aug"},{"$f":"$C75","v":"Caug"},null,"Baug",84]
[null,85,{"$f":"CONCATENATE($C$3,AD87)","v":"Csus2"},{"$f":"$C98","v":"Bsus2"},{"$f":"$C97","v":"Bbsus2"},{"$f":"$C96","v":"Asus2"},{"$f":"$C95","v":"G#sus2"},{"$f":"$C94","v":"Gsus2"},{"$f":"$C93","v":"F#sus2"},{"$f":"$C92","v":"Fsus2"},{"$f":"$C91","v":"Esus2"},{"$f":"$C90","v":"Ebsus2"},{"$f":"$C89","v":"Dsus2"},{"$f":"$C88","v":"C#sus2"},{"$f":"$C98","v":"Bsus2"},{"$f":"$C97","v":"Bbsus2"},{"$f":"$C96","v":"Asus2"},{"$f":"$C95","v":"G#sus2"},{"$f":"$C94","v":"Gsus2"},{"$f":"$C93","v":"F#sus2"},{"$f":"$C92","v":"Fsus2"},{"$f":"$C91","v":"Esus2"},{"$f":"$C90","v":"Ebsus2"},{"$f":"$C89","v":"Dsus2"},{"$f":"$C88","v":"C#sus2"},null,"Csus2",85,null,"sus2"]
[null,86,{"$f":"CONCATENATE($C$4,AD87)","v":"C#sus2"},{"$f":"$C87","v":"Csus2"},{"$f":"$C98","v":"Bsus2"},{"$f":"$C97","v":"Bbsus2"},{"$f":"$C96","v":"Asus2"},{"$f":"$C95","v":"G#sus2"},"Gsus2","F#sus2","Fsus2","Esus2","Ebsus2","Dsus2",{"$f":"$C87","v":"Csus2"},{"$f":"$C98","v":"Bsus2"},{"$f":"$C97","v":"Bbsus2"},{"$f":"$C96","v":"Asus2"},{"$f":"$C95","v":"G#sus2"},"Gsus2","F#sus2","Fsus2","Esus2","Ebsus2","Dsus2",null,"C#sus2",86]
[null,87,{"$f":"CONCATENATE($C$5,AD87)","v":"Dsus2"},{"$f":"$C88","v":"C#sus2"},{"$f":"$C87","v":"Csus2"},{"$f":"$C98","v":"Bsus2"},{"$f":"$C97","v":"Bbsus2"},{"$f":"$C96","v":"Asus2"},"G#sus2","Gsus2","F#sus2","Fsus2","Esus2","Ebsus2",{"$f":"$C88","v":"C#sus2"},{"$f":"$C87","v":"Csus2"},{"$f":"$C98","v":"Bsus2"},{"$f":"$C97","v":"Bbsus2"},{"$f":"$C96","v":"Asus2"},"G#sus2","Gsus2","F#sus2","Fsus2","Esus2","Ebsus2",null,"Dsus2",87]
[null,88,{"$f":"CONCATENATE($C$6,AD87)","v":"Ebsus2"},"Dsus2",{"$f":"$C88","v":"C#sus2"},{"$f":"$C87","v":"Csus2"},{"$f":"$C98","v":"Bsus2"},{"$f":"$C97","v":"Bbsus2"},"Asus2","G#sus2","Gsus2","F#sus2","Fsus2","Esus2","Dsus2",{"$f":"$C88","v":"C#sus2"},{"$f":"$C87","v":"Csus2"},{"$f":"$C98","v":"Bsus2"},{"$f":"$C97","v":"Bbsus2"},"Asus2","G#sus2","Gsus2","F#sus2","Fsus2","Esus2",null,"Ebsus2",88]
[null,89,{"$f":"CONCATENATE($C$7,AD87)","v":"Esus2"},"Ebsus2","Dsus2",{"$f":"$C88","v":"C#sus2"},{"$f":"$C87","v":"Csus2"},{"$f":"$C98","v":"Bsus2"},"Bbsus2","Asus2","G#sus2","Gsus2","F#sus2","Fsus2","Ebsus2","Dsus2",{"$f":"$C88","v":"C#sus2"},{"$f":"$C87","v":"Csus2"},{"$f":"$C98","v":"Bsus2"},"Bbsus2","Asus2","G#sus2","Gsus2","F#sus2","Fsus2",null,"Esus2",89]
[null,90,{"$f":"CONCATENATE($C$8,AD87)","v":"Fsus2"},"Esus2","Ebsus2","Dsus2",{"$f":"$C88","v":"C#sus2"},{"$f":"$C87","v":"Csus2"},"Bsus2","Bbsus2","Asus2","G#sus2","Gsus2","F#sus2","Esus2","Ebsus2","Dsus2",{"$f":"$C88","v":"C#sus2"},{"$f":"$C87","v":"Csus2"},"Bsus2","Bbsus2","Asus2","G#sus2","Gsus2","F#sus2",null,"Fsus2",90]
[null,91,{"$f":"CONCATENATE($C$9,AD87)","v":"F#sus2"},"Fsus2","Esus2","Ebsus2","Dsus2",{"$f":"$C88","v":"C#sus2"},{"$f":"$C87","v":"Csus2"},{"$f":"$C98","v":"Bsus2"},"Bbsus2","Asus2","G#sus2","Gsus2","Fsus2","Esus2","Ebsus2","Dsus2",{"$f":"$C88","v":"C#sus2"},{"$f":"$C87","v":"Csus2"},{"$f":"$C98","v":"Bsus2"},"Bbsus2","Asus2","G#sus2","Gsus2",null,"F#sus2",91]
[null,92,{"$f":"CONCATENATE($C$10,AD87)","v":"Gsus2"},"F#sus2","Fsus2","Esus2","Ebsus2","Dsus2","C#sus2",{"$f":"$C87","v":"Csus2"},{"$f":"$C98","v":"Bsus2"},"Bbsus2","Asus2","G#sus2","F#sus2","Fsus2","Esus2","Ebsus2","Dsus2","C#sus2",{"$f":"$C87","v":"Csus2"},{"$f":"$C98","v":"Bsus2"},"Bbsus2","Asus2","G#sus2",null,"Gsus2",92]
[null,93,{"$f":"CONCATENATE($C$11,AD87)","v":"G#sus2"},"Gsus2","F#sus2","Fsus2","Esus2","Ebsus2","Dsus2",{"$f":"$C88","v":"C#sus2"},{"$f":"$C87","v":"Csus2"},{"$f":"$C98","v":"Bsus2"},"Bbsus2","Asus2","Gsus2","F#sus2","Fsus2","Esus2","Ebsus2","Dsus2",{"$f":"$C88","v":"C#sus2"},{"$f":"$C87","v":"Csus2"},{"$f":"$C98","v":"Bsus2"},"Bbsus2","Asus2",null,"G#sus2",93]
[null,94,{"$f":"CONCATENATE($C$12,AD87)","v":"Asus2"},"G#sus2","Gsus2","F#sus2","Fsus2","Esus2","Ebsus2",{"$f":"$C89","v":"Dsus2"},{"$f":"$C88","v":"C#sus2"},{"$f":"$C87","v":"Csus2"},{"$f":"$C98","v":"Bsus2"},"Bbsus2","G#sus2","Gsus2","F#sus2","Fsus2","Esus2","Ebsus2",{"$f":"$C89","v":"Dsus2"},{"$f":"$C88","v":"C#sus2"},{"$f":"$C87","v":"Csus2"},{"$f":"$C98","v":"Bsus2"},"Bbsus2",null,"Asus2",94]
[null,95,{"$f":"CONCATENATE($C$13,AD87)","v":"Bbsus2"},"Asus2","G#sus2","Gsus2","F#sus2","Fsus2","Esus2",{"$f":"$C90","v":"Ebsus2"},{"$f":"$C89","v":"Dsus2"},{"$f":"$C88","v":"C#sus2"},{"$f":"$C87","v":"Csus2"},{"$f":"$C98","v":"Bsus2"},"Asus2","G#sus2","Gsus2","F#sus2","Fsus2","Esus2",{"$f":"$C90","v":"Ebsus2"},{"$f":"$C89","v":"Dsus2"},{"$f":"$C88","v":"C#sus2"},{"$f":"$C87","v":"Csus2"},{"$f":"$C98","v":"Bsus2"},null,"Bbsus2",95]
[null,96,{"$f":"CONCATENATE($C$14,AD87)","v":"Bsus2"},"Bbsus2","Asus2","G#sus2","Gsus2","F#sus2","Fsus2",{"$f":"$C91","v":"Esus2"},{"$f":"$C90","v":"Ebsus2"},{"$f":"$C89","v":"Dsus2"},{"$f":"$C88","v":"C#sus2"},{"$f":"$C87","v":"Csus2"},"Bbsus2","Asus2","G#sus2","Gsus2","F#sus2","Fsus2",{"$f":"$C91","v":"Esus2"},{"$f":"$C90","v":"Ebsus2"},{"$f":"$C89","v":"Dsus2"},{"$f":"$C88","v":"C#sus2"},{"$f":"$C87","v":"Csus2"},null,"Bsus2",96]
[null,97,{"$f":"CONCATENATE($C$3,AD99)","v":"Csus4"},{"$f":"$C110","v":"Bsus4"},{"$f":"$C109","v":"Bbsus4"},{"$f":"$C108","v":"Asus4"},{"$f":"$C107","v":"G#sus4"},{"$f":"$C106","v":"Gsus4"},{"$f":"$C105","v":"F#sus4"},{"$f":"$C104","v":"Fsus4"},{"$f":"$C103","v":"Esus4"},{"$f":"$C102","v":"Ebsus4"},{"$f":"$C101","v":"Dsus4"},{"$f":"$C100","v":"C#sus4"},{"$f":"$C110","v":"Bsus4"},{"$f":"$C109","v":"Bbsus4"},{"$f":"$C108","v":"Asus4"},{"$f":"$C107","v":"G#sus4"},{"$f":"$C106","v":"Gsus4"},{"$f":"$C105","v":"F#sus4"},{"$f":"$C104","v":"Fsus4"},{"$f":"$C103","v":"Esus4"},{"$f":"$C102","v":"Ebsus4"},{"$f":"$C101","v":"Dsus4"},{"$f":"$C100","v":"C#sus4"},null,"Csus4",97,null,"sus4"]
[null,98,{"$f":"CONCATENATE($C$4,AD99)","v":"C#sus4"},{"$f":"$C99","v":"Csus4"},{"$f":"$C110","v":"Bsus4"},{"$f":"$C109","v":"Bbsus4"},{"$f":"$C108","v":"Asus4"},{"$f":"$C107","v":"G#sus4"},"Gsus4","F#sus4","Fsus4","Esus4","Ebsus4","Dsus4",{"$f":"$C99","v":"Csus4"},{"$f":"$C110","v":"Bsus4"},{"$f":"$C109","v":"Bbsus4"},{"$f":"$C108","v":"Asus4"},{"$f":"$C107","v":"G#sus4"},"Gsus4","F#sus4","Fsus4","Esus4","Ebsus4","Dsus4",null,"C#sus4",98]
[null,99,{"$f":"CONCATENATE($C$5,AD99)","v":"Dsus4"},{"$f":"$C100","v":"C#sus4"},{"$f":"$C99","v":"Csus4"},{"$f":"$C110","v":"Bsus4"},{"$f":"$C109","v":"Bbsus4"},{"$f":"$C108","v":"Asus4"},"G#sus4","Gsus4","F#sus4","Fsus4","Esus4","Ebsus4",{"$f":"$C100","v":"C#sus4"},{"$f":"$C99","v":"Csus4"},{"$f":"$C110","v":"Bsus4"},{"$f":"$C109","v":"Bbsus4"},{"$f":"$C108","v":"Asus4"},"G#sus4","Gsus4","F#sus4","Fsus4","Esus4","Ebsus4",null,"Dsus4",99]
[null,100,{"$f":"CONCATENATE($C$6,AD99)","v":"Ebsus4"},"Dsus4",{"$f":"$C100","v":"C#sus4"},{"$f":"$C99","v":"Csus4"},{"$f":"$C110","v":"Bsus4"},{"$f":"$C109","v":"Bbsus4"},"Asus4","G#sus4","Gsus4","F#sus4","Fsus4","Esus4","Dsus4",{"$f":"$C100","v":"C#sus4"},{"$f":"$C99","v":"Csus4"},{"$f":"$C110","v":"Bsus4"},{"$f":"$C109","v":"Bbsus4"},"Asus4","G#sus4","Gsus4","F#sus4","Fsus4","Esus4",null,"Ebsus4",100]
[null,101,{"$f":"CONCATENATE($C$7,AD99)","v":"Esus4"},"Ebsus4","Dsus4",{"$f":"$C100","v":"C#sus4"},{"$f":"$C99","v":"Csus4"},{"$f":"$C110","v":"Bsus4"},"Bbsus4","Asus4","G#sus4","Gsus4","F#sus4","Fsus4","Ebsus4","Dsus4",{"$f":"$C100","v":"C#sus4"},{"$f":"$C99","v":"Csus4"},{"$f":"$C110","v":"Bsus4"},"Bbsus4","Asus4","G#sus4","Gsus4","F#sus4","Fsus4",null,"Esus4",101]
[null,102,{"$f":"CONCATENATE($C$8,AD99)","v":"Fsus4"},"Esus4","Ebsus4","Dsus4",{"$f":"$C100","v":"C#sus4"},{"$f":"$C99","v":"Csus4"},"Bsus4","Bbsus4","Asus4","G#sus4","Gsus4","F#sus4","Esus4","Ebsus4","Dsus4",{"$f":"$C100","v":"C#sus4"},{"$f":"$C99","v":"Csus4"},"Bsus4","Bbsus4","Asus4","G#sus4","Gsus4","F#sus4",null,"Fsus4",102]
[null,103,{"$f":"CONCATENATE($C$9,AD99)","v":"F#sus4"},"Fsus4","Esus4","Ebsus4","Dsus4",{"$f":"$C100","v":"C#sus4"},{"$f":"$C99","v":"Csus4"},{"$f":"$C110","v":"Bsus4"},"Bbsus4","Asus4","G#sus4","Gsus4","Fsus4","Esus4","Ebsus4","Dsus4",{"$f":"$C100","v":"C#sus4"},{"$f":"$C99","v":"Csus4"},{"$f":"$C110","v":"Bsus4"},"Bbsus4","Asus4","G#sus4","Gsus4",null,"F#sus4",103]
[null,104,{"$f":"CONCATENATE($C$10,AD99)","v":"Gsus4"},"F#sus4","Fsus4","Esus4","Ebsus4","Dsus4","C#sus4",{"$f":"$C99","v":"Csus4"},{"$f":"$C110","v":"Bsus4"},"Bbsus4","Asus4","G#sus4","F#sus4","Fsus4","Esus4","Ebsus4","Dsus4","C#sus4",{"$f":"$C99","v":"Csus4"},{"$f":"$C110","v":"Bsus4"},"Bbsus4","Asus4","G#sus4",null,"Gsus4",104]
[null,105,{"$f":"CONCATENATE($C$11,AD99)","v":"G#sus4"},"Gsus4","F#sus4","Fsus4","Esus4","Ebsus4","Dsus4",{"$f":"$C100","v":"C#sus4"},{"$f":"$C99","v":"Csus4"},{"$f":"$C110","v":"Bsus4"},"Bbsus4","Asus4","Gsus4","F#sus4","Fsus4","Esus4","Ebsus4","Dsus4",{"$f":"$C100","v":"C#sus4"},{"$f":"$C99","v":"Csus4"},{"$f":"$C110","v":"Bsus4"},"Bbsus4","Asus4",null,"G#sus4",105]
[null,106,{"$f":"CONCATENATE($C$12,AD99)","v":"Asus4"},"G#sus4","Gsus4","F#sus4","Fsus4","Esus4","Ebsus4",{"$f":"$C101","v":"Dsus4"},{"$f":"$C100","v":"C#sus4"},{"$f":"$C99","v":"Csus4"},{"$f":"$C110","v":"Bsus4"},"Bbsus4","G#sus4","Gsus4","F#sus4","Fsus4","Esus4","Ebsus4",{"$f":"$C101","v":"Dsus4"},{"$f":"$C100","v":"C#sus4"},{"$f":"$C99","v":"Csus4"},{"$f":"$C110","v":"Bsus4"},"Bbsus4",null,"Asus4",106]
[null,107,{"$f":"CONCATENATE($C$13,AD99)","v":"Bbsus4"},"Asus4","G#sus4","Gsus4","F#sus4","Fsus4","Esus4",{"$f":"$C102","v":"Ebsus4"},{"$f":"$C101","v":"Dsus4"},{"$f":"$C100","v":"C#sus4"},{"$f":"$C99","v":"Csus4"},{"$f":"$C110","v":"Bsus4"},"Asus4","G#sus4","Gsus4","F#sus4","Fsus4","Esus4",{"$f":"$C102","v":"Ebsus4"},{"$f":"$C101","v":"Dsus4"},{"$f":"$C100","v":"C#sus4"},{"$f":"$C99","v":"Csus4"},{"$f":"$C110","v":"Bsus4"},null,"Bbsus4",107]
[null,108,{"$f":"CONCATENATE($C$14,AD99)","v":"Bsus4"},"Bbsus4","Asus4","G#sus4","Gsus4","F#sus4","Fsus4",{"$f":"$C103","v":"Esus4"},{"$f":"$C102","v":"Ebsus4"},{"$f":"$C101","v":"Dsus4"},{"$f":"$C100","v":"C#sus4"},{"$f":"$C99","v":"Csus4"},"Bbsus4","Asus4","G#sus4","Gsus4","F#sus4","Fsus4",{"$f":"$C103","v":"Esus4"},{"$f":"$C102","v":"Ebsus4"},{"$f":"$C101","v":"Dsus4"},{"$f":"$C100","v":"C#sus4"},{"$f":"$C99","v":"Csus4"},null,"Bsus4",108]
[null,109,{"$f":"CONCATENATE($C$3,AD111)","v":"C5"},{"$f":"$C122","v":"B5"},{"$f":"$C121","v":"Bb5"},{"$f":"$C120","v":"A5"},{"$f":"$C119","v":"G#5"},{"$f":"$C118","v":"G5"},{"$f":"$C117","v":"F#5"},{"$f":"$C116","v":"F5"},{"$f":"$C115","v":"E5"},{"$f":"$C114","v":"Eb5"},{"$f":"$C113","v":"D5"},{"$f":"$C112","v":"C#5"},{"$f":"$C122","v":"B5"},{"$f":"$C121","v":"Bb5"},{"$f":"$C120","v":"A5"},{"$f":"$C119","v":"G#5"},{"$f":"$C118","v":"G5"},{"$f":"$C117","v":"F#5"},{"$f":"$C116","v":"F5"},{"$f":"$C115","v":"E5"},{"$f":"$C114","v":"Eb5"},{"$f":"$C113","v":"D5"},{"$f":"$C112","v":"C#5"},null,{"$f":"C111","v":"C5"},109,null,5]
[null,110,{"$f":"CONCATENATE($C$4,AD111)","v":"C#5"},{"$f":"$C111","v":"C5"},{"$f":"$C122","v":"B5"},{"$f":"$C121","v":"Bb5"},{"$f":"$C120","v":"A5"},{"$f":"$C119","v":"G#5"},"G5","F#5","F5","E5","Eb5","D5",{"$f":"$C111","v":"C5"},{"$f":"$C122","v":"B5"},{"$f":"$C121","v":"Bb5"},{"$f":"$C120","v":"A5"},{"$f":"$C119","v":"G#5"},"G5","F#5","F5","E5","Eb5","D5",null,"C#5",110]
[null,111,{"$f":"CONCATENATE($C$5,AD111)","v":"D5"},{"$f":"$C112","v":"C#5"},{"$f":"$C111","v":"C5"},{"$f":"$C122","v":"B5"},{"$f":"$C121","v":"Bb5"},{"$f":"$C120","v":"A5"},"G#5","G5","F#5","F5","E5","Eb5",{"$f":"$C112","v":"C#5"},{"$f":"$C111","v":"C5"},{"$f":"$C122","v":"B5"},{"$f":"$C121","v":"Bb5"},{"$f":"$C120","v":"A5"},"G#5","G5","F#5","F5","E5","Eb5",null,"D5",111]
[null,112,{"$f":"CONCATENATE($C$6,AD111)","v":"Eb5"},"D5",{"$f":"$C112","v":"C#5"},{"$f":"$C111","v":"C5"},{"$f":"$C122","v":"B5"},{"$f":"$C121","v":"Bb5"},"A5","G#5","G5","F#5","F5","E5","D5",{"$f":"$C112","v":"C#5"},{"$f":"$C111","v":"C5"},{"$f":"$C122","v":"B5"},{"$f":"$C121","v":"Bb5"},"A5","G#5","G5","F#5","F5","E5",null,"Eb5",112]
[null,113,{"$f":"CONCATENATE($C$7,AD111)","v":"E5"},"Eb5","D5",{"$f":"$C112","v":"C#5"},{"$f":"$C111","v":"C5"},{"$f":"$C122","v":"B5"},"Bb5","A5","G#5","G5","F#5","F5","Eb5","D5",{"$f":"$C112","v":"C#5"},{"$f":"$C111","v":"C5"},{"$f":"$C122","v":"B5"},"Bb5","A5","G#5","G5","F#5","F5",null,"E5",113]
[null,114,{"$f":"CONCATENATE($C$8,AD111)","v":"F5"},"E5","Eb5","D5",{"$f":"$C112","v":"C#5"},{"$f":"$C111","v":"C5"},"B5","Bb5","A5","G#5","G5","F#5","E5","Eb5","D5",{"$f":"$C112","v":"C#5"},{"$f":"$C111","v":"C5"},"B5","Bb5","A5","G#5","G5","F#5",null,"F5",114]
[null,115,{"$f":"CONCATENATE($C$9,AD111)","v":"F#5"},"F5","E5","Eb5","D5",{"$f":"$C112","v":"C#5"},{"$f":"$C111","v":"C5"},{"$f":"$C122","v":"B5"},"Bb5","A5","G#5","G5","F5","E5","Eb5","D5",{"$f":"$C112","v":"C#5"},{"$f":"$C111","v":"C5"},{"$f":"$C122","v":"B5"},"Bb5","A5","G#5","G5",null,"F#5",115]
[null,116,{"$f":"CONCATENATE($C$10,AD111)","v":"G5"},"F#5","F5","E5","Eb5","D5","C#5",{"$f":"$C111","v":"C5"},{"$f":"$C122","v":"B5"},"Bb5","A5","G#5","F#5","F5","E5","Eb5","D5","C#5",{"$f":"$C111","v":"C5"},{"$f":"$C122","v":"B5"},"Bb5","A5","G#5",null,"G5",116]
[null,117,{"$f":"CONCATENATE($C$11,AD111)","v":"G#5"},"G5","F#5","F5","E5","Eb5","D5",{"$f":"$C112","v":"C#5"},{"$f":"$C111","v":"C5"},{"$f":"$C122","v":"B5"},"Bb5","A5","G5","F#5","F5","E5","Eb5","D5",{"$f":"$C112","v":"C#5"},{"$f":"$C111","v":"C5"},{"$f":"$C122","v":"B5"},"Bb5","A5",null,"G#5",117]
[null,118,{"$f":"CONCATENATE($C$12,AD111)","v":"A5"},"G#5","G5","F#5","F5","E5","Eb5",{"$f":"$C113","v":"D5"},{"$f":"$C112","v":"C#5"},{"$f":"$C111","v":"C5"},{"$f":"$C122","v":"B5"},"Bb5","G#5","G5","F#5","F5","E5","Eb5",{"$f":"$C113","v":"D5"},{"$f":"$C112","v":"C#5"},{"$f":"$C111","v":"C5"},{"$f":"$C122","v":"B5"},"Bb5",null,"A5",118]
[null,119,{"$f":"CONCATENATE($C$13,AD111)","v":"Bb5"},"A5","G#5","G5","F#5","F5","E5",{"$f":"$C114","v":"Eb5"},{"$f":"$C113","v":"D5"},{"$f":"$C112","v":"C#5"},{"$f":"$C111","v":"C5"},{"$f":"$C122","v":"B5"},"A5","G#5","G5","F#5","F5","E5",{"$f":"$C114","v":"Eb5"},{"$f":"$C113","v":"D5"},{"$f":"$C112","v":"C#5"},{"$f":"$C111","v":"C5"},{"$f":"$C122","v":"B5"},null,"Bb5",119]
[null,120,{"$f":"CONCATENATE($C$14,AD111)","v":"B5"},"Bb5","A5","G#5","G5","F#5","F5",{"$f":"$C115","v":"E5"},{"$f":"$C114","v":"Eb5"},{"$f":"$C113","v":"D5"},{"$f":"$C112","v":"C#5"},{"$f":"$C111","v":"C5"},"Bb5","A5","G#5","G5","F#5","F5",{"$f":"$C115","v":"E5"},{"$f":"$C114","v":"Eb5"},{"$f":"$C113","v":"D5"},{"$f":"$C112","v":"C#5"},{"$f":"$C111","v":"C5"},null,"B5",120]
[null,121,{"$f":"CONCATENATE($C$3,AD123)","v":"C-5"},{"$f":"$C134","v":"B-5"},{"$f":"$C133","v":"Bb-5"},{"$f":"$C132","v":"A-5"},{"$f":"$C131","v":"G#-5"},{"$f":"$C130","v":"G-5"},{"$f":"$C129","v":"F#-5"},{"$f":"$C128","v":"F-5"},{"$f":"$C127","v":"E-5"},{"$f":"$C126","v":"Eb-5"},{"$f":"$C125","v":"D-5"},{"$f":"$C124","v":"C#-5"},{"$f":"$C134","v":"B-5"},{"$f":"$C133","v":"Bb-5"},{"$f":"$C132","v":"A-5"},{"$f":"$C131","v":"G#-5"},{"$f":"$C130","v":"G-5"},{"$f":"$C129","v":"F#-5"},{"$f":"$C128","v":"F-5"},{"$f":"$C127","v":"E-5"},{"$f":"$C126","v":"Eb-5"},{"$f":"$C125","v":"D-5"},{"$f":"$C124","v":"C#-5"},null,{"$f":"C123","v":"C-5"},121,null,"-5"]
[null,122,{"$f":"CONCATENATE($C$4,AD123)","v":"C#-5"},{"$f":"$C123","v":"C-5"},{"$f":"$C134","v":"B-5"},{"$f":"$C133","v":"Bb-5"},{"$f":"$C132","v":"A-5"},{"$f":"$C131","v":"G#-5"},"G-5","F#-5","F-5","E-5","Eb-5","D-5",{"$f":"$C123","v":"C-5"},{"$f":"$C134","v":"B-5"},{"$f":"$C133","v":"Bb-5"},{"$f":"$C132","v":"A-5"},{"$f":"$C131","v":"G#-5"},"G-5","F#-5","F-5","E-5","Eb-5","D-5",null,"C#-5",122]
[null,123,{"$f":"CONCATENATE($C$5,AD123)","v":"D-5"},{"$f":"$C124","v":"C#-5"},{"$f":"$C123","v":"C-5"},{"$f":"$C134","v":"B-5"},{"$f":"$C133","v":"Bb-5"},{"$f":"$C132","v":"A-5"},"G#-5","G-5","F#-5","F-5","E-5","Eb-5",{"$f":"$C124","v":"C#-5"},{"$f":"$C123","v":"C-5"},{"$f":"$C134","v":"B-5"},{"$f":"$C133","v":"Bb-5"},{"$f":"$C132","v":"A-5"},"G#-5","G-5","F#-5","F-5","E-5","Eb-5",null,"D-5",123]
[null,124,{"$f":"CONCATENATE($C$6,AD123)","v":"Eb-5"},"D-5",{"$f":"$C124","v":"C#-5"},{"$f":"$C123","v":"C-5"},{"$f":"$C134","v":"B-5"},{"$f":"$C133","v":"Bb-5"},"A-5","G#-5","G-5","F#-5","F-5","E-5","D-5",{"$f":"$C124","v":"C#-5"},{"$f":"$C123","v":"C-5"},{"$f":"$C134","v":"B-5"},{"$f":"$C133","v":"Bb-5"},"A-5","G#-5","G-5","F#-5","F-5","E-5",null,"Eb-5",124]
[null,125,{"$f":"CONCATENATE($C$7,AD123)","v":"E-5"},"Eb-5","D-5",{"$f":"$C124","v":"C#-5"},{"$f":"$C123","v":"C-5"},{"$f":"$C134","v":"B-5"},"Bb-5","A-5","G#-5","G-5","F#-5","F-5","Eb-5","D-5",{"$f":"$C124","v":"C#-5"},{"$f":"$C123","v":"C-5"},{"$f":"$C134","v":"B-5"},"Bb-5","A-5","G#-5","G-5","F#-5","F-5",null,"E-5",125]
[null,126,{"$f":"CONCATENATE($C$8,AD123)","v":"F-5"},"E-5","Eb-5","D-5",{"$f":"$C124","v":"C#-5"},{"$f":"$C123","v":"C-5"},"B-5","Bb-5","A-5","G#-5","G-5","F#-5","E-5","Eb-5","D-5",{"$f":"$C124","v":"C#-5"},{"$f":"$C123","v":"C-5"},"B-5","Bb-5","A-5","G#-5","G-5","F#-5",null,"F-5",126]
[null,127,{"$f":"CONCATENATE($C$9,AD123)","v":"F#-5"},"F-5","E-5","Eb-5","D-5",{"$f":"$C124","v":"C#-5"},{"$f":"$C123","v":"C-5"},{"$f":"$C134","v":"B-5"},"Bb-5","A-5","G#-5","G-5","F-5","E-5","Eb-5","D-5",{"$f":"$C124","v":"C#-5"},{"$f":"$C123","v":"C-5"},{"$f":"$C134","v":"B-5"},"Bb-5","A-5","G#-5","G-5",null,"F#-5",127]
[null,128,{"$f":"CONCATENATE($C$10,AD123)","v":"G-5"},"F#-5","F-5","E-5","Eb-5","D-5","C#-5",{"$f":"$C123","v":"C-5"},{"$f":"$C134","v":"B-5"},"Bb-5","A-5","G#-5","F#-5","F-5","E-5","Eb-5","D-5","C#-5",{"$f":"$C123","v":"C-5"},{"$f":"$C134","v":"B-5"},"Bb-5","A-5","G#-5",null,"G-5",128]
[null,129,{"$f":"CONCATENATE($C$11,AD123)","v":"G#-5"},"G-5","F#-5","F-5","E-5","Eb-5","D-5",{"$f":"$C124","v":"C#-5"},{"$f":"$C123","v":"C-5"},{"$f":"$C134","v":"B-5"},"Bb-5","A-5","G-5","F#-5","F-5","E-5","Eb-5","D-5",{"$f":"$C124","v":"C#-5"},{"$f":"$C123","v":"C-5"},{"$f":"$C134","v":"B-5"},"Bb-5","A-5",null,"G#-5",{"$f":"B131","v":129}]
[null,130,{"$f":"CONCATENATE($C$12,AD123)","v":"A-5"},"G#-5","G-5","F#-5","F-5","E-5","Eb-5",{"$f":"$C125","v":"D-5"},{"$f":"$C124","v":"C#-5"},{"$f":"$C123","v":"C-5"},{"$f":"$C134","v":"B-5"},"Bb-5","G#-5","G-5","F#-5","F-5","E-5","Eb-5",{"$f":"$C125","v":"D-5"},{"$f":"$C124","v":"C#-5"},{"$f":"$C123","v":"C-5"},{"$f":"$C134","v":"B-5"},"Bb-5",null,"A-5",130]
[null,131,{"$f":"CONCATENATE($C$13,AD123)","v":"Bb-5"},"A-5","G#-5","G-5","F#-5","F-5","E-5",{"$f":"$C126","v":"Eb-5"},{"$f":"$C125","v":"D-5"},{"$f":"$C124","v":"C#-5"},{"$f":"$C123","v":"C-5"},{"$f":"$C134","v":"B-5"},"A-5","G#-5","G-5","F#-5","F-5","E-5",{"$f":"$C126","v":"Eb-5"},{"$f":"$C125","v":"D-5"},{"$f":"$C124","v":"C#-5"},{"$f":"$C123","v":"C-5"},{"$f":"$C134","v":"B-5"},null,"Bb-5",131]
[null,132,{"$f":"CONCATENATE($C$14,AD123)","v":"B-5"},"Bb-5","A-5","G#-5","G-5","F#-5","F-5",{"$f":"$C127","v":"E-5"},{"$f":"$C126","v":"Eb-5"},{"$f":"$C125","v":"D-5"},{"$f":"$C124","v":"C#-5"},{"$f":"$C123","v":"C-5"},"Bb-5","A-5","G#-5","G-5","F#-5","F-5",{"$f":"$C127","v":"E-5"},{"$f":"$C126","v":"Eb-5"},{"$f":"$C125","v":"D-5"},{"$f":"$C124","v":"C#-5"},{"$f":"$C123","v":"C-5"},null,"B-5",132]
[null,133,{"$f":"CONCATENATE($C$3,AD135)","v":"C6"},{"$f":"$C146","v":"B6"},{"$f":"$C145","v":"Bb6"},{"$f":"$C144","v":"A6"},{"$f":"$C143","v":"G#6"},{"$f":"$C142","v":"G6"},{"$f":"$C141","v":"F#6"},{"$f":"$C140","v":"F6"},{"$f":"$C139","v":"E6"},{"$f":"$C138","v":"Eb6"},{"$f":"$C137","v":"D6"},{"$f":"$C136","v":"C#6"},{"$f":"$C146","v":"B6"},{"$f":"$C145","v":"Bb6"},{"$f":"$C144","v":"A6"},{"$f":"$C143","v":"G#6"},{"$f":"$C142","v":"G6"},{"$f":"$C141","v":"F#6"},{"$f":"$C140","v":"F6"},{"$f":"$C139","v":"E6"},{"$f":"$C138","v":"Eb6"},{"$f":"$C137","v":"D6"},{"$f":"$C136","v":"C#6"},null,"C6",133,null,6]
[null,134,{"$f":"CONCATENATE($C$4,AD135)","v":"C#6"},{"$f":"$C135","v":"C6"},{"$f":"$C146","v":"B6"},{"$f":"$C145","v":"Bb6"},{"$f":"$C144","v":"A6"},{"$f":"$C143","v":"G#6"},"G6","F#6","F6","E6","Eb6","D6",{"$f":"$C135","v":"C6"},{"$f":"$C146","v":"B6"},{"$f":"$C145","v":"Bb6"},{"$f":"$C144","v":"A6"},{"$f":"$C143","v":"G#6"},"G6","F#6","F6","E6","Eb6","D6",null,"C#6",134]
[null,135,{"$f":"CONCATENATE($C$5,AD135)","v":"D6"},{"$f":"$C136","v":"C#6"},{"$f":"$C135","v":"C6"},{"$f":"$C146","v":"B6"},{"$f":"$C145","v":"Bb6"},{"$f":"$C144","v":"A6"},"G#6","G6","F#6","F6","E6","Eb6",{"$f":"$C136","v":"C#6"},{"$f":"$C135","v":"C6"},{"$f":"$C146","v":"B6"},{"$f":"$C145","v":"Bb6"},{"$f":"$C144","v":"A6"},"G#6","G6","F#6","F6","E6","Eb6",null,"D6",135]
[null,136,{"$f":"CONCATENATE($C$6,AD135)","v":"Eb6"},"D6",{"$f":"$C136","v":"C#6"},{"$f":"$C135","v":"C6"},{"$f":"$C146","v":"B6"},{"$f":"$C145","v":"Bb6"},"A6","G#6","G6","F#6","F6","E6","D6",{"$f":"$C136","v":"C#6"},{"$f":"$C135","v":"C6"},{"$f":"$C146","v":"B6"},{"$f":"$C145","v":"Bb6"},"A6","G#6","G6","F#6","F6","E6",null,"Eb6",136]
[null,137,{"$f":"CONCATENATE($C$7,AD135)","v":"E6"},"Eb6","D6",{"$f":"$C136","v":"C#6"},{"$f":"$C135","v":"C6"},{"$f":"$C146","v":"B6"},"Bb6","A6","G#6","G6","F#6","F6","Eb6","D6",{"$f":"$C136","v":"C#6"},{"$f":"$C135","v":"C6"},{"$f":"$C146","v":"B6"},"Bb6","A6","G#6","G6","F#6","F6",null,"E6",137]
[null,138,{"$f":"CONCATENATE($C$8,AD135)","v":"F6"},"E6","Eb6","D6",{"$f":"$C136","v":"C#6"},{"$f":"$C135","v":"C6"},"B6","Bb6","A6","G#6","G6","F#6","E6","Eb6","D6",{"$f":"$C136","v":"C#6"},{"$f":"$C135","v":"C6"},"B6","Bb6","A6","G#6","G6","F#6",null,"F6",138]
[null,139,{"$f":"CONCATENATE($C$9,AD135)","v":"F#6"},"F6","E6","Eb6","D6",{"$f":"$C136","v":"C#6"},{"$f":"$C135","v":"C6"},{"$f":"$C146","v":"B6"},"Bb6","A6","G#6","G6","F6","E6","Eb6","D6",{"$f":"$C136","v":"C#6"},{"$f":"$C135","v":"C6"},{"$f":"$C146","v":"B6"},"Bb6","A6","G#6","G6",null,"F#6",139]
[null,140,{"$f":"CONCATENATE($C$10,AD135)","v":"G6"},"F#6","F6","E6","Eb6","D6","C#6",{"$f":"$C135","v":"C6"},{"$f":"$C146","v":"B6"},"Bb6","A6","G#6","F#6","F6","E6","Eb6","D6","C#6",{"$f":"$C135","v":"C6"},{"$f":"$C146","v":"B6"},"Bb6","A6","G#6",null,"G6",140]
[null,141,{"$f":"CONCATENATE($C$11,AD135)","v":"G#6"},"G6","F#6","F6","E6","Eb6","D6",{"$f":"$C136","v":"C#6"},{"$f":"$C135","v":"C6"},{"$f":"$C146","v":"B6"},"Bb6","A6","G6","F#6","F6","E6","Eb6","D6",{"$f":"$C136","v":"C#6"},{"$f":"$C135","v":"C6"},{"$f":"$C146","v":"B6"},"Bb6","A6",null,"G#6",141]
[null,142,{"$f":"CONCATENATE($C$12,AD135)","v":"A6"},"G#6","G6","F#6","F6","E6","Eb6",{"$f":"$C137","v":"D6"},{"$f":"$C136","v":"C#6"},{"$f":"$C135","v":"C6"},{"$f":"$C146","v":"B6"},"Bb6","G#6","G6","F#6","F6","E6","Eb6",{"$f":"$C137","v":"D6"},{"$f":"$C136","v":"C#6"},{"$f":"$C135","v":"C6"},{"$f":"$C146","v":"B6"},"Bb6",null,"A6",142]
[null,143,{"$f":"CONCATENATE($C$13,AD135)","v":"Bb6"},"A6","G#6","G6","F#6","F6","E6",{"$f":"$C138","v":"Eb6"},{"$f":"$C137","v":"D6"},{"$f":"$C136","v":"C#6"},{"$f":"$C135","v":"C6"},{"$f":"$C146","v":"B6"},"A6","G#6","G6","F#6","F6","E6",{"$f":"$C138","v":"Eb6"},{"$f":"$C137","v":"D6"},{"$f":"$C136","v":"C#6"},{"$f":"$C135","v":"C6"},{"$f":"$C146","v":"B6"},null,"Bb6",143]
[null,144,{"$f":"CONCATENATE($C$14,AD135)","v":"B6"},"Bb6","A6","G#6","G6","F#6","F6",{"$f":"$C139","v":"E6"},{"$f":"$C138","v":"Eb6"},{"$f":"$C137","v":"D6"},{"$f":"$C136","v":"C#6"},{"$f":"$C135","v":"C6"},"Bb6","A6","G#6","G6","F#6","F6",{"$f":"$C139","v":"E6"},{"$f":"$C138","v":"Eb6"},{"$f":"$C137","v":"D6"},{"$f":"$C136","v":"C#6"},{"$f":"$C135","v":"C6"},null,"B6",144]
[null,145,{"$f":"CONCATENATE($C$3,AD147)","v":"C69"},{"$f":"$C158","v":"B69"},{"$f":"$C157","v":"Bb69"},{"$f":"$C156","v":"A69"},{"$f":"$C155","v":"G#69"},{"$f":"$C154","v":"G69"},{"$f":"$C153","v":"F#69"},{"$f":"$C152","v":"F69"},{"$f":"$C151","v":"E69"},{"$f":"$C150","v":"Eb69"},{"$f":"$C149","v":"D69"},{"$f":"$C148","v":"C#69"},{"$f":"$C158","v":"B69"},{"$f":"$C157","v":"Bb69"},{"$f":"$C156","v":"A69"},{"$f":"$C155","v":"G#69"},{"$f":"$C154","v":"G69"},{"$f":"$C153","v":"F#69"},{"$f":"$C152","v":"F69"},{"$f":"$C151","v":"E69"},{"$f":"$C150","v":"Eb69"},{"$f":"$C149","v":"D69"},{"$f":"$C148","v":"C#69"},null,"C69",145,null,69]
[null,146,{"$f":"CONCATENATE($C$4,AD147)","v":"C#69"},{"$f":"$C147","v":"C69"},{"$f":"$C158","v":"B69"},{"$f":"$C157","v":"Bb69"},{"$f":"$C156","v":"A69"},{"$f":"$C155","v":"G#69"},"G69","F#69","F69","E69","Eb69","D69",{"$f":"$C147","v":"C69"},{"$f":"$C158","v":"B69"},{"$f":"$C157","v":"Bb69"},{"$f":"$C156","v":"A69"},{"$f":"$C155","v":"G#69"},"G69","F#69","F69","E69","Eb69","D69",null,"C#69",146]
[null,147,{"$f":"CONCATENATE($C$5,AD147)","v":"D69"},{"$f":"$C148","v":"C#69"},{"$f":"$C147","v":"C69"},{"$f":"$C158","v":"B69"},{"$f":"$C157","v":"Bb69"},{"$f":"$C156","v":"A69"},"G#69","G69","F#69","F69","E69","Eb69",{"$f":"$C148","v":"C#69"},{"$f":"$C147","v":"C69"},{"$f":"$C158","v":"B69"},{"$f":"$C157","v":"Bb69"},{"$f":"$C156","v":"A69"},"G#69","G69","F#69","F69","E69","Eb69",null,"D69",147]
[null,148,{"$f":"CONCATENATE($C$6,AD147)","v":"Eb69"},"D69",{"$f":"$C148","v":"C#69"},{"$f":"$C147","v":"C69"},{"$f":"$C158","v":"B69"},{"$f":"$C157","v":"Bb69"},"A69","G#69","G69","F#69","F69","E69","D69",{"$f":"$C148","v":"C#69"},{"$f":"$C147","v":"C69"},{"$f":"$C158","v":"B69"},{"$f":"$C157","v":"Bb69"},"A69","G#69","G69","F#69","F69","E69",null,"Eb69",148]
[null,149,{"$f":"CONCATENATE($C$7,AD147)","v":"E69"},"Eb69","D69",{"$f":"$C148","v":"C#69"},{"$f":"$C147","v":"C69"},{"$f":"$C158","v":"B69"},"Bb69","A69","G#69","G69","F#69","F69","Eb69","D69",{"$f":"$C148","v":"C#69"},{"$f":"$C147","v":"C69"},{"$f":"$C158","v":"B69"},"Bb69","A69","G#69","G69","F#69","F69",null,"E69",149]
[null,150,{"$f":"CONCATENATE($C$8,AD147)","v":"F69"},"E69","Eb69","D69",{"$f":"$C148","v":"C#69"},{"$f":"$C147","v":"C69"},"B69","Bb69","A69","G#69","G69","F#69","E69","Eb69","D69",{"$f":"$C148","v":"C#69"},{"$f":"$C147","v":"C69"},"B69","Bb69","A69","G#69","G69","F#69",null,"F69",150]
[null,151,{"$f":"CONCATENATE($C$9,AD147)","v":"F#69"},"F69","E69","Eb69","D69",{"$f":"$C148","v":"C#69"},{"$f":"$C147","v":"C69"},{"$f":"$C158","v":"B69"},"Bb69","A69","G#69","G69","F69","E69","Eb69","D69",{"$f":"$C148","v":"C#69"},{"$f":"$C147","v":"C69"},{"$f":"$C158","v":"B69"},"Bb69","A69","G#69","G69",null,"F#69",151]
[null,152,{"$f":"CONCATENATE($C$10,AD147)","v":"G69"},"F#69","F69","E69","Eb69","D69","C#69",{"$f":"$C147","v":"C69"},{"$f":"$C158","v":"B69"},"Bb69","A69","G#69","F#69","F69","E69","Eb69","D69","C#69",{"$f":"$C147","v":"C69"},{"$f":"$C158","v":"B69"},"Bb69","A69","G#69",null,"G69",152]
[null,153,{"$f":"CONCATENATE($C$11,AD147)","v":"G#69"},"G69","F#69","F69","E69","Eb69","D69",{"$f":"$C148","v":"C#69"},{"$f":"$C147","v":"C69"},{"$f":"$C158","v":"B69"},"Bb69","A69","G69","F#69","F69","E69","Eb69","D69",{"$f":"$C148","v":"C#69"},{"$f":"$C147","v":"C69"},{"$f":"$C158","v":"B69"},"Bb69","A69",null,"G#69",153]
[null,154,{"$f":"CONCATENATE($C$12,AD147)","v":"A69"},"G#69","G69","F#69","F69","E69","Eb69",{"$f":"$C149","v":"D69"},{"$f":"$C148","v":"C#69"},{"$f":"$C147","v":"C69"},{"$f":"$C158","v":"B69"},"Bb69","G#69","G69","F#69","F69","E69","Eb69",{"$f":"$C149","v":"D69"},{"$f":"$C148","v":"C#69"},{"$f":"$C147","v":"C69"},{"$f":"$C158","v":"B69"},"Bb69",null,"A69",154]
[null,155,{"$f":"CONCATENATE($C$13,AD147)","v":"Bb69"},"A69","G#69","G69","F#69","F69","E69",{"$f":"$C150","v":"Eb69"},{"$f":"$C149","v":"D69"},{"$f":"$C148","v":"C#69"},{"$f":"$C147","v":"C69"},{"$f":"$C158","v":"B69"},"A69","G#69","G69","F#69","F69","E69",{"$f":"$C150","v":"Eb69"},{"$f":"$C149","v":"D69"},{"$f":"$C148","v":"C#69"},{"$f":"$C147","v":"C69"},{"$f":"$C158","v":"B69"},null,"Bb69",155]
[null,156,{"$f":"CONCATENATE($C$14,AD147)","v":"B69"},"Bb69","A69","G#69","G69","F#69","F69",{"$f":"$C151","v":"E69"},{"$f":"$C150","v":"Eb69"},{"$f":"$C149","v":"D69"},{"$f":"$C148","v":"C#69"},{"$f":"$C147","v":"C69"},"Bb69","A69","G#69","G69","F#69","F69",{"$f":"$C151","v":"E69"},{"$f":"$C150","v":"Eb69"},{"$f":"$C149","v":"D69"},{"$f":"$C148","v":"C#69"},{"$f":"$C147","v":"C69"},null,"B69",156]
[null,157,{"$f":"CONCATENATE($C$3,AD159)","v":"C6/9"},{"$f":"$C170","v":"B6/9"},{"$f":"$C169","v":"Bb6/9"},{"$f":"$C168","v":"A6/9"},{"$f":"$C167","v":"G#6/9"},{"$f":"$C166","v":"G6/9"},{"$f":"$C165","v":"F#6/9"},{"$f":"$C164","v":"F6/9"},{"$f":"$C163","v":"E6/9"},{"$f":"$C162","v":"Eb6/9"},{"$f":"$C161","v":"D6/9"},{"$f":"$C160","v":"C#6/9"},{"$f":"$C170","v":"B6/9"},{"$f":"$C169","v":"Bb6/9"},{"$f":"$C168","v":"A6/9"},{"$f":"$C167","v":"G#6/9"},{"$f":"$C166","v":"G6/9"},{"$f":"$C165","v":"F#6/9"},{"$f":"$C164","v":"F6/9"},{"$f":"$C163","v":"E6/9"},{"$f":"$C162","v":"Eb6/9"},{"$f":"$C161","v":"D6/9"},{"$f":"$C160","v":"C#6/9"},null,{"$f":"C159","v":"C6/9"},157,null,"6/9"]
[null,158,{"$f":"CONCATENATE($C$4,AD159)","v":"C#6/9"},{"$f":"$C159","v":"C6/9"},{"$f":"$C170","v":"B6/9"},{"$f":"$C169","v":"Bb6/9"},{"$f":"$C168","v":"A6/9"},{"$f":"$C167","v":"G#6/9"},"G6/9","F#6/9","F6/9","E6/9","Eb6/9","D6/9",{"$f":"$C159","v":"C6/9"},{"$f":"$C170","v":"B6/9"},{"$f":"$C169","v":"Bb6/9"},{"$f":"$C168","v":"A6/9"},{"$f":"$C167","v":"G#6/9"},"G6/9","F#6/9","F6/9","E6/9","Eb6/9","D6/9",null,"C#6/9",158]
[null,159,{"$f":"CONCATENATE($C$5,AD159)","v":"D6/9"},{"$f":"$C160","v":"C#6/9"},{"$f":"$C159","v":"C6/9"},{"$f":"$C170","v":"B6/9"},{"$f":"$C169","v":"Bb6/9"},{"$f":"$C168","v":"A6/9"},"G#6/9","G6/9","F#6/9","F6/9","E6/9","Eb6/9",{"$f":"$C160","v":"C#6/9"},{"$f":"$C159","v":"C6/9"},{"$f":"$C170","v":"B6/9"},{"$f":"$C169","v":"Bb6/9"},{"$f":"$C168","v":"A6/9"},"G#6/9","G6/9","F#6/9","F6/9","E6/9","Eb6/9",null,"D6/9",159]
[null,160,{"$f":"CONCATENATE($C$6,AD159)","v":"Eb6/9"},"D6/9",{"$f":"$C160","v":"C#6/9"},{"$f":"$C159","v":"C6/9"},{"$f":"$C170","v":"B6/9"},{"$f":"$C169","v":"Bb6/9"},"A6/9","G#6/9","G6/9","F#6/9","F6/9","E6/9","D6/9",{"$f":"$C160","v":"C#6/9"},{"$f":"$C159","v":"C6/9"},{"$f":"$C170","v":"B6/9"},{"$f":"$C169","v":"Bb6/9"},"A6/9","G#6/9","G6/9","F#6/9","F6/9","E6/9",null,"Eb6/9",160]
[null,161,{"$f":"CONCATENATE($C$7,AD159)","v":"E6/9"},"Eb6/9","D6/9",{"$f":"$C160","v":"C#6/9"},{"$f":"$C159","v":"C6/9"},{"$f":"$C170","v":"B6/9"},"Bb6/9","A6/9","G#6/9","G6/9","F#6/9","F6/9","Eb6/9","D6/9",{"$f":"$C160","v":"C#6/9"},{"$f":"$C159","v":"C6/9"},{"$f":"$C170","v":"B6/9"},"Bb6/9","A6/9","G#6/9","G6/9","F#6/9","F6/9",null,"E6/9",161]
[null,162,{"$f":"CONCATENATE($C$8,AD159)","v":"F6/9"},"E6/9","Eb6/9","D6/9",{"$f":"$C160","v":"C#6/9"},{"$f":"$C159","v":"C6/9"},"B6/9","Bb6/9","A6/9","G#6/9","G6/9","F#6/9","E6/9","Eb6/9","D6/9",{"$f":"$C160","v":"C#6/9"},{"$f":"$C159","v":"C6/9"},"B6/9","Bb6/9","A6/9","G#6/9","G6/9","F#6/9",null,"F6/9",162]
[null,163,{"$f":"CONCATENATE($C$9,AD159)","v":"F#6/9"},"F6/9","E6/9","Eb6/9","D6/9",{"$f":"$C160","v":"C#6/9"},{"$f":"$C159","v":"C6/9"},{"$f":"$C170","v":"B6/9"},"Bb6/9","A6/9","G#6/9","G6/9","F6/9","E6/9","Eb6/9","D6/9",{"$f":"$C160","v":"C#6/9"},{"$f":"$C159","v":"C6/9"},{"$f":"$C170","v":"B6/9"},"Bb6/9","A6/9","G#6/9","G6/9",null,"F#6/9",163]
[null,164,{"$f":"CONCATENATE($C$10,AD159)","v":"G6/9"},"F#6/9","F6/9","E6/9","Eb6/9","D6/9","C#6/9",{"$f":"$C159","v":"C6/9"},{"$f":"$C170","v":"B6/9"},"Bb6/9","A6/9","G#6/9","F#6/9","F6/9","E6/9","Eb6/9","D6/9","C#6/9",{"$f":"$C159","v":"C6/9"},{"$f":"$C170","v":"B6/9"},"Bb6/9","A6/9","G#6/9",null,"G6/9",164]
[null,165,{"$f":"CONCATENATE($C$11,AD159)","v":"G#6/9"},"G6/9","F#6/9","F6/9","E6/9","Eb6/9","D6/9",{"$f":"$C160","v":"C#6/9"},{"$f":"$C159","v":"C6/9"},{"$f":"$C170","v":"B6/9"},"Bb6/9","A6/9","G6/9","F#6/9","F6/9","E6/9","Eb6/9","D6/9",{"$f":"$C160","v":"C#6/9"},{"$f":"$C159","v":"C6/9"},{"$f":"$C170","v":"B6/9"},"Bb6/9","A6/9",null,"G#6/9",165]
[null,166,{"$f":"CONCATENATE($C$12,AD159)","v":"A6/9"},"G#6/9","G6/9","F#6/9","F6/9","E6/9","Eb6/9",{"$f":"$C161","v":"D6/9"},{"$f":"$C160","v":"C#6/9"},{"$f":"$C159","v":"C6/9"},{"$f":"$C170","v":"B6/9"},"Bb6/9","G#6/9","G6/9","F#6/9","F6/9","E6/9","Eb6/9",{"$f":"$C161","v":"D6/9"},{"$f":"$C160","v":"C#6/9"},{"$f":"$C159","v":"C6/9"},{"$f":"$C170","v":"B6/9"},"Bb6/9",null,"A6/9",166]
[null,167,{"$f":"CONCATENATE($C$13,AD159)","v":"Bb6/9"},"A6/9","G#6/9","G6/9","F#6/9","F6/9","E6/9",{"$f":"$C162","v":"Eb6/9"},{"$f":"$C161","v":"D6/9"},{"$f":"$C160","v":"C#6/9"},{"$f":"$C159","v":"C6/9"},{"$f":"$C170","v":"B6/9"},"A6/9","G#6/9","G6/9","F#6/9","F6/9","E6/9",{"$f":"$C162","v":"Eb6/9"},{"$f":"$C161","v":"D6/9"},{"$f":"$C160","v":"C#6/9"},{"$f":"$C159","v":"C6/9"},{"$f":"$C170","v":"B6/9"},null,"Bb6/9",167]
[null,168,{"$f":"CONCATENATE($C$14,AD159)","v":"B6/9"},"Bb6/9","A6/9","G#6/9","G6/9","F#6/9","F6/9",{"$f":"$C163","v":"E6/9"},{"$f":"$C162","v":"Eb6/9"},{"$f":"$C161","v":"D6/9"},{"$f":"$C160","v":"C#6/9"},{"$f":"$C159","v":"C6/9"},"Bb6/9","A6/9","G#6/9","G6/9","F#6/9","F6/9",{"$f":"$C163","v":"E6/9"},{"$f":"$C162","v":"Eb6/9"},{"$f":"$C161","v":"D6/9"},{"$f":"$C160","v":"C#6/9"},{"$f":"$C159","v":"C6/9"},null,"B6/9",168]
[null,169,{"$f":"CONCATENATE($C$3,AD171)","v":"C6add9"},{"$f":"$C182","v":"B6add9"},{"$f":"$C181","v":"Bb6add9"},{"$f":"$C180","v":"A6add9"},{"$f":"$C179","v":"G#6add9"},{"$f":"$C178","v":"G6add9"},{"$f":"$C177","v":"F#6add9"},{"$f":"$C176","v":"F6add9"},{"$f":"$C175","v":"E6add9"},{"$f":"$C174","v":"Eb6add9"},{"$f":"$C173","v":"D6add9"},{"$f":"$C172","v":"C#6add9"},{"$f":"$C182","v":"B6add9"},{"$f":"$C181","v":"Bb6add9"},{"$f":"$C180","v":"A6add9"},{"$f":"$C179","v":"G#6add9"},{"$f":"$C178","v":"G6add9"},{"$f":"$C177","v":"F#6add9"},{"$f":"$C176","v":"F6add9"},{"$f":"$C175","v":"E6add9"},{"$f":"$C174","v":"Eb6add9"},{"$f":"$C173","v":"D6add9"},{"$f":"$C172","v":"C#6add9"},null,{"$f":"C171","v":"C6add9"},169,null,"6add9"]
[null,170,{"$f":"CONCATENATE($C$4,AD171)","v":"C#6add9"},{"$f":"$C171","v":"C6add9"},{"$f":"$C182","v":"B6add9"},{"$f":"$C181","v":"Bb6add9"},{"$f":"$C180","v":"A6add9"},{"$f":"$C179","v":"G#6add9"},"G6add9","F#6add9","F6add9","E6add9","Eb6add9","D6add9",{"$f":"$C171","v":"C6add9"},{"$f":"$C182","v":"B6add9"},{"$f":"$C181","v":"Bb6add9"},{"$f":"$C180","v":"A6add9"},{"$f":"$C179","v":"G#6add9"},"G6add9","F#6add9","F6add9","E6add9","Eb6add9","D6add9",null,"C#6add9",170]
[null,171,{"$f":"CONCATENATE($C$5,AD171)","v":"D6add9"},{"$f":"$C172","v":"C#6add9"},{"$f":"$C171","v":"C6add9"},{"$f":"$C182","v":"B6add9"},{"$f":"$C181","v":"Bb6add9"},{"$f":"$C180","v":"A6add9"},"G#6add9","G6add9","F#6add9","F6add9","E6add9","Eb6add9",{"$f":"$C172","v":"C#6add9"},{"$f":"$C171","v":"C6add9"},{"$f":"$C182","v":"B6add9"},{"$f":"$C181","v":"Bb6add9"},{"$f":"$C180","v":"A6add9"},"G#6add9","G6add9","F#6add9","F6add9","E6add9","Eb6add9",null,"D6add9",171]
[null,172,{"$f":"CONCATENATE($C$6,AD171)","v":"Eb6add9"},"D6add9",{"$f":"$C172","v":"C#6add9"},{"$f":"$C171","v":"C6add9"},{"$f":"$C182","v":"B6add9"},{"$f":"$C181","v":"Bb6add9"},"A6add9","G#6add9","G6add9","F#6add9","F6add9","E6add9","D6add9",{"$f":"$C172","v":"C#6add9"},{"$f":"$C171","v":"C6add9"},{"$f":"$C182","v":"B6add9"},{"$f":"$C181","v":"Bb6add9"},"A6add9","G#6add9","G6add9","F#6add9","F6add9","E6add9",null,"Eb6add9",172]
[null,173,{"$f":"CONCATENATE($C$7,AD171)","v":"E6add9"},"Eb6add9","D6add9",{"$f":"$C172","v":"C#6add9"},{"$f":"$C171","v":"C6add9"},{"$f":"$C182","v":"B6add9"},"Bb6add9","A6add9","G#6add9","G6add9","F#6add9","F6add9","Eb6add9","D6add9",{"$f":"$C172","v":"C#6add9"},{"$f":"$C171","v":"C6add9"},{"$f":"$C182","v":"B6add9"},"Bb6add9","A6add9","G#6add9","G6add9","F#6add9","F6add9",null,"E6add9",173]
[null,174,{"$f":"CONCATENATE($C$8,AD171)","v":"F6add9"},"E6add9","Eb6add9","D6add9",{"$f":"$C172","v":"C#6add9"},{"$f":"$C171","v":"C6add9"},"B6add9","Bb6add9","A6add9","G#6add9","G6add9","F#6add9","E6add9","Eb6add9","D6add9",{"$f":"$C172","v":"C#6add9"},{"$f":"$C171","v":"C6add9"},"B6add9","Bb6add9","A6add9","G#6add9","G6add9","F#6add9",null,"F6add9",174]
[null,175,{"$f":"CONCATENATE($C$9,AD171)","v":"F#6add9"},"F6add9","E6add9","Eb6add9","D6add9",{"$f":"$C172","v":"C#6add9"},{"$f":"$C171","v":"C6add9"},{"$f":"$C182","v":"B6add9"},"Bb6add9","A6add9","G#6add9","G6add9","F6add9","E6add9","Eb6add9","D6add9",{"$f":"$C172","v":"C#6add9"},{"$f":"$C171","v":"C6add9"},{"$f":"$C182","v":"B6add9"},"Bb6add9","A6add9","G#6add9","G6add9",null,"F#6add9",175]
[null,176,{"$f":"CONCATENATE($C$10,AD171)","v":"G6add9"},"F#6add9","F6add9","E6add9","Eb6add9","D6add9","C#6add9",{"$f":"$C171","v":"C6add9"},{"$f":"$C182","v":"B6add9"},"Bb6add9","A6add9","G#6add9","F#6add9","F6add9","E6add9","Eb6add9","D6add9","C#6add9",{"$f":"$C171","v":"C6add9"},{"$f":"$C182","v":"B6add9"},"Bb6add9","A6add9","G#6add9",null,"G6add9",176]
[null,177,{"$f":"CONCATENATE($C$11,AD171)","v":"G#6add9"},"G6add9","F#6add9","F6add9","E6add9","Eb6add9","D6add9",{"$f":"$C172","v":"C#6add9"},{"$f":"$C171","v":"C6add9"},{"$f":"$C182","v":"B6add9"},"Bb6add9","A6add9","G6add9","F#6add9","F6add9","E6add9","Eb6add9","D6add9",{"$f":"$C172","v":"C#6add9"},{"$f":"$C171","v":"C6add9"},{"$f":"$C182","v":"B6add9"},"Bb6add9","A6add9",null,"G#6add9",177]
[null,178,{"$f":"CONCATENATE($C$12,AD171)","v":"A6add9"},"G#6add9","G6add9","F#6add9","F6add9","E6add9","Eb6add9",{"$f":"$C173","v":"D6add9"},{"$f":"$C172","v":"C#6add9"},{"$f":"$C171","v":"C6add9"},{"$f":"$C182","v":"B6add9"},"Bb6add9","G#6add9","G6add9","F#6add9","F6add9","E6add9","Eb6add9",{"$f":"$C173","v":"D6add9"},{"$f":"$C172","v":"C#6add9"},{"$f":"$C171","v":"C6add9"},{"$f":"$C182","v":"B6add9"},"Bb6add9",null,"A6add9",178]
[null,179,{"$f":"CONCATENATE($C$13,AD171)","v":"Bb6add9"},"A6add9","G#6add9","G6add9","F#6add9","F6add9","E6add9",{"$f":"$C174","v":"Eb6add9"},{"$f":"$C173","v":"D6add9"},{"$f":"$C172","v":"C#6add9"},{"$f":"$C171","v":"C6add9"},{"$f":"$C182","v":"B6add9"},"A6add9","G#6add9","G6add9","F#6add9","F6add9","E6add9",{"$f":"$C174","v":"Eb6add9"},{"$f":"$C173","v":"D6add9"},{"$f":"$C172","v":"C#6add9"},{"$f":"$C171","v":"C6add9"},{"$f":"$C182","v":"B6add9"},null,"Bb6add9",179]
[null,180,{"$f":"CONCATENATE($C$14,AD171)","v":"B6add9"},"Bb6add9","A6add9","G#6add9","G6add9","F#6add9","F6add9",{"$f":"$C175","v":"E6add9"},{"$f":"$C174","v":"Eb6add9"},{"$f":"$C173","v":"D6add9"},{"$f":"$C172","v":"C#6add9"},{"$f":"$C171","v":"C6add9"},"Bb6add9","A6add9","G#6add9","G6add9","F#6add9","F6add9",{"$f":"$C175","v":"E6add9"},{"$f":"$C174","v":"Eb6add9"},{"$f":"$C173","v":"D6add9"},{"$f":"$C172","v":"C#6add9"},{"$f":"$C171","v":"C6add9"},null,"B6add9",180]
[null,181,{"$f":"CONCATENATE($C$3,AD183)","v":"C7"},{"$f":"$C194","v":"B7"},{"$f":"$C193","v":"Bb7"},{"$f":"$C192","v":"A7"},{"$f":"$C191","v":"G#7"},{"$f":"$C190","v":"G7"},{"$f":"$C189","v":"F#7"},{"$f":"$C188","v":"F7"},{"$f":"$C187","v":"E7"},{"$f":"$C186","v":"Eb7"},{"$f":"$C185","v":"D7"},{"$f":"$C184","v":"C#7"},{"$f":"$C194","v":"B7"},{"$f":"$C193","v":"Bb7"},{"$f":"$C192","v":"A7"},{"$f":"$C191","v":"G#7"},{"$f":"$C190","v":"G7"},{"$f":"$C189","v":"F#7"},{"$f":"$C188","v":"F7"},{"$f":"$C187","v":"E7"},{"$f":"$C186","v":"Eb7"},{"$f":"$C185","v":"D7"},{"$f":"$C184","v":"C#7"},null,{"$f":"C183","v":"C7"},181,null,7]
[null,182,{"$f":"CONCATENATE($C$4,AD183)","v":"C#7"},{"$f":"$C183","v":"C7"},{"$f":"$C194","v":"B7"},{"$f":"$C193","v":"Bb7"},{"$f":"$C192","v":"A7"},{"$f":"$C191","v":"G#7"},"G7","F#7","F7","E7","Eb7","D7",{"$f":"$C183","v":"C7"},{"$f":"$C194","v":"B7"},{"$f":"$C193","v":"Bb7"},{"$f":"$C192","v":"A7"},{"$f":"$C191","v":"G#7"},"G7","F#7","F7","E7","Eb7","D7",null,"C#7",182]
[null,183,{"$f":"CONCATENATE($C$5,AD183)","v":"D7"},{"$f":"$C184","v":"C#7"},{"$f":"$C183","v":"C7"},{"$f":"$C194","v":"B7"},{"$f":"$C193","v":"Bb7"},{"$f":"$C192","v":"A7"},"G#7","G7","F#7","F7","E7","Eb7",{"$f":"$C184","v":"C#7"},{"$f":"$C183","v":"C7"},{"$f":"$C194","v":"B7"},{"$f":"$C193","v":"Bb7"},{"$f":"$C192","v":"A7"},"G#7","G7","F#7","F7","E7","Eb7",null,"D7",183]
[null,184,{"$f":"CONCATENATE($C$6,AD183)","v":"Eb7"},"D7",{"$f":"$C184","v":"C#7"},{"$f":"$C183","v":"C7"},{"$f":"$C194","v":"B7"},{"$f":"$C193","v":"Bb7"},"A7","G#7","G7","F#7","F7","E7","D7",{"$f":"$C184","v":"C#7"},{"$f":"$C183","v":"C7"},{"$f":"$C194","v":"B7"},{"$f":"$C193","v":"Bb7"},"A7","G#7","G7","F#7","F7","E7",null,"Eb7",184]
[null,185,{"$f":"CONCATENATE($C$7,AD183)","v":"E7"},"Eb7","D7",{"$f":"$C184","v":"C#7"},{"$f":"$C183","v":"C7"},{"$f":"$C194","v":"B7"},"Bb7","A7","G#7","G7","F#7","F7","Eb7","D7",{"$f":"$C184","v":"C#7"},{"$f":"$C183","v":"C7"},{"$f":"$C194","v":"B7"},"Bb7","A7","G#7","G7","F#7","F7",null,"E7",185]
[null,186,{"$f":"CONCATENATE($C$8,AD183)","v":"F7"},"E7","Eb7","D7",{"$f":"$C184","v":"C#7"},{"$f":"$C183","v":"C7"},"B7","Bb7","A7","G#7","G7","F#7","E7","Eb7","D7",{"$f":"$C184","v":"C#7"},{"$f":"$C183","v":"C7"},"B7","Bb7","A7","G#7","G7","F#7",null,"F7",186]
[null,187,{"$f":"CONCATENATE($C$9,AD183)","v":"F#7"},"F7","E7","Eb7","D7",{"$f":"$C184","v":"C#7"},{"$f":"$C183","v":"C7"},{"$f":"$C194","v":"B7"},"Bb7","A7","G#7","G7","F7","E7","Eb7","D7",{"$f":"$C184","v":"C#7"},{"$f":"$C183","v":"C7"},{"$f":"$C194","v":"B7"},"Bb7","A7","G#7","G7",null,"F#7",187]
[null,188,{"$f":"CONCATENATE($C$10,AD183)","v":"G7"},"F#7","F7","E7","Eb7","D7","C#7",{"$f":"$C183","v":"C7"},{"$f":"$C194","v":"B7"},"Bb7","A7","G#7","F#7","F7","E7","Eb7","D7","C#7",{"$f":"$C183","v":"C7"},{"$f":"$C194","v":"B7"},"Bb7","A7","G#7",null,"G7",188]
[null,189,{"$f":"CONCATENATE($C$11,AD183)","v":"G#7"},"G7","F#7","F7","E7","Eb7","D7",{"$f":"$C184","v":"C#7"},{"$f":"$C183","v":"C7"},{"$f":"$C194","v":"B7"},"Bb7","A7","G7","F#7","F7","E7","Eb7","D7",{"$f":"$C184","v":"C#7"},{"$f":"$C183","v":"C7"},{"$f":"$C194","v":"B7"},"Bb7","A7",null,"G#7",189]
[null,190,{"$f":"CONCATENATE($C$12,AD183)","v":"A7"},"G#7","G7","F#7","F7","E7","Eb7",{"$f":"$C185","v":"D7"},{"$f":"$C184","v":"C#7"},{"$f":"$C183","v":"C7"},{"$f":"$C194","v":"B7"},"Bb7","G#7","G7","F#7","F7","E7","Eb7",{"$f":"$C185","v":"D7"},{"$f":"$C184","v":"C#7"},{"$f":"$C183","v":"C7"},{"$f":"$C194","v":"B7"},"Bb7",null,"A7",190]
[null,191,{"$f":"CONCATENATE($C$13,AD183)","v":"Bb7"},"A7","G#7","G7","F#7","F7","E7",{"$f":"$C186","v":"Eb7"},{"$f":"$C185","v":"D7"},{"$f":"$C184","v":"C#7"},{"$f":"$C183","v":"C7"},{"$f":"$C194","v":"B7"},"A7","G#7","G7","F#7","F7","E7",{"$f":"$C186","v":"Eb7"},{"$f":"$C185","v":"D7"},{"$f":"$C184","v":"C#7"},{"$f":"$C183","v":"C7"},{"$f":"$C194","v":"B7"},null,"Bb7",191]
[null,192,{"$f":"CONCATENATE($C$14,AD183)","v":"B7"},"Bb7","A7","G#7","G7","F#7","F7",{"$f":"$C187","v":"E7"},{"$f":"$C186","v":"Eb7"},{"$f":"$C185","v":"D7"},{"$f":"$C184","v":"C#7"},{"$f":"$C183","v":"C7"},"Bb7","A7","G#7","G7","F#7","F7",{"$f":"$C187","v":"E7"},{"$f":"$C186","v":"Eb7"},{"$f":"$C185","v":"D7"},{"$f":"$C184","v":"C#7"},{"$f":"$C183","v":"C7"},null,"B7",192]
[null,193,{"$f":"CONCATENATE($C$3,AD195)","v":"C7sus4"},{"$f":"$C206","v":"B7sus4"},{"$f":"$C205","v":"Bb7sus4"},{"$f":"$C204","v":"A7sus4"},{"$f":"$C203","v":"G#7sus4"},{"$f":"$C202","v":"G7sus4"},{"$f":"$C201","v":"F#7sus4"},{"$f":"$C200","v":"F7sus4"},{"$f":"$C199","v":"E7sus4"},{"$f":"$C198","v":"Eb7sus4"},{"$f":"$C197","v":"D7sus4"},{"$f":"$C196","v":"C#7sus4"},{"$f":"$C206","v":"B7sus4"},{"$f":"$C205","v":"Bb7sus4"},{"$f":"$C204","v":"A7sus4"},{"$f":"$C203","v":"G#7sus4"},{"$f":"$C202","v":"G7sus4"},{"$f":"$C201","v":"F#7sus4"},{"$f":"$C200","v":"F7sus4"},{"$f":"$C199","v":"E7sus4"},{"$f":"$C198","v":"Eb7sus4"},{"$f":"$C197","v":"D7sus4"},{"$f":"$C196","v":"C#7sus4"},null,"C7sus4",{"$f":"B195","v":193},null,"7sus4"]
[null,194,{"$f":"CONCATENATE($C$4,AD195)","v":"C#7sus4"},{"$f":"$C195","v":"C7sus4"},{"$f":"$C206","v":"B7sus4"},{"$f":"$C205","v":"Bb7sus4"},{"$f":"$C204","v":"A7sus4"},{"$f":"$C203","v":"G#7sus4"},"G7sus4","F#7sus4","F7sus4","E7sus4","Eb7sus4","D7sus4",{"$f":"$C195","v":"C7sus4"},{"$f":"$C206","v":"B7sus4"},{"$f":"$C205","v":"Bb7sus4"},{"$f":"$C204","v":"A7sus4"},{"$f":"$C203","v":"G#7sus4"},"G7sus4","F#7sus4","F7sus4","E7sus4","Eb7sus4","D7sus4",null,"C#7sus4",194]
[null,195,{"$f":"CONCATENATE($C$5,AD195)","v":"D7sus4"},{"$f":"$C196","v":"C#7sus4"},{"$f":"$C195","v":"C7sus4"},{"$f":"$C206","v":"B7sus4"},{"$f":"$C205","v":"Bb7sus4"},{"$f":"$C204","v":"A7sus4"},"G#7sus4","G7sus4","F#7sus4","F7sus4","E7sus4","Eb7sus4",{"$f":"$C196","v":"C#7sus4"},{"$f":"$C195","v":"C7sus4"},{"$f":"$C206","v":"B7sus4"},{"$f":"$C205","v":"Bb7sus4"},{"$f":"$C204","v":"A7sus4"},"G#7sus4","G7sus4","F#7sus4","F7sus4","E7sus4","Eb7sus4",null,"D7sus4",195]
[null,196,{"$f":"CONCATENATE($C$6,AD195)","v":"Eb7sus4"},"D7sus4",{"$f":"$C196","v":"C#7sus4"},{"$f":"$C195","v":"C7sus4"},{"$f":"$C206","v":"B7sus4"},{"$f":"$C205","v":"Bb7sus4"},"A7sus4","G#7sus4","G7sus4","F#7sus4","F7sus4","E7sus4","D7sus4",{"$f":"$C196","v":"C#7sus4"},{"$f":"$C195","v":"C7sus4"},{"$f":"$C206","v":"B7sus4"},{"$f":"$C205","v":"Bb7sus4"},"A7sus4","G#7sus4","G7sus4","F#7sus4","F7sus4","E7sus4",null,"Eb7sus4",196]
[null,197,{"$f":"CONCATENATE($C$7,AD195)","v":"E7sus4"},"Eb7sus4","D7sus4",{"$f":"$C196","v":"C#7sus4"},{"$f":"$C195","v":"C7sus4"},{"$f":"$C206","v":"B7sus4"},"Bb7sus4","A7sus4","G#7sus4","G7sus4","F#7sus4","F7sus4","Eb7sus4","D7sus4",{"$f":"$C196","v":"C#7sus4"},{"$f":"$C195","v":"C7sus4"},{"$f":"$C206","v":"B7sus4"},"Bb7sus4","A7sus4","G#7sus4","G7sus4","F#7sus4","F7sus4",null,"E7sus4",197]
[null,198,{"$f":"CONCATENATE($C$8,AD195)","v":"F7sus4"},"E7sus4","Eb7sus4","D7sus4",{"$f":"$C196","v":"C#7sus4"},{"$f":"$C195","v":"C7sus4"},"B7sus4","Bb7sus4","A7sus4","G#7sus4","G7sus4","F#7sus4","E7sus4","Eb7sus4","D7sus4",{"$f":"$C196","v":"C#7sus4"},{"$f":"$C195","v":"C7sus4"},"B7sus4","Bb7sus4","A7sus4","G#7sus4","G7sus4","F#7sus4",null,"F7sus4",198]
[null,199,{"$f":"CONCATENATE($C$9,AD195)","v":"F#7sus4"},"F7sus4","E7sus4","Eb7sus4","D7sus4",{"$f":"$C196","v":"C#7sus4"},{"$f":"$C195","v":"C7sus4"},{"$f":"$C206","v":"B7sus4"},"Bb7sus4","A7sus4","G#7sus4","G7sus4","F7sus4","E7sus4","Eb7sus4","D7sus4",{"$f":"$C196","v":"C#7sus4"},{"$f":"$C195","v":"C7sus4"},{"$f":"$C206","v":"B7sus4"},"Bb7sus4","A7sus4","G#7sus4","G7sus4",null,"F#7sus4",199]
[null,200,{"$f":"CONCATENATE($C$10,AD195)","v":"G7sus4"},"F#7sus4","F7sus4","E7sus4","Eb7sus4","D7sus4","C#7sus4",{"$f":"$C195","v":"C7sus4"},{"$f":"$C206","v":"B7sus4"},"Bb7sus4","A7sus4","G#7sus4","F#7sus4","F7sus4","E7sus4","Eb7sus4","D7sus4","C#7sus4",{"$f":"$C195","v":"C7sus4"},{"$f":"$C206","v":"B7sus4"},"Bb7sus4","A7sus4","G#7sus4",null,"G7sus4",200]
[null,201,{"$f":"CONCATENATE($C$11,AD195)","v":"G#7sus4"},"G7sus4","F#7sus4","F7sus4","E7sus4","Eb7sus4","D7sus4",{"$f":"$C196","v":"C#7sus4"},{"$f":"$C195","v":"C7sus4"},{"$f":"$C206","v":"B7sus4"},"Bb7sus4","A7sus4","G7sus4","F#7sus4","F7sus4","E7sus4","Eb7sus4","D7sus4",{"$f":"$C196","v":"C#7sus4"},{"$f":"$C195","v":"C7sus4"},{"$f":"$C206","v":"B7sus4"},"Bb7sus4","A7sus4",null,"G#7sus4",201]
[null,202,{"$f":"CONCATENATE($C$12,AD195)","v":"A7sus4"},"G#7sus4","G7sus4","F#7sus4","F7sus4","E7sus4","Eb7sus4",{"$f":"$C197","v":"D7sus4"},{"$f":"$C196","v":"C#7sus4"},{"$f":"$C195","v":"C7sus4"},{"$f":"$C206","v":"B7sus4"},"Bb7sus4","G#7sus4","G7sus4","F#7sus4","F7sus4","E7sus4","Eb7sus4",{"$f":"$C197","v":"D7sus4"},{"$f":"$C196","v":"C#7sus4"},{"$f":"$C195","v":"C7sus4"},{"$f":"$C206","v":"B7sus4"},"Bb7sus4",null,"A7sus4",202]
[null,203,{"$f":"CONCATENATE($C$13,AD195)","v":"Bb7sus4"},"A7sus4","G#7sus4","G7sus4","F#7sus4","F7sus4","E7sus4",{"$f":"$C198","v":"Eb7sus4"},{"$f":"$C197","v":"D7sus4"},{"$f":"$C196","v":"C#7sus4"},{"$f":"$C195","v":"C7sus4"},{"$f":"$C206","v":"B7sus4"},"A7sus4","G#7sus4","G7sus4","F#7sus4","F7sus4","E7sus4",{"$f":"$C198","v":"Eb7sus4"},{"$f":"$C197","v":"D7sus4"},{"$f":"$C196","v":"C#7sus4"},{"$f":"$C195","v":"C7sus4"},{"$f":"$C206","v":"B7sus4"},null,"Bb7sus4",203]
[null,204,{"$f":"CONCATENATE($C$14,AD195)","v":"B7sus4"},"Bb7sus4","A7sus4","G#7sus4","G7sus4","F#7sus4","F7sus4",{"$f":"$C199","v":"E7sus4"},{"$f":"$C198","v":"Eb7sus4"},{"$f":"$C197","v":"D7sus4"},{"$f":"$C196","v":"C#7sus4"},{"$f":"$C195","v":"C7sus4"},"Bb7sus4","A7sus4","G#7sus4","G7sus4","F#7sus4","F7sus4",{"$f":"$C199","v":"E7sus4"},{"$f":"$C198","v":"Eb7sus4"},{"$f":"$C197","v":"D7sus4"},{"$f":"$C196","v":"C#7sus4"},{"$f":"$C195","v":"C7sus4"},null,"B7sus4",204]
[null,205,{"$f":"CONCATENATE($C$3,AD207)","v":"Cm-5"},{"$f":"$C218","v":"Bm-5"},{"$f":"$C217","v":"Bbm-5"},{"$f":"$C216","v":"Am-5"},{"$f":"$C215","v":"G#m-5"},{"$f":"$C214","v":"Gm-5"},{"$f":"$C213","v":"F#m-5"},{"$f":"$C212","v":"Fm-5"},{"$f":"$C211","v":"Em-5"},{"$f":"$C210","v":"Ebm-5"},{"$f":"$C209","v":"Dm-5"},{"$f":"$C208","v":"C#m-5"},{"$f":"$C218","v":"Bm-5"},{"$f":"$C217","v":"Bbm-5"},{"$f":"$C216","v":"Am-5"},{"$f":"$C215","v":"G#m-5"},{"$f":"$C214","v":"Gm-5"},{"$f":"$C213","v":"F#m-5"},{"$f":"$C212","v":"Fm-5"},{"$f":"$C211","v":"Em-5"},{"$f":"$C210","v":"Ebm-5"},{"$f":"$C209","v":"Dm-5"},{"$f":"$C208","v":"C#m-5"},null,{"$f":"C207","v":"Cm-5"},205,null,"m-5"]
[null,206,{"$f":"CONCATENATE($C$4,AD207)","v":"C#m-5"},{"$f":"$C207","v":"Cm-5"},{"$f":"$C218","v":"Bm-5"},{"$f":"$C217","v":"Bbm-5"},{"$f":"$C216","v":"Am-5"},{"$f":"$C215","v":"G#m-5"},"Gm-5","F#m-5","Fm-5","Em-5","Ebm-5","Dm-5",{"$f":"$C207","v":"Cm-5"},{"$f":"$C218","v":"Bm-5"},{"$f":"$C217","v":"Bbm-5"},{"$f":"$C216","v":"Am-5"},{"$f":"$C215","v":"G#m-5"},"Gm-5","F#m-5","Fm-5","Em-5","Ebm-5","Dm-5",null,"C#m-5",206]
[null,207,{"$f":"CONCATENATE($C$5,AD207)","v":"Dm-5"},{"$f":"$C208","v":"C#m-5"},{"$f":"$C207","v":"Cm-5"},{"$f":"$C218","v":"Bm-5"},{"$f":"$C217","v":"Bbm-5"},{"$f":"$C216","v":"Am-5"},"G#m-5","Gm-5","F#m-5","Fm-5","Em-5","Ebm-5",{"$f":"$C208","v":"C#m-5"},{"$f":"$C207","v":"Cm-5"},{"$f":"$C218","v":"Bm-5"},{"$f":"$C217","v":"Bbm-5"},{"$f":"$C216","v":"Am-5"},"G#m-5","Gm-5","F#m-5","Fm-5","Em-5","Ebm-5",null,"Dm-5",207]
[null,208,{"$f":"CONCATENATE($C$6,AD207)","v":"Ebm-5"},"Dm-5",{"$f":"$C208","v":"C#m-5"},{"$f":"$C207","v":"Cm-5"},{"$f":"$C218","v":"Bm-5"},{"$f":"$C217","v":"Bbm-5"},"Am-5","G#m-5","Gm-5","F#m-5","Fm-5","Em-5","Dm-5",{"$f":"$C208","v":"C#m-5"},{"$f":"$C207","v":"Cm-5"},{"$f":"$C218","v":"Bm-5"},{"$f":"$C217","v":"Bbm-5"},"Am-5","G#m-5","Gm-5","F#m-5","Fm-5","Em-5",null,"Ebm-5",208]
[null,209,{"$f":"CONCATENATE($C$7,AD207)","v":"Em-5"},"Ebm-5","Dm-5",{"$f":"$C208","v":"C#m-5"},{"$f":"$C207","v":"Cm-5"},{"$f":"$C218","v":"Bm-5"},"Bbm-5","Am-5","G#m-5","Gm-5","F#m-5","Fm-5","Ebm-5","Dm-5",{"$f":"$C208","v":"C#m-5"},{"$f":"$C207","v":"Cm-5"},{"$f":"$C218","v":"Bm-5"},"Bbm-5","Am-5","G#m-5","Gm-5","F#m-5","Fm-5",null,"Em-5",209]
[null,210,{"$f":"CONCATENATE($C$8,AD207)","v":"Fm-5"},"Em-5","Ebm-5","Dm-5",{"$f":"$C208","v":"C#m-5"},{"$f":"$C207","v":"Cm-5"},"Bm-5","Bbm-5","Am-5","G#m-5","Gm-5","F#m-5","Em-5","Ebm-5","Dm-5",{"$f":"$C208","v":"C#m-5"},{"$f":"$C207","v":"Cm-5"},"Bm-5","Bbm-5","Am-5","G#m-5","Gm-5","F#m-5",null,"Fm-5",210]
[null,211,{"$f":"CONCATENATE($C$9,AD207)","v":"F#m-5"},"Fm-5","Em-5","Ebm-5","Dm-5",{"$f":"$C208","v":"C#m-5"},{"$f":"$C207","v":"Cm-5"},{"$f":"$C218","v":"Bm-5"},"Bbm-5","Am-5","G#m-5","Gm-5","Fm-5","Em-5","Ebm-5","Dm-5",{"$f":"$C208","v":"C#m-5"},{"$f":"$C207","v":"Cm-5"},{"$f":"$C218","v":"Bm-5"},"Bbm-5","Am-5","G#m-5","Gm-5",null,"F#m-5",211]
[null,212,{"$f":"CONCATENATE($C$10,AD207)","v":"Gm-5"},"F#m-5","Fm-5","Em-5","Ebm-5","Dm-5","C#m-5",{"$f":"$C207","v":"Cm-5"},{"$f":"$C218","v":"Bm-5"},"Bbm-5","Am-5","G#m-5","F#m-5","Fm-5","Em-5","Ebm-5","Dm-5","C#m-5",{"$f":"$C207","v":"Cm-5"},{"$f":"$C218","v":"Bm-5"},"Bbm-5","Am-5","G#m-5",null,"Gm-5",212]
[null,213,{"$f":"CONCATENATE($C$11,AD207)","v":"G#m-5"},"Gm-5","F#m-5","Fm-5","Em-5","Ebm-5","Dm-5",{"$f":"$C208","v":"C#m-5"},{"$f":"$C207","v":"Cm-5"},{"$f":"$C218","v":"Bm-5"},"Bbm-5","Am-5","Gm-5","F#m-5","Fm-5","Em-5","Ebm-5","Dm-5",{"$f":"$C208","v":"C#m-5"},{"$f":"$C207","v":"Cm-5"},{"$f":"$C218","v":"Bm-5"},"Bbm-5","Am-5",null,"G#m-5",213]
[null,214,{"$f":"CONCATENATE($C$12,AD207)","v":"Am-5"},"G#m-5","Gm-5","F#m-5","Fm-5","Em-5","Ebm-5",{"$f":"$C209","v":"Dm-5"},{"$f":"$C208","v":"C#m-5"},{"$f":"$C207","v":"Cm-5"},{"$f":"$C218","v":"Bm-5"},"Bbm-5","G#m-5","Gm-5","F#m-5","Fm-5","Em-5","Ebm-5",{"$f":"$C209","v":"Dm-5"},{"$f":"$C208","v":"C#m-5"},{"$f":"$C207","v":"Cm-5"},{"$f":"$C218","v":"Bm-5"},"Bbm-5",null,"Am-5",214]
[null,215,{"$f":"CONCATENATE($C$13,AD207)","v":"Bbm-5"},"Am-5","G#m-5","Gm-5","F#m-5","Fm-5","Em-5",{"$f":"$C210","v":"Ebm-5"},{"$f":"$C209","v":"Dm-5"},{"$f":"$C208","v":"C#m-5"},{"$f":"$C207","v":"Cm-5"},{"$f":"$C218","v":"Bm-5"},"Am-5","G#m-5","Gm-5","F#m-5","Fm-5","Em-5",{"$f":"$C210","v":"Ebm-5"},{"$f":"$C209","v":"Dm-5"},{"$f":"$C208","v":"C#m-5"},{"$f":"$C207","v":"Cm-5"},{"$f":"$C218","v":"Bm-5"},null,"Bbm-5",215]
[null,216,{"$f":"CONCATENATE($C$14,AD207)","v":"Bm-5"},"Bbm-5","Am-5","G#m-5","Gm-5","F#m-5","Fm-5",{"$f":"$C211","v":"Em-5"},{"$f":"$C210","v":"Ebm-5"},{"$f":"$C209","v":"Dm-5"},{"$f":"$C208","v":"C#m-5"},{"$f":"$C207","v":"Cm-5"},"Bbm-5","Am-5","G#m-5","Gm-5","F#m-5","Fm-5",{"$f":"$C211","v":"Em-5"},{"$f":"$C210","v":"Ebm-5"},{"$f":"$C209","v":"Dm-5"},{"$f":"$C208","v":"C#m-5"},{"$f":"$C207","v":"Cm-5"},null,"Bm-5",216]
[null,217,{"$f":"CONCATENATE($C$3,AD219)","v":"Cmb5"},{"$f":"$C230","v":"Bmb5"},{"$f":"$C229","v":"Bbmb5"},{"$f":"$C228","v":"Amb5"},{"$f":"$C227","v":"G#mb5"},{"$f":"$C226","v":"Gmb5"},{"$f":"$C225","v":"F#mb5"},{"$f":"$C224","v":"Fmb5"},{"$f":"$C223","v":"Emb5"},{"$f":"$C222","v":"Ebmb5"},{"$f":"$C221","v":"Dmb5"},{"$f":"$C220","v":"C#mb5"},{"$f":"$C230","v":"Bmb5"},{"$f":"$C229","v":"Bbmb5"},{"$f":"$C228","v":"Amb5"},{"$f":"$C227","v":"G#mb5"},{"$f":"$C226","v":"Gmb5"},{"$f":"$C225","v":"F#mb5"},{"$f":"$C224","v":"Fmb5"},{"$f":"$C223","v":"Emb5"},{"$f":"$C222","v":"Ebmb5"},{"$f":"$C221","v":"Dmb5"},{"$f":"$C220","v":"C#mb5"},null,"Cmb5",217,null,"mb5"]
[null,218,{"$f":"CONCATENATE($C$4,AD219)","v":"C#mb5"},{"$f":"$C219","v":"Cmb5"},{"$f":"$C230","v":"Bmb5"},{"$f":"$C229","v":"Bbmb5"},{"$f":"$C228","v":"Amb5"},{"$f":"$C227","v":"G#mb5"},"Gmb5","F#mb5","Fmb5","Emb5","Ebmb5","Dmb5",{"$f":"$C219","v":"Cmb5"},{"$f":"$C230","v":"Bmb5"},{"$f":"$C229","v":"Bbmb5"},{"$f":"$C228","v":"Amb5"},{"$f":"$C227","v":"G#mb5"},"Gmb5","F#mb5","Fmb5","Emb5","Ebmb5","Dmb5",null,"C#mb5",218]
[null,219,{"$f":"CONCATENATE($C$5,AD219)","v":"Dmb5"},{"$f":"$C220","v":"C#mb5"},{"$f":"$C219","v":"Cmb5"},{"$f":"$C230","v":"Bmb5"},{"$f":"$C229","v":"Bbmb5"},{"$f":"$C228","v":"Amb5"},"G#mb5","Gmb5","F#mb5","Fmb5","Emb5","Ebmb5",{"$f":"$C220","v":"C#mb5"},{"$f":"$C219","v":"Cmb5"},{"$f":"$C230","v":"Bmb5"},{"$f":"$C229","v":"Bbmb5"},{"$f":"$C228","v":"Amb5"},"G#mb5","Gmb5","F#mb5","Fmb5","Emb5","Ebmb5",null,"Dmb5",219]
[null,220,{"$f":"CONCATENATE($C$6,AD219)","v":"Ebmb5"},"Dmb5",{"$f":"$C220","v":"C#mb5"},{"$f":"$C219","v":"Cmb5"},{"$f":"$C230","v":"Bmb5"},{"$f":"$C229","v":"Bbmb5"},"Amb5","G#mb5","Gmb5","F#mb5","Fmb5","Emb5","Dmb5",{"$f":"$C220","v":"C#mb5"},{"$f":"$C219","v":"Cmb5"},{"$f":"$C230","v":"Bmb5"},{"$f":"$C229","v":"Bbmb5"},"Amb5","G#mb5","Gmb5","F#mb5","Fmb5","Emb5",null,"Ebmb5",220]
[null,221,{"$f":"CONCATENATE($C$7,AD219)","v":"Emb5"},"Ebmb5","Dmb5",{"$f":"$C220","v":"C#mb5"},{"$f":"$C219","v":"Cmb5"},{"$f":"$C230","v":"Bmb5"},"Bbmb5","Amb5","G#mb5","Gmb5","F#mb5","Fmb5","Ebmb5","Dmb5",{"$f":"$C220","v":"C#mb5"},{"$f":"$C219","v":"Cmb5"},{"$f":"$C230","v":"Bmb5"},"Bbmb5","Amb5","G#mb5","Gmb5","F#mb5","Fmb5",null,"Emb5",221]
[null,222,{"$f":"CONCATENATE($C$8,AD219)","v":"Fmb5"},"Emb5","Ebmb5","Dmb5",{"$f":"$C220","v":"C#mb5"},{"$f":"$C219","v":"Cmb5"},"Bmb5","Bbmb5","Amb5","G#mb5","Gmb5","F#mb5","Emb5","Ebmb5","Dmb5",{"$f":"$C220","v":"C#mb5"},{"$f":"$C219","v":"Cmb5"},"Bmb5","Bbmb5","Amb5","G#mb5","Gmb5","F#mb5",null,"Fmb5",222]
[null,223,{"$f":"CONCATENATE($C$9,AD219)","v":"F#mb5"},"Fmb5","Emb5","Ebmb5","Dmb5",{"$f":"$C220","v":"C#mb5"},{"$f":"$C219","v":"Cmb5"},{"$f":"$C230","v":"Bmb5"},"Bbmb5","Amb5","G#mb5","Gmb5","Fmb5","Emb5","Ebmb5","Dmb5",{"$f":"$C220","v":"C#mb5"},{"$f":"$C219","v":"Cmb5"},{"$f":"$C230","v":"Bmb5"},"Bbmb5","Amb5","G#mb5","Gmb5",null,"F#mb5",223]
[null,224,{"$f":"CONCATENATE($C$10,AD219)","v":"Gmb5"},"F#mb5","Fmb5","Emb5","Ebmb5","Dmb5","C#mb5",{"$f":"$C219","v":"Cmb5"},{"$f":"$C230","v":"Bmb5"},"Bbmb5","Amb5","G#mb5","F#mb5","Fmb5","Emb5","Ebmb5","Dmb5","C#mb5",{"$f":"$C219","v":"Cmb5"},{"$f":"$C230","v":"Bmb5"},"Bbmb5","Amb5","G#mb5",null,"Gmb5",224]
[null,225,{"$f":"CONCATENATE($C$11,AD219)","v":"G#mb5"},"Gmb5","F#mb5","Fmb5","Emb5","Ebmb5","Dmb5",{"$f":"$C220","v":"C#mb5"},{"$f":"$C219","v":"Cmb5"},{"$f":"$C230","v":"Bmb5"},"Bbmb5","Amb5","Gmb5","F#mb5","Fmb5","Emb5","Ebmb5","Dmb5",{"$f":"$C220","v":"C#mb5"},{"$f":"$C219","v":"Cmb5"},{"$f":"$C230","v":"Bmb5"},"Bbmb5","Amb5",null,"G#mb5",225]
[null,226,{"$f":"CONCATENATE($C$12,AD219)","v":"Amb5"},"G#mb5","Gmb5","F#mb5","Fmb5","Emb5","Ebmb5",{"$f":"$C221","v":"Dmb5"},{"$f":"$C220","v":"C#mb5"},{"$f":"$C219","v":"Cmb5"},{"$f":"$C230","v":"Bmb5"},"Bbmb5","G#mb5","Gmb5","F#mb5","Fmb5","Emb5","Ebmb5",{"$f":"$C221","v":"Dmb5"},{"$f":"$C220","v":"C#mb5"},{"$f":"$C219","v":"Cmb5"},{"$f":"$C230","v":"Bmb5"},"Bbmb5",null,"Amb5",226]
[null,227,{"$f":"CONCATENATE($C$13,AD219)","v":"Bbmb5"},"Amb5","G#mb5","Gmb5","F#mb5","Fmb5","Emb5",{"$f":"$C222","v":"Ebmb5"},{"$f":"$C221","v":"Dmb5"},{"$f":"$C220","v":"C#mb5"},{"$f":"$C219","v":"Cmb5"},{"$f":"$C230","v":"Bmb5"},"Amb5","G#mb5","Gmb5","F#mb5","Fmb5","Emb5",{"$f":"$C222","v":"Ebmb5"},{"$f":"$C221","v":"Dmb5"},{"$f":"$C220","v":"C#mb5"},{"$f":"$C219","v":"Cmb5"},{"$f":"$C230","v":"Bmb5"},null,"Bbmb5",227]
[null,228,{"$f":"CONCATENATE($C$14,AD219)","v":"Bmb5"},"Bbmb5","Amb5","G#mb5","Gmb5","F#mb5","Fmb5",{"$f":"$C223","v":"Emb5"},{"$f":"$C222","v":"Ebmb5"},{"$f":"$C221","v":"Dmb5"},{"$f":"$C220","v":"C#mb5"},{"$f":"$C219","v":"Cmb5"},"Bbmb5","Amb5","G#mb5","Gmb5","F#mb5","Fmb5",{"$f":"$C223","v":"Emb5"},{"$f":"$C222","v":"Ebmb5"},{"$f":"$C221","v":"Dmb5"},{"$f":"$C220","v":"C#mb5"},{"$f":"$C219","v":"Cmb5"},null,"Bmb5",228]
[null,229,{"$f":"CONCATENATE($C$3,AD231)","v":"C7-5"},{"$f":"$C242","v":"B7-5"},{"$f":"$C241","v":"Bb7-5"},{"$f":"$C240","v":"A7-5"},{"$f":"$C239","v":"G#7-5"},{"$f":"$C238","v":"G7-5"},{"$f":"$C237","v":"F#7-5"},{"$f":"$C236","v":"F7-5"},{"$f":"$C235","v":"E7-5"},{"$f":"$C234","v":"Eb7-5"},{"$f":"$C233","v":"D7-5"},{"$f":"$C232","v":"C#7-5"},{"$f":"$C242","v":"B7-5"},{"$f":"$C241","v":"Bb7-5"},{"$f":"$C240","v":"A7-5"},{"$f":"$C239","v":"G#7-5"},{"$f":"$C238","v":"G7-5"},{"$f":"$C237","v":"F#7-5"},{"$f":"$C236","v":"F7-5"},{"$f":"$C235","v":"E7-5"},{"$f":"$C234","v":"Eb7-5"},{"$f":"$C233","v":"D7-5"},{"$f":"$C232","v":"C#7-5"},null,"C7-5",229,null,"7-5"]
[null,230,{"$f":"CONCATENATE($C$4,AD231)","v":"C#7-5"},{"$f":"$C231","v":"C7-5"},{"$f":"$C242","v":"B7-5"},{"$f":"$C241","v":"Bb7-5"},{"$f":"$C240","v":"A7-5"},{"$f":"$C239","v":"G#7-5"},"G7-5","F#7-5","F7-5","E7-5","Eb7-5","D7-5",{"$f":"$C231","v":"C7-5"},{"$f":"$C242","v":"B7-5"},{"$f":"$C241","v":"Bb7-5"},{"$f":"$C240","v":"A7-5"},{"$f":"$C239","v":"G#7-5"},"G7-5","F#7-5","F7-5","E7-5","Eb7-5","D7-5",null,"C#7-5",230]
[null,231,{"$f":"CONCATENATE($C$5,AD231)","v":"D7-5"},{"$f":"$C232","v":"C#7-5"},{"$f":"$C231","v":"C7-5"},{"$f":"$C242","v":"B7-5"},{"$f":"$C241","v":"Bb7-5"},{"$f":"$C240","v":"A7-5"},"G#7-5","G7-5","F#7-5","F7-5","E7-5","Eb7-5",{"$f":"$C232","v":"C#7-5"},{"$f":"$C231","v":"C7-5"},{"$f":"$C242","v":"B7-5"},{"$f":"$C241","v":"Bb7-5"},{"$f":"$C240","v":"A7-5"},"G#7-5","G7-5","F#7-5","F7-5","E7-5","Eb7-5",null,"D7-5",231]
[null,232,{"$f":"CONCATENATE($C$6,AD231)","v":"Eb7-5"},"D7-5",{"$f":"$C232","v":"C#7-5"},{"$f":"$C231","v":"C7-5"},{"$f":"$C242","v":"B7-5"},{"$f":"$C241","v":"Bb7-5"},"A7-5","G#7-5","G7-5","F#7-5","F7-5","E7-5","D7-5",{"$f":"$C232","v":"C#7-5"},{"$f":"$C231","v":"C7-5"},{"$f":"$C242","v":"B7-5"},{"$f":"$C241","v":"Bb7-5"},"A7-5","G#7-5","G7-5","F#7-5","F7-5","E7-5",null,"Eb7-5",232]
[null,233,{"$f":"CONCATENATE($C$7,AD231)","v":"E7-5"},"Eb7-5","D7-5",{"$f":"$C232","v":"C#7-5"},{"$f":"$C231","v":"C7-5"},{"$f":"$C242","v":"B7-5"},"Bb7-5","A7-5","G#7-5","G7-5","F#7-5","F7-5","Eb7-5","D7-5",{"$f":"$C232","v":"C#7-5"},{"$f":"$C231","v":"C7-5"},{"$f":"$C242","v":"B7-5"},"Bb7-5","A7-5","G#7-5","G7-5","F#7-5","F7-5",null,"E7-5",233]
[null,234,{"$f":"CONCATENATE($C$8,AD231)","v":"F7-5"},"E7-5","Eb7-5","D7-5",{"$f":"$C232","v":"C#7-5"},{"$f":"$C231","v":"C7-5"},"B7-5","Bb7-5","A7-5","G#7-5","G7-5","F#7-5","E7-5","Eb7-5","D7-5",{"$f":"$C232","v":"C#7-5"},{"$f":"$C231","v":"C7-5"},"B7-5","Bb7-5","A7-5","G#7-5","G7-5","F#7-5",null,"F7-5",234]
[null,235,{"$f":"CONCATENATE($C$9,AD231)","v":"F#7-5"},"F7-5","E7-5","Eb7-5","D7-5",{"$f":"$C232","v":"C#7-5"},{"$f":"$C231","v":"C7-5"},{"$f":"$C242","v":"B7-5"},"Bb7-5","A7-5","G#7-5","G7-5","F7-5","E7-5","Eb7-5","D7-5",{"$f":"$C232","v":"C#7-5"},{"$f":"$C231","v":"C7-5"},{"$f":"$C242","v":"B7-5"},"Bb7-5","A7-5","G#7-5","G7-5",null,"F#7-5",235]
[null,236,{"$f":"CONCATENATE($C$10,AD231)","v":"G7-5"},"F#7-5","F7-5","E7-5","Eb7-5","D7-5","C#7-5",{"$f":"$C231","v":"C7-5"},{"$f":"$C242","v":"B7-5"},"Bb7-5","A7-5","G#7-5","F#7-5","F7-5","E7-5","Eb7-5","D7-5","C#7-5",{"$f":"$C231","v":"C7-5"},{"$f":"$C242","v":"B7-5"},"Bb7-5","A7-5","G#7-5",null,"G7-5",236]
[null,237,{"$f":"CONCATENATE($C$11,AD231)","v":"G#7-5"},"G7-5","F#7-5","F7-5","E7-5","Eb7-5","D7-5",{"$f":"$C232","v":"C#7-5"},{"$f":"$C231","v":"C7-5"},{"$f":"$C242","v":"B7-5"},"Bb7-5","A7-5","G7-5","F#7-5","F7-5","E7-5","Eb7-5","D7-5",{"$f":"$C232","v":"C#7-5"},{"$f":"$C231","v":"C7-5"},{"$f":"$C242","v":"B7-5"},"Bb7-5","A7-5",null,"G#7-5",237]
[null,238,{"$f":"CONCATENATE($C$12,AD231)","v":"A7-5"},"G#7-5","G7-5","F#7-5","F7-5","E7-5","Eb7-5",{"$f":"$C233","v":"D7-5"},{"$f":"$C232","v":"C#7-5"},{"$f":"$C231","v":"C7-5"},{"$f":"$C242","v":"B7-5"},"Bb7-5","G#7-5","G7-5","F#7-5","F7-5","E7-5","Eb7-5",{"$f":"$C233","v":"D7-5"},{"$f":"$C232","v":"C#7-5"},{"$f":"$C231","v":"C7-5"},{"$f":"$C242","v":"B7-5"},"Bb7-5",null,"A7-5",238]
[null,239,{"$f":"CONCATENATE($C$13,AD231)","v":"Bb7-5"},"A7-5","G#7-5","G7-5","F#7-5","F7-5","E7-5",{"$f":"$C234","v":"Eb7-5"},{"$f":"$C233","v":"D7-5"},{"$f":"$C232","v":"C#7-5"},{"$f":"$C231","v":"C7-5"},{"$f":"$C242","v":"B7-5"},"A7-5","G#7-5","G7-5","F#7-5","F7-5","E7-5",{"$f":"$C234","v":"Eb7-5"},{"$f":"$C233","v":"D7-5"},{"$f":"$C232","v":"C#7-5"},{"$f":"$C231","v":"C7-5"},{"$f":"$C242","v":"B7-5"},null,"Bb7-5",239]
[null,240,{"$f":"CONCATENATE($C$14,AD231)","v":"B7-5"},"Bb7-5","A7-5","G#7-5","G7-5","F#7-5","F7-5",{"$f":"$C235","v":"E7-5"},{"$f":"$C234","v":"Eb7-5"},{"$f":"$C233","v":"D7-5"},{"$f":"$C232","v":"C#7-5"},{"$f":"$C231","v":"C7-5"},"Bb7-5","A7-5","G#7-5","G7-5","F#7-5","F7-5",{"$f":"$C235","v":"E7-5"},{"$f":"$C234","v":"Eb7-5"},{"$f":"$C233","v":"D7-5"},{"$f":"$C232","v":"C#7-5"},{"$f":"$C231","v":"C7-5"},null,"B7-5",240]
[null,241,{"$f":"CONCATENATE($C$3,AD243)","v":"C7b5"},{"$f":"$C254","v":"B7b5"},{"$f":"$C253","v":"Bb7b5"},{"$f":"$C252","v":"A7b5"},{"$f":"$C251","v":"G#7b5"},{"$f":"$C250","v":"G7b5"},{"$f":"$C249","v":"F#7b5"},{"$f":"$C248","v":"F7b5"},{"$f":"$C247","v":"E7b5"},{"$f":"$C246","v":"Eb7b5"},{"$f":"$C245","v":"D7b5"},{"$f":"$C244","v":"C#7b5"},{"$f":"$C254","v":"B7b5"},{"$f":"$C253","v":"Bb7b5"},{"$f":"$C252","v":"A7b5"},{"$f":"$C251","v":"G#7b5"},{"$f":"$C250","v":"G7b5"},{"$f":"$C249","v":"F#7b5"},{"$f":"$C248","v":"F7b5"},{"$f":"$C247","v":"E7b5"},{"$f":"$C246","v":"Eb7b5"},{"$f":"$C245","v":"D7b5"},{"$f":"$C244","v":"C#7b5"},null,{"$f":"C243","v":"C7b5"},241,null,"7b5"]
[null,242,{"$f":"CONCATENATE($C$4,AD243)","v":"C#7b5"},{"$f":"$C243","v":"C7b5"},{"$f":"$C254","v":"B7b5"},{"$f":"$C253","v":"Bb7b5"},{"$f":"$C252","v":"A7b5"},{"$f":"$C251","v":"G#7b5"},"G7b5","F#7b5","F7b5","E7b5","Eb7b5","D7b5",{"$f":"$C243","v":"C7b5"},{"$f":"$C254","v":"B7b5"},{"$f":"$C253","v":"Bb7b5"},{"$f":"$C252","v":"A7b5"},{"$f":"$C251","v":"G#7b5"},"G7b5","F#7b5","F7b5","E7b5","Eb7b5","D7b5",null,"C#7b5",242]
[null,243,{"$f":"CONCATENATE($C$5,AD243)","v":"D7b5"},{"$f":"$C244","v":"C#7b5"},{"$f":"$C243","v":"C7b5"},{"$f":"$C254","v":"B7b5"},{"$f":"$C253","v":"Bb7b5"},{"$f":"$C252","v":"A7b5"},"G#7b5","G7b5","F#7b5","F7b5","E7b5","Eb7b5",{"$f":"$C244","v":"C#7b5"},{"$f":"$C243","v":"C7b5"},{"$f":"$C254","v":"B7b5"},{"$f":"$C253","v":"Bb7b5"},{"$f":"$C252","v":"A7b5"},"G#7b5","G7b5","F#7b5","F7b5","E7b5","Eb7b5",null,"D7b5",243]
[null,244,{"$f":"CONCATENATE($C$6,AD243)","v":"Eb7b5"},"D7b5",{"$f":"$C244","v":"C#7b5"},{"$f":"$C243","v":"C7b5"},{"$f":"$C254","v":"B7b5"},{"$f":"$C253","v":"Bb7b5"},"A7b5","G#7b5","G7b5","F#7b5","F7b5","E7b5","D7b5",{"$f":"$C244","v":"C#7b5"},{"$f":"$C243","v":"C7b5"},{"$f":"$C254","v":"B7b5"},{"$f":"$C253","v":"Bb7b5"},"A7b5","G#7b5","G7b5","F#7b5","F7b5","E7b5",null,"Eb7b5",244]
[null,245,{"$f":"CONCATENATE($C$7,AD243)","v":"E7b5"},"Eb7b5","D7b5",{"$f":"$C244","v":"C#7b5"},{"$f":"$C243","v":"C7b5"},{"$f":"$C254","v":"B7b5"},"Bb7b5","A7b5","G#7b5","G7b5","F#7b5","F7b5","Eb7b5","D7b5",{"$f":"$C244","v":"C#7b5"},{"$f":"$C243","v":"C7b5"},{"$f":"$C254","v":"B7b5"},"Bb7b5","A7b5","G#7b5","G7b5","F#7b5","F7b5",null,"E7b5",245]
[null,246,{"$f":"CONCATENATE($C$8,AD243)","v":"F7b5"},"E7b5","Eb7b5","D7b5",{"$f":"$C244","v":"C#7b5"},{"$f":"$C243","v":"C7b5"},"B7b5","Bb7b5","A7b5","G#7b5","G7b5","F#7b5","E7b5","Eb7b5","D7b5",{"$f":"$C244","v":"C#7b5"},{"$f":"$C243","v":"C7b5"},"B7b5","Bb7b5","A7b5","G#7b5","G7b5","F#7b5",null,"F7b5",246]
[null,247,{"$f":"CONCATENATE($C$9,AD243)","v":"F#7b5"},"F7b5","E7b5","Eb7b5","D7b5",{"$f":"$C244","v":"C#7b5"},{"$f":"$C243","v":"C7b5"},{"$f":"$C254","v":"B7b5"},"Bb7b5","A7b5","G#7b5","G7b5","F7b5","E7b5","Eb7b5","D7b5",{"$f":"$C244","v":"C#7b5"},{"$f":"$C243","v":"C7b5"},{"$f":"$C254","v":"B7b5"},"Bb7b5","A7b5","G#7b5","G7b5",null,"F#7b5",247]
[null,248,{"$f":"CONCATENATE($C$10,AD243)","v":"G7b5"},"F#7b5","F7b5","E7b5","Eb7b5","D7b5","C#7b5",{"$f":"$C243","v":"C7b5"},{"$f":"$C254","v":"B7b5"},"Bb7b5","A7b5","G#7b5","F#7b5","F7b5","E7b5","Eb7b5","D7b5","C#7b5",{"$f":"$C243","v":"C7b5"},{"$f":"$C254","v":"B7b5"},"Bb7b5","A7b5","G#7b5",null,"G7b5",248]
[null,249,{"$f":"CONCATENATE($C$11,AD243)","v":"G#7b5"},"G7b5","F#7b5","F7b5","E7b5","Eb7b5","D7b5",{"$f":"$C244","v":"C#7b5"},{"$f":"$C243","v":"C7b5"},{"$f":"$C254","v":"B7b5"},"Bb7b5","A7b5","G7b5","F#7b5","F7b5","E7b5","Eb7b5","D7b5",{"$f":"$C244","v":"C#7b5"},{"$f":"$C243","v":"C7b5"},{"$f":"$C254","v":"B7b5"},"Bb7b5","A7b5",null,"G#7b5",249]
[null,250,{"$f":"CONCATENATE($C$12,AD243)","v":"A7b5"},"G#7b5","G7b5","F#7b5","F7b5","E7b5","Eb7b5",{"$f":"$C245","v":"D7b5"},{"$f":"$C244","v":"C#7b5"},{"$f":"$C243","v":"C7b5"},{"$f":"$C254","v":"B7b5"},"Bb7b5","G#7b5","G7b5","F#7b5","F7b5","E7b5","Eb7b5",{"$f":"$C245","v":"D7b5"},{"$f":"$C244","v":"C#7b5"},{"$f":"$C243","v":"C7b5"},{"$f":"$C254","v":"B7b5"},"Bb7b5",null,"A7b5",250]
[null,251,{"$f":"CONCATENATE($C$13,AD243)","v":"Bb7b5"},"A7b5","G#7b5","G7b5","F#7b5","F7b5","E7b5",{"$f":"$C246","v":"Eb7b5"},{"$f":"$C245","v":"D7b5"},{"$f":"$C244","v":"C#7b5"},{"$f":"$C243","v":"C7b5"},{"$f":"$C254","v":"B7b5"},"A7b5","G#7b5","G7b5","F#7b5","F7b5","E7b5",{"$f":"$C246","v":"Eb7b5"},{"$f":"$C245","v":"D7b5"},{"$f":"$C244","v":"C#7b5"},{"$f":"$C243","v":"C7b5"},{"$f":"$C254","v":"B7b5"},null,"Bb7b5",251]
[null,252,{"$f":"CONCATENATE($C$14,AD243)","v":"B7b5"},"Bb7b5","A7b5","G#7b5","G7b5","F#7b5","F7b5",{"$f":"$C247","v":"E7b5"},{"$f":"$C246","v":"Eb7b5"},{"$f":"$C245","v":"D7b5"},{"$f":"$C244","v":"C#7b5"},{"$f":"$C243","v":"C7b5"},"Bb7b5","A7b5","G#7b5","G7b5","F#7b5","F7b5",{"$f":"$C247","v":"E7b5"},{"$f":"$C246","v":"Eb7b5"},{"$f":"$C245","v":"D7b5"},{"$f":"$C244","v":"C#7b5"},{"$f":"$C243","v":"C7b5"},null,"B7b5",252]
[null,253,{"$f":"CONCATENATE($C$3,AD255)","v":"C7+5"},{"$f":"$C266","v":"B7+5"},{"$f":"$C265","v":"Bb7+5"},{"$f":"$C264","v":"A7+5"},{"$f":"$C263","v":"G#7+5"},{"$f":"$C262","v":"G7+5"},{"$f":"$C261","v":"F#7+5"},{"$f":"$C260","v":"F7+5"},{"$f":"$C259","v":"E7+5"},{"$f":"$C258","v":"Eb7+5"},{"$f":"$C257","v":"D7+5"},{"$f":"$C256","v":"C#7+5"},{"$f":"$C266","v":"B7+5"},{"$f":"$C265","v":"Bb7+5"},{"$f":"$C264","v":"A7+5"},{"$f":"$C263","v":"G#7+5"},{"$f":"$C262","v":"G7+5"},{"$f":"$C261","v":"F#7+5"},{"$f":"$C260","v":"F7+5"},{"$f":"$C259","v":"E7+5"},{"$f":"$C258","v":"Eb7+5"},{"$f":"$C257","v":"D7+5"},{"$f":"$C256","v":"C#7+5"},null,"C7+5",253,null,"7+5"]
[null,254,{"$f":"CONCATENATE($C$4,AD255)","v":"C#7+5"},{"$f":"$C255","v":"C7+5"},{"$f":"$C266","v":"B7+5"},{"$f":"$C265","v":"Bb7+5"},{"$f":"$C264","v":"A7+5"},{"$f":"$C263","v":"G#7+5"},"G7+5","F#7+5","F7+5","E7+5","Eb7+5","D7+5",{"$f":"$C255","v":"C7+5"},{"$f":"$C266","v":"B7+5"},{"$f":"$C265","v":"Bb7+5"},{"$f":"$C264","v":"A7+5"},{"$f":"$C263","v":"G#7+5"},"G7+5","F#7+5","F7+5","E7+5","Eb7+5","D7+5",null,"C#7+5",254]
[null,255,{"$f":"CONCATENATE($C$5,AD255)","v":"D7+5"},{"$f":"$C256","v":"C#7+5"},{"$f":"$C255","v":"C7+5"},{"$f":"$C266","v":"B7+5"},{"$f":"$C265","v":"Bb7+5"},{"$f":"$C264","v":"A7+5"},"G#7+5","G7+5","F#7+5","F7+5","E7+5","Eb7+5",{"$f":"$C256","v":"C#7+5"},{"$f":"$C255","v":"C7+5"},{"$f":"$C266","v":"B7+5"},{"$f":"$C265","v":"Bb7+5"},{"$f":"$C264","v":"A7+5"},"G#7+5","G7+5","F#7+5","F7+5","E7+5","Eb7+5",null,"D7+5",255]
[null,256,{"$f":"CONCATENATE($C$6,AD255)","v":"Eb7+5"},"D7+5",{"$f":"$C256","v":"C#7+5"},{"$f":"$C255","v":"C7+5"},{"$f":"$C266","v":"B7+5"},{"$f":"$C265","v":"Bb7+5"},"A7+5","G#7+5","G7+5","F#7+5","F7+5","E7+5","D7+5",{"$f":"$C256","v":"C#7+5"},{"$f":"$C255","v":"C7+5"},{"$f":"$C266","v":"B7+5"},{"$f":"$C265","v":"Bb7+5"},"A7+5","G#7+5","G7+5","F#7+5","F7+5","E7+5",null,"Eb7+5",256]
[null,257,{"$f":"CONCATENATE($C$7,AD255)","v":"E7+5"},"Eb7+5","D7+5",{"$f":"$C256","v":"C#7+5"},{"$f":"$C255","v":"C7+5"},{"$f":"$C266","v":"B7+5"},"Bb7+5","A7+5","G#7+5","G7+5","F#7+5","F7+5","Eb7+5","D7+5",{"$f":"$C256","v":"C#7+5"},{"$f":"$C255","v":"C7+5"},{"$f":"$C266","v":"B7+5"},"Bb7+5","A7+5","G#7+5","G7+5","F#7+5","F7+5",null,"E7+5",{"$f":"B259","v":257}]
[null,258,{"$f":"CONCATENATE($C$8,AD255)","v":"F7+5"},"E7+5","Eb7+5","D7+5",{"$f":"$C256","v":"C#7+5"},{"$f":"$C255","v":"C7+5"},"B7+5","Bb7+5","A7+5","G#7+5","G7+5","F#7+5","E7+5","Eb7+5","D7+5",{"$f":"$C256","v":"C#7+5"},{"$f":"$C255","v":"C7+5"},"B7+5","Bb7+5","A7+5","G#7+5","G7+5","F#7+5",null,"F7+5",258]
[null,259,{"$f":"CONCATENATE($C$9,AD255)","v":"F#7+5"},"F7+5","E7+5","Eb7+5","D7+5",{"$f":"$C256","v":"C#7+5"},{"$f":"$C255","v":"C7+5"},{"$f":"$C266","v":"B7+5"},"Bb7+5","A7+5","G#7+5","G7+5","F7+5","E7+5","Eb7+5","D7+5",{"$f":"$C256","v":"C#7+5"},{"$f":"$C255","v":"C7+5"},{"$f":"$C266","v":"B7+5"},"Bb7+5","A7+5","G#7+5","G7+5",null,"F#7+5",259]
[null,260,{"$f":"CONCATENATE($C$10,AD255)","v":"G7+5"},"F#7+5","F7+5","E7+5","Eb7+5","D7+5","C#7+5",{"$f":"$C255","v":"C7+5"},{"$f":"$C266","v":"B7+5"},"Bb7+5","A7+5","G#7+5","F#7+5","F7+5","E7+5","Eb7+5","D7+5","C#7+5",{"$f":"$C255","v":"C7+5"},{"$f":"$C266","v":"B7+5"},"Bb7+5","A7+5","G#7+5",null,"G7+5",260]
[null,261,{"$f":"CONCATENATE($C$11,AD255)","v":"G#7+5"},"G7+5","F#7+5","F7+5","E7+5","Eb7+5","D7+5",{"$f":"$C256","v":"C#7+5"},{"$f":"$C255","v":"C7+5"},{"$f":"$C266","v":"B7+5"},"Bb7+5","A7+5","G7+5","F#7+5","F7+5","E7+5","Eb7+5","D7+5",{"$f":"$C256","v":"C#7+5"},{"$f":"$C255","v":"C7+5"},{"$f":"$C266","v":"B7+5"},"Bb7+5","A7+5",null,"G#7+5",261]
[null,262,{"$f":"CONCATENATE($C$12,AD255)","v":"A7+5"},"G#7+5","G7+5","F#7+5","F7+5","E7+5","Eb7+5",{"$f":"$C257","v":"D7+5"},{"$f":"$C256","v":"C#7+5"},{"$f":"$C255","v":"C7+5"},{"$f":"$C266","v":"B7+5"},"Bb7+5","G#7+5","G7+5","F#7+5","F7+5","E7+5","Eb7+5",{"$f":"$C257","v":"D7+5"},{"$f":"$C256","v":"C#7+5"},{"$f":"$C255","v":"C7+5"},{"$f":"$C266","v":"B7+5"},"Bb7+5",null,"A7+5",262]
[null,263,{"$f":"CONCATENATE($C$13,AD255)","v":"Bb7+5"},"A7+5","G#7+5","G7+5","F#7+5","F7+5","E7+5",{"$f":"$C258","v":"Eb7+5"},{"$f":"$C257","v":"D7+5"},{"$f":"$C256","v":"C#7+5"},{"$f":"$C255","v":"C7+5"},{"$f":"$C266","v":"B7+5"},"A7+5","G#7+5","G7+5","F#7+5","F7+5","E7+5",{"$f":"$C258","v":"Eb7+5"},{"$f":"$C257","v":"D7+5"},{"$f":"$C256","v":"C#7+5"},{"$f":"$C255","v":"C7+5"},{"$f":"$C266","v":"B7+5"},null,"Bb7+5",263]
[null,264,{"$f":"CONCATENATE($C$14,AD255)","v":"B7+5"},"Bb7+5","A7+5","G#7+5","G7+5","F#7+5","F7+5",{"$f":"$C259","v":"E7+5"},{"$f":"$C258","v":"Eb7+5"},{"$f":"$C257","v":"D7+5"},{"$f":"$C256","v":"C#7+5"},{"$f":"$C255","v":"C7+5"},"Bb7+5","A7+5","G#7+5","G7+5","F#7+5","F7+5",{"$f":"$C259","v":"E7+5"},{"$f":"$C258","v":"Eb7+5"},{"$f":"$C257","v":"D7+5"},{"$f":"$C256","v":"C#7+5"},{"$f":"$C255","v":"C7+5"},null,"B7+5",264]
[null,265,{"$f":"CONCATENATE($C$3,AD267)","v":"C7#5"},{"$f":"$C278","v":"B7#5"},{"$f":"$C277","v":"Bb7#5"},{"$f":"$C276","v":"A7#5"},{"$f":"$C275","v":"G#7#5"},{"$f":"$C274","v":"G7#5"},{"$f":"$C273","v":"F#7#5"},{"$f":"$C272","v":"F7#5"},{"$f":"$C271","v":"E7#5"},{"$f":"$C270","v":"Eb7#5"},{"$f":"$C269","v":"D7#5"},{"$f":"$C268","v":"C#7#5"},{"$f":"$C278","v":"B7#5"},{"$f":"$C277","v":"Bb7#5"},{"$f":"$C276","v":"A7#5"},{"$f":"$C275","v":"G#7#5"},{"$f":"$C274","v":"G7#5"},{"$f":"$C273","v":"F#7#5"},{"$f":"$C272","v":"F7#5"},{"$f":"$C271","v":"E7#5"},{"$f":"$C270","v":"Eb7#5"},{"$f":"$C269","v":"D7#5"},{"$f":"$C268","v":"C#7#5"},null,{"$f":"C267","v":"C7#5"},265,null,"7#5"]
[null,266,{"$f":"CONCATENATE($C$4,AD267)","v":"C#7#5"},{"$f":"$C267","v":"C7#5"},{"$f":"$C278","v":"B7#5"},{"$f":"$C277","v":"Bb7#5"},{"$f":"$C276","v":"A7#5"},{"$f":"$C275","v":"G#7#5"},"G7#5","F#7#5","F7#5","E7#5","Eb7#5","D7#5",{"$f":"$C267","v":"C7#5"},{"$f":"$C278","v":"B7#5"},{"$f":"$C277","v":"Bb7#5"},{"$f":"$C276","v":"A7#5"},{"$f":"$C275","v":"G#7#5"},"G7#5","F#7#5","F7#5","E7#5","Eb7#5","D7#5",null,"C#7#5",266]
[null,267,{"$f":"CONCATENATE($C$5,AD267)","v":"D7#5"},{"$f":"$C268","v":"C#7#5"},{"$f":"$C267","v":"C7#5"},{"$f":"$C278","v":"B7#5"},{"$f":"$C277","v":"Bb7#5"},{"$f":"$C276","v":"A7#5"},"G#7#5","G7#5","F#7#5","F7#5","E7#5","Eb7#5",{"$f":"$C268","v":"C#7#5"},{"$f":"$C267","v":"C7#5"},{"$f":"$C278","v":"B7#5"},{"$f":"$C277","v":"Bb7#5"},{"$f":"$C276","v":"A7#5"},"G#7#5","G7#5","F#7#5","F7#5","E7#5","Eb7#5",null,"D7#5",267]
[null,268,{"$f":"CONCATENATE($C$6,AD267)","v":"Eb7#5"},"D7#5",{"$f":"$C268","v":"C#7#5"},{"$f":"$C267","v":"C7#5"},{"$f":"$C278","v":"B7#5"},{"$f":"$C277","v":"Bb7#5"},"A7#5","G#7#5","G7#5","F#7#5","F7#5","E7#5","D7#5",{"$f":"$C268","v":"C#7#5"},{"$f":"$C267","v":"C7#5"},{"$f":"$C278","v":"B7#5"},{"$f":"$C277","v":"Bb7#5"},"A7#5","G#7#5","G7#5","F#7#5","F7#5","E7#5",null,"Eb7#5",268]
[null,269,{"$f":"CONCATENATE($C$7,AD267)","v":"E7#5"},"Eb7#5","D7#5",{"$f":"$C268","v":"C#7#5"},{"$f":"$C267","v":"C7#5"},{"$f":"$C278","v":"B7#5"},"Bb7#5","A7#5","G#7#5","G7#5","F#7#5","F7#5","Eb7#5","D7#5",{"$f":"$C268","v":"C#7#5"},{"$f":"$C267","v":"C7#5"},{"$f":"$C278","v":"B7#5"},"Bb7#5","A7#5","G#7#5","G7#5","F#7#5","F7#5",null,"E7#5",269]
[null,270,{"$f":"CONCATENATE($C$8,AD267)","v":"F7#5"},"E7#5","Eb7#5","D7#5",{"$f":"$C268","v":"C#7#5"},{"$f":"$C267","v":"C7#5"},"B7#5","Bb7#5","A7#5","G#7#5","G7#5","F#7#5","E7#5","Eb7#5","D7#5",{"$f":"$C268","v":"C#7#5"},{"$f":"$C267","v":"C7#5"},"B7#5","Bb7#5","A7#5","G#7#5","G7#5","F#7#5",null,"F7#5",270]
[null,271,{"$f":"CONCATENATE($C$9,AD267)","v":"F#7#5"},"F7#5","E7#5","Eb7#5","D7#5",{"$f":"$C268","v":"C#7#5"},{"$f":"$C267","v":"C7#5"},{"$f":"$C278","v":"B7#5"},"Bb7#5","A7#5","G#7#5","G7#5","F7#5","E7#5","Eb7#5","D7#5",{"$f":"$C268","v":"C#7#5"},{"$f":"$C267","v":"C7#5"},{"$f":"$C278","v":"B7#5"},"Bb7#5","A7#5","G#7#5","G7#5",null,"F#7#5",271]
[null,272,{"$f":"CONCATENATE($C$10,AD267)","v":"G7#5"},"F#7#5","F7#5","E7#5","Eb7#5","D7#5","C#7#5",{"$f":"$C267","v":"C7#5"},{"$f":"$C278","v":"B7#5"},"Bb7#5","A7#5","G#7#5","F#7#5","F7#5","E7#5","Eb7#5","D7#5","C#7#5",{"$f":"$C267","v":"C7#5"},{"$f":"$C278","v":"B7#5"},"Bb7#5","A7#5","G#7#5",null,"G7#5",272]
[null,273,{"$f":"CONCATENATE($C$11,AD267)","v":"G#7#5"},"G7#5","F#7#5","F7#5","E7#5","Eb7#5","D7#5",{"$f":"$C268","v":"C#7#5"},{"$f":"$C267","v":"C7#5"},{"$f":"$C278","v":"B7#5"},"Bb7#5","A7#5","G7#5","F#7#5","F7#5","E7#5","Eb7#5","D7#5",{"$f":"$C268","v":"C#7#5"},{"$f":"$C267","v":"C7#5"},{"$f":"$C278","v":"B7#5"},"Bb7#5","A7#5",null,"G#7#5",273]
[null,274,{"$f":"CONCATENATE($C$12,AD267)","v":"A7#5"},"G#7#5","G7#5","F#7#5","F7#5","E7#5","Eb7#5",{"$f":"$C269","v":"D7#5"},{"$f":"$C268","v":"C#7#5"},{"$f":"$C267","v":"C7#5"},{"$f":"$C278","v":"B7#5"},"Bb7#5","G#7#5","G7#5","F#7#5","F7#5","E7#5","Eb7#5",{"$f":"$C269","v":"D7#5"},{"$f":"$C268","v":"C#7#5"},{"$f":"$C267","v":"C7#5"},{"$f":"$C278","v":"B7#5"},"Bb7#5",null,"A7#5",274]
[null,275,{"$f":"CONCATENATE($C$13,AD267)","v":"Bb7#5"},"A7#5","G#7#5","G7#5","F#7#5","F7#5","E7#5",{"$f":"$C270","v":"Eb7#5"},{"$f":"$C269","v":"D7#5"},{"$f":"$C268","v":"C#7#5"},{"$f":"$C267","v":"C7#5"},{"$f":"$C278","v":"B7#5"},"A7#5","G#7#5","G7#5","F#7#5","F7#5","E7#5",{"$f":"$C270","v":"Eb7#5"},{"$f":"$C269","v":"D7#5"},{"$f":"$C268","v":"C#7#5"},{"$f":"$C267","v":"C7#5"},{"$f":"$C278","v":"B7#5"},null,"Bb7#5",275]
[null,276,{"$f":"CONCATENATE($C$14,AD267)","v":"B7#5"},"Bb7#5","A7#5","G#7#5","G7#5","F#7#5","F7#5",{"$f":"$C271","v":"E7#5"},{"$f":"$C270","v":"Eb7#5"},{"$f":"$C269","v":"D7#5"},{"$f":"$C268","v":"C#7#5"},{"$f":"$C267","v":"C7#5"},"Bb7#5","A7#5","G#7#5","G7#5","F#7#5","F7#5",{"$f":"$C271","v":"E7#5"},{"$f":"$C270","v":"Eb7#5"},{"$f":"$C269","v":"D7#5"},{"$f":"$C268","v":"C#7#5"},{"$f":"$C267","v":"C7#5"},null,"B7#5",276]
[null,277,{"$f":"CONCATENATE($C$3,AD279)","v":"C7-9"},{"$f":"$C290","v":"B7-9"},{"$f":"$C289","v":"Bb7-9"},{"$f":"$C288","v":"A7-9"},{"$f":"$C287","v":"G#7-9"},{"$f":"$C286","v":"G7-9"},{"$f":"$C285","v":"F#7-9"},{"$f":"$C284","v":"F7-9"},{"$f":"$C283","v":"E7-9"},{"$f":"$C282","v":"Eb7-9"},{"$f":"$C281","v":"D7-9"},{"$f":"$C280","v":"C#7-9"},{"$f":"$C290","v":"B7-9"},{"$f":"$C289","v":"Bb7-9"},{"$f":"$C288","v":"A7-9"},{"$f":"$C287","v":"G#7-9"},{"$f":"$C286","v":"G7-9"},{"$f":"$C285","v":"F#7-9"},{"$f":"$C284","v":"F7-9"},{"$f":"$C283","v":"E7-9"},{"$f":"$C282","v":"Eb7-9"},{"$f":"$C281","v":"D7-9"},{"$f":"$C280","v":"C#7-9"},null,"C7-9",277,null,"7-9"]
[null,278,{"$f":"CONCATENATE($C$4,AD279)","v":"C#7-9"},{"$f":"$C279","v":"C7-9"},{"$f":"$C290","v":"B7-9"},{"$f":"$C289","v":"Bb7-9"},{"$f":"$C288","v":"A7-9"},{"$f":"$C287","v":"G#7-9"},"G7-9","F#7-9","F7-9","E7-9","Eb7-9","D7-9",{"$f":"$C279","v":"C7-9"},{"$f":"$C290","v":"B7-9"},{"$f":"$C289","v":"Bb7-9"},{"$f":"$C288","v":"A7-9"},{"$f":"$C287","v":"G#7-9"},"G7-9","F#7-9","F7-9","E7-9","Eb7-9","D7-9",null,"C#7-9",278]
[null,279,{"$f":"CONCATENATE($C$5,AD279)","v":"D7-9"},{"$f":"$C280","v":"C#7-9"},{"$f":"$C279","v":"C7-9"},{"$f":"$C290","v":"B7-9"},{"$f":"$C289","v":"Bb7-9"},{"$f":"$C288","v":"A7-9"},"G#7-9","G7-9","F#7-9","F7-9","E7-9","Eb7-9",{"$f":"$C280","v":"C#7-9"},{"$f":"$C279","v":"C7-9"},{"$f":"$C290","v":"B7-9"},{"$f":"$C289","v":"Bb7-9"},{"$f":"$C288","v":"A7-9"},"G#7-9","G7-9","F#7-9","F7-9","E7-9","Eb7-9",null,"D7-9",279]
[null,280,{"$f":"CONCATENATE($C$6,AD279)","v":"Eb7-9"},"D7-9",{"$f":"$C280","v":"C#7-9"},{"$f":"$C279","v":"C7-9"},{"$f":"$C290","v":"B7-9"},{"$f":"$C289","v":"Bb7-9"},"A7-9","G#7-9","G7-9","F#7-9","F7-9","E7-9","D7-9",{"$f":"$C280","v":"C#7-9"},{"$f":"$C279","v":"C7-9"},{"$f":"$C290","v":"B7-9"},{"$f":"$C289","v":"Bb7-9"},"A7-9","G#7-9","G7-9","F#7-9","F7-9","E7-9",null,"Eb7-9",280]
[null,281,{"$f":"CONCATENATE($C$7,AD279)","v":"E7-9"},"Eb7-9","D7-9",{"$f":"$C280","v":"C#7-9"},{"$f":"$C279","v":"C7-9"},{"$f":"$C290","v":"B7-9"},"Bb7-9","A7-9","G#7-9","G7-9","F#7-9","F7-9","Eb7-9","D7-9",{"$f":"$C280","v":"C#7-9"},{"$f":"$C279","v":"C7-9"},{"$f":"$C290","v":"B7-9"},"Bb7-9","A7-9","G#7-9","G7-9","F#7-9","F7-9",null,"E7-9",281]
[null,282,{"$f":"CONCATENATE($C$8,AD279)","v":"F7-9"},"E7-9","Eb7-9","D7-9",{"$f":"$C280","v":"C#7-9"},{"$f":"$C279","v":"C7-9"},"B7-9","Bb7-9","A7-9","G#7-9","G7-9","F#7-9","E7-9","Eb7-9","D7-9",{"$f":"$C280","v":"C#7-9"},{"$f":"$C279","v":"C7-9"},"B7-9","Bb7-9","A7-9","G#7-9","G7-9","F#7-9",null,"F7-9",282]
[null,283,{"$f":"CONCATENATE($C$9,AD279)","v":"F#7-9"},"F7-9","E7-9","Eb7-9","D7-9",{"$f":"$C280","v":"C#7-9"},{"$f":"$C279","v":"C7-9"},{"$f":"$C290","v":"B7-9"},"Bb7-9","A7-9","G#7-9","G7-9","F7-9","E7-9","Eb7-9","D7-9",{"$f":"$C280","v":"C#7-9"},{"$f":"$C279","v":"C7-9"},{"$f":"$C290","v":"B7-9"},"Bb7-9","A7-9","G#7-9","G7-9",null,"F#7-9",283]
[null,284,{"$f":"CONCATENATE($C$10,AD279)","v":"G7-9"},"F#7-9","F7-9","E7-9","Eb7-9","D7-9","C#7-9",{"$f":"$C279","v":"C7-9"},{"$f":"$C290","v":"B7-9"},"Bb7-9","A7-9","G#7-9","F#7-9","F7-9","E7-9","Eb7-9","D7-9","C#7-9",{"$f":"$C279","v":"C7-9"},{"$f":"$C290","v":"B7-9"},"Bb7-9","A7-9","G#7-9",null,"G7-9",284]
[null,285,{"$f":"CONCATENATE($C$11,AD279)","v":"G#7-9"},"G7-9","F#7-9","F7-9","E7-9","Eb7-9","D7-9",{"$f":"$C280","v":"C#7-9"},{"$f":"$C279","v":"C7-9"},{"$f":"$C290","v":"B7-9"},"Bb7-9","A7-9","G7-9","F#7-9","F7-9","E7-9","Eb7-9","D7-9",{"$f":"$C280","v":"C#7-9"},{"$f":"$C279","v":"C7-9"},{"$f":"$C290","v":"B7-9"},"Bb7-9","A7-9",null,"G#7-9",285]
[null,286,{"$f":"CONCATENATE($C$12,AD279)","v":"A7-9"},"G#7-9","G7-9","F#7-9","F7-9","E7-9","Eb7-9",{"$f":"$C281","v":"D7-9"},{"$f":"$C280","v":"C#7-9"},{"$f":"$C279","v":"C7-9"},{"$f":"$C290","v":"B7-9"},"Bb7-9","G#7-9","G7-9","F#7-9","F7-9","E7-9","Eb7-9",{"$f":"$C281","v":"D7-9"},{"$f":"$C280","v":"C#7-9"},{"$f":"$C279","v":"C7-9"},{"$f":"$C290","v":"B7-9"},"Bb7-9",null,"A7-9",286]
[null,287,{"$f":"CONCATENATE($C$13,AD279)","v":"Bb7-9"},"A7-9","G#7-9","G7-9","F#7-9","F7-9","E7-9",{"$f":"$C282","v":"Eb7-9"},{"$f":"$C281","v":"D7-9"},{"$f":"$C280","v":"C#7-9"},{"$f":"$C279","v":"C7-9"},{"$f":"$C290","v":"B7-9"},"A7-9","G#7-9","G7-9","F#7-9","F7-9","E7-9",{"$f":"$C282","v":"Eb7-9"},{"$f":"$C281","v":"D7-9"},{"$f":"$C280","v":"C#7-9"},{"$f":"$C279","v":"C7-9"},{"$f":"$C290","v":"B7-9"},null,"Bb7-9",287]
[null,288,{"$f":"CONCATENATE($C$14,AD279)","v":"B7-9"},"Bb7-9","A7-9","G#7-9","G7-9","F#7-9","F7-9",{"$f":"$C283","v":"E7-9"},{"$f":"$C282","v":"Eb7-9"},{"$f":"$C281","v":"D7-9"},{"$f":"$C280","v":"C#7-9"},{"$f":"$C279","v":"C7-9"},"Bb7-9","A7-9","G#7-9","G7-9","F#7-9","F7-9",{"$f":"$C283","v":"E7-9"},{"$f":"$C282","v":"Eb7-9"},{"$f":"$C281","v":"D7-9"},{"$f":"$C280","v":"C#7-9"},{"$f":"$C279","v":"C7-9"},null,"B7-9",288]
[null,289,{"$f":"CONCATENATE($C$3,AD291)","v":"C7b9"},{"$f":"$C302","v":"B7b9"},{"$f":"$C301","v":"Bb7b9"},{"$f":"$C300","v":"A7b9"},{"$f":"$C299","v":"G#7b9"},{"$f":"$C298","v":"G7b9"},{"$f":"$C297","v":"F#7b9"},{"$f":"$C296","v":"F7b9"},{"$f":"$C295","v":"E7b9"},{"$f":"$C294","v":"Eb7b9"},{"$f":"$C293","v":"D7b9"},{"$f":"$C292","v":"C#7b9"},{"$f":"$C302","v":"B7b9"},{"$f":"$C301","v":"Bb7b9"},{"$f":"$C300","v":"A7b9"},{"$f":"$C299","v":"G#7b9"},{"$f":"$C298","v":"G7b9"},{"$f":"$C297","v":"F#7b9"},{"$f":"$C296","v":"F7b9"},{"$f":"$C295","v":"E7b9"},{"$f":"$C294","v":"Eb7b9"},{"$f":"$C293","v":"D7b9"},{"$f":"$C292","v":"C#7b9"},null,"C7b9",289,null,"7b9"]
[null,290,{"$f":"CONCATENATE($C$4,AD291)","v":"C#7b9"},{"$f":"$C291","v":"C7b9"},{"$f":"$C302","v":"B7b9"},{"$f":"$C301","v":"Bb7b9"},{"$f":"$C300","v":"A7b9"},{"$f":"$C299","v":"G#7b9"},"G7b9","F#7b9","F7b9","E7b9","Eb7b9","D7b9",{"$f":"$C291","v":"C7b9"},{"$f":"$C302","v":"B7b9"},{"$f":"$C301","v":"Bb7b9"},{"$f":"$C300","v":"A7b9"},{"$f":"$C299","v":"G#7b9"},"G7b9","F#7b9","F7b9","E7b9","Eb7b9","D7b9",null,"C#7b9",290]
[null,291,{"$f":"CONCATENATE($C$5,AD291)","v":"D7b9"},{"$f":"$C292","v":"C#7b9"},{"$f":"$C291","v":"C7b9"},{"$f":"$C302","v":"B7b9"},{"$f":"$C301","v":"Bb7b9"},{"$f":"$C300","v":"A7b9"},"G#7b9","G7b9","F#7b9","F7b9","E7b9","Eb7b9",{"$f":"$C292","v":"C#7b9"},{"$f":"$C291","v":"C7b9"},{"$f":"$C302","v":"B7b9"},{"$f":"$C301","v":"Bb7b9"},{"$f":"$C300","v":"A7b9"},"G#7b9","G7b9","F#7b9","F7b9","E7b9","Eb7b9",null,"D7b9",291]
[null,292,{"$f":"CONCATENATE($C$6,AD291)","v":"Eb7b9"},"D7b9",{"$f":"$C292","v":"C#7b9"},{"$f":"$C291","v":"C7b9"},{"$f":"$C302","v":"B7b9"},{"$f":"$C301","v":"Bb7b9"},"A7b9","G#7b9","G7b9","F#7b9","F7b9","E7b9","D7b9",{"$f":"$C292","v":"C#7b9"},{"$f":"$C291","v":"C7b9"},{"$f":"$C302","v":"B7b9"},{"$f":"$C301","v":"Bb7b9"},"A7b9","G#7b9","G7b9","F#7b9","F7b9","E7b9",null,"Eb7b9",292]
[null,293,{"$f":"CONCATENATE($C$7,AD291)","v":"E7b9"},"Eb7b9","D7b9",{"$f":"$C292","v":"C#7b9"},{"$f":"$C291","v":"C7b9"},{"$f":"$C302","v":"B7b9"},"Bb7b9","A7b9","G#7b9","G7b9","F#7b9","F7b9","Eb7b9","D7b9",{"$f":"$C292","v":"C#7b9"},{"$f":"$C291","v":"C7b9"},{"$f":"$C302","v":"B7b9"},"Bb7b9","A7b9","G#7b9","G7b9","F#7b9","F7b9",null,"E7b9",293]
[null,294,{"$f":"CONCATENATE($C$8,AD291)","v":"F7b9"},"E7b9","Eb7b9","D7b9",{"$f":"$C292","v":"C#7b9"},{"$f":"$C291","v":"C7b9"},"B7b9","Bb7b9","A7b9","G#7b9","G7b9","F#7b9","E7b9","Eb7b9","D7b9",{"$f":"$C292","v":"C#7b9"},{"$f":"$C291","v":"C7b9"},"B7b9","Bb7b9","A7b9","G#7b9","G7b9","F#7b9",null,"F7b9",294]
[null,295,{"$f":"CONCATENATE($C$9,AD291)","v":"F#7b9"},"F7b9","E7b9","Eb7b9","D7b9",{"$f":"$C292","v":"C#7b9"},{"$f":"$C291","v":"C7b9"},{"$f":"$C302","v":"B7b9"},"Bb7b9","A7b9","G#7b9","G7b9","F7b9","E7b9","Eb7b9","D7b9",{"$f":"$C292","v":"C#7b9"},{"$f":"$C291","v":"C7b9"},{"$f":"$C302","v":"B7b9"},"Bb7b9","A7b9","G#7b9","G7b9",null,"F#7b9",295]
[null,296,{"$f":"CONCATENATE($C$10,AD291)","v":"G7b9"},"F#7b9","F7b9","E7b9","Eb7b9","D7b9","C#7b9",{"$f":"$C291","v":"C7b9"},{"$f":"$C302","v":"B7b9"},"Bb7b9","A7b9","G#7b9","F#7b9","F7b9","E7b9","Eb7b9","D7b9","C#7b9",{"$f":"$C291","v":"C7b9"},{"$f":"$C302","v":"B7b9"},"Bb7b9","A7b9","G#7b9",null,"G7b9",296]
[null,297,{"$f":"CONCATENATE($C$11,AD291)","v":"G#7b9"},"G7b9","F#7b9","F7b9","E7b9","Eb7b9","D7b9",{"$f":"$C292","v":"C#7b9"},{"$f":"$C291","v":"C7b9"},{"$f":"$C302","v":"B7b9"},"Bb7b9","A7b9","G7b9","F#7b9","F7b9","E7b9","Eb7b9","D7b9",{"$f":"$C292","v":"C#7b9"},{"$f":"$C291","v":"C7b9"},{"$f":"$C302","v":"B7b9"},"Bb7b9","A7b9",null,"G#7b9",297]
[null,298,{"$f":"CONCATENATE($C$12,AD291)","v":"A7b9"},"G#7b9","G7b9","F#7b9","F7b9","E7b9","Eb7b9",{"$f":"$C293","v":"D7b9"},{"$f":"$C292","v":"C#7b9"},{"$f":"$C291","v":"C7b9"},{"$f":"$C302","v":"B7b9"},"Bb7b9","G#7b9","G7b9","F#7b9","F7b9","E7b9","Eb7b9",{"$f":"$C293","v":"D7b9"},{"$f":"$C292","v":"C#7b9"},{"$f":"$C291","v":"C7b9"},{"$f":"$C302","v":"B7b9"},"Bb7b9",null,"A7b9",298]
[null,299,{"$f":"CONCATENATE($C$13,AD291)","v":"Bb7b9"},"A7b9","G#7b9","G7b9","F#7b9","F7b9","E7b9",{"$f":"$C294","v":"Eb7b9"},{"$f":"$C293","v":"D7b9"},{"$f":"$C292","v":"C#7b9"},{"$f":"$C291","v":"C7b9"},{"$f":"$C302","v":"B7b9"},"A7b9","G#7b9","G7b9","F#7b9","F7b9","E7b9",{"$f":"$C294","v":"Eb7b9"},{"$f":"$C293","v":"D7b9"},{"$f":"$C292","v":"C#7b9"},{"$f":"$C291","v":"C7b9"},{"$f":"$C302","v":"B7b9"},null,"Bb7b9",299]
[null,300,{"$f":"CONCATENATE($C$14,AD291)","v":"B7b9"},"Bb7b9","A7b9","G#7b9","G7b9","F#7b9","F7b9",{"$f":"$C295","v":"E7b9"},{"$f":"$C294","v":"Eb7b9"},{"$f":"$C293","v":"D7b9"},{"$f":"$C292","v":"C#7b9"},{"$f":"$C291","v":"C7b9"},"Bb7b9","A7b9","G#7b9","G7b9","F#7b9","F7b9",{"$f":"$C295","v":"E7b9"},{"$f":"$C294","v":"Eb7b9"},{"$f":"$C293","v":"D7b9"},{"$f":"$C292","v":"C#7b9"},{"$f":"$C291","v":"C7b9"},null,"B7b9",300]
[null,301,{"$f":"CONCATENATE($C$3,AD303)","v":"C7+9"},{"$f":"$C314","v":"B7+9"},{"$f":"$C313","v":"Bb7+9"},{"$f":"$C312","v":"A7+9"},{"$f":"$C311","v":"G#7+9"},{"$f":"$C310","v":"G7+9"},{"$f":"$C309","v":"F#7+9"},{"$f":"$C308","v":"F7+9"},{"$f":"$C307","v":"E7+9"},{"$f":"$C306","v":"Eb7+9"},{"$f":"$C305","v":"D7+9"},{"$f":"$C304","v":"C#7+9"},{"$f":"$C314","v":"B7+9"},{"$f":"$C313","v":"Bb7+9"},{"$f":"$C312","v":"A7+9"},{"$f":"$C311","v":"G#7+9"},{"$f":"$C310","v":"G7+9"},{"$f":"$C309","v":"F#7+9"},{"$f":"$C308","v":"F7+9"},{"$f":"$C307","v":"E7+9"},{"$f":"$C306","v":"Eb7+9"},{"$f":"$C305","v":"D7+9"},{"$f":"$C304","v":"C#7+9"},null,"C7+9",301,null,"7+9"]
[null,302,{"$f":"CONCATENATE($C$4,AD303)","v":"C#7+9"},{"$f":"$C303","v":"C7+9"},{"$f":"$C314","v":"B7+9"},{"$f":"$C313","v":"Bb7+9"},{"$f":"$C312","v":"A7+9"},{"$f":"$C311","v":"G#7+9"},"G7+9","F#7+9","F7+9","E7+9","Eb7+9","D7+9",{"$f":"$C303","v":"C7+9"},{"$f":"$C314","v":"B7+9"},{"$f":"$C313","v":"Bb7+9"},{"$f":"$C312","v":"A7+9"},{"$f":"$C311","v":"G#7+9"},"G7+9","F#7+9","F7+9","E7+9","Eb7+9","D7+9",null,"C#7+9",302]
[null,303,{"$f":"CONCATENATE($C$5,AD303)","v":"D7+9"},{"$f":"$C304","v":"C#7+9"},{"$f":"$C303","v":"C7+9"},{"$f":"$C314","v":"B7+9"},{"$f":"$C313","v":"Bb7+9"},{"$f":"$C312","v":"A7+9"},"G#7+9","G7+9","F#7+9","F7+9","E7+9","Eb7+9",{"$f":"$C304","v":"C#7+9"},{"$f":"$C303","v":"C7+9"},{"$f":"$C314","v":"B7+9"},{"$f":"$C313","v":"Bb7+9"},{"$f":"$C312","v":"A7+9"},"G#7+9","G7+9","F#7+9","F7+9","E7+9","Eb7+9",null,"D7+9",303]
[null,304,{"$f":"CONCATENATE($C$6,AD303)","v":"Eb7+9"},"D7+9",{"$f":"$C304","v":"C#7+9"},{"$f":"$C303","v":"C7+9"},{"$f":"$C314","v":"B7+9"},{"$f":"$C313","v":"Bb7+9"},"A7+9","G#7+9","G7+9","F#7+9","F7+9","E7+9","D7+9",{"$f":"$C304","v":"C#7+9"},{"$f":"$C303","v":"C7+9"},{"$f":"$C314","v":"B7+9"},{"$f":"$C313","v":"Bb7+9"},"A7+9","G#7+9","G7+9","F#7+9","F7+9","E7+9",null,"Eb7+9",304]
[null,305,{"$f":"CONCATENATE($C$7,AD303)","v":"E7+9"},"Eb7+9","D7+9",{"$f":"$C304","v":"C#7+9"},{"$f":"$C303","v":"C7+9"},{"$f":"$C314","v":"B7+9"},"Bb7+9","A7+9","G#7+9","G7+9","F#7+9","F7+9","Eb7+9","D7+9",{"$f":"$C304","v":"C#7+9"},{"$f":"$C303","v":"C7+9"},{"$f":"$C314","v":"B7+9"},"Bb7+9","A7+9","G#7+9","G7+9","F#7+9","F7+9",null,"E7+9",305]
[null,306,{"$f":"CONCATENATE($C$8,AD303)","v":"F7+9"},"E7+9","Eb7+9","D7+9",{"$f":"$C304","v":"C#7+9"},{"$f":"$C303","v":"C7+9"},"B7+9","Bb7+9","A7+9","G#7+9","G7+9","F#7+9","E7+9","Eb7+9","D7+9",{"$f":"$C304","v":"C#7+9"},{"$f":"$C303","v":"C7+9"},"B7+9","Bb7+9","A7+9","G#7+9","G7+9","F#7+9",null,"F7+9",306]
[null,307,{"$f":"CONCATENATE($C$9,AD303)","v":"F#7+9"},"F7+9","E7+9","Eb7+9","D7+9",{"$f":"$C304","v":"C#7+9"},{"$f":"$C303","v":"C7+9"},{"$f":"$C314","v":"B7+9"},"Bb7+9","A7+9","G#7+9","G7+9","F7+9","E7+9","Eb7+9","D7+9",{"$f":"$C304","v":"C#7+9"},{"$f":"$C303","v":"C7+9"},{"$f":"$C314","v":"B7+9"},"Bb7+9","A7+9","G#7+9","G7+9",null,"F#7+9",307]
[null,308,{"$f":"CONCATENATE($C$10,AD303)","v":"G7+9"},"F#7+9","F7+9","E7+9","Eb7+9","D7+9","C#7+9",{"$f":"$C303","v":"C7+9"},{"$f":"$C314","v":"B7+9"},"Bb7+9","A7+9","G#7+9","F#7+9","F7+9","E7+9","Eb7+9","D7+9","C#7+9",{"$f":"$C303","v":"C7+9"},{"$f":"$C314","v":"B7+9"},"Bb7+9","A7+9","G#7+9",null,"G7+9",308]
[null,309,{"$f":"CONCATENATE($C$11,AD303)","v":"G#7+9"},"G7+9","F#7+9","F7+9","E7+9","Eb7+9","D7+9",{"$f":"$C304","v":"C#7+9"},{"$f":"$C303","v":"C7+9"},{"$f":"$C314","v":"B7+9"},"Bb7+9","A7+9","G7+9","F#7+9","F7+9","E7+9","Eb7+9","D7+9",{"$f":"$C304","v":"C#7+9"},{"$f":"$C303","v":"C7+9"},{"$f":"$C314","v":"B7+9"},"Bb7+9","A7+9",null,"G#7+9",309]
[null,310,{"$f":"CONCATENATE($C$12,AD303)","v":"A7+9"},"G#7+9","G7+9","F#7+9","F7+9","E7+9","Eb7+9",{"$f":"$C305","v":"D7+9"},{"$f":"$C304","v":"C#7+9"},{"$f":"$C303","v":"C7+9"},{"$f":"$C314","v":"B7+9"},"Bb7+9","G#7+9","G7+9","F#7+9","F7+9","E7+9","Eb7+9",{"$f":"$C305","v":"D7+9"},{"$f":"$C304","v":"C#7+9"},{"$f":"$C303","v":"C7+9"},{"$f":"$C314","v":"B7+9"},"Bb7+9",null,"A7+9",310]
[null,311,{"$f":"CONCATENATE($C$13,AD303)","v":"Bb7+9"},"A7+9","G#7+9","G7+9","F#7+9","F7+9","E7+9",{"$f":"$C306","v":"Eb7+9"},{"$f":"$C305","v":"D7+9"},{"$f":"$C304","v":"C#7+9"},{"$f":"$C303","v":"C7+9"},{"$f":"$C314","v":"B7+9"},"A7+9","G#7+9","G7+9","F#7+9","F7+9","E7+9",{"$f":"$C306","v":"Eb7+9"},{"$f":"$C305","v":"D7+9"},{"$f":"$C304","v":"C#7+9"},{"$f":"$C303","v":"C7+9"},{"$f":"$C314","v":"B7+9"},null,"Bb7+9",311]
[null,312,{"$f":"CONCATENATE($C$14,AD303)","v":"B7+9"},"Bb7+9","A7+9","G#7+9","G7+9","F#7+9","F7+9",{"$f":"$C307","v":"E7+9"},{"$f":"$C306","v":"Eb7+9"},{"$f":"$C305","v":"D7+9"},{"$f":"$C304","v":"C#7+9"},{"$f":"$C303","v":"C7+9"},"Bb7+9","A7+9","G#7+9","G7+9","F#7+9","F7+9",{"$f":"$C307","v":"E7+9"},{"$f":"$C306","v":"Eb7+9"},{"$f":"$C305","v":"D7+9"},{"$f":"$C304","v":"C#7+9"},{"$f":"$C303","v":"C7+9"},null,"B7+9",312]
[null,313,{"$f":"CONCATENATE($C$3,AD315)","v":"C7#9"},{"$f":"$C326","v":"B7#9"},{"$f":"$C325","v":"Bb7#9"},{"$f":"$C324","v":"A7#9"},{"$f":"$C323","v":"G#7#9"},{"$f":"$C322","v":"G7#9"},{"$f":"$C321","v":"F#7#9"},{"$f":"$C320","v":"F7#9"},{"$f":"$C319","v":"E7#9"},{"$f":"$C318","v":"Eb7#9"},{"$f":"$C317","v":"D7#9"},{"$f":"$C316","v":"C#7#9"},{"$f":"$C326","v":"B7#9"},{"$f":"$C325","v":"Bb7#9"},{"$f":"$C324","v":"A7#9"},{"$f":"$C323","v":"G#7#9"},{"$f":"$C322","v":"G7#9"},{"$f":"$C321","v":"F#7#9"},{"$f":"$C320","v":"F7#9"},{"$f":"$C319","v":"E7#9"},{"$f":"$C318","v":"Eb7#9"},{"$f":"$C317","v":"D7#9"},{"$f":"$C316","v":"C#7#9"},null,{"$f":"C315","v":"C7#9"},313,null,"7#9"]
[null,314,{"$f":"CONCATENATE($C$4,AD315)","v":"C#7#9"},{"$f":"$C315","v":"C7#9"},{"$f":"$C326","v":"B7#9"},{"$f":"$C325","v":"Bb7#9"},{"$f":"$C324","v":"A7#9"},{"$f":"$C323","v":"G#7#9"},"G7#9","F#7#9","F7#9","E7#9","Eb7#9","D7#9",{"$f":"$C315","v":"C7#9"},{"$f":"$C326","v":"B7#9"},{"$f":"$C325","v":"Bb7#9"},{"$f":"$C324","v":"A7#9"},{"$f":"$C323","v":"G#7#9"},"G7#9","F#7#9","F7#9","E7#9","Eb7#9","D7#9",null,"C#7#9",314]
[null,315,{"$f":"CONCATENATE($C$5,AD315)","v":"D7#9"},{"$f":"$C316","v":"C#7#9"},{"$f":"$C315","v":"C7#9"},{"$f":"$C326","v":"B7#9"},{"$f":"$C325","v":"Bb7#9"},{"$f":"$C324","v":"A7#9"},"G#7#9","G7#9","F#7#9","F7#9","E7#9","Eb7#9",{"$f":"$C316","v":"C#7#9"},{"$f":"$C315","v":"C7#9"},{"$f":"$C326","v":"B7#9"},{"$f":"$C325","v":"Bb7#9"},{"$f":"$C324","v":"A7#9"},"G#7#9","G7#9","F#7#9","F7#9","E7#9","Eb7#9",null,"D7#9",315]
[null,316,{"$f":"CONCATENATE($C$6,AD315)","v":"Eb7#9"},"D7#9",{"$f":"$C316","v":"C#7#9"},{"$f":"$C315","v":"C7#9"},{"$f":"$C326","v":"B7#9"},{"$f":"$C325","v":"Bb7#9"},"A7#9","G#7#9","G7#9","F#7#9","F7#9","E7#9","D7#9",{"$f":"$C316","v":"C#7#9"},{"$f":"$C315","v":"C7#9"},{"$f":"$C326","v":"B7#9"},{"$f":"$C325","v":"Bb7#9"},"A7#9","G#7#9","G7#9","F#7#9","F7#9","E7#9",null,"Eb7#9",316]
[null,317,{"$f":"CONCATENATE($C$7,AD315)","v":"E7#9"},"Eb7#9","D7#9",{"$f":"$C316","v":"C#7#9"},{"$f":"$C315","v":"C7#9"},{"$f":"$C326","v":"B7#9"},"Bb7#9","A7#9","G#7#9","G7#9","F#7#9","F7#9","Eb7#9","D7#9",{"$f":"$C316","v":"C#7#9"},{"$f":"$C315","v":"C7#9"},{"$f":"$C326","v":"B7#9"},"Bb7#9","A7#9","G#7#9","G7#9","F#7#9","F7#9",null,"E7#9",317]
[null,318,{"$f":"CONCATENATE($C$8,AD315)","v":"F7#9"},"E7#9","Eb7#9","D7#9",{"$f":"$C316","v":"C#7#9"},{"$f":"$C315","v":"C7#9"},"B7#9","Bb7#9","A7#9","G#7#9","G7#9","F#7#9","E7#9","Eb7#9","D7#9",{"$f":"$C316","v":"C#7#9"},{"$f":"$C315","v":"C7#9"},"B7#9","Bb7#9","A7#9","G#7#9","G7#9","F#7#9",null,"F7#9",318]
[null,319,{"$f":"CONCATENATE($C$9,AD315)","v":"F#7#9"},"F7#9","E7#9","Eb7#9","D7#9",{"$f":"$C316","v":"C#7#9"},{"$f":"$C315","v":"C7#9"},{"$f":"$C326","v":"B7#9"},"Bb7#9","A7#9","G#7#9","G7#9","F7#9","E7#9","Eb7#9","D7#9",{"$f":"$C316","v":"C#7#9"},{"$f":"$C315","v":"C7#9"},{"$f":"$C326","v":"B7#9"},"Bb7#9","A7#9","G#7#9","G7#9",null,"F#7#9",319]
[null,320,{"$f":"CONCATENATE($C$10,AD315)","v":"G7#9"},"F#7#9","F7#9","E7#9","Eb7#9","D7#9","C#7#9",{"$f":"$C315","v":"C7#9"},{"$f":"$C326","v":"B7#9"},"Bb7#9","A7#9","G#7#9","F#7#9","F7#9","E7#9","Eb7#9","D7#9","C#7#9",{"$f":"$C315","v":"C7#9"},{"$f":"$C326","v":"B7#9"},"Bb7#9","A7#9","G#7#9",null,"G7#9",320]
[null,321,{"$f":"CONCATENATE($C$11,AD315)","v":"G#7#9"},"G7#9","F#7#9","F7#9","E7#9","Eb7#9","D7#9",{"$f":"$C316","v":"C#7#9"},{"$f":"$C315","v":"C7#9"},{"$f":"$C326","v":"B7#9"},"Bb7#9","A7#9","G7#9","F#7#9","F7#9","E7#9","Eb7#9","D7#9",{"$f":"$C316","v":"C#7#9"},{"$f":"$C315","v":"C7#9"},{"$f":"$C326","v":"B7#9"},"Bb7#9","A7#9",null,"G#7#9",{"$f":"B323","v":321}]
[null,322,{"$f":"CONCATENATE($C$12,AD315)","v":"A7#9"},"G#7#9","G7#9","F#7#9","F7#9","E7#9","Eb7#9",{"$f":"$C317","v":"D7#9"},{"$f":"$C316","v":"C#7#9"},{"$f":"$C315","v":"C7#9"},{"$f":"$C326","v":"B7#9"},"Bb7#9","G#7#9","G7#9","F#7#9","F7#9","E7#9","Eb7#9",{"$f":"$C317","v":"D7#9"},{"$f":"$C316","v":"C#7#9"},{"$f":"$C315","v":"C7#9"},{"$f":"$C326","v":"B7#9"},"Bb7#9",null,"A7#9",322]
[null,323,{"$f":"CONCATENATE($C$13,AD315)","v":"Bb7#9"},"A7#9","G#7#9","G7#9","F#7#9","F7#9","E7#9",{"$f":"$C318","v":"Eb7#9"},{"$f":"$C317","v":"D7#9"},{"$f":"$C316","v":"C#7#9"},{"$f":"$C315","v":"C7#9"},{"$f":"$C326","v":"B7#9"},"A7#9","G#7#9","G7#9","F#7#9","F7#9","E7#9",{"$f":"$C318","v":"Eb7#9"},{"$f":"$C317","v":"D7#9"},{"$f":"$C316","v":"C#7#9"},{"$f":"$C315","v":"C7#9"},{"$f":"$C326","v":"B7#9"},null,"Bb7#9",323]
[null,324,{"$f":"CONCATENATE($C$14,AD315)","v":"B7#9"},"Bb7#9","A7#9","G#7#9","G7#9","F#7#9","F7#9",{"$f":"$C319","v":"E7#9"},{"$f":"$C318","v":"Eb7#9"},{"$f":"$C317","v":"D7#9"},{"$f":"$C316","v":"C#7#9"},{"$f":"$C315","v":"C7#9"},"Bb7#9","A7#9","G#7#9","G7#9","F#7#9","F7#9",{"$f":"$C319","v":"E7#9"},{"$f":"$C318","v":"Eb7#9"},{"$f":"$C317","v":"D7#9"},{"$f":"$C316","v":"C#7#9"},{"$f":"$C315","v":"C7#9"},null,"B7#9",324]
[null,325,{"$f":"CONCATENATE($C$3,AD327)","v":"CMaj7"},{"$f":"$C338","v":"BMaj7"},{"$f":"$C337","v":"BbMaj7"},{"$f":"$C336","v":"AMaj7"},{"$f":"$C335","v":"G#Maj7"},{"$f":"$C334","v":"GMaj7"},{"$f":"$C333","v":"F#Maj7"},{"$f":"$C332","v":"FMaj7"},{"$f":"$C331","v":"EMaj7"},{"$f":"$C330","v":"EbMaj7"},{"$f":"$C329","v":"DMaj7"},{"$f":"$C328","v":"C#Maj7"},{"$f":"$C338","v":"BMaj7"},{"$f":"$C337","v":"BbMaj7"},{"$f":"$C336","v":"AMaj7"},{"$f":"$C335","v":"G#Maj7"},{"$f":"$C334","v":"GMaj7"},{"$f":"$C333","v":"F#Maj7"},{"$f":"$C332","v":"FMaj7"},{"$f":"$C331","v":"EMaj7"},{"$f":"$C330","v":"EbMaj7"},{"$f":"$C329","v":"DMaj7"},{"$f":"$C328","v":"C#Maj7"},null,"CMaj7",325,null,"Maj7"]
[null,326,{"$f":"CONCATENATE($C$4,AD327)","v":"C#Maj7"},{"$f":"$C327","v":"CMaj7"},{"$f":"$C338","v":"BMaj7"},{"$f":"$C337","v":"BbMaj7"},{"$f":"$C336","v":"AMaj7"},{"$f":"$C335","v":"G#Maj7"},"GMaj7","F#Maj7","FMaj7","EMaj7","EbMaj7","DMaj7",{"$f":"$C327","v":"CMaj7"},{"$f":"$C338","v":"BMaj7"},{"$f":"$C337","v":"BbMaj7"},{"$f":"$C336","v":"AMaj7"},{"$f":"$C335","v":"G#Maj7"},"GMaj7","F#Maj7","FMaj7","EMaj7","EbMaj7","DMaj7",null,"C#Maj7",326]
[null,327,{"$f":"CONCATENATE($C$5,AD327)","v":"DMaj7"},{"$f":"$C328","v":"C#Maj7"},{"$f":"$C327","v":"CMaj7"},{"$f":"$C338","v":"BMaj7"},{"$f":"$C337","v":"BbMaj7"},{"$f":"$C336","v":"AMaj7"},"G#Maj7","GMaj7","F#Maj7","FMaj7","EMaj7","EbMaj7",{"$f":"$C328","v":"C#Maj7"},{"$f":"$C327","v":"CMaj7"},{"$f":"$C338","v":"BMaj7"},{"$f":"$C337","v":"BbMaj7"},{"$f":"$C336","v":"AMaj7"},"G#Maj7","GMaj7","F#Maj7","FMaj7","EMaj7","EbMaj7",null,"DMaj7",327]
[null,328,{"$f":"CONCATENATE($C$6,AD327)","v":"EbMaj7"},"DMaj7",{"$f":"$C328","v":"C#Maj7"},{"$f":"$C327","v":"CMaj7"},{"$f":"$C338","v":"BMaj7"},{"$f":"$C337","v":"BbMaj7"},"AMaj7","G#Maj7","GMaj7","F#Maj7","FMaj7","EMaj7","DMaj7",{"$f":"$C328","v":"C#Maj7"},{"$f":"$C327","v":"CMaj7"},{"$f":"$C338","v":"BMaj7"},{"$f":"$C337","v":"BbMaj7"},"AMaj7","G#Maj7","GMaj7","F#Maj7","FMaj7","EMaj7",null,"EbMaj7",328]
[null,329,{"$f":"CONCATENATE($C$7,AD327)","v":"EMaj7"},"EbMaj7","DMaj7",{"$f":"$C328","v":"C#Maj7"},{"$f":"$C327","v":"CMaj7"},{"$f":"$C338","v":"BMaj7"},"BbMaj7","AMaj7","G#Maj7","GMaj7","F#Maj7","FMaj7","EbMaj7","DMaj7",{"$f":"$C328","v":"C#Maj7"},{"$f":"$C327","v":"CMaj7"},{"$f":"$C338","v":"BMaj7"},"BbMaj7","AMaj7","G#Maj7","GMaj7","F#Maj7","FMaj7",null,"EMaj7",329]
[null,330,{"$f":"CONCATENATE($C$8,AD327)","v":"FMaj7"},"EMaj7","EbMaj7","DMaj7",{"$f":"$C328","v":"C#Maj7"},{"$f":"$C327","v":"CMaj7"},"BMaj7","BbMaj7","AMaj7","G#Maj7","GMaj7","F#Maj7","EMaj7","EbMaj7","DMaj7",{"$f":"$C328","v":"C#Maj7"},{"$f":"$C327","v":"CMaj7"},"BMaj7","BbMaj7","AMaj7","G#Maj7","GMaj7","F#Maj7",null,"FMaj7",330]
[null,331,{"$f":"CONCATENATE($C$9,AD327)","v":"F#Maj7"},"FMaj7","EMaj7","EbMaj7","DMaj7",{"$f":"$C328","v":"C#Maj7"},{"$f":"$C327","v":"CMaj7"},{"$f":"$C338","v":"BMaj7"},"BbMaj7","AMaj7","G#Maj7","GMaj7","FMaj7","EMaj7","EbMaj7","DMaj7",{"$f":"$C328","v":"C#Maj7"},{"$f":"$C327","v":"CMaj7"},{"$f":"$C338","v":"BMaj7"},"BbMaj7","AMaj7","G#Maj7","GMaj7",null,"F#Maj7",331]
[null,332,{"$f":"CONCATENATE($C$10,AD327)","v":"GMaj7"},"F#Maj7","FMaj7","EMaj7","EbMaj7","DMaj7","C#Maj7",{"$f":"$C327","v":"CMaj7"},{"$f":"$C338","v":"BMaj7"},"BbMaj7","AMaj7","G#Maj7","F#Maj7","FMaj7","EMaj7","EbMaj7","DMaj7","C#Maj7",{"$f":"$C327","v":"CMaj7"},{"$f":"$C338","v":"BMaj7"},"BbMaj7","AMaj7","G#Maj7",null,"GMaj7",332]
[null,333,{"$f":"CONCATENATE($C$11,AD327)","v":"G#Maj7"},"GMaj7","F#Maj7","FMaj7","EMaj7","EbMaj7","DMaj7",{"$f":"$C328","v":"C#Maj7"},{"$f":"$C327","v":"CMaj7"},{"$f":"$C338","v":"BMaj7"},"BbMaj7","AMaj7","GMaj7","F#Maj7","FMaj7","EMaj7","EbMaj7","DMaj7",{"$f":"$C328","v":"C#Maj7"},{"$f":"$C327","v":"CMaj7"},{"$f":"$C338","v":"BMaj7"},"BbMaj7","AMaj7",null,"G#Maj7",333]
[null,334,{"$f":"CONCATENATE($C$12,AD327)","v":"AMaj7"},"G#Maj7","GMaj7","F#Maj7","FMaj7","EMaj7","EbMaj7",{"$f":"$C329","v":"DMaj7"},{"$f":"$C328","v":"C#Maj7"},{"$f":"$C327","v":"CMaj7"},{"$f":"$C338","v":"BMaj7"},"BbMaj7","G#Maj7","GMaj7","F#Maj7","FMaj7","EMaj7","EbMaj7",{"$f":"$C329","v":"DMaj7"},{"$f":"$C328","v":"C#Maj7"},{"$f":"$C327","v":"CMaj7"},{"$f":"$C338","v":"BMaj7"},"BbMaj7",null,"AMaj7",334]
[null,335,{"$f":"CONCATENATE($C$13,AD327)","v":"BbMaj7"},"AMaj7","G#Maj7","GMaj7","F#Maj7","FMaj7","EMaj7",{"$f":"$C330","v":"EbMaj7"},{"$f":"$C329","v":"DMaj7"},{"$f":"$C328","v":"C#Maj7"},{"$f":"$C327","v":"CMaj7"},{"$f":"$C338","v":"BMaj7"},"AMaj7","G#Maj7","GMaj7","F#Maj7","FMaj7","EMaj7",{"$f":"$C330","v":"EbMaj7"},{"$f":"$C329","v":"DMaj7"},{"$f":"$C328","v":"C#Maj7"},{"$f":"$C327","v":"CMaj7"},{"$f":"$C338","v":"BMaj7"},null,"BbMaj7",335]
[null,336,{"$f":"CONCATENATE($C$14,AD327)","v":"BMaj7"},"BbMaj7","AMaj7","G#Maj7","GMaj7","F#Maj7","FMaj7",{"$f":"$C331","v":"EMaj7"},{"$f":"$C330","v":"EbMaj7"},{"$f":"$C329","v":"DMaj7"},{"$f":"$C328","v":"C#Maj7"},{"$f":"$C327","v":"CMaj7"},"BbMaj7","AMaj7","G#Maj7","GMaj7","F#Maj7","FMaj7",{"$f":"$C331","v":"EMaj7"},{"$f":"$C330","v":"EbMaj7"},{"$f":"$C329","v":"DMaj7"},{"$f":"$C328","v":"C#Maj7"},{"$f":"$C327","v":"CMaj7"},null,"BMaj7",336]
[null,337,{"$f":"CONCATENATE($C$3,AD339)","v":"C△"},{"$f":"$C350","v":"B△"},{"$f":"$C349","v":"Bb△"},{"$f":"$C348","v":"A△"},{"$f":"$C347","v":"G#△"},{"$f":"$C346","v":"G△"},{"$f":"$C345","v":"F#△"},{"$f":"$C344","v":"F△"},{"$f":"$C343","v":"E△"},{"$f":"$C342","v":"Eb△"},{"$f":"$C341","v":"D△"},{"$f":"$C340","v":"C#△"},{"$f":"$C350","v":"B△"},{"$f":"$C349","v":"Bb△"},{"$f":"$C348","v":"A△"},{"$f":"$C347","v":"G#△"},{"$f":"$C346","v":"G△"},{"$f":"$C345","v":"F#△"},{"$f":"$C344","v":"F△"},{"$f":"$C343","v":"E△"},{"$f":"$C342","v":"Eb△"},{"$f":"$C341","v":"D△"},{"$f":"$C340","v":"C#△"},null,"C△",337,null,"△"]
[null,338,{"$f":"CONCATENATE($C$4,AD339)","v":"C#△"},{"$f":"$C339","v":"C△"},{"$f":"$C350","v":"B△"},{"$f":"$C349","v":"Bb△"},{"$f":"$C348","v":"A△"},{"$f":"$C347","v":"G#△"},"G△","F#△","F△","E△","Eb△","D△",{"$f":"$C339","v":"C△"},{"$f":"$C350","v":"B△"},{"$f":"$C349","v":"Bb△"},{"$f":"$C348","v":"A△"},{"$f":"$C347","v":"G#△"},"G△","F#△","F△","E△","Eb△","D△",null,"C#△",338]
[null,339,{"$f":"CONCATENATE($C$5,AD339)","v":"D△"},{"$f":"$C340","v":"C#△"},{"$f":"$C339","v":"C△"},{"$f":"$C350","v":"B△"},{"$f":"$C349","v":"Bb△"},{"$f":"$C348","v":"A△"},"G#△","G△","F#△","F△","E△","Eb△",{"$f":"$C340","v":"C#△"},{"$f":"$C339","v":"C△"},{"$f":"$C350","v":"B△"},{"$f":"$C349","v":"Bb△"},{"$f":"$C348","v":"A△"},"G#△","G△","F#△","F△","E△","Eb△",null,"D△",339]
[null,340,{"$f":"CONCATENATE($C$6,AD339)","v":"Eb△"},"D△",{"$f":"$C340","v":"C#△"},{"$f":"$C339","v":"C△"},{"$f":"$C350","v":"B△"},{"$f":"$C349","v":"Bb△"},"A△","G#△","G△","F#△","F△","E△","D△",{"$f":"$C340","v":"C#△"},{"$f":"$C339","v":"C△"},{"$f":"$C350","v":"B△"},{"$f":"$C349","v":"Bb△"},"A△","G#△","G△","F#△","F△","E△",null,"Eb△",340]
[null,341,{"$f":"CONCATENATE($C$7,AD339)","v":"E△"},"Eb△","D△",{"$f":"$C340","v":"C#△"},{"$f":"$C339","v":"C△"},{"$f":"$C350","v":"B△"},"Bb△","A△","G#△","G△","F#△","F△","Eb△","D△",{"$f":"$C340","v":"C#△"},{"$f":"$C339","v":"C△"},{"$f":"$C350","v":"B△"},"Bb△","A△","G#△","G△","F#△","F△",null,"E△",341]
[null,342,{"$f":"CONCATENATE($C$8,AD339)","v":"F△"},"E△","Eb△","D△",{"$f":"$C340","v":"C#△"},{"$f":"$C339","v":"C△"},"B△","Bb△","A△","G#△","G△","F#△","E△","Eb△","D△",{"$f":"$C340","v":"C#△"},{"$f":"$C339","v":"C△"},"B△","Bb△","A△","G#△","G△","F#△",null,"F△",342]
[null,343,{"$f":"CONCATENATE($C$9,AD339)","v":"F#△"},"F△","E△","Eb△","D△",{"$f":"$C340","v":"C#△"},{"$f":"$C339","v":"C△"},{"$f":"$C350","v":"B△"},"Bb△","A△","G#△","G△","F△","E△","Eb△","D△",{"$f":"$C340","v":"C#△"},{"$f":"$C339","v":"C△"},{"$f":"$C350","v":"B△"},"Bb△","A△","G#△","G△",null,"F#△",343]
[null,344,{"$f":"CONCATENATE($C$10,AD339)","v":"G△"},"F#△","F△","E△","Eb△","D△","C#△",{"$f":"$C339","v":"C△"},{"$f":"$C350","v":"B△"},"Bb△","A△","G#△","F#△","F△","E△","Eb△","D△","C#△",{"$f":"$C339","v":"C△"},{"$f":"$C350","v":"B△"},"Bb△","A△","G#△",null,"G△",344]
[null,345,{"$f":"CONCATENATE($C$11,AD339)","v":"G#△"},"G△","F#△","F△","E△","Eb△","D△",{"$f":"$C340","v":"C#△"},{"$f":"$C339","v":"C△"},{"$f":"$C350","v":"B△"},"Bb△","A△","G△","F#△","F△","E△","Eb△","D△",{"$f":"$C340","v":"C#△"},{"$f":"$C339","v":"C△"},{"$f":"$C350","v":"B△"},"Bb△","A△",null,"G#△",345]
[null,346,{"$f":"CONCATENATE($C$12,AD339)","v":"A△"},"G#△","G△","F#△","F△","E△","Eb△",{"$f":"$C341","v":"D△"},{"$f":"$C340","v":"C#△"},{"$f":"$C339","v":"C△"},{"$f":"$C350","v":"B△"},"Bb△","G#△","G△","F#△","F△","E△","Eb△",{"$f":"$C341","v":"D△"},{"$f":"$C340","v":"C#△"},{"$f":"$C339","v":"C△"},{"$f":"$C350","v":"B△"},"Bb△",null,"A△",346]
[null,347,{"$f":"CONCATENATE($C$13,AD339)","v":"Bb△"},"A△","G#△","G△","F#△","F△","E△",{"$f":"$C342","v":"Eb△"},{"$f":"$C341","v":"D△"},{"$f":"$C340","v":"C#△"},{"$f":"$C339","v":"C△"},{"$f":"$C350","v":"B△"},"A△","G#△","G△","F#△","F△","E△",{"$f":"$C342","v":"Eb△"},{"$f":"$C341","v":"D△"},{"$f":"$C340","v":"C#△"},{"$f":"$C339","v":"C△"},{"$f":"$C350","v":"B△"},null,"Bb△",347]
[null,348,{"$f":"CONCATENATE($C$14,AD339)","v":"B△"},"Bb△","A△","G#△","G△","F#△","F△",{"$f":"$C343","v":"E△"},{"$f":"$C342","v":"Eb△"},{"$f":"$C341","v":"D△"},{"$f":"$C340","v":"C#△"},{"$f":"$C339","v":"C△"},"Bb△","A△","G#△","G△","F#△","F△",{"$f":"$C343","v":"E△"},{"$f":"$C342","v":"Eb△"},{"$f":"$C341","v":"D△"},{"$f":"$C340","v":"C#△"},{"$f":"$C339","v":"C△"},null,"B△",348]
[null,349,{"$f":"CONCATENATE($C$3,AD351)","v":"C△7"},{"$f":"$C362","v":"B△7"},{"$f":"$C361","v":"Bb△7"},{"$f":"$C360","v":"A△7"},{"$f":"$C359","v":"G#△7"},{"$f":"$C358","v":"G△7"},{"$f":"$C357","v":"F#△7"},{"$f":"$C356","v":"F△7"},{"$f":"$C355","v":"E△7"},{"$f":"$C354","v":"Eb△7"},{"$f":"$C353","v":"D△7"},{"$f":"$C352","v":"C#△7"},{"$f":"$C362","v":"B△7"},{"$f":"$C361","v":"Bb△7"},{"$f":"$C360","v":"A△7"},{"$f":"$C359","v":"G#△7"},{"$f":"$C358","v":"G△7"},{"$f":"$C357","v":"F#△7"},{"$f":"$C356","v":"F△7"},{"$f":"$C355","v":"E△7"},{"$f":"$C354","v":"Eb△7"},{"$f":"$C353","v":"D△7"},{"$f":"$C352","v":"C#△7"},null,{"$f":"C351","v":"C△7"},349,null,"△7"]
[null,350,{"$f":"CONCATENATE($C$4,AD351)","v":"C#△7"},{"$f":"$C351","v":"C△7"},{"$f":"$C362","v":"B△7"},{"$f":"$C361","v":"Bb△7"},{"$f":"$C360","v":"A△7"},{"$f":"$C359","v":"G#△7"},"G△7","F#△7","F△7","E△7","Eb△7","D△7",{"$f":"$C351","v":"C△7"},{"$f":"$C362","v":"B△7"},{"$f":"$C361","v":"Bb△7"},{"$f":"$C360","v":"A△7"},{"$f":"$C359","v":"G#△7"},"G△7","F#△7","F△7","E△7","Eb△7","D△7",null,"C#△7",350]
[null,351,{"$f":"CONCATENATE($C$5,AD351)","v":"D△7"},{"$f":"$C352","v":"C#△7"},{"$f":"$C351","v":"C△7"},{"$f":"$C362","v":"B△7"},{"$f":"$C361","v":"Bb△7"},{"$f":"$C360","v":"A△7"},"G#△7","G△7","F#△7","F△7","E△7","Eb△7",{"$f":"$C352","v":"C#△7"},{"$f":"$C351","v":"C△7"},{"$f":"$C362","v":"B△7"},{"$f":"$C361","v":"Bb△7"},{"$f":"$C360","v":"A△7"},"G#△7","G△7","F#△7","F△7","E△7","Eb△7",null,"D△7",351]
[null,352,{"$f":"CONCATENATE($C$6,AD351)","v":"Eb△7"},"D△7",{"$f":"$C352","v":"C#△7"},{"$f":"$C351","v":"C△7"},{"$f":"$C362","v":"B△7"},{"$f":"$C361","v":"Bb△7"},"A△7","G#△7","G△7","F#△7","F△7","E△7","D△7",{"$f":"$C352","v":"C#△7"},{"$f":"$C351","v":"C△7"},{"$f":"$C362","v":"B△7"},{"$f":"$C361","v":"Bb△7"},"A△7","G#△7","G△7","F#△7","F△7","E△7",null,"Eb△7",352]
[null,353,{"$f":"CONCATENATE($C$7,AD351)","v":"E△7"},"Eb△7","D△7",{"$f":"$C352","v":"C#△7"},{"$f":"$C351","v":"C△7"},{"$f":"$C362","v":"B△7"},"Bb△7","A△7","G#△7","G△7","F#△7","F△7","Eb△7","D△7",{"$f":"$C352","v":"C#△7"},{"$f":"$C351","v":"C△7"},{"$f":"$C362","v":"B△7"},"Bb△7","A△7","G#△7","G△7","F#△7","F△7",null,"E△7",353]
[null,354,{"$f":"CONCATENATE($C$8,AD351)","v":"F△7"},"E△7","Eb△7","D△7",{"$f":"$C352","v":"C#△7"},{"$f":"$C351","v":"C△7"},"B△7","Bb△7","A△7","G#△7","G△7","F#△7","E△7","Eb△7","D△7",{"$f":"$C352","v":"C#△7"},{"$f":"$C351","v":"C△7"},"B△7","Bb△7","A△7","G#△7","G△7","F#△7",null,"F△7",354]
[null,355,{"$f":"CONCATENATE($C$9,AD351)","v":"F#△7"},"F△7","E△7","Eb△7","D△7",{"$f":"$C352","v":"C#△7"},{"$f":"$C351","v":"C△7"},{"$f":"$C362","v":"B△7"},"Bb△7","A△7","G#△7","G△7","F△7","E△7","Eb△7","D△7",{"$f":"$C352","v":"C#△7"},{"$f":"$C351","v":"C△7"},{"$f":"$C362","v":"B△7"},"Bb△7","A△7","G#△7","G△7",null,"F#△7",355]
[null,356,{"$f":"CONCATENATE($C$10,AD351)","v":"G△7"},"F#△7","F△7","E△7","Eb△7","D△7","C#△7",{"$f":"$C351","v":"C△7"},{"$f":"$C362","v":"B△7"},"Bb△7","A△7","G#△7","F#△7","F△7","E△7","Eb△7","D△7","C#△7",{"$f":"$C351","v":"C△7"},{"$f":"$C362","v":"B△7"},"Bb△7","A△7","G#△7",null,"G△7",356]
[null,357,{"$f":"CONCATENATE($C$11,AD351)","v":"G#△7"},"G△7","F#△7","F△7","E△7","Eb△7","D△7",{"$f":"$C352","v":"C#△7"},{"$f":"$C351","v":"C△7"},{"$f":"$C362","v":"B△7"},"Bb△7","A△7","G△7","F#△7","F△7","E△7","Eb△7","D△7",{"$f":"$C352","v":"C#△7"},{"$f":"$C351","v":"C△7"},{"$f":"$C362","v":"B△7"},"Bb△7","A△7",null,"G#△7",357]
[null,358,{"$f":"CONCATENATE($C$12,AD351)","v":"A△7"},"G#△7","G△7","F#△7","F△7","E△7","Eb△7",{"$f":"$C353","v":"D△7"},{"$f":"$C352","v":"C#△7"},{"$f":"$C351","v":"C△7"},{"$f":"$C362","v":"B△7"},"Bb△7","G#△7","G△7","F#△7","F△7","E△7","Eb△7",{"$f":"$C353","v":"D△7"},{"$f":"$C352","v":"C#△7"},{"$f":"$C351","v":"C△7"},{"$f":"$C362","v":"B△7"},"Bb△7",null,"A△7",358]
[null,359,{"$f":"CONCATENATE($C$13,AD351)","v":"Bb△7"},"A△7","G#△7","G△7","F#△7","F△7","E△7",{"$f":"$C354","v":"Eb△7"},{"$f":"$C353","v":"D△7"},{"$f":"$C352","v":"C#△7"},{"$f":"$C351","v":"C△7"},{"$f":"$C362","v":"B△7"},"A△7","G#△7","G△7","F#△7","F△7","E△7",{"$f":"$C354","v":"Eb△7"},{"$f":"$C353","v":"D△7"},{"$f":"$C352","v":"C#△7"},{"$f":"$C351","v":"C△7"},{"$f":"$C362","v":"B△7"},null,"Bb△7",359]
[null,360,{"$f":"CONCATENATE($C$14,AD351)","v":"B△7"},"Bb△7","A△7","G#△7","G△7","F#△7","F△7",{"$f":"$C355","v":"E△7"},{"$f":"$C354","v":"Eb△7"},{"$f":"$C353","v":"D△7"},{"$f":"$C352","v":"C#△7"},{"$f":"$C351","v":"C△7"},"Bb△7","A△7","G#△7","G△7","F#△7","F△7",{"$f":"$C355","v":"E△7"},{"$f":"$C354","v":"Eb△7"},{"$f":"$C353","v":"D△7"},{"$f":"$C352","v":"C#△7"},{"$f":"$C351","v":"C△7"},null,"B△7",360]
[null,361,{"$f":"CONCATENATE($C$3,AD363)","v":"CM9"},{"$f":"$C374","v":"BM9"},{"$f":"$C373","v":"BbM9"},{"$f":"$C372","v":"AM9"},{"$f":"$C371","v":"G#M9"},{"$f":"$C370","v":"GM9"},{"$f":"$C369","v":"F#M9"},{"$f":"$C368","v":"FM9"},{"$f":"$C367","v":"EM9"},{"$f":"$C366","v":"EbM9"},{"$f":"$C365","v":"DM9"},{"$f":"$C364","v":"C#M9"},{"$f":"$C374","v":"BM9"},{"$f":"$C373","v":"BbM9"},{"$f":"$C372","v":"AM9"},{"$f":"$C371","v":"G#M9"},{"$f":"$C370","v":"GM9"},{"$f":"$C369","v":"F#M9"},{"$f":"$C368","v":"FM9"},{"$f":"$C367","v":"EM9"},{"$f":"$C366","v":"EbM9"},{"$f":"$C365","v":"DM9"},{"$f":"$C364","v":"C#M9"},null,"CM9",361,null,"M9"]
[null,362,{"$f":"CONCATENATE($C$4,AD363)","v":"C#M9"},{"$f":"$C363","v":"CM9"},{"$f":"$C374","v":"BM9"},{"$f":"$C373","v":"BbM9"},{"$f":"$C372","v":"AM9"},{"$f":"$C371","v":"G#M9"},"GM9","F#M9","FM9","EM9","EbM9","DM9",{"$f":"$C363","v":"CM9"},{"$f":"$C374","v":"BM9"},{"$f":"$C373","v":"BbM9"},{"$f":"$C372","v":"AM9"},{"$f":"$C371","v":"G#M9"},"GM9","F#M9","FM9","EM9","EbM9","DM9",null,"C#M9",362]
[null,363,{"$f":"CONCATENATE($C$5,AD363)","v":"DM9"},{"$f":"$C364","v":"C#M9"},{"$f":"$C363","v":"CM9"},{"$f":"$C374","v":"BM9"},{"$f":"$C373","v":"BbM9"},{"$f":"$C372","v":"AM9"},"G#M9","GM9","F#M9","FM9","EM9","EbM9",{"$f":"$C364","v":"C#M9"},{"$f":"$C363","v":"CM9"},{"$f":"$C374","v":"BM9"},{"$f":"$C373","v":"BbM9"},{"$f":"$C372","v":"AM9"},"G#M9","GM9","F#M9","FM9","EM9","EbM9",null,"DM9",363]
[null,364,{"$f":"CONCATENATE($C$6,AD363)","v":"EbM9"},"DM9",{"$f":"$C364","v":"C#M9"},{"$f":"$C363","v":"CM9"},{"$f":"$C374","v":"BM9"},{"$f":"$C373","v":"BbM9"},"AM9","G#M9","GM9","F#M9","FM9","EM9","DM9",{"$f":"$C364","v":"C#M9"},{"$f":"$C363","v":"CM9"},{"$f":"$C374","v":"BM9"},{"$f":"$C373","v":"BbM9"},"AM9","G#M9","GM9","F#M9","FM9","EM9",null,"EbM9",364]
[null,365,{"$f":"CONCATENATE($C$7,AD363)","v":"EM9"},"EbM9","DM9",{"$f":"$C364","v":"C#M9"},{"$f":"$C363","v":"CM9"},{"$f":"$C374","v":"BM9"},"BbM9","AM9","G#M9","GM9","F#M9","FM9","EbM9","DM9",{"$f":"$C364","v":"C#M9"},{"$f":"$C363","v":"CM9"},{"$f":"$C374","v":"BM9"},"BbM9","AM9","G#M9","GM9","F#M9","FM9",null,"EM9",365]
[null,366,{"$f":"CONCATENATE($C$8,AD363)","v":"FM9"},"EM9","EbM9","DM9",{"$f":"$C364","v":"C#M9"},{"$f":"$C363","v":"CM9"},"BM9","BbM9","AM9","G#M9","GM9","F#M9","EM9","EbM9","DM9",{"$f":"$C364","v":"C#M9"},{"$f":"$C363","v":"CM9"},"BM9","BbM9","AM9","G#M9","GM9","F#M9",null,"FM9",366]
[null,367,{"$f":"CONCATENATE($C$9,AD363)","v":"F#M9"},"FM9","EM9","EbM9","DM9",{"$f":"$C364","v":"C#M9"},{"$f":"$C363","v":"CM9"},{"$f":"$C374","v":"BM9"},"BbM9","AM9","G#M9","GM9","FM9","EM9","EbM9","DM9",{"$f":"$C364","v":"C#M9"},{"$f":"$C363","v":"CM9"},{"$f":"$C374","v":"BM9"},"BbM9","AM9","G#M9","GM9",null,"F#M9",367]
[null,368,{"$f":"CONCATENATE($C$10,AD363)","v":"GM9"},"F#M9","FM9","EM9","EbM9","DM9","C#M9",{"$f":"$C363","v":"CM9"},{"$f":"$C374","v":"BM9"},"BbM9","AM9","G#M9","F#M9","FM9","EM9","EbM9","DM9","C#M9",{"$f":"$C363","v":"CM9"},{"$f":"$C374","v":"BM9"},"BbM9","AM9","G#M9",null,"GM9",368]
[null,369,{"$f":"CONCATENATE($C$11,AD363)","v":"G#M9"},"GM9","F#M9","FM9","EM9","EbM9","DM9",{"$f":"$C364","v":"C#M9"},{"$f":"$C363","v":"CM9"},{"$f":"$C374","v":"BM9"},"BbM9","AM9","GM9","F#M9","FM9","EM9","EbM9","DM9",{"$f":"$C364","v":"C#M9"},{"$f":"$C363","v":"CM9"},{"$f":"$C374","v":"BM9"},"BbM9","AM9",null,"G#M9",369]
[null,370,{"$f":"CONCATENATE($C$12,AD363)","v":"AM9"},"G#M9","GM9","F#M9","FM9","EM9","EbM9",{"$f":"$C365","v":"DM9"},{"$f":"$C364","v":"C#M9"},{"$f":"$C363","v":"CM9"},{"$f":"$C374","v":"BM9"},"BbM9","G#M9","GM9","F#M9","FM9","EM9","EbM9",{"$f":"$C365","v":"DM9"},{"$f":"$C364","v":"C#M9"},{"$f":"$C363","v":"CM9"},{"$f":"$C374","v":"BM9"},"BbM9",null,"AM9",370]
[null,371,{"$f":"CONCATENATE($C$13,AD363)","v":"BbM9"},"AM9","G#M9","GM9","F#M9","FM9","EM9",{"$f":"$C366","v":"EbM9"},{"$f":"$C365","v":"DM9"},{"$f":"$C364","v":"C#M9"},{"$f":"$C363","v":"CM9"},{"$f":"$C374","v":"BM9"},"AM9","G#M9","GM9","F#M9","FM9","EM9",{"$f":"$C366","v":"EbM9"},{"$f":"$C365","v":"DM9"},{"$f":"$C364","v":"C#M9"},{"$f":"$C363","v":"CM9"},{"$f":"$C374","v":"BM9"},null,"BbM9",371]
[null,372,{"$f":"CONCATENATE($C$14,AD363)","v":"BM9"},"BbM9","AM9","G#M9","GM9","F#M9","FM9",{"$f":"$C367","v":"EM9"},{"$f":"$C366","v":"EbM9"},{"$f":"$C365","v":"DM9"},{"$f":"$C364","v":"C#M9"},{"$f":"$C363","v":"CM9"},"BbM9","AM9","G#M9","GM9","F#M9","FM9",{"$f":"$C367","v":"EM9"},{"$f":"$C366","v":"EbM9"},{"$f":"$C365","v":"DM9"},{"$f":"$C364","v":"C#M9"},{"$f":"$C363","v":"CM9"},null,"BM9",372]
[null,373,{"$f":"CONCATENATE($C$3,AD375)","v":"CMaj9"},{"$f":"$C386","v":"BMaj9"},{"$f":"$C385","v":"BbMaj9"},{"$f":"$C384","v":"AMaj9"},{"$f":"$C383","v":"G#Maj9"},{"$f":"$C382","v":"GMaj9"},{"$f":"$C381","v":"F#Maj9"},{"$f":"$C380","v":"FMaj9"},{"$f":"$C379","v":"EMaj9"},{"$f":"$C378","v":"EbMaj9"},{"$f":"$C377","v":"DMaj9"},{"$f":"$C376","v":"C#Maj9"},{"$f":"$C386","v":"BMaj9"},{"$f":"$C385","v":"BbMaj9"},{"$f":"$C384","v":"AMaj9"},{"$f":"$C383","v":"G#Maj9"},{"$f":"$C382","v":"GMaj9"},{"$f":"$C381","v":"F#Maj9"},{"$f":"$C380","v":"FMaj9"},{"$f":"$C379","v":"EMaj9"},{"$f":"$C378","v":"EbMaj9"},{"$f":"$C377","v":"DMaj9"},{"$f":"$C376","v":"C#Maj9"},null,{"$f":"C375","v":"CMaj9"},373,null,"Maj9"]
[null,374,{"$f":"CONCATENATE($C$4,AD375)","v":"C#Maj9"},{"$f":"$C375","v":"CMaj9"},{"$f":"$C386","v":"BMaj9"},{"$f":"$C385","v":"BbMaj9"},{"$f":"$C384","v":"AMaj9"},{"$f":"$C383","v":"G#Maj9"},"GMaj9","F#Maj9","FMaj9","EMaj9","EbMaj9","DMaj9",{"$f":"$C375","v":"CMaj9"},{"$f":"$C386","v":"BMaj9"},{"$f":"$C385","v":"BbMaj9"},{"$f":"$C384","v":"AMaj9"},{"$f":"$C383","v":"G#Maj9"},"GMaj9","F#Maj9","FMaj9","EMaj9","EbMaj9","DMaj9",null,"C#Maj9",374]
[null,375,{"$f":"CONCATENATE($C$5,AD375)","v":"DMaj9"},{"$f":"$C376","v":"C#Maj9"},{"$f":"$C375","v":"CMaj9"},{"$f":"$C386","v":"BMaj9"},{"$f":"$C385","v":"BbMaj9"},{"$f":"$C384","v":"AMaj9"},"G#Maj9","GMaj9","F#Maj9","FMaj9","EMaj9","EbMaj9",{"$f":"$C376","v":"C#Maj9"},{"$f":"$C375","v":"CMaj9"},{"$f":"$C386","v":"BMaj9"},{"$f":"$C385","v":"BbMaj9"},{"$f":"$C384","v":"AMaj9"},"G#Maj9","GMaj9","F#Maj9","FMaj9","EMaj9","EbMaj9",null,"DMaj9",375]
[null,376,{"$f":"CONCATENATE($C$6,AD375)","v":"EbMaj9"},"DMaj9",{"$f":"$C376","v":"C#Maj9"},{"$f":"$C375","v":"CMaj9"},{"$f":"$C386","v":"BMaj9"},{"$f":"$C385","v":"BbMaj9"},"AMaj9","G#Maj9","GMaj9","F#Maj9","FMaj9","EMaj9","DMaj9",{"$f":"$C376","v":"C#Maj9"},{"$f":"$C375","v":"CMaj9"},{"$f":"$C386","v":"BMaj9"},{"$f":"$C385","v":"BbMaj9"},"AMaj9","G#Maj9","GMaj9","F#Maj9","FMaj9","EMaj9",null,"EbMaj9",376]
[null,377,{"$f":"CONCATENATE($C$7,AD375)","v":"EMaj9"},"EbMaj9","DMaj9",{"$f":"$C376","v":"C#Maj9"},{"$f":"$C375","v":"CMaj9"},{"$f":"$C386","v":"BMaj9"},"BbMaj9","AMaj9","G#Maj9","GMaj9","F#Maj9","FMaj9","EbMaj9","DMaj9",{"$f":"$C376","v":"C#Maj9"},{"$f":"$C375","v":"CMaj9"},{"$f":"$C386","v":"BMaj9"},"BbMaj9","AMaj9","G#Maj9","GMaj9","F#Maj9","FMaj9",null,"EMaj9",377]
[null,378,{"$f":"CONCATENATE($C$8,AD375)","v":"FMaj9"},"EMaj9","EbMaj9","DMaj9",{"$f":"$C376","v":"C#Maj9"},{"$f":"$C375","v":"CMaj9"},"BMaj9","BbMaj9","AMaj9","G#Maj9","GMaj9","F#Maj9","EMaj9","EbMaj9","DMaj9",{"$f":"$C376","v":"C#Maj9"},{"$f":"$C375","v":"CMaj9"},"BMaj9","BbMaj9","AMaj9","G#Maj9","GMaj9","F#Maj9",null,"FMaj9",378]
[null,379,{"$f":"CONCATENATE($C$9,AD375)","v":"F#Maj9"},"FMaj9","EMaj9","EbMaj9","DMaj9",{"$f":"$C376","v":"C#Maj9"},{"$f":"$C375","v":"CMaj9"},{"$f":"$C386","v":"BMaj9"},"BbMaj9","AMaj9","G#Maj9","GMaj9","FMaj9","EMaj9","EbMaj9","DMaj9",{"$f":"$C376","v":"C#Maj9"},{"$f":"$C375","v":"CMaj9"},{"$f":"$C386","v":"BMaj9"},"BbMaj9","AMaj9","G#Maj9","GMaj9",null,"F#Maj9",379]
[null,380,{"$f":"CONCATENATE($C$10,AD375)","v":"GMaj9"},"F#Maj9","FMaj9","EMaj9","EbMaj9","DMaj9","C#Maj9",{"$f":"$C375","v":"CMaj9"},{"$f":"$C386","v":"BMaj9"},"BbMaj9","AMaj9","G#Maj9","F#Maj9","FMaj9","EMaj9","EbMaj9","DMaj9","C#Maj9",{"$f":"$C375","v":"CMaj9"},{"$f":"$C386","v":"BMaj9"},"BbMaj9","AMaj9","G#Maj9",null,"GMaj9",380]
[null,381,{"$f":"CONCATENATE($C$11,AD375)","v":"G#Maj9"},"GMaj9","F#Maj9","FMaj9","EMaj9","EbMaj9","DMaj9",{"$f":"$C376","v":"C#Maj9"},{"$f":"$C375","v":"CMaj9"},{"$f":"$C386","v":"BMaj9"},"BbMaj9","AMaj9","GMaj9","F#Maj9","FMaj9","EMaj9","EbMaj9","DMaj9",{"$f":"$C376","v":"C#Maj9"},{"$f":"$C375","v":"CMaj9"},{"$f":"$C386","v":"BMaj9"},"BbMaj9","AMaj9",null,"G#Maj9",381]
[null,382,{"$f":"CONCATENATE($C$12,AD375)","v":"AMaj9"},"G#Maj9","GMaj9","F#Maj9","FMaj9","EMaj9","EbMaj9",{"$f":"$C377","v":"DMaj9"},{"$f":"$C376","v":"C#Maj9"},{"$f":"$C375","v":"CMaj9"},{"$f":"$C386","v":"BMaj9"},"BbMaj9","G#Maj9","GMaj9","F#Maj9","FMaj9","EMaj9","EbMaj9",{"$f":"$C377","v":"DMaj9"},{"$f":"$C376","v":"C#Maj9"},{"$f":"$C375","v":"CMaj9"},{"$f":"$C386","v":"BMaj9"},"BbMaj9",null,"AMaj9",382]
[null,383,{"$f":"CONCATENATE($C$13,AD375)","v":"BbMaj9"},"AMaj9","G#Maj9","GMaj9","F#Maj9","FMaj9","EMaj9",{"$f":"$C378","v":"EbMaj9"},{"$f":"$C377","v":"DMaj9"},{"$f":"$C376","v":"C#Maj9"},{"$f":"$C375","v":"CMaj9"},{"$f":"$C386","v":"BMaj9"},"AMaj9","G#Maj9","GMaj9","F#Maj9","FMaj9","EMaj9",{"$f":"$C378","v":"EbMaj9"},{"$f":"$C377","v":"DMaj9"},{"$f":"$C376","v":"C#Maj9"},{"$f":"$C375","v":"CMaj9"},{"$f":"$C386","v":"BMaj9"},null,"BbMaj9",383]
[null,384,{"$f":"CONCATENATE($C$14,AD375)","v":"BMaj9"},"BbMaj9","AMaj9","G#Maj9","GMaj9","F#Maj9","FMaj9",{"$f":"$C379","v":"EMaj9"},{"$f":"$C378","v":"EbMaj9"},{"$f":"$C377","v":"DMaj9"},{"$f":"$C376","v":"C#Maj9"},{"$f":"$C375","v":"CMaj9"},"BbMaj9","AMaj9","G#Maj9","GMaj9","F#Maj9","FMaj9",{"$f":"$C379","v":"EMaj9"},{"$f":"$C378","v":"EbMaj9"},{"$f":"$C377","v":"DMaj9"},{"$f":"$C376","v":"C#Maj9"},{"$f":"$C375","v":"CMaj9"},null,"BMaj9",384]
[null,385,{"$f":"CONCATENATE($C$3,AD387)","v":"C△9"},{"$f":"$C398","v":"B△9"},{"$f":"$C397","v":"Bb△9"},{"$f":"$C396","v":"A△9"},{"$f":"$C395","v":"G#△9"},{"$f":"$C394","v":"G△9"},{"$f":"$C393","v":"F#△9"},{"$f":"$C392","v":"F△9"},{"$f":"$C391","v":"E△9"},{"$f":"$C390","v":"Eb△9"},{"$f":"$C389","v":"D△9"},{"$f":"$C388","v":"C#△9"},{"$f":"$C398","v":"B△9"},{"$f":"$C397","v":"Bb△9"},{"$f":"$C396","v":"A△9"},{"$f":"$C395","v":"G#△9"},{"$f":"$C394","v":"G△9"},{"$f":"$C393","v":"F#△9"},{"$f":"$C392","v":"F△9"},{"$f":"$C391","v":"E△9"},{"$f":"$C390","v":"Eb△9"},{"$f":"$C389","v":"D△9"},{"$f":"$C388","v":"C#△9"},null,"C△9",{"$f":"B387","v":385},null,"△9"]
[null,386,{"$f":"CONCATENATE($C$4,AD387)","v":"C#△9"},{"$f":"$C387","v":"C△9"},{"$f":"$C398","v":"B△9"},{"$f":"$C397","v":"Bb△9"},{"$f":"$C396","v":"A△9"},{"$f":"$C395","v":"G#△9"},"G△9","F#△9","F△9","E△9","Eb△9","D△9",{"$f":"$C387","v":"C△9"},{"$f":"$C398","v":"B△9"},{"$f":"$C397","v":"Bb△9"},{"$f":"$C396","v":"A△9"},{"$f":"$C395","v":"G#△9"},"G△9","F#△9","F△9","E△9","Eb△9","D△9",null,"C#△9",386]
[null,387,{"$f":"CONCATENATE($C$5,AD387)","v":"D△9"},{"$f":"$C388","v":"C#△9"},{"$f":"$C387","v":"C△9"},{"$f":"$C398","v":"B△9"},{"$f":"$C397","v":"Bb△9"},{"$f":"$C396","v":"A△9"},"G#△9","G△9","F#△9","F△9","E△9","Eb△9",{"$f":"$C388","v":"C#△9"},{"$f":"$C387","v":"C△9"},{"$f":"$C398","v":"B△9"},{"$f":"$C397","v":"Bb△9"},{"$f":"$C396","v":"A△9"},"G#△9","G△9","F#△9","F△9","E△9","Eb△9",null,"D△9",387]
[null,388,{"$f":"CONCATENATE($C$6,AD387)","v":"Eb△9"},"D△9",{"$f":"$C388","v":"C#△9"},{"$f":"$C387","v":"C△9"},{"$f":"$C398","v":"B△9"},{"$f":"$C397","v":"Bb△9"},"A△9","G#△9","G△9","F#△9","F△9","E△9","D△9",{"$f":"$C388","v":"C#△9"},{"$f":"$C387","v":"C△9"},{"$f":"$C398","v":"B△9"},{"$f":"$C397","v":"Bb△9"},"A△9","G#△9","G△9","F#△9","F△9","E△9",null,"Eb△9",388]
[null,389,{"$f":"CONCATENATE($C$7,AD387)","v":"E△9"},"Eb△9","D△9",{"$f":"$C388","v":"C#△9"},{"$f":"$C387","v":"C△9"},{"$f":"$C398","v":"B△9"},"Bb△9","A△9","G#△9","G△9","F#△9","F△9","Eb△9","D△9",{"$f":"$C388","v":"C#△9"},{"$f":"$C387","v":"C△9"},{"$f":"$C398","v":"B△9"},"Bb△9","A△9","G#△9","G△9","F#△9","F△9",null,"E△9",389]
[null,390,{"$f":"CONCATENATE($C$8,AD387)","v":"F△9"},"E△9","Eb△9","D△9",{"$f":"$C388","v":"C#△9"},{"$f":"$C387","v":"C△9"},"B△9","Bb△9","A△9","G#△9","G△9","F#△9","E△9","Eb△9","D△9",{"$f":"$C388","v":"C#△9"},{"$f":"$C387","v":"C△9"},"B△9","Bb△9","A△9","G#△9","G△9","F#△9",null,"F△9",390]
[null,391,{"$f":"CONCATENATE($C$9,AD387)","v":"F#△9"},"F△9","E△9","Eb△9","D△9",{"$f":"$C388","v":"C#△9"},{"$f":"$C387","v":"C△9"},{"$f":"$C398","v":"B△9"},"Bb△9","A△9","G#△9","G△9","F△9","E△9","Eb△9","D△9",{"$f":"$C388","v":"C#△9"},{"$f":"$C387","v":"C△9"},{"$f":"$C398","v":"B△9"},"Bb△9","A△9","G#△9","G△9",null,"F#△9",391]
[null,392,{"$f":"CONCATENATE($C$10,AD387)","v":"G△9"},"F#△9","F△9","E△9","Eb△9","D△9","C#△9",{"$f":"$C387","v":"C△9"},{"$f":"$C398","v":"B△9"},"Bb△9","A△9","G#△9","F#△9","F△9","E△9","Eb△9","D△9","C#△9",{"$f":"$C387","v":"C△9"},{"$f":"$C398","v":"B△9"},"Bb△9","A△9","G#△9",null,"G△9",392]
[null,393,{"$f":"CONCATENATE($C$11,AD387)","v":"G#△9"},"G△9","F#△9","F△9","E△9","Eb△9","D△9",{"$f":"$C388","v":"C#△9"},{"$f":"$C387","v":"C△9"},{"$f":"$C398","v":"B△9"},"Bb△9","A△9","G△9","F#△9","F△9","E△9","Eb△9","D△9",{"$f":"$C388","v":"C#△9"},{"$f":"$C387","v":"C△9"},{"$f":"$C398","v":"B△9"},"Bb△9","A△9",null,"G#△9",393]
[null,394,{"$f":"CONCATENATE($C$12,AD387)","v":"A△9"},"G#△9","G△9","F#△9","F△9","E△9","Eb△9",{"$f":"$C389","v":"D△9"},{"$f":"$C388","v":"C#△9"},{"$f":"$C387","v":"C△9"},{"$f":"$C398","v":"B△9"},"Bb△9","G#△9","G△9","F#△9","F△9","E△9","Eb△9",{"$f":"$C389","v":"D△9"},{"$f":"$C388","v":"C#△9"},{"$f":"$C387","v":"C△9"},{"$f":"$C398","v":"B△9"},"Bb△9",null,"A△9",394]
[null,395,{"$f":"CONCATENATE($C$13,AD387)","v":"Bb△9"},"A△9","G#△9","G△9","F#△9","F△9","E△9",{"$f":"$C390","v":"Eb△9"},{"$f":"$C389","v":"D△9"},{"$f":"$C388","v":"C#△9"},{"$f":"$C387","v":"C△9"},{"$f":"$C398","v":"B△9"},"A△9","G#△9","G△9","F#△9","F△9","E△9",{"$f":"$C390","v":"Eb△9"},{"$f":"$C389","v":"D△9"},{"$f":"$C388","v":"C#△9"},{"$f":"$C387","v":"C△9"},{"$f":"$C398","v":"B△9"},null,"Bb△9",395]
[null,396,{"$f":"CONCATENATE($C$14,AD387)","v":"B△9"},"Bb△9","A△9","G#△9","G△9","F#△9","F△9",{"$f":"$C391","v":"E△9"},{"$f":"$C390","v":"Eb△9"},{"$f":"$C389","v":"D△9"},{"$f":"$C388","v":"C#△9"},{"$f":"$C387","v":"C△9"},"Bb△9","A△9","G#△9","G△9","F#△9","F△9",{"$f":"$C391","v":"E△9"},{"$f":"$C390","v":"Eb△9"},{"$f":"$C389","v":"D△9"},{"$f":"$C388","v":"C#△9"},{"$f":"$C387","v":"C△9"},null,"B△9",396]
[null,397,{"$f":"CONCATENATE($C$3,AD399)","v":"CM9"},{"$f":"$C410","v":"BM9"},{"$f":"$C409","v":"BbM9"},{"$f":"$C408","v":"AM9"},{"$f":"$C407","v":"G#M9"},{"$f":"$C406","v":"GM9"},{"$f":"$C405","v":"F#M9"},{"$f":"$C404","v":"FM9"},{"$f":"$C403","v":"EM9"},{"$f":"$C402","v":"EbM9"},{"$f":"$C401","v":"DM9"},{"$f":"$C400","v":"C#M9"},{"$f":"$C410","v":"BM9"},{"$f":"$C409","v":"BbM9"},{"$f":"$C408","v":"AM9"},{"$f":"$C407","v":"G#M9"},{"$f":"$C406","v":"GM9"},{"$f":"$C405","v":"F#M9"},{"$f":"$C404","v":"FM9"},{"$f":"$C403","v":"EM9"},{"$f":"$C402","v":"EbM9"},{"$f":"$C401","v":"DM9"},{"$f":"$C400","v":"C#M9"},null,{"$f":"C399","v":"CM9"},397,null,"M9"]
[null,398,{"$f":"CONCATENATE($C$4,AD399)","v":"C#M9"},{"$f":"$C399","v":"CM9"},{"$f":"$C410","v":"BM9"},{"$f":"$C409","v":"BbM9"},{"$f":"$C408","v":"AM9"},{"$f":"$C407","v":"G#M9"},"GM9","F#M9","FM9","EM9","EbM9","DM9",{"$f":"$C399","v":"CM9"},{"$f":"$C410","v":"BM9"},{"$f":"$C409","v":"BbM9"},{"$f":"$C408","v":"AM9"},{"$f":"$C407","v":"G#M9"},"GM9","F#M9","FM9","EM9","EbM9","DM9",null,"C#M9",398]
[null,399,{"$f":"CONCATENATE($C$5,AD399)","v":"DM9"},{"$f":"$C400","v":"C#M9"},{"$f":"$C399","v":"CM9"},{"$f":"$C410","v":"BM9"},{"$f":"$C409","v":"BbM9"},{"$f":"$C408","v":"AM9"},"G#M9","GM9","F#M9","FM9","EM9","EbM9",{"$f":"$C400","v":"C#M9"},{"$f":"$C399","v":"CM9"},{"$f":"$C410","v":"BM9"},{"$f":"$C409","v":"BbM9"},{"$f":"$C408","v":"AM9"},"G#M9","GM9","F#M9","FM9","EM9","EbM9",null,"DM9",399]
[null,400,{"$f":"CONCATENATE($C$6,AD399)","v":"EbM9"},"DM9",{"$f":"$C400","v":"C#M9"},{"$f":"$C399","v":"CM9"},{"$f":"$C410","v":"BM9"},{"$f":"$C409","v":"BbM9"},"AM9","G#M9","GM9","F#M9","FM9","EM9","DM9",{"$f":"$C400","v":"C#M9"},{"$f":"$C399","v":"CM9"},{"$f":"$C410","v":"BM9"},{"$f":"$C409","v":"BbM9"},"AM9","G#M9","GM9","F#M9","FM9","EM9",null,"EbM9",400]
[null,401,{"$f":"CONCATENATE($C$7,AD399)","v":"EM9"},"EbM9","DM9",{"$f":"$C400","v":"C#M9"},{"$f":"$C399","v":"CM9"},{"$f":"$C410","v":"BM9"},"BbM9","AM9","G#M9","GM9","F#M9","FM9","EbM9","DM9",{"$f":"$C400","v":"C#M9"},{"$f":"$C399","v":"CM9"},{"$f":"$C410","v":"BM9"},"BbM9","AM9","G#M9","GM9","F#M9","FM9",null,"EM9",401]
[null,402,{"$f":"CONCATENATE($C$8,AD399)","v":"FM9"},"EM9","EbM9","DM9",{"$f":"$C400","v":"C#M9"},{"$f":"$C399","v":"CM9"},"BM9","BbM9","AM9","G#M9","GM9","F#M9","EM9","EbM9","DM9",{"$f":"$C400","v":"C#M9"},{"$f":"$C399","v":"CM9"},"BM9","BbM9","AM9","G#M9","GM9","F#M9",null,"FM9",402]
[null,403,{"$f":"CONCATENATE($C$9,AD399)","v":"F#M9"},"FM9","EM9","EbM9","DM9",{"$f":"$C400","v":"C#M9"},{"$f":"$C399","v":"CM9"},{"$f":"$C410","v":"BM9"},"BbM9","AM9","G#M9","GM9","FM9","EM9","EbM9","DM9",{"$f":"$C400","v":"C#M9"},{"$f":"$C399","v":"CM9"},{"$f":"$C410","v":"BM9"},"BbM9","AM9","G#M9","GM9",null,"F#M9",403]
[null,404,{"$f":"CONCATENATE($C$10,AD399)","v":"GM9"},"F#M9","FM9","EM9","EbM9","DM9","C#M9",{"$f":"$C399","v":"CM9"},{"$f":"$C410","v":"BM9"},"BbM9","AM9","G#M9","F#M9","FM9","EM9","EbM9","DM9","C#M9",{"$f":"$C399","v":"CM9"},{"$f":"$C410","v":"BM9"},"BbM9","AM9","G#M9",null,"GM9",404]
[null,405,{"$f":"CONCATENATE($C$11,AD399)","v":"G#M9"},"GM9","F#M9","FM9","EM9","EbM9","DM9",{"$f":"$C400","v":"C#M9"},{"$f":"$C399","v":"CM9"},{"$f":"$C410","v":"BM9"},"BbM9","AM9","GM9","F#M9","FM9","EM9","EbM9","DM9",{"$f":"$C400","v":"C#M9"},{"$f":"$C399","v":"CM9"},{"$f":"$C410","v":"BM9"},"BbM9","AM9",null,"G#M9",405]
[null,406,{"$f":"CONCATENATE($C$12,AD399)","v":"AM9"},"G#M9","GM9","F#M9","FM9","EM9","EbM9",{"$f":"$C401","v":"DM9"},{"$f":"$C400","v":"C#M9"},{"$f":"$C399","v":"CM9"},{"$f":"$C410","v":"BM9"},"BbM9","G#M9","GM9","F#M9","FM9","EM9","EbM9",{"$f":"$C401","v":"DM9"},{"$f":"$C400","v":"C#M9"},{"$f":"$C399","v":"CM9"},{"$f":"$C410","v":"BM9"},"BbM9",null,"AM9",406]
[null,407,{"$f":"CONCATENATE($C$13,AD399)","v":"BbM9"},"AM9","G#M9","GM9","F#M9","FM9","EM9",{"$f":"$C402","v":"EbM9"},{"$f":"$C401","v":"DM9"},{"$f":"$C400","v":"C#M9"},{"$f":"$C399","v":"CM9"},{"$f":"$C410","v":"BM9"},"AM9","G#M9","GM9","F#M9","FM9","EM9",{"$f":"$C402","v":"EbM9"},{"$f":"$C401","v":"DM9"},{"$f":"$C400","v":"C#M9"},{"$f":"$C399","v":"CM9"},{"$f":"$C410","v":"BM9"},null,"BbM9",407]
[null,408,{"$f":"CONCATENATE($C$14,AD399)","v":"BM9"},"BbM9","AM9","G#M9","GM9","F#M9","FM9",{"$f":"$C403","v":"EM9"},{"$f":"$C402","v":"EbM9"},{"$f":"$C401","v":"DM9"},{"$f":"$C400","v":"C#M9"},{"$f":"$C399","v":"CM9"},"BbM9","AM9","G#M9","GM9","F#M9","FM9",{"$f":"$C403","v":"EM9"},{"$f":"$C402","v":"EbM9"},{"$f":"$C401","v":"DM9"},{"$f":"$C400","v":"C#M9"},{"$f":"$C399","v":"CM9"},null,"BM9",408]
[null,409,{"$f":"CONCATENATE($C$3,AD411)","v":"CMaj11"},{"$f":"$C422","v":"BMaj11"},{"$f":"$C421","v":"BbMaj11"},{"$f":"$C420","v":"AMaj11"},{"$f":"$C419","v":"G#Maj11"},{"$f":"$C418","v":"GMaj11"},{"$f":"$C417","v":"F#Maj11"},{"$f":"$C416","v":"FMaj11"},{"$f":"$C415","v":"EMaj11"},{"$f":"$C414","v":"EbMaj11"},{"$f":"$C413","v":"DMaj11"},{"$f":"$C412","v":"C#Maj11"},{"$f":"$C422","v":"BMaj11"},{"$f":"$C421","v":"BbMaj11"},{"$f":"$C420","v":"AMaj11"},{"$f":"$C419","v":"G#Maj11"},{"$f":"$C418","v":"GMaj11"},{"$f":"$C417","v":"F#Maj11"},{"$f":"$C416","v":"FMaj11"},{"$f":"$C415","v":"EMaj11"},{"$f":"$C414","v":"EbMaj11"},{"$f":"$C413","v":"DMaj11"},{"$f":"$C412","v":"C#Maj11"},null,"CMaj11",409,null,"Maj11"]
[null,410,{"$f":"CONCATENATE($C$4,AD411)","v":"C#Maj11"},{"$f":"$C411","v":"CMaj11"},{"$f":"$C422","v":"BMaj11"},{"$f":"$C421","v":"BbMaj11"},{"$f":"$C420","v":"AMaj11"},{"$f":"$C419","v":"G#Maj11"},"GMaj11","F#Maj11","FMaj11","EMaj11","EbMaj11","DMaj11",{"$f":"$C411","v":"CMaj11"},{"$f":"$C422","v":"BMaj11"},{"$f":"$C421","v":"BbMaj11"},{"$f":"$C420","v":"AMaj11"},{"$f":"$C419","v":"G#Maj11"},"GMaj11","F#Maj11","FMaj11","EMaj11","EbMaj11","DMaj11",null,"C#Maj11",410]
[null,411,{"$f":"CONCATENATE($C$5,AD411)","v":"DMaj11"},{"$f":"$C412","v":"C#Maj11"},{"$f":"$C411","v":"CMaj11"},{"$f":"$C422","v":"BMaj11"},{"$f":"$C421","v":"BbMaj11"},{"$f":"$C420","v":"AMaj11"},"G#Maj11","GMaj11","F#Maj11","FMaj11","EMaj11","EbMaj11",{"$f":"$C412","v":"C#Maj11"},{"$f":"$C411","v":"CMaj11"},{"$f":"$C422","v":"BMaj11"},{"$f":"$C421","v":"BbMaj11"},{"$f":"$C420","v":"AMaj11"},"G#Maj11","GMaj11","F#Maj11","FMaj11","EMaj11","EbMaj11",null,"DMaj11",411]
[null,412,{"$f":"CONCATENATE($C$6,AD411)","v":"EbMaj11"},"DMaj11",{"$f":"$C412","v":"C#Maj11"},{"$f":"$C411","v":"CMaj11"},{"$f":"$C422","v":"BMaj11"},{"$f":"$C421","v":"BbMaj11"},"AMaj11","G#Maj11","GMaj11","F#Maj11","FMaj11","EMaj11","DMaj11",{"$f":"$C412","v":"C#Maj11"},{"$f":"$C411","v":"CMaj11"},{"$f":"$C422","v":"BMaj11"},{"$f":"$C421","v":"BbMaj11"},"AMaj11","G#Maj11","GMaj11","F#Maj11","FMaj11","EMaj11",null,"EbMaj11",412]
[null,413,{"$f":"CONCATENATE($C$7,AD411)","v":"EMaj11"},"EbMaj11","DMaj11",{"$f":"$C412","v":"C#Maj11"},{"$f":"$C411","v":"CMaj11"},{"$f":"$C422","v":"BMaj11"},"BbMaj11","AMaj11","G#Maj11","GMaj11","F#Maj11","FMaj11","EbMaj11","DMaj11",{"$f":"$C412","v":"C#Maj11"},{"$f":"$C411","v":"CMaj11"},{"$f":"$C422","v":"BMaj11"},"BbMaj11","AMaj11","G#Maj11","GMaj11","F#Maj11","FMaj11",null,"EMaj11",413]
[null,414,{"$f":"CONCATENATE($C$8,AD411)","v":"FMaj11"},"EMaj11","EbMaj11","DMaj11",{"$f":"$C412","v":"C#Maj11"},{"$f":"$C411","v":"CMaj11"},"BMaj11","BbMaj11","AMaj11","G#Maj11","GMaj11","F#Maj11","EMaj11","EbMaj11","DMaj11",{"$f":"$C412","v":"C#Maj11"},{"$f":"$C411","v":"CMaj11"},"BMaj11","BbMaj11","AMaj11","G#Maj11","GMaj11","F#Maj11",null,"FMaj11",414]
[null,415,{"$f":"CONCATENATE($C$9,AD411)","v":"F#Maj11"},"FMaj11","EMaj11","EbMaj11","DMaj11",{"$f":"$C412","v":"C#Maj11"},{"$f":"$C411","v":"CMaj11"},{"$f":"$C422","v":"BMaj11"},"BbMaj11","AMaj11","G#Maj11","GMaj11","FMaj11","EMaj11","EbMaj11","DMaj11",{"$f":"$C412","v":"C#Maj11"},{"$f":"$C411","v":"CMaj11"},{"$f":"$C422","v":"BMaj11"},"BbMaj11","AMaj11","G#Maj11","GMaj11",null,"F#Maj11",415]
[null,416,{"$f":"CONCATENATE($C$10,AD411)","v":"GMaj11"},"F#Maj11","FMaj11","EMaj11","EbMaj11","DMaj11","C#Maj11",{"$f":"$C411","v":"CMaj11"},{"$f":"$C422","v":"BMaj11"},"BbMaj11","AMaj11","G#Maj11","F#Maj11","FMaj11","EMaj11","EbMaj11","DMaj11","C#Maj11",{"$f":"$C411","v":"CMaj11"},{"$f":"$C422","v":"BMaj11"},"BbMaj11","AMaj11","G#Maj11",null,"GMaj11",416]
[null,417,{"$f":"CONCATENATE($C$11,AD411)","v":"G#Maj11"},"GMaj11","F#Maj11","FMaj11","EMaj11","EbMaj11","DMaj11",{"$f":"$C412","v":"C#Maj11"},{"$f":"$C411","v":"CMaj11"},{"$f":"$C422","v":"BMaj11"},"BbMaj11","AMaj11","GMaj11","F#Maj11","FMaj11","EMaj11","EbMaj11","DMaj11",{"$f":"$C412","v":"C#Maj11"},{"$f":"$C411","v":"CMaj11"},{"$f":"$C422","v":"BMaj11"},"BbMaj11","AMaj11",null,"G#Maj11",417]
[null,418,{"$f":"CONCATENATE($C$12,AD411)","v":"AMaj11"},"G#Maj11","GMaj11","F#Maj11","FMaj11","EMaj11","EbMaj11",{"$f":"$C413","v":"DMaj11"},{"$f":"$C412","v":"C#Maj11"},{"$f":"$C411","v":"CMaj11"},{"$f":"$C422","v":"BMaj11"},"BbMaj11","G#Maj11","GMaj11","F#Maj11","FMaj11","EMaj11","EbMaj11",{"$f":"$C413","v":"DMaj11"},{"$f":"$C412","v":"C#Maj11"},{"$f":"$C411","v":"CMaj11"},{"$f":"$C422","v":"BMaj11"},"BbMaj11",null,"AMaj11",418]
[null,419,{"$f":"CONCATENATE($C$13,AD411)","v":"BbMaj11"},"AMaj11","G#Maj11","GMaj11","F#Maj11","FMaj11","EMaj11",{"$f":"$C414","v":"EbMaj11"},{"$f":"$C413","v":"DMaj11"},{"$f":"$C412","v":"C#Maj11"},{"$f":"$C411","v":"CMaj11"},{"$f":"$C422","v":"BMaj11"},"AMaj11","G#Maj11","GMaj11","F#Maj11","FMaj11","EMaj11",{"$f":"$C414","v":"EbMaj11"},{"$f":"$C413","v":"DMaj11"},{"$f":"$C412","v":"C#Maj11"},{"$f":"$C411","v":"CMaj11"},{"$f":"$C422","v":"BMaj11"},null,"BbMaj11",419]
[null,420,{"$f":"CONCATENATE($C$14,AD411)","v":"BMaj11"},"BbMaj11","AMaj11","G#Maj11","GMaj11","F#Maj11","FMaj11",{"$f":"$C415","v":"EMaj11"},{"$f":"$C414","v":"EbMaj11"},{"$f":"$C413","v":"DMaj11"},{"$f":"$C412","v":"C#Maj11"},{"$f":"$C411","v":"CMaj11"},"BbMaj11","AMaj11","G#Maj11","GMaj11","F#Maj11","FMaj11",{"$f":"$C415","v":"EMaj11"},{"$f":"$C414","v":"EbMaj11"},{"$f":"$C413","v":"DMaj11"},{"$f":"$C412","v":"C#Maj11"},{"$f":"$C411","v":"CMaj11"},null,"BMaj11",420]
[null,421,{"$f":"CONCATENATE($C$3,AD423)","v":"C△11"},{"$f":"$C434","v":"B△11"},{"$f":"$C433","v":"Bb△11"},{"$f":"$C432","v":"A△11"},{"$f":"$C431","v":"G#△11"},{"$f":"$C430","v":"G△11"},{"$f":"$C429","v":"F#△11"},{"$f":"$C428","v":"F△11"},{"$f":"$C427","v":"E△11"},{"$f":"$C426","v":"Eb△11"},{"$f":"$C425","v":"D△11"},{"$f":"$C424","v":"C#△11"},{"$f":"$C434","v":"B△11"},{"$f":"$C433","v":"Bb△11"},{"$f":"$C432","v":"A△11"},{"$f":"$C431","v":"G#△11"},{"$f":"$C430","v":"G△11"},{"$f":"$C429","v":"F#△11"},{"$f":"$C428","v":"F△11"},{"$f":"$C427","v":"E△11"},{"$f":"$C426","v":"Eb△11"},{"$f":"$C425","v":"D△11"},{"$f":"$C424","v":"C#△11"},null,"C△11",421,null,"△11"]
[null,422,{"$f":"CONCATENATE($C$4,AD423)","v":"C#△11"},{"$f":"$C423","v":"C△11"},{"$f":"$C434","v":"B△11"},{"$f":"$C433","v":"Bb△11"},{"$f":"$C432","v":"A△11"},{"$f":"$C431","v":"G#△11"},"G△11","F#△11","F△11","E△11","Eb△11","D△11",{"$f":"$C423","v":"C△11"},{"$f":"$C434","v":"B△11"},{"$f":"$C433","v":"Bb△11"},{"$f":"$C432","v":"A△11"},{"$f":"$C431","v":"G#△11"},"G△11","F#△11","F△11","E△11","Eb△11","D△11",null,"C#△11",422]
[null,423,{"$f":"CONCATENATE($C$5,AD423)","v":"D△11"},{"$f":"$C424","v":"C#△11"},{"$f":"$C423","v":"C△11"},{"$f":"$C434","v":"B△11"},{"$f":"$C433","v":"Bb△11"},{"$f":"$C432","v":"A△11"},"G#△11","G△11","F#△11","F△11","E△11","Eb△11",{"$f":"$C424","v":"C#△11"},{"$f":"$C423","v":"C△11"},{"$f":"$C434","v":"B△11"},{"$f":"$C433","v":"Bb△11"},{"$f":"$C432","v":"A△11"},"G#△11","G△11","F#△11","F△11","E△11","Eb△11",null,"D△11",423]
[null,424,{"$f":"CONCATENATE($C$6,AD423)","v":"Eb△11"},"D△11",{"$f":"$C424","v":"C#△11"},{"$f":"$C423","v":"C△11"},{"$f":"$C434","v":"B△11"},{"$f":"$C433","v":"Bb△11"},"A△11","G#△11","G△11","F#△11","F△11","E△11","D△11",{"$f":"$C424","v":"C#△11"},{"$f":"$C423","v":"C△11"},{"$f":"$C434","v":"B△11"},{"$f":"$C433","v":"Bb△11"},"A△11","G#△11","G△11","F#△11","F△11","E△11",null,"Eb△11",424]
[null,425,{"$f":"CONCATENATE($C$7,AD423)","v":"E△11"},"Eb△11","D△11",{"$f":"$C424","v":"C#△11"},{"$f":"$C423","v":"C△11"},{"$f":"$C434","v":"B△11"},"Bb△11","A△11","G#△11","G△11","F#△11","F△11","Eb△11","D△11",{"$f":"$C424","v":"C#△11"},{"$f":"$C423","v":"C△11"},{"$f":"$C434","v":"B△11"},"Bb△11","A△11","G#△11","G△11","F#△11","F△11",null,"E△11",425]
[null,426,{"$f":"CONCATENATE($C$8,AD423)","v":"F△11"},"E△11","Eb△11","D△11",{"$f":"$C424","v":"C#△11"},{"$f":"$C423","v":"C△11"},"B△11","Bb△11","A△11","G#△11","G△11","F#△11","E△11","Eb△11","D△11",{"$f":"$C424","v":"C#△11"},{"$f":"$C423","v":"C△11"},"B△11","Bb△11","A△11","G#△11","G△11","F#△11",null,"F△11",426]
[null,427,{"$f":"CONCATENATE($C$9,AD423)","v":"F#△11"},"F△11","E△11","Eb△11","D△11",{"$f":"$C424","v":"C#△11"},{"$f":"$C423","v":"C△11"},{"$f":"$C434","v":"B△11"},"Bb△11","A△11","G#△11","G△11","F△11","E△11","Eb△11","D△11",{"$f":"$C424","v":"C#△11"},{"$f":"$C423","v":"C△11"},{"$f":"$C434","v":"B△11"},"Bb△11","A△11","G#△11","G△11",null,"F#△11",427]
[null,428,{"$f":"CONCATENATE($C$10,AD423)","v":"G△11"},"F#△11","F△11","E△11","Eb△11","D△11","C#△11",{"$f":"$C423","v":"C△11"},{"$f":"$C434","v":"B△11"},"Bb△11","A△11","G#△11","F#△11","F△11","E△11","Eb△11","D△11","C#△11",{"$f":"$C423","v":"C△11"},{"$f":"$C434","v":"B△11"},"Bb△11","A△11","G#△11",null,"G△11",428]
[null,429,{"$f":"CONCATENATE($C$11,AD423)","v":"G#△11"},"G△11","F#△11","F△11","E△11","Eb△11","D△11",{"$f":"$C424","v":"C#△11"},{"$f":"$C423","v":"C△11"},{"$f":"$C434","v":"B△11"},"Bb△11","A△11","G△11","F#△11","F△11","E△11","Eb△11","D△11",{"$f":"$C424","v":"C#△11"},{"$f":"$C423","v":"C△11"},{"$f":"$C434","v":"B△11"},"Bb△11","A△11",null,"G#△11",429]
[null,430,{"$f":"CONCATENATE($C$12,AD423)","v":"A△11"},"G#△11","G△11","F#△11","F△11","E△11","Eb△11",{"$f":"$C425","v":"D△11"},{"$f":"$C424","v":"C#△11"},{"$f":"$C423","v":"C△11"},{"$f":"$C434","v":"B△11"},"Bb△11","G#△11","G△11","F#△11","F△11","E△11","Eb△11",{"$f":"$C425","v":"D△11"},{"$f":"$C424","v":"C#△11"},{"$f":"$C423","v":"C△11"},{"$f":"$C434","v":"B△11"},"Bb△11",null,"A△11",430]
[null,431,{"$f":"CONCATENATE($C$13,AD423)","v":"Bb△11"},"A△11","G#△11","G△11","F#△11","F△11","E△11",{"$f":"$C426","v":"Eb△11"},{"$f":"$C425","v":"D△11"},{"$f":"$C424","v":"C#△11"},{"$f":"$C423","v":"C△11"},{"$f":"$C434","v":"B△11"},"A△11","G#△11","G△11","F#△11","F△11","E△11",{"$f":"$C426","v":"Eb△11"},{"$f":"$C425","v":"D△11"},{"$f":"$C424","v":"C#△11"},{"$f":"$C423","v":"C△11"},{"$f":"$C434","v":"B△11"},null,"Bb△11",431]
[null,432,{"$f":"CONCATENATE($C$14,AD423)","v":"B△11"},"Bb△11","A△11","G#△11","G△11","F#△11","F△11",{"$f":"$C427","v":"E△11"},{"$f":"$C426","v":"Eb△11"},{"$f":"$C425","v":"D△11"},{"$f":"$C424","v":"C#△11"},{"$f":"$C423","v":"C△11"},"Bb△11","A△11","G#△11","G△11","F#△11","F△11",{"$f":"$C427","v":"E△11"},{"$f":"$C426","v":"Eb△11"},{"$f":"$C425","v":"D△11"},{"$f":"$C424","v":"C#△11"},{"$f":"$C423","v":"C△11"},null,"B△11",432]
[null,433,{"$f":"CONCATENATE($C$3,AD435)","v":"CM11"},{"$f":"$C446","v":"BM11"},{"$f":"$C445","v":"BbM11"},{"$f":"$C444","v":"AM11"},{"$f":"$C443","v":"G#M11"},{"$f":"$C442","v":"GM11"},{"$f":"$C441","v":"F#M11"},{"$f":"$C440","v":"FM11"},{"$f":"$C439","v":"EM11"},{"$f":"$C438","v":"EbM11"},{"$f":"$C437","v":"DM11"},{"$f":"$C436","v":"C#M11"},{"$f":"$C446","v":"BM11"},{"$f":"$C445","v":"BbM11"},{"$f":"$C444","v":"AM11"},{"$f":"$C443","v":"G#M11"},{"$f":"$C442","v":"GM11"},{"$f":"$C441","v":"F#M11"},{"$f":"$C440","v":"FM11"},{"$f":"$C439","v":"EM11"},{"$f":"$C438","v":"EbM11"},{"$f":"$C437","v":"DM11"},{"$f":"$C436","v":"C#M11"},null,"CM11",433,null,"M11"]
[null,434,{"$f":"CONCATENATE($C$4,AD435)","v":"C#M11"},{"$f":"$C435","v":"CM11"},{"$f":"$C446","v":"BM11"},{"$f":"$C445","v":"BbM11"},{"$f":"$C444","v":"AM11"},{"$f":"$C443","v":"G#M11"},"GM11","F#M11","FM11","EM11","EbM11","DM11",{"$f":"$C435","v":"CM11"},{"$f":"$C446","v":"BM11"},{"$f":"$C445","v":"BbM11"},{"$f":"$C444","v":"AM11"},{"$f":"$C443","v":"G#M11"},"GM11","F#M11","FM11","EM11","EbM11","DM11",null,"C#M11",434]
[null,435,{"$f":"CONCATENATE($C$5,AD435)","v":"DM11"},{"$f":"$C436","v":"C#M11"},{"$f":"$C435","v":"CM11"},{"$f":"$C446","v":"BM11"},{"$f":"$C445","v":"BbM11"},{"$f":"$C444","v":"AM11"},"G#M11","GM11","F#M11","FM11","EM11","EbM11",{"$f":"$C436","v":"C#M11"},{"$f":"$C435","v":"CM11"},{"$f":"$C446","v":"BM11"},{"$f":"$C445","v":"BbM11"},{"$f":"$C444","v":"AM11"},"G#M11","GM11","F#M11","FM11","EM11","EbM11",null,"DM11",435]
[null,436,{"$f":"CONCATENATE($C$6,AD435)","v":"EbM11"},"DM11",{"$f":"$C436","v":"C#M11"},{"$f":"$C435","v":"CM11"},{"$f":"$C446","v":"BM11"},{"$f":"$C445","v":"BbM11"},"AM11","G#M11","GM11","F#M11","FM11","EM11","DM11",{"$f":"$C436","v":"C#M11"},{"$f":"$C435","v":"CM11"},{"$f":"$C446","v":"BM11"},{"$f":"$C445","v":"BbM11"},"AM11","G#M11","GM11","F#M11","FM11","EM11",null,"EbM11",436]
[null,437,{"$f":"CONCATENATE($C$7,AD435)","v":"EM11"},"EbM11","DM11",{"$f":"$C436","v":"C#M11"},{"$f":"$C435","v":"CM11"},{"$f":"$C446","v":"BM11"},"BbM11","AM11","G#M11","GM11","F#M11","FM11","EbM11","DM11",{"$f":"$C436","v":"C#M11"},{"$f":"$C435","v":"CM11"},{"$f":"$C446","v":"BM11"},"BbM11","AM11","G#M11","GM11","F#M11","FM11",null,"EM11",437]
[null,438,{"$f":"CONCATENATE($C$8,AD435)","v":"FM11"},"EM11","EbM11","DM11",{"$f":"$C436","v":"C#M11"},{"$f":"$C435","v":"CM11"},"BM11","BbM11","AM11","G#M11","GM11","F#M11","EM11","EbM11","DM11",{"$f":"$C436","v":"C#M11"},{"$f":"$C435","v":"CM11"},"BM11","BbM11","AM11","G#M11","GM11","F#M11",null,"FM11",438]
[null,439,{"$f":"CONCATENATE($C$9,AD435)","v":"F#M11"},"FM11","EM11","EbM11","DM11",{"$f":"$C436","v":"C#M11"},{"$f":"$C435","v":"CM11"},{"$f":"$C446","v":"BM11"},"BbM11","AM11","G#M11","GM11","FM11","EM11","EbM11","DM11",{"$f":"$C436","v":"C#M11"},{"$f":"$C435","v":"CM11"},{"$f":"$C446","v":"BM11"},"BbM11","AM11","G#M11","GM11",null,"F#M11",439]
[null,440,{"$f":"CONCATENATE($C$10,AD435)","v":"GM11"},"F#M11","FM11","EM11","EbM11","DM11","C#M11",{"$f":"$C435","v":"CM11"},{"$f":"$C446","v":"BM11"},"BbM11","AM11","G#M11","F#M11","FM11","EM11","EbM11","DM11","C#M11",{"$f":"$C435","v":"CM11"},{"$f":"$C446","v":"BM11"},"BbM11","AM11","G#M11",null,"GM11",440]
[null,441,{"$f":"CONCATENATE($C$11,AD435)","v":"G#M11"},"GM11","F#M11","FM11","EM11","EbM11","DM11",{"$f":"$C436","v":"C#M11"},{"$f":"$C435","v":"CM11"},{"$f":"$C446","v":"BM11"},"BbM11","AM11","GM11","F#M11","FM11","EM11","EbM11","DM11",{"$f":"$C436","v":"C#M11"},{"$f":"$C435","v":"CM11"},{"$f":"$C446","v":"BM11"},"BbM11","AM11",null,"G#M11",441]
[null,442,{"$f":"CONCATENATE($C$12,AD435)","v":"AM11"},"G#M11","GM11","F#M11","FM11","EM11","EbM11",{"$f":"$C437","v":"DM11"},{"$f":"$C436","v":"C#M11"},{"$f":"$C435","v":"CM11"},{"$f":"$C446","v":"BM11"},"BbM11","G#M11","GM11","F#M11","FM11","EM11","EbM11",{"$f":"$C437","v":"DM11"},{"$f":"$C436","v":"C#M11"},{"$f":"$C435","v":"CM11"},{"$f":"$C446","v":"BM11"},"BbM11",null,"AM11",442]
[null,443,{"$f":"CONCATENATE($C$13,AD435)","v":"BbM11"},"AM11","G#M11","GM11","F#M11","FM11","EM11",{"$f":"$C438","v":"EbM11"},{"$f":"$C437","v":"DM11"},{"$f":"$C436","v":"C#M11"},{"$f":"$C435","v":"CM11"},{"$f":"$C446","v":"BM11"},"AM11","G#M11","GM11","F#M11","FM11","EM11",{"$f":"$C438","v":"EbM11"},{"$f":"$C437","v":"DM11"},{"$f":"$C436","v":"C#M11"},{"$f":"$C435","v":"CM11"},{"$f":"$C446","v":"BM11"},null,"BbM11",443]
[null,444,{"$f":"CONCATENATE($C$14,AD435)","v":"BM11"},"BbM11","AM11","G#M11","GM11","F#M11","FM11",{"$f":"$C439","v":"EM11"},{"$f":"$C438","v":"EbM11"},{"$f":"$C437","v":"DM11"},{"$f":"$C436","v":"C#M11"},{"$f":"$C435","v":"CM11"},"BbM11","AM11","G#M11","GM11","F#M11","FM11",{"$f":"$C439","v":"EM11"},{"$f":"$C438","v":"EbM11"},{"$f":"$C437","v":"DM11"},{"$f":"$C436","v":"C#M11"},{"$f":"$C435","v":"CM11"},null,"BM11",444]
[null,445,{"$f":"CONCATENATE($C$3,AD447)","v":"CMaj13"},{"$f":"$C458","v":"BMaj13"},{"$f":"$C457","v":"BbMaj13"},{"$f":"$C456","v":"AMaj13"},{"$f":"$C455","v":"G#Maj13"},{"$f":"$C454","v":"GMaj13"},{"$f":"$C453","v":"F#Maj13"},{"$f":"$C452","v":"FMaj13"},{"$f":"$C451","v":"EMaj13"},{"$f":"$C450","v":"EbMaj13"},{"$f":"$C449","v":"DMaj13"},{"$f":"$C448","v":"C#Maj13"},{"$f":"$C458","v":"BMaj13"},{"$f":"$C457","v":"BbMaj13"},{"$f":"$C456","v":"AMaj13"},{"$f":"$C455","v":"G#Maj13"},{"$f":"$C454","v":"GMaj13"},{"$f":"$C453","v":"F#Maj13"},{"$f":"$C452","v":"FMaj13"},{"$f":"$C451","v":"EMaj13"},{"$f":"$C450","v":"EbMaj13"},{"$f":"$C449","v":"DMaj13"},{"$f":"$C448","v":"C#Maj13"},null,"CMaj13",445,null,"Maj13"]
[null,446,{"$f":"CONCATENATE($C$4,AD447)","v":"C#Maj13"},{"$f":"$C447","v":"CMaj13"},{"$f":"$C458","v":"BMaj13"},{"$f":"$C457","v":"BbMaj13"},{"$f":"$C456","v":"AMaj13"},{"$f":"$C455","v":"G#Maj13"},"GMaj13","F#Maj13","FMaj13","EMaj13","EbMaj13","DMaj13",{"$f":"$C447","v":"CMaj13"},{"$f":"$C458","v":"BMaj13"},{"$f":"$C457","v":"BbMaj13"},{"$f":"$C456","v":"AMaj13"},{"$f":"$C455","v":"G#Maj13"},"GMaj13","F#Maj13","FMaj13","EMaj13","EbMaj13","DMaj13",null,"C#Maj13",446]
[null,447,{"$f":"CONCATENATE($C$5,AD447)","v":"DMaj13"},{"$f":"$C448","v":"C#Maj13"},{"$f":"$C447","v":"CMaj13"},{"$f":"$C458","v":"BMaj13"},{"$f":"$C457","v":"BbMaj13"},{"$f":"$C456","v":"AMaj13"},"G#Maj13","GMaj13","F#Maj13","FMaj13","EMaj13","EbMaj13",{"$f":"$C448","v":"C#Maj13"},{"$f":"$C447","v":"CMaj13"},{"$f":"$C458","v":"BMaj13"},{"$f":"$C457","v":"BbMaj13"},{"$f":"$C456","v":"AMaj13"},"G#Maj13","GMaj13","F#Maj13","FMaj13","EMaj13","EbMaj13",null,"DMaj13",447]
[null,448,{"$f":"CONCATENATE($C$6,AD447)","v":"EbMaj13"},"DMaj13",{"$f":"$C448","v":"C#Maj13"},{"$f":"$C447","v":"CMaj13"},{"$f":"$C458","v":"BMaj13"},{"$f":"$C457","v":"BbMaj13"},"AMaj13","G#Maj13","GMaj13","F#Maj13","FMaj13","EMaj13","DMaj13",{"$f":"$C448","v":"C#Maj13"},{"$f":"$C447","v":"CMaj13"},{"$f":"$C458","v":"BMaj13"},{"$f":"$C457","v":"BbMaj13"},"AMaj13","G#Maj13","GMaj13","F#Maj13","FMaj13","EMaj13",null,"EbMaj13",448]
[null,449,{"$f":"CONCATENATE($C$7,AD447)","v":"EMaj13"},"EbMaj13","DMaj13",{"$f":"$C448","v":"C#Maj13"},{"$f":"$C447","v":"CMaj13"},{"$f":"$C458","v":"BMaj13"},"BbMaj13","AMaj13","G#Maj13","GMaj13","F#Maj13","FMaj13","EbMaj13","DMaj13",{"$f":"$C448","v":"C#Maj13"},{"$f":"$C447","v":"CMaj13"},{"$f":"$C458","v":"BMaj13"},"BbMaj13","AMaj13","G#Maj13","GMaj13","F#Maj13","FMaj13",null,"EMaj13",{"$f":"B451","v":449}]
[null,450,{"$f":"CONCATENATE($C$8,AD447)","v":"FMaj13"},"EMaj13","EbMaj13","DMaj13",{"$f":"$C448","v":"C#Maj13"},{"$f":"$C447","v":"CMaj13"},"BMaj13","BbMaj13","AMaj13","G#Maj13","GMaj13","F#Maj13","EMaj13","EbMaj13","DMaj13",{"$f":"$C448","v":"C#Maj13"},{"$f":"$C447","v":"CMaj13"},"BMaj13","BbMaj13","AMaj13","G#Maj13","GMaj13","F#Maj13",null,"FMaj13",450]
[null,451,{"$f":"CONCATENATE($C$9,AD447)","v":"F#Maj13"},"FMaj13","EMaj13","EbMaj13","DMaj13",{"$f":"$C448","v":"C#Maj13"},{"$f":"$C447","v":"CMaj13"},{"$f":"$C458","v":"BMaj13"},"BbMaj13","AMaj13","G#Maj13","GMaj13","FMaj13","EMaj13","EbMaj13","DMaj13",{"$f":"$C448","v":"C#Maj13"},{"$f":"$C447","v":"CMaj13"},{"$f":"$C458","v":"BMaj13"},"BbMaj13","AMaj13","G#Maj13","GMaj13",null,"F#Maj13",451]
[null,452,{"$f":"CONCATENATE($C$10,AD447)","v":"GMaj13"},"F#Maj13","FMaj13","EMaj13","EbMaj13","DMaj13","C#Maj13",{"$f":"$C447","v":"CMaj13"},{"$f":"$C458","v":"BMaj13"},"BbMaj13","AMaj13","G#Maj13","F#Maj13","FMaj13","EMaj13","EbMaj13","DMaj13","C#Maj13",{"$f":"$C447","v":"CMaj13"},{"$f":"$C458","v":"BMaj13"},"BbMaj13","AMaj13","G#Maj13",null,"GMaj13",452]
[null,453,{"$f":"CONCATENATE($C$11,AD447)","v":"G#Maj13"},"GMaj13","F#Maj13","FMaj13","EMaj13","EbMaj13","DMaj13",{"$f":"$C448","v":"C#Maj13"},{"$f":"$C447","v":"CMaj13"},{"$f":"$C458","v":"BMaj13"},"BbMaj13","AMaj13","GMaj13","F#Maj13","FMaj13","EMaj13","EbMaj13","DMaj13",{"$f":"$C448","v":"C#Maj13"},{"$f":"$C447","v":"CMaj13"},{"$f":"$C458","v":"BMaj13"},"BbMaj13","AMaj13",null,"G#Maj13",453]
[null,454,{"$f":"CONCATENATE($C$12,AD447)","v":"AMaj13"},"G#Maj13","GMaj13","F#Maj13","FMaj13","EMaj13","EbMaj13",{"$f":"$C449","v":"DMaj13"},{"$f":"$C448","v":"C#Maj13"},{"$f":"$C447","v":"CMaj13"},{"$f":"$C458","v":"BMaj13"},"BbMaj13","G#Maj13","GMaj13","F#Maj13","FMaj13","EMaj13","EbMaj13",{"$f":"$C449","v":"DMaj13"},{"$f":"$C448","v":"C#Maj13"},{"$f":"$C447","v":"CMaj13"},{"$f":"$C458","v":"BMaj13"},"BbMaj13",null,"AMaj13",454]
[null,455,{"$f":"CONCATENATE($C$13,AD447)","v":"BbMaj13"},"AMaj13","G#Maj13","GMaj13","F#Maj13","FMaj13","EMaj13",{"$f":"$C450","v":"EbMaj13"},{"$f":"$C449","v":"DMaj13"},{"$f":"$C448","v":"C#Maj13"},{"$f":"$C447","v":"CMaj13"},{"$f":"$C458","v":"BMaj13"},"AMaj13","G#Maj13","GMaj13","F#Maj13","FMaj13","EMaj13",{"$f":"$C450","v":"EbMaj13"},{"$f":"$C449","v":"DMaj13"},{"$f":"$C448","v":"C#Maj13"},{"$f":"$C447","v":"CMaj13"},{"$f":"$C458","v":"BMaj13"},null,"BbMaj13",455]
[null,456,{"$f":"CONCATENATE($C$14,AD447)","v":"BMaj13"},"BbMaj13","AMaj13","G#Maj13","GMaj13","F#Maj13","FMaj13",{"$f":"$C451","v":"EMaj13"},{"$f":"$C450","v":"EbMaj13"},{"$f":"$C449","v":"DMaj13"},{"$f":"$C448","v":"C#Maj13"},{"$f":"$C447","v":"CMaj13"},"BbMaj13","AMaj13","G#Maj13","GMaj13","F#Maj13","FMaj13",{"$f":"$C451","v":"EMaj13"},{"$f":"$C450","v":"EbMaj13"},{"$f":"$C449","v":"DMaj13"},{"$f":"$C448","v":"C#Maj13"},{"$f":"$C447","v":"CMaj13"},null,"BMaj13",456]
[null,457,{"$f":"CONCATENATE($C$3,AD459)","v":"C△13"},{"$f":"$C470","v":"B△13"},{"$f":"$C469","v":"Bb△13"},{"$f":"$C468","v":"A△13"},{"$f":"$C467","v":"G#△13"},{"$f":"$C466","v":"G△13"},{"$f":"$C465","v":"F#△13"},{"$f":"$C464","v":"F△13"},{"$f":"$C463","v":"E△13"},{"$f":"$C462","v":"Eb△13"},{"$f":"$C461","v":"D△13"},{"$f":"$C460","v":"C#△13"},{"$f":"$C470","v":"B△13"},{"$f":"$C469","v":"Bb△13"},{"$f":"$C468","v":"A△13"},{"$f":"$C467","v":"G#△13"},{"$f":"$C466","v":"G△13"},{"$f":"$C465","v":"F#△13"},{"$f":"$C464","v":"F△13"},{"$f":"$C463","v":"E△13"},{"$f":"$C462","v":"Eb△13"},{"$f":"$C461","v":"D△13"},{"$f":"$C460","v":"C#△13"},null,"C△13",457,null,"△13"]
[null,458,{"$f":"CONCATENATE($C$4,AD459)","v":"C#△13"},{"$f":"$C459","v":"C△13"},{"$f":"$C470","v":"B△13"},{"$f":"$C469","v":"Bb△13"},{"$f":"$C468","v":"A△13"},{"$f":"$C467","v":"G#△13"},"G△13","F#△13","F△13","E△13","Eb△13","D△13",{"$f":"$C459","v":"C△13"},{"$f":"$C470","v":"B△13"},{"$f":"$C469","v":"Bb△13"},{"$f":"$C468","v":"A△13"},{"$f":"$C467","v":"G#△13"},"G△13","F#△13","F△13","E△13","Eb△13","D△13",null,"C#△13",458]
[null,459,{"$f":"CONCATENATE($C$5,AD459)","v":"D△13"},{"$f":"$C460","v":"C#△13"},{"$f":"$C459","v":"C△13"},{"$f":"$C470","v":"B△13"},{"$f":"$C469","v":"Bb△13"},{"$f":"$C468","v":"A△13"},"G#△13","G△13","F#△13","F△13","E△13","Eb△13",{"$f":"$C460","v":"C#△13"},{"$f":"$C459","v":"C△13"},{"$f":"$C470","v":"B△13"},{"$f":"$C469","v":"Bb△13"},{"$f":"$C468","v":"A△13"},"G#△13","G△13","F#△13","F△13","E△13","Eb△13",null,"D△13",459]
[null,460,{"$f":"CONCATENATE($C$6,AD459)","v":"Eb△13"},"D△13",{"$f":"$C460","v":"C#△13"},{"$f":"$C459","v":"C△13"},{"$f":"$C470","v":"B△13"},{"$f":"$C469","v":"Bb△13"},"A△13","G#△13","G△13","F#△13","F△13","E△13","D△13",{"$f":"$C460","v":"C#△13"},{"$f":"$C459","v":"C△13"},{"$f":"$C470","v":"B△13"},{"$f":"$C469","v":"Bb△13"},"A△13","G#△13","G△13","F#△13","F△13","E△13",null,"Eb△13",460]
[null,461,{"$f":"CONCATENATE($C$7,AD459)","v":"E△13"},"Eb△13","D△13",{"$f":"$C460","v":"C#△13"},{"$f":"$C459","v":"C△13"},{"$f":"$C470","v":"B△13"},"Bb△13","A△13","G#△13","G△13","F#△13","F△13","Eb△13","D△13",{"$f":"$C460","v":"C#△13"},{"$f":"$C459","v":"C△13"},{"$f":"$C470","v":"B△13"},"Bb△13","A△13","G#△13","G△13","F#△13","F△13",null,{"$f":"C463","v":"E△13"},461]
[null,462,{"$f":"CONCATENATE($C$8,AD459)","v":"F△13"},"E△13","Eb△13","D△13",{"$f":"$C460","v":"C#△13"},{"$f":"$C459","v":"C△13"},"B△13","Bb△13","A△13","G#△13","G△13","F#△13","E△13","Eb△13","D△13",{"$f":"$C460","v":"C#△13"},{"$f":"$C459","v":"C△13"},"B△13","Bb△13","A△13","G#△13","G△13","F#△13",null,"F△13",462]
[null,463,{"$f":"CONCATENATE($C$9,AD459)","v":"F#△13"},"F△13","E△13","Eb△13","D△13",{"$f":"$C460","v":"C#△13"},{"$f":"$C459","v":"C△13"},{"$f":"$C470","v":"B△13"},"Bb△13","A△13","G#△13","G△13","F△13","E△13","Eb△13","D△13",{"$f":"$C460","v":"C#△13"},{"$f":"$C459","v":"C△13"},{"$f":"$C470","v":"B△13"},"Bb△13","A△13","G#△13","G△13",null,"F#△13",463]
[null,464,{"$f":"CONCATENATE($C$10,AD459)","v":"G△13"},"F#△13","F△13","E△13","Eb△13","D△13","C#△13",{"$f":"$C459","v":"C△13"},{"$f":"$C470","v":"B△13"},"Bb△13","A△13","G#△13","F#△13","F△13","E△13","Eb△13","D△13","C#△13",{"$f":"$C459","v":"C△13"},{"$f":"$C470","v":"B△13"},"Bb△13","A△13","G#△13",null,"G△13",464]
[null,465,{"$f":"CONCATENATE($C$11,AD459)","v":"G#△13"},"G△13","F#△13","F△13","E△13","Eb△13","D△13",{"$f":"$C460","v":"C#△13"},{"$f":"$C459","v":"C△13"},{"$f":"$C470","v":"B△13"},"Bb△13","A△13","G△13","F#△13","F△13","E△13","Eb△13","D△13",{"$f":"$C460","v":"C#△13"},{"$f":"$C459","v":"C△13"},{"$f":"$C470","v":"B△13"},"Bb△13","A△13",null,"G#△13",465]
[null,466,{"$f":"CONCATENATE($C$12,AD459)","v":"A△13"},"G#△13","G△13","F#△13","F△13","E△13","Eb△13",{"$f":"$C461","v":"D△13"},{"$f":"$C460","v":"C#△13"},{"$f":"$C459","v":"C△13"},{"$f":"$C470","v":"B△13"},"Bb△13","G#△13","G△13","F#△13","F△13","E△13","Eb△13",{"$f":"$C461","v":"D△13"},{"$f":"$C460","v":"C#△13"},{"$f":"$C459","v":"C△13"},{"$f":"$C470","v":"B△13"},"Bb△13",null,"A△13",466]
[null,467,{"$f":"CONCATENATE($C$13,AD459)","v":"Bb△13"},"A△13","G#△13","G△13","F#△13","F△13","E△13",{"$f":"$C462","v":"Eb△13"},{"$f":"$C461","v":"D△13"},{"$f":"$C460","v":"C#△13"},{"$f":"$C459","v":"C△13"},{"$f":"$C470","v":"B△13"},"A△13","G#△13","G△13","F#△13","F△13","E△13",{"$f":"$C462","v":"Eb△13"},{"$f":"$C461","v":"D△13"},{"$f":"$C460","v":"C#△13"},{"$f":"$C459","v":"C△13"},{"$f":"$C470","v":"B△13"},null,"Bb△13",467]
[null,468,{"$f":"CONCATENATE($C$14,AD459)","v":"B△13"},"Bb△13","A△13","G#△13","G△13","F#△13","F△13",{"$f":"$C463","v":"E△13"},{"$f":"$C462","v":"Eb△13"},{"$f":"$C461","v":"D△13"},{"$f":"$C460","v":"C#△13"},{"$f":"$C459","v":"C△13"},"Bb△13","A△13","G#△13","G△13","F#△13","F△13",{"$f":"$C463","v":"E△13"},{"$f":"$C462","v":"Eb△13"},{"$f":"$C461","v":"D△13"},{"$f":"$C460","v":"C#△13"},{"$f":"$C459","v":"C△13"},null,"B△13",468]
[null,469,{"$f":"CONCATENATE($C$3,AD471)","v":"CM13"},{"$f":"$C482","v":"BM13"},{"$f":"$C481","v":"BbM13"},{"$f":"$C480","v":"AM13"},{"$f":"$C479","v":"G#M13"},{"$f":"$C478","v":"GM13"},{"$f":"$C477","v":"F#M13"},{"$f":"$C476","v":"FM13"},{"$f":"$C475","v":"EM13"},{"$f":"$C474","v":"EbM13"},{"$f":"$C473","v":"DM13"},{"$f":"$C472","v":"C#M13"},{"$f":"$C482","v":"BM13"},{"$f":"$C481","v":"BbM13"},{"$f":"$C480","v":"AM13"},{"$f":"$C479","v":"G#M13"},{"$f":"$C478","v":"GM13"},{"$f":"$C477","v":"F#M13"},{"$f":"$C476","v":"FM13"},{"$f":"$C475","v":"EM13"},{"$f":"$C474","v":"EbM13"},{"$f":"$C473","v":"DM13"},{"$f":"$C472","v":"C#M13"},null,{"$f":"C471","v":"CM13"},469,null,"M13"]
[null,470,{"$f":"CONCATENATE($C$4,AD471)","v":"C#M13"},{"$f":"$C471","v":"CM13"},{"$f":"$C482","v":"BM13"},{"$f":"$C481","v":"BbM13"},{"$f":"$C480","v":"AM13"},{"$f":"$C479","v":"G#M13"},"GM13","F#M13","FM13","EM13","EbM13","DM13",{"$f":"$C471","v":"CM13"},{"$f":"$C482","v":"BM13"},{"$f":"$C481","v":"BbM13"},{"$f":"$C480","v":"AM13"},{"$f":"$C479","v":"G#M13"},"GM13","F#M13","FM13","EM13","EbM13","DM13",null,"C#M13",470]
[null,471,{"$f":"CONCATENATE($C$5,AD471)","v":"DM13"},{"$f":"$C472","v":"C#M13"},{"$f":"$C471","v":"CM13"},{"$f":"$C482","v":"BM13"},{"$f":"$C481","v":"BbM13"},{"$f":"$C480","v":"AM13"},"G#M13","GM13","F#M13","FM13","EM13","EbM13",{"$f":"$C472","v":"C#M13"},{"$f":"$C471","v":"CM13"},{"$f":"$C482","v":"BM13"},{"$f":"$C481","v":"BbM13"},{"$f":"$C480","v":"AM13"},"G#M13","GM13","F#M13","FM13","EM13","EbM13",null,"DM13",471]
[null,472,{"$f":"CONCATENATE($C$6,AD471)","v":"EbM13"},"DM13",{"$f":"$C472","v":"C#M13"},{"$f":"$C471","v":"CM13"},{"$f":"$C482","v":"BM13"},{"$f":"$C481","v":"BbM13"},"AM13","G#M13","GM13","F#M13","FM13","EM13","DM13",{"$f":"$C472","v":"C#M13"},{"$f":"$C471","v":"CM13"},{"$f":"$C482","v":"BM13"},{"$f":"$C481","v":"BbM13"},"AM13","G#M13","GM13","F#M13","FM13","EM13",null,"EbM13",472]
[null,473,{"$f":"CONCATENATE($C$7,AD471)","v":"EM13"},"EbM13","DM13",{"$f":"$C472","v":"C#M13"},{"$f":"$C471","v":"CM13"},{"$f":"$C482","v":"BM13"},"BbM13","AM13","G#M13","GM13","F#M13","FM13","EbM13","DM13",{"$f":"$C472","v":"C#M13"},{"$f":"$C471","v":"CM13"},{"$f":"$C482","v":"BM13"},"BbM13","AM13","G#M13","GM13","F#M13","FM13",null,"EM13",473]
[null,474,{"$f":"CONCATENATE($C$8,AD471)","v":"FM13"},"EM13","EbM13","DM13",{"$f":"$C472","v":"C#M13"},{"$f":"$C471","v":"CM13"},"BM13","BbM13","AM13","G#M13","GM13","F#M13","EM13","EbM13","DM13",{"$f":"$C472","v":"C#M13"},{"$f":"$C471","v":"CM13"},"BM13","BbM13","AM13","G#M13","GM13","F#M13",null,"FM13",474]
[null,475,{"$f":"CONCATENATE($C$9,AD471)","v":"F#M13"},"FM13","EM13","EbM13","DM13",{"$f":"$C472","v":"C#M13"},{"$f":"$C471","v":"CM13"},{"$f":"$C482","v":"BM13"},"BbM13","AM13","G#M13","GM13","FM13","EM13","EbM13","DM13",{"$f":"$C472","v":"C#M13"},{"$f":"$C471","v":"CM13"},{"$f":"$C482","v":"BM13"},"BbM13","AM13","G#M13","GM13",null,"F#M13",475]
[null,476,{"$f":"CONCATENATE($C$10,AD471)","v":"GM13"},"F#M13","FM13","EM13","EbM13","DM13","C#M13",{"$f":"$C471","v":"CM13"},{"$f":"$C482","v":"BM13"},"BbM13","AM13","G#M13","F#M13","FM13","EM13","EbM13","DM13","C#M13",{"$f":"$C471","v":"CM13"},{"$f":"$C482","v":"BM13"},"BbM13","AM13","G#M13",null,"GM13",476]
[null,477,{"$f":"CONCATENATE($C$11,AD471)","v":"G#M13"},"GM13","F#M13","FM13","EM13","EbM13","DM13",{"$f":"$C472","v":"C#M13"},{"$f":"$C471","v":"CM13"},{"$f":"$C482","v":"BM13"},"BbM13","AM13","GM13","F#M13","FM13","EM13","EbM13","DM13",{"$f":"$C472","v":"C#M13"},{"$f":"$C471","v":"CM13"},{"$f":"$C482","v":"BM13"},"BbM13","AM13",null,"G#M13",477]
[null,478,{"$f":"CONCATENATE($C$12,AD471)","v":"AM13"},"G#M13","GM13","F#M13","FM13","EM13","EbM13",{"$f":"$C473","v":"DM13"},{"$f":"$C472","v":"C#M13"},{"$f":"$C471","v":"CM13"},{"$f":"$C482","v":"BM13"},"BbM13","G#M13","GM13","F#M13","FM13","EM13","EbM13",{"$f":"$C473","v":"DM13"},{"$f":"$C472","v":"C#M13"},{"$f":"$C471","v":"CM13"},{"$f":"$C482","v":"BM13"},"BbM13",null,"AM13",478]
[null,479,{"$f":"CONCATENATE($C$13,AD471)","v":"BbM13"},"AM13","G#M13","GM13","F#M13","FM13","EM13",{"$f":"$C474","v":"EbM13"},{"$f":"$C473","v":"DM13"},{"$f":"$C472","v":"C#M13"},{"$f":"$C471","v":"CM13"},{"$f":"$C482","v":"BM13"},"AM13","G#M13","GM13","F#M13","FM13","EM13",{"$f":"$C474","v":"EbM13"},{"$f":"$C473","v":"DM13"},{"$f":"$C472","v":"C#M13"},{"$f":"$C471","v":"CM13"},{"$f":"$C482","v":"BM13"},null,"BbM13",479]
[null,480,{"$f":"CONCATENATE($C$14,AD471)","v":"BM13"},"BbM13","AM13","G#M13","GM13","F#M13","FM13",{"$f":"$C475","v":"EM13"},{"$f":"$C474","v":"EbM13"},{"$f":"$C473","v":"DM13"},{"$f":"$C472","v":"C#M13"},{"$f":"$C471","v":"CM13"},"BbM13","AM13","G#M13","GM13","F#M13","FM13",{"$f":"$C475","v":"EM13"},{"$f":"$C474","v":"EbM13"},{"$f":"$C473","v":"DM13"},{"$f":"$C472","v":"C#M13"},{"$f":"$C471","v":"CM13"},null,"BM13",480]
[null,481,{"$f":"CONCATENATE($C$3,AD483)","v":"C-9"},{"$f":"$C494","v":"B-9"},{"$f":"$C493","v":"Bb-9"},{"$f":"$C492","v":"A-9"},{"$f":"$C491","v":"G#-9"},{"$f":"$C490","v":"G-9"},{"$f":"$C489","v":"F#-9"},{"$f":"$C488","v":"F-9"},{"$f":"$C487","v":"E-9"},{"$f":"$C486","v":"Eb-9"},{"$f":"$C485","v":"D-9"},{"$f":"$C484","v":"C#-9"},{"$f":"$C494","v":"B-9"},{"$f":"$C493","v":"Bb-9"},{"$f":"$C492","v":"A-9"},{"$f":"$C491","v":"G#-9"},{"$f":"$C490","v":"G-9"},{"$f":"$C489","v":"F#-9"},{"$f":"$C488","v":"F-9"},{"$f":"$C487","v":"E-9"},{"$f":"$C486","v":"Eb-9"},{"$f":"$C485","v":"D-9"},{"$f":"$C484","v":"C#-9"},null,"C-9",481,null,"-9"]
[null,482,{"$f":"CONCATENATE($C$4,AD483)","v":"C#-9"},{"$f":"$C483","v":"C-9"},{"$f":"$C494","v":"B-9"},{"$f":"$C493","v":"Bb-9"},{"$f":"$C492","v":"A-9"},{"$f":"$C491","v":"G#-9"},"G-9","F#-9","F-9","E-9","Eb-9","D-9",{"$f":"$C483","v":"C-9"},{"$f":"$C494","v":"B-9"},{"$f":"$C493","v":"Bb-9"},{"$f":"$C492","v":"A-9"},{"$f":"$C491","v":"G#-9"},"G-9","F#-9","F-9","E-9","Eb-9","D-9",null,"C#-9",482]
[null,483,{"$f":"CONCATENATE($C$5,AD483)","v":"D-9"},{"$f":"$C484","v":"C#-9"},{"$f":"$C483","v":"C-9"},{"$f":"$C494","v":"B-9"},{"$f":"$C493","v":"Bb-9"},{"$f":"$C492","v":"A-9"},"G#-9","G-9","F#-9","F-9","E-9","Eb-9",{"$f":"$C484","v":"C#-9"},{"$f":"$C483","v":"C-9"},{"$f":"$C494","v":"B-9"},{"$f":"$C493","v":"Bb-9"},{"$f":"$C492","v":"A-9"},"G#-9","G-9","F#-9","F-9","E-9","Eb-9",null,"D-9",483]
[null,484,{"$f":"CONCATENATE($C$6,AD483)","v":"Eb-9"},"D-9",{"$f":"$C484","v":"C#-9"},{"$f":"$C483","v":"C-9"},{"$f":"$C494","v":"B-9"},{"$f":"$C493","v":"Bb-9"},"A-9","G#-9","G-9","F#-9","F-9","E-9","D-9",{"$f":"$C484","v":"C#-9"},{"$f":"$C483","v":"C-9"},{"$f":"$C494","v":"B-9"},{"$f":"$C493","v":"Bb-9"},"A-9","G#-9","G-9","F#-9","F-9","E-9",null,"Eb-9",484]
[null,485,{"$f":"CONCATENATE($C$7,AD483)","v":"E-9"},"Eb-9","D-9",{"$f":"$C484","v":"C#-9"},{"$f":"$C483","v":"C-9"},{"$f":"$C494","v":"B-9"},"Bb-9","A-9","G#-9","G-9","F#-9","F-9","Eb-9","D-9",{"$f":"$C484","v":"C#-9"},{"$f":"$C483","v":"C-9"},{"$f":"$C494","v":"B-9"},"Bb-9","A-9","G#-9","G-9","F#-9","F-9",null,"E-9",485]
[null,486,{"$f":"CONCATENATE($C$8,AD483)","v":"F-9"},"E-9","Eb-9","D-9",{"$f":"$C484","v":"C#-9"},{"$f":"$C483","v":"C-9"},"B-9","Bb-9","A-9","G#-9","G-9","F#-9","E-9","Eb-9","D-9",{"$f":"$C484","v":"C#-9"},{"$f":"$C483","v":"C-9"},"B-9","Bb-9","A-9","G#-9","G-9","F#-9",null,"F-9",486]
[null,487,{"$f":"CONCATENATE($C$9,AD483)","v":"F#-9"},"F-9","E-9","Eb-9","D-9",{"$f":"$C484","v":"C#-9"},{"$f":"$C483","v":"C-9"},{"$f":"$C494","v":"B-9"},"Bb-9","A-9","G#-9","G-9","F-9","E-9","Eb-9","D-9",{"$f":"$C484","v":"C#-9"},{"$f":"$C483","v":"C-9"},{"$f":"$C494","v":"B-9"},"Bb-9","A-9","G#-9","G-9",null,"F#-9",487]
[null,488,{"$f":"CONCATENATE($C$10,AD483)","v":"G-9"},"F#-9","F-9","E-9","Eb-9","D-9","C#-9",{"$f":"$C483","v":"C-9"},{"$f":"$C494","v":"B-9"},"Bb-9","A-9","G#-9","F#-9","F-9","E-9","Eb-9","D-9","C#-9",{"$f":"$C483","v":"C-9"},{"$f":"$C494","v":"B-9"},"Bb-9","A-9","G#-9",null,"G-9",488]
[null,489,{"$f":"CONCATENATE($C$11,AD483)","v":"G#-9"},"G-9","F#-9","F-9","E-9","Eb-9","D-9",{"$f":"$C484","v":"C#-9"},{"$f":"$C483","v":"C-9"},{"$f":"$C494","v":"B-9"},"Bb-9","A-9","G-9","F#-9","F-9","E-9","Eb-9","D-9",{"$f":"$C484","v":"C#-9"},{"$f":"$C483","v":"C-9"},{"$f":"$C494","v":"B-9"},"Bb-9","A-9",null,"G#-9",489]
[null,490,{"$f":"CONCATENATE($C$12,AD483)","v":"A-9"},"G#-9","G-9","F#-9","F-9","E-9","Eb-9",{"$f":"$C485","v":"D-9"},{"$f":"$C484","v":"C#-9"},{"$f":"$C483","v":"C-9"},{"$f":"$C494","v":"B-9"},"Bb-9","G#-9","G-9","F#-9","F-9","E-9","Eb-9",{"$f":"$C485","v":"D-9"},{"$f":"$C484","v":"C#-9"},{"$f":"$C483","v":"C-9"},{"$f":"$C494","v":"B-9"},"Bb-9",null,"A-9",490]
[null,491,{"$f":"CONCATENATE($C$13,AD483)","v":"Bb-9"},"A-9","G#-9","G-9","F#-9","F-9","E-9",{"$f":"$C486","v":"Eb-9"},{"$f":"$C485","v":"D-9"},{"$f":"$C484","v":"C#-9"},{"$f":"$C483","v":"C-9"},{"$f":"$C494","v":"B-9"},"A-9","G#-9","G-9","F#-9","F-9","E-9",{"$f":"$C486","v":"Eb-9"},{"$f":"$C485","v":"D-9"},{"$f":"$C484","v":"C#-9"},{"$f":"$C483","v":"C-9"},{"$f":"$C494","v":"B-9"},null,"Bb-9",491]
[null,492,{"$f":"CONCATENATE($C$14,AD483)","v":"B-9"},"Bb-9","A-9","G#-9","G-9","F#-9","F-9",{"$f":"$C487","v":"E-9"},{"$f":"$C486","v":"Eb-9"},{"$f":"$C485","v":"D-9"},{"$f":"$C484","v":"C#-9"},{"$f":"$C483","v":"C-9"},"Bb-9","A-9","G#-9","G-9","F#-9","F-9",{"$f":"$C487","v":"E-9"},{"$f":"$C486","v":"Eb-9"},{"$f":"$C485","v":"D-9"},{"$f":"$C484","v":"C#-9"},{"$f":"$C483","v":"C-9"},null,"B-9",492]
[null,493,{"$f":"CONCATENATE($C$3,AD495)","v":"Cb9"},{"$f":"$C506","v":"Bb9"},{"$f":"$C505","v":"Bbb9"},{"$f":"$C504","v":"Ab9"},{"$f":"$C503","v":"G#b9"},{"$f":"$C502","v":"Gb9"},{"$f":"$C501","v":"F#b9"},{"$f":"$C500","v":"Fb9"},{"$f":"$C499","v":"Eb9"},{"$f":"$C498","v":"Ebb9"},{"$f":"$C497","v":"Db9"},{"$f":"$C496","v":"C#b9"},{"$f":"$C506","v":"Bb9"},{"$f":"$C505","v":"Bbb9"},{"$f":"$C504","v":"Ab9"},{"$f":"$C503","v":"G#b9"},{"$f":"$C502","v":"Gb9"},{"$f":"$C501","v":"F#b9"},{"$f":"$C500","v":"Fb9"},{"$f":"$C499","v":"Eb9"},{"$f":"$C498","v":"Ebb9"},{"$f":"$C497","v":"Db9"},{"$f":"$C496","v":"C#b9"},null,"Cb9",493,null,"b9"]
[null,494,{"$f":"CONCATENATE($C$4,AD495)","v":"C#b9"},{"$f":"$C495","v":"Cb9"},{"$f":"$C506","v":"Bb9"},{"$f":"$C505","v":"Bbb9"},{"$f":"$C504","v":"Ab9"},{"$f":"$C503","v":"G#b9"},"Gb9","F#b9","Fb9","Eb9","Ebb9","Db9",{"$f":"$C495","v":"Cb9"},{"$f":"$C506","v":"Bb9"},{"$f":"$C505","v":"Bbb9"},{"$f":"$C504","v":"Ab9"},{"$f":"$C503","v":"G#b9"},"Gb9","F#b9","Fb9","Eb9","Ebb9","Db9",null,"C#b9",494]
[null,495,{"$f":"CONCATENATE($C$5,AD495)","v":"Db9"},{"$f":"$C496","v":"C#b9"},{"$f":"$C495","v":"Cb9"},{"$f":"$C506","v":"Bb9"},{"$f":"$C505","v":"Bbb9"},{"$f":"$C504","v":"Ab9"},"G#b9","Gb9","F#b9","Fb9","Eb9","Ebb9",{"$f":"$C496","v":"C#b9"},{"$f":"$C495","v":"Cb9"},{"$f":"$C506","v":"Bb9"},{"$f":"$C505","v":"Bbb9"},{"$f":"$C504","v":"Ab9"},"G#b9","Gb9","F#b9","Fb9","Eb9","Ebb9",null,"Db9",495]
[null,496,{"$f":"CONCATENATE($C$6,AD495)","v":"Ebb9"},"Db9",{"$f":"$C496","v":"C#b9"},{"$f":"$C495","v":"Cb9"},{"$f":"$C506","v":"Bb9"},{"$f":"$C505","v":"Bbb9"},"Ab9","G#b9","Gb9","F#b9","Fb9","Eb9","Db9",{"$f":"$C496","v":"C#b9"},{"$f":"$C495","v":"Cb9"},{"$f":"$C506","v":"Bb9"},{"$f":"$C505","v":"Bbb9"},"Ab9","G#b9","Gb9","F#b9","Fb9","Eb9",null,"Ebb9",496]
[null,497,{"$f":"CONCATENATE($C$7,AD495)","v":"Eb9"},"Ebb9","Db9",{"$f":"$C496","v":"C#b9"},{"$f":"$C495","v":"Cb9"},{"$f":"$C506","v":"Bb9"},"Bbb9","Ab9","G#b9","Gb9","F#b9","Fb9","Ebb9","Db9",{"$f":"$C496","v":"C#b9"},{"$f":"$C495","v":"Cb9"},{"$f":"$C506","v":"Bb9"},"Bbb9","Ab9","G#b9","Gb9","F#b9","Fb9",null,"Eb9",497]
[null,498,{"$f":"CONCATENATE($C$8,AD495)","v":"Fb9"},"Eb9","Ebb9","Db9",{"$f":"$C496","v":"C#b9"},{"$f":"$C495","v":"Cb9"},"Bb9","Bbb9","Ab9","G#b9","Gb9","F#b9","Eb9","Ebb9","Db9",{"$f":"$C496","v":"C#b9"},{"$f":"$C495","v":"Cb9"},"Bb9","Bbb9","Ab9","G#b9","Gb9","F#b9",null,"Fb9",498]
[null,499,{"$f":"CONCATENATE($C$9,AD495)","v":"F#b9"},"Fb9","Eb9","Ebb9","Db9",{"$f":"$C496","v":"C#b9"},{"$f":"$C495","v":"Cb9"},{"$f":"$C506","v":"Bb9"},"Bbb9","Ab9","G#b9","Gb9","Fb9","Eb9","Ebb9","Db9",{"$f":"$C496","v":"C#b9"},{"$f":"$C495","v":"Cb9"},{"$f":"$C506","v":"Bb9"},"Bbb9","Ab9","G#b9","Gb9",null,"F#b9",499]
[null,500,{"$f":"CONCATENATE($C$10,AD495)","v":"Gb9"},"F#b9","Fb9","Eb9","Ebb9","Db9","C#b9",{"$f":"$C495","v":"Cb9"},{"$f":"$C506","v":"Bb9"},"Bbb9","Ab9","G#b9","F#b9","Fb9","Eb9","Ebb9","Db9","C#b9",{"$f":"$C495","v":"Cb9"},{"$f":"$C506","v":"Bb9"},"Bbb9","Ab9","G#b9",null,"Gb9",500]
[null,501,{"$f":"CONCATENATE($C$11,AD495)","v":"G#b9"},"Gb9","F#b9","Fb9","Eb9","Ebb9","Db9",{"$f":"$C496","v":"C#b9"},{"$f":"$C495","v":"Cb9"},{"$f":"$C506","v":"Bb9"},"Bbb9","Ab9","Gb9","F#b9","Fb9","Eb9","Ebb9","Db9",{"$f":"$C496","v":"C#b9"},{"$f":"$C495","v":"Cb9"},{"$f":"$C506","v":"Bb9"},"Bbb9","Ab9",null,"G#b9",501]
[null,502,{"$f":"CONCATENATE($C$12,AD495)","v":"Ab9"},"G#b9","Gb9","F#b9","Fb9","Eb9","Ebb9",{"$f":"$C497","v":"Db9"},{"$f":"$C496","v":"C#b9"},{"$f":"$C495","v":"Cb9"},{"$f":"$C506","v":"Bb9"},"Bbb9","G#b9","Gb9","F#b9","Fb9","Eb9","Ebb9",{"$f":"$C497","v":"Db9"},{"$f":"$C496","v":"C#b9"},{"$f":"$C495","v":"Cb9"},{"$f":"$C506","v":"Bb9"},"Bbb9",null,"Ab9",502]
[null,503,{"$f":"CONCATENATE($C$13,AD495)","v":"Bbb9"},"Ab9","G#b9","Gb9","F#b9","Fb9","Eb9",{"$f":"$C498","v":"Ebb9"},{"$f":"$C497","v":"Db9"},{"$f":"$C496","v":"C#b9"},{"$f":"$C495","v":"Cb9"},{"$f":"$C506","v":"Bb9"},"Ab9","G#b9","Gb9","F#b9","Fb9","Eb9",{"$f":"$C498","v":"Ebb9"},{"$f":"$C497","v":"Db9"},{"$f":"$C496","v":"C#b9"},{"$f":"$C495","v":"Cb9"},{"$f":"$C506","v":"Bb9"},null,"Bbb9",503]
[null,504,{"$f":"CONCATENATE($C$14,AD495)","v":"Bb9"},"Bbb9","Ab9","G#b9","Gb9","F#b9","Fb9",{"$f":"$C499","v":"Eb9"},{"$f":"$C498","v":"Ebb9"},{"$f":"$C497","v":"Db9"},{"$f":"$C496","v":"C#b9"},{"$f":"$C495","v":"Cb9"},"Bbb9","Ab9","G#b9","Gb9","F#b9","Fb9",{"$f":"$C499","v":"Eb9"},{"$f":"$C498","v":"Ebb9"},{"$f":"$C497","v":"Db9"},{"$f":"$C496","v":"C#b9"},{"$f":"$C495","v":"Cb9"},null,"Bb9",504]
[null,505,{"$f":"CONCATENATE($C$3,AD507)","v":"C9"},{"$f":"$C518","v":"B9"},{"$f":"$C517","v":"Bb9"},{"$f":"$C516","v":"A9"},{"$f":"$C515","v":"G#9"},{"$f":"$C514","v":"G9"},{"$f":"$C513","v":"F#9"},{"$f":"$C512","v":"F9"},{"$f":"$C511","v":"E9"},{"$f":"$C510","v":"Eb9"},{"$f":"$C509","v":"D9"},{"$f":"$C508","v":"C#9"},{"$f":"$C518","v":"B9"},{"$f":"$C517","v":"Bb9"},{"$f":"$C516","v":"A9"},{"$f":"$C515","v":"G#9"},{"$f":"$C514","v":"G9"},{"$f":"$C513","v":"F#9"},{"$f":"$C512","v":"F9"},{"$f":"$C511","v":"E9"},{"$f":"$C510","v":"Eb9"},{"$f":"$C509","v":"D9"},{"$f":"$C508","v":"C#9"},null,"C9",505,null,9]
[null,506,{"$f":"CONCATENATE($C$4,AD507)","v":"C#9"},{"$f":"$C507","v":"C9"},{"$f":"$C518","v":"B9"},{"$f":"$C517","v":"Bb9"},{"$f":"$C516","v":"A9"},{"$f":"$C515","v":"G#9"},"G9","F#9","F9","E9","Eb9","D9",{"$f":"$C507","v":"C9"},{"$f":"$C518","v":"B9"},{"$f":"$C517","v":"Bb9"},{"$f":"$C516","v":"A9"},{"$f":"$C515","v":"G#9"},"G9","F#9","F9","E9","Eb9","D9",null,"C#9",506]
[null,507,{"$f":"CONCATENATE($C$5,AD507)","v":"D9"},{"$f":"$C508","v":"C#9"},{"$f":"$C507","v":"C9"},{"$f":"$C518","v":"B9"},{"$f":"$C517","v":"Bb9"},{"$f":"$C516","v":"A9"},"G#9","G9","F#9","F9","E9","Eb9",{"$f":"$C508","v":"C#9"},{"$f":"$C507","v":"C9"},{"$f":"$C518","v":"B9"},{"$f":"$C517","v":"Bb9"},{"$f":"$C516","v":"A9"},"G#9","G9","F#9","F9","E9","Eb9",null,"D9",507]
[null,508,{"$f":"CONCATENATE($C$6,AD507)","v":"Eb9"},"D9",{"$f":"$C508","v":"C#9"},{"$f":"$C507","v":"C9"},{"$f":"$C518","v":"B9"},{"$f":"$C517","v":"Bb9"},"A9","G#9","G9","F#9","F9","E9","D9",{"$f":"$C508","v":"C#9"},{"$f":"$C507","v":"C9"},{"$f":"$C518","v":"B9"},{"$f":"$C517","v":"Bb9"},"A9","G#9","G9","F#9","F9","E9",null,"Eb9",508]
[null,509,{"$f":"CONCATENATE($C$7,AD507)","v":"E9"},"Eb9","D9",{"$f":"$C508","v":"C#9"},{"$f":"$C507","v":"C9"},{"$f":"$C518","v":"B9"},"Bb9","A9","G#9","G9","F#9","F9","Eb9","D9",{"$f":"$C508","v":"C#9"},{"$f":"$C507","v":"C9"},{"$f":"$C518","v":"B9"},"Bb9","A9","G#9","G9","F#9","F9",null,"E9",509]
[null,510,{"$f":"CONCATENATE($C$8,AD507)","v":"F9"},"E9","Eb9","D9",{"$f":"$C508","v":"C#9"},{"$f":"$C507","v":"C9"},"B9","Bb9","A9","G#9","G9","F#9","E9","Eb9","D9",{"$f":"$C508","v":"C#9"},{"$f":"$C507","v":"C9"},"B9","Bb9","A9","G#9","G9","F#9",null,"F9",510]
[null,511,{"$f":"CONCATENATE($C$9,AD507)","v":"F#9"},"F9","E9","Eb9","D9",{"$f":"$C508","v":"C#9"},{"$f":"$C507","v":"C9"},{"$f":"$C518","v":"B9"},"Bb9","A9","G#9","G9","F9","E9","Eb9","D9",{"$f":"$C508","v":"C#9"},{"$f":"$C507","v":"C9"},{"$f":"$C518","v":"B9"},"Bb9","A9","G#9","G9",null,"F#9",511]
[null,512,{"$f":"CONCATENATE($C$10,AD507)","v":"G9"},"F#9","F9","E9","Eb9","D9","C#9",{"$f":"$C507","v":"C9"},{"$f":"$C518","v":"B9"},"Bb9","A9","G#9","F#9","F9","E9","Eb9","D9","C#9",{"$f":"$C507","v":"C9"},{"$f":"$C518","v":"B9"},"Bb9","A9","G#9",null,"G9",512]
[null,513,{"$f":"CONCATENATE($C$11,AD507)","v":"G#9"},"G9","F#9","F9","E9","Eb9","D9",{"$f":"$C508","v":"C#9"},{"$f":"$C507","v":"C9"},{"$f":"$C518","v":"B9"},"Bb9","A9","G9","F#9","F9","E9","Eb9","D9",{"$f":"$C508","v":"C#9"},{"$f":"$C507","v":"C9"},{"$f":"$C518","v":"B9"},"Bb9","A9",null,"G#9",{"$f":"B515","v":513}]
[null,514,{"$f":"CONCATENATE($C$12,AD507)","v":"A9"},"G#9","G9","F#9","F9","E9","Eb9",{"$f":"$C509","v":"D9"},{"$f":"$C508","v":"C#9"},{"$f":"$C507","v":"C9"},{"$f":"$C518","v":"B9"},"Bb9","G#9","G9","F#9","F9","E9","Eb9",{"$f":"$C509","v":"D9"},{"$f":"$C508","v":"C#9"},{"$f":"$C507","v":"C9"},{"$f":"$C518","v":"B9"},"Bb9",null,"A9",514]
[null,515,{"$f":"CONCATENATE($C$13,AD507)","v":"Bb9"},"A9","G#9","G9","F#9","F9","E9",{"$f":"$C510","v":"Eb9"},{"$f":"$C509","v":"D9"},{"$f":"$C508","v":"C#9"},{"$f":"$C507","v":"C9"},{"$f":"$C518","v":"B9"},"A9","G#9","G9","F#9","F9","E9",{"$f":"$C510","v":"Eb9"},{"$f":"$C509","v":"D9"},{"$f":"$C508","v":"C#9"},{"$f":"$C507","v":"C9"},{"$f":"$C518","v":"B9"},null,"Bb9",515]
[null,516,{"$f":"CONCATENATE($C$14,AD507)","v":"B9"},"Bb9","A9","G#9","G9","F#9","F9",{"$f":"$C511","v":"E9"},{"$f":"$C510","v":"Eb9"},{"$f":"$C509","v":"D9"},{"$f":"$C508","v":"C#9"},{"$f":"$C507","v":"C9"},"Bb9","A9","G#9","G9","F#9","F9",{"$f":"$C511","v":"E9"},{"$f":"$C510","v":"Eb9"},{"$f":"$C509","v":"D9"},{"$f":"$C508","v":"C#9"},{"$f":"$C507","v":"C9"},null,"B9",516]
[null,517,{"$f":"CONCATENATE($C$3,AD519)","v":"C+9"},{"$f":"$C530","v":"B+9"},{"$f":"$C529","v":"Bb+9"},{"$f":"$C528","v":"A+9"},{"$f":"$C527","v":"G#+9"},{"$f":"$C526","v":"G+9"},{"$f":"$C525","v":"F#+9"},{"$f":"$C524","v":"F+9"},{"$f":"$C523","v":"E+9"},{"$f":"$C522","v":"Eb+9"},{"$f":"$C521","v":"D+9"},{"$f":"$C520","v":"C#+9"},{"$f":"$C530","v":"B+9"},{"$f":"$C529","v":"Bb+9"},{"$f":"$C528","v":"A+9"},{"$f":"$C527","v":"G#+9"},{"$f":"$C526","v":"G+9"},{"$f":"$C525","v":"F#+9"},{"$f":"$C524","v":"F+9"},{"$f":"$C523","v":"E+9"},{"$f":"$C522","v":"Eb+9"},{"$f":"$C521","v":"D+9"},{"$f":"$C520","v":"C#+9"},null,"C+9",517,null,"+9"]
[null,518,{"$f":"CONCATENATE($C$4,AD519)","v":"C#+9"},{"$f":"$C519","v":"C+9"},{"$f":"$C530","v":"B+9"},{"$f":"$C529","v":"Bb+9"},{"$f":"$C528","v":"A+9"},{"$f":"$C527","v":"G#+9"},"G+9","F#+9","F+9","E+9","Eb+9","D+9",{"$f":"$C519","v":"C+9"},{"$f":"$C530","v":"B+9"},{"$f":"$C529","v":"Bb+9"},{"$f":"$C528","v":"A+9"},{"$f":"$C527","v":"G#+9"},"G+9","F#+9","F+9","E+9","Eb+9","D+9",null,"C#+9",518]
[null,519,{"$f":"CONCATENATE($C$5,AD519)","v":"D+9"},{"$f":"$C520","v":"C#+9"},{"$f":"$C519","v":"C+9"},{"$f":"$C530","v":"B+9"},{"$f":"$C529","v":"Bb+9"},{"$f":"$C528","v":"A+9"},"G#+9","G+9","F#+9","F+9","E+9","Eb+9",{"$f":"$C520","v":"C#+9"},{"$f":"$C519","v":"C+9"},{"$f":"$C530","v":"B+9"},{"$f":"$C529","v":"Bb+9"},{"$f":"$C528","v":"A+9"},"G#+9","G+9","F#+9","F+9","E+9","Eb+9",null,"D+9",519]
[null,520,{"$f":"CONCATENATE($C$6,AD519)","v":"Eb+9"},"D+9",{"$f":"$C520","v":"C#+9"},{"$f":"$C519","v":"C+9"},{"$f":"$C530","v":"B+9"},{"$f":"$C529","v":"Bb+9"},"A+9","G#+9","G+9","F#+9","F+9","E+9","D+9",{"$f":"$C520","v":"C#+9"},{"$f":"$C519","v":"C+9"},{"$f":"$C530","v":"B+9"},{"$f":"$C529","v":"Bb+9"},"A+9","G#+9","G+9","F#+9","F+9","E+9",null,"Eb+9",520]
[null,521,{"$f":"CONCATENATE($C$7,AD519)","v":"E+9"},"Eb+9","D+9",{"$f":"$C520","v":"C#+9"},{"$f":"$C519","v":"C+9"},{"$f":"$C530","v":"B+9"},"Bb+9","A+9","G#+9","G+9","F#+9","F+9","Eb+9","D+9",{"$f":"$C520","v":"C#+9"},{"$f":"$C519","v":"C+9"},{"$f":"$C530","v":"B+9"},"Bb+9","A+9","G#+9","G+9","F#+9","F+9",null,"E+9",521]
[null,522,{"$f":"CONCATENATE($C$8,AD519)","v":"F+9"},"E+9","Eb+9","D+9",{"$f":"$C520","v":"C#+9"},{"$f":"$C519","v":"C+9"},"B+9","Bb+9","A+9","G#+9","G+9","F#+9","E+9","Eb+9","D+9",{"$f":"$C520","v":"C#+9"},{"$f":"$C519","v":"C+9"},"B+9","Bb+9","A+9","G#+9","G+9","F#+9",null,"F+9",522]
[null,523,{"$f":"CONCATENATE($C$9,AD519)","v":"F#+9"},"F+9","E+9","Eb+9","D+9",{"$f":"$C520","v":"C#+9"},{"$f":"$C519","v":"C+9"},{"$f":"$C530","v":"B+9"},"Bb+9","A+9","G#+9","G+9","F+9","E+9","Eb+9","D+9",{"$f":"$C520","v":"C#+9"},{"$f":"$C519","v":"C+9"},{"$f":"$C530","v":"B+9"},"Bb+9","A+9","G#+9","G+9",null,"F#+9",523]
[null,524,{"$f":"CONCATENATE($C$10,AD519)","v":"G+9"},"F#+9","F+9","E+9","Eb+9","D+9","C#+9",{"$f":"$C519","v":"C+9"},{"$f":"$C530","v":"B+9"},"Bb+9","A+9","G#+9","F#+9","F+9","E+9","Eb+9","D+9","C#+9",{"$f":"$C519","v":"C+9"},{"$f":"$C530","v":"B+9"},"Bb+9","A+9","G#+9",null,"G+9",524]
[null,525,{"$f":"CONCATENATE($C$11,AD519)","v":"G#+9"},"G+9","F#+9","F+9","E+9","Eb+9","D+9",{"$f":"$C520","v":"C#+9"},{"$f":"$C519","v":"C+9"},{"$f":"$C530","v":"B+9"},"Bb+9","A+9","G+9","F#+9","F+9","E+9","Eb+9","D+9",{"$f":"$C520","v":"C#+9"},{"$f":"$C519","v":"C+9"},{"$f":"$C530","v":"B+9"},"Bb+9","A+9",null,"G#+9",525]
[null,526,{"$f":"CONCATENATE($C$12,AD519)","v":"A+9"},"G#+9","G+9","F#+9","F+9","E+9","Eb+9",{"$f":"$C521","v":"D+9"},{"$f":"$C520","v":"C#+9"},{"$f":"$C519","v":"C+9"},{"$f":"$C530","v":"B+9"},"Bb+9","G#+9","G+9","F#+9","F+9","E+9","Eb+9",{"$f":"$C521","v":"D+9"},{"$f":"$C520","v":"C#+9"},{"$f":"$C519","v":"C+9"},{"$f":"$C530","v":"B+9"},"Bb+9",null,"A+9",526]
[null,527,{"$f":"CONCATENATE($C$13,AD519)","v":"Bb+9"},"A+9","G#+9","G+9","F#+9","F+9","E+9",{"$f":"$C522","v":"Eb+9"},{"$f":"$C521","v":"D+9"},{"$f":"$C520","v":"C#+9"},{"$f":"$C519","v":"C+9"},{"$f":"$C530","v":"B+9"},"A+9","G#+9","G+9","F#+9","F+9","E+9",{"$f":"$C522","v":"Eb+9"},{"$f":"$C521","v":"D+9"},{"$f":"$C520","v":"C#+9"},{"$f":"$C519","v":"C+9"},{"$f":"$C530","v":"B+9"},null,"Bb+9",527]
[null,528,{"$f":"CONCATENATE($C$14,AD519)","v":"B+9"},"Bb+9","A+9","G#+9","G+9","F#+9","F+9",{"$f":"$C523","v":"E+9"},{"$f":"$C522","v":"Eb+9"},{"$f":"$C521","v":"D+9"},{"$f":"$C520","v":"C#+9"},{"$f":"$C519","v":"C+9"},"Bb+9","A+9","G#+9","G+9","F#+9","F+9",{"$f":"$C523","v":"E+9"},{"$f":"$C522","v":"Eb+9"},{"$f":"$C521","v":"D+9"},{"$f":"$C520","v":"C#+9"},{"$f":"$C519","v":"C+9"},null,"B+9",528]
[null,529,{"$f":"CONCATENATE($C$3,AD531)","v":"C#9"},{"$f":"$C542","v":"B#9"},{"$f":"$C541","v":"Bb#9"},{"$f":"$C540","v":"A#9"},{"$f":"$C539","v":"G##9"},{"$f":"$C538","v":"G#9"},{"$f":"$C537","v":"F##9"},{"$f":"$C536","v":"F#9"},{"$f":"$C535","v":"E#9"},{"$f":"$C534","v":"Eb#9"},{"$f":"$C533","v":"D#9"},{"$f":"$C532","v":"C##9"},{"$f":"$C542","v":"B#9"},{"$f":"$C541","v":"Bb#9"},{"$f":"$C540","v":"A#9"},{"$f":"$C539","v":"G##9"},{"$f":"$C538","v":"G#9"},{"$f":"$C537","v":"F##9"},{"$f":"$C536","v":"F#9"},{"$f":"$C535","v":"E#9"},{"$f":"$C534","v":"Eb#9"},{"$f":"$C533","v":"D#9"},{"$f":"$C532","v":"C##9"},null,{"$f":"C531","v":"C#9"},529,null,"#9"]
[null,530,{"$f":"CONCATENATE($C$4,AD531)","v":"C##9"},{"$f":"$C531","v":"C#9"},{"$f":"$C542","v":"B#9"},{"$f":"$C541","v":"Bb#9"},{"$f":"$C540","v":"A#9"},{"$f":"$C539","v":"G##9"},"G#9","F##9","F#9","E#9","Eb#9","D#9",{"$f":"$C531","v":"C#9"},{"$f":"$C542","v":"B#9"},{"$f":"$C541","v":"Bb#9"},{"$f":"$C540","v":"A#9"},{"$f":"$C539","v":"G##9"},"G#9","F##9","F#9","E#9","Eb#9","D#9",null,"C##9",530]
[null,531,{"$f":"CONCATENATE($C$5,AD531)","v":"D#9"},{"$f":"$C532","v":"C##9"},{"$f":"$C531","v":"C#9"},{"$f":"$C542","v":"B#9"},{"$f":"$C541","v":"Bb#9"},{"$f":"$C540","v":"A#9"},"G##9","G#9","F##9","F#9","E#9","Eb#9",{"$f":"$C532","v":"C##9"},{"$f":"$C531","v":"C#9"},{"$f":"$C542","v":"B#9"},{"$f":"$C541","v":"Bb#9"},{"$f":"$C540","v":"A#9"},"G##9","G#9","F##9","F#9","E#9","Eb#9",null,"D#9",531]
[null,532,{"$f":"CONCATENATE($C$6,AD531)","v":"Eb#9"},"D#9",{"$f":"$C532","v":"C##9"},{"$f":"$C531","v":"C#9"},{"$f":"$C542","v":"B#9"},{"$f":"$C541","v":"Bb#9"},"A#9","G##9","G#9","F##9","F#9","E#9","D#9",{"$f":"$C532","v":"C##9"},{"$f":"$C531","v":"C#9"},{"$f":"$C542","v":"B#9"},{"$f":"$C541","v":"Bb#9"},"A#9","G##9","G#9","F##9","F#9","E#9",null,"Eb#9",532]
[null,533,{"$f":"CONCATENATE($C$7,AD531)","v":"E#9"},"Eb#9","D#9",{"$f":"$C532","v":"C##9"},{"$f":"$C531","v":"C#9"},{"$f":"$C542","v":"B#9"},"Bb#9","A#9","G##9","G#9","F##9","F#9","Eb#9","D#9",{"$f":"$C532","v":"C##9"},{"$f":"$C531","v":"C#9"},{"$f":"$C542","v":"B#9"},"Bb#9","A#9","G##9","G#9","F##9","F#9",null,"E#9",533]
[null,534,{"$f":"CONCATENATE($C$8,AD531)","v":"F#9"},"E#9","Eb#9","D#9",{"$f":"$C532","v":"C##9"},{"$f":"$C531","v":"C#9"},"B#9","Bb#9","A#9","G##9","G#9","F##9","E#9","Eb#9","D#9",{"$f":"$C532","v":"C##9"},{"$f":"$C531","v":"C#9"},"B#9","Bb#9","A#9","G##9","G#9","F##9",null,"F#9",534]
[null,535,{"$f":"CONCATENATE($C$9,AD531)","v":"F##9"},"F#9","E#9","Eb#9","D#9",{"$f":"$C532","v":"C##9"},{"$f":"$C531","v":"C#9"},{"$f":"$C542","v":"B#9"},"Bb#9","A#9","G##9","G#9","F#9","E#9","Eb#9","D#9",{"$f":"$C532","v":"C##9"},{"$f":"$C531","v":"C#9"},{"$f":"$C542","v":"B#9"},"Bb#9","A#9","G##9","G#9",null,"F##9",535]
[null,536,{"$f":"CONCATENATE($C$10,AD531)","v":"G#9"},"F##9","F#9","E#9","Eb#9","D#9","C##9",{"$f":"$C531","v":"C#9"},{"$f":"$C542","v":"B#9"},"Bb#9","A#9","G##9","F##9","F#9","E#9","Eb#9","D#9","C##9",{"$f":"$C531","v":"C#9"},{"$f":"$C542","v":"B#9"},"Bb#9","A#9","G##9",null,"G#9",536]
[null,537,{"$f":"CONCATENATE($C$11,AD531)","v":"G##9"},"G#9","F##9","F#9","E#9","Eb#9","D#9",{"$f":"$C532","v":"C##9"},{"$f":"$C531","v":"C#9"},{"$f":"$C542","v":"B#9"},"Bb#9","A#9","G#9","F##9","F#9","E#9","Eb#9","D#9",{"$f":"$C532","v":"C##9"},{"$f":"$C531","v":"C#9"},{"$f":"$C542","v":"B#9"},"Bb#9","A#9",null,"G##9",537]
[null,538,{"$f":"CONCATENATE($C$12,AD531)","v":"A#9"},"G##9","G#9","F##9","F#9","E#9","Eb#9",{"$f":"$C533","v":"D#9"},{"$f":"$C532","v":"C##9"},{"$f":"$C531","v":"C#9"},{"$f":"$C542","v":"B#9"},"Bb#9","G##9","G#9","F##9","F#9","E#9","Eb#9",{"$f":"$C533","v":"D#9"},{"$f":"$C532","v":"C##9"},{"$f":"$C531","v":"C#9"},{"$f":"$C542","v":"B#9"},"Bb#9",null,"A#9",538]
[null,539,{"$f":"CONCATENATE($C$13,AD531)","v":"Bb#9"},"A#9","G##9","G#9","F##9","F#9","E#9",{"$f":"$C534","v":"Eb#9"},{"$f":"$C533","v":"D#9"},{"$f":"$C532","v":"C##9"},{"$f":"$C531","v":"C#9"},{"$f":"$C542","v":"B#9"},"A#9","G##9","G#9","F##9","F#9","E#9",{"$f":"$C534","v":"Eb#9"},{"$f":"$C533","v":"D#9"},{"$f":"$C532","v":"C##9"},{"$f":"$C531","v":"C#9"},{"$f":"$C542","v":"B#9"},null,"Bb#9",539]
[null,540,{"$f":"CONCATENATE($C$14,AD531)","v":"B#9"},"Bb#9","A#9","G##9","G#9","F##9","F#9",{"$f":"$C535","v":"E#9"},{"$f":"$C534","v":"Eb#9"},{"$f":"$C533","v":"D#9"},{"$f":"$C532","v":"C##9"},{"$f":"$C531","v":"C#9"},"Bb#9","A#9","G##9","G#9","F##9","F#9",{"$f":"$C535","v":"E#9"},{"$f":"$C534","v":"Eb#9"},{"$f":"$C533","v":"D#9"},{"$f":"$C532","v":"C##9"},{"$f":"$C531","v":"C#9"},null,"B#9",540]
[null,541,{"$f":"CONCATENATE($C$3,AD543)","v":"Cadd9"},{"$f":"$C554","v":"Badd9"},{"$f":"$C553","v":"Bbadd9"},{"$f":"$C552","v":"Aadd9"},{"$f":"$C551","v":"G#add9"},{"$f":"$C550","v":"Gadd9"},{"$f":"$C549","v":"F#add9"},{"$f":"$C548","v":"Fadd9"},{"$f":"$C547","v":"Eadd9"},{"$f":"$C546","v":"Ebadd9"},{"$f":"$C545","v":"Dadd9"},{"$f":"$C544","v":"C#add9"},{"$f":"$C554","v":"Badd9"},{"$f":"$C553","v":"Bbadd9"},{"$f":"$C552","v":"Aadd9"},{"$f":"$C551","v":"G#add9"},{"$f":"$C550","v":"Gadd9"},{"$f":"$C549","v":"F#add9"},{"$f":"$C548","v":"Fadd9"},{"$f":"$C547","v":"Eadd9"},{"$f":"$C546","v":"Ebadd9"},{"$f":"$C545","v":"Dadd9"},{"$f":"$C544","v":"C#add9"},null,"Cadd9",541,null,"add9"]
[null,542,{"$f":"CONCATENATE($C$4,AD543)","v":"C#add9"},{"$f":"$C543","v":"Cadd9"},{"$f":"$C554","v":"Badd9"},{"$f":"$C553","v":"Bbadd9"},{"$f":"$C552","v":"Aadd9"},{"$f":"$C551","v":"G#add9"},"Gadd9","F#add9","Fadd9","Eadd9","Ebadd9","Dadd9",{"$f":"$C543","v":"Cadd9"},{"$f":"$C554","v":"Badd9"},{"$f":"$C553","v":"Bbadd9"},{"$f":"$C552","v":"Aadd9"},{"$f":"$C551","v":"G#add9"},"Gadd9","F#add9","Fadd9","Eadd9","Ebadd9","Dadd9",null,"C#add9",542]
[null,543,{"$f":"CONCATENATE($C$5,AD543)","v":"Dadd9"},{"$f":"$C544","v":"C#add9"},{"$f":"$C543","v":"Cadd9"},{"$f":"$C554","v":"Badd9"},{"$f":"$C553","v":"Bbadd9"},{"$f":"$C552","v":"Aadd9"},"G#add9","Gadd9","F#add9","Fadd9","Eadd9","Ebadd9",{"$f":"$C544","v":"C#add9"},{"$f":"$C543","v":"Cadd9"},{"$f":"$C554","v":"Badd9"},{"$f":"$C553","v":"Bbadd9"},{"$f":"$C552","v":"Aadd9"},"G#add9","Gadd9","F#add9","Fadd9","Eadd9","Ebadd9",null,"Dadd9",543]
[null,544,{"$f":"CONCATENATE($C$6,AD543)","v":"Ebadd9"},"Dadd9",{"$f":"$C544","v":"C#add9"},{"$f":"$C543","v":"Cadd9"},{"$f":"$C554","v":"Badd9"},{"$f":"$C553","v":"Bbadd9"},"Aadd9","G#add9","Gadd9","F#add9","Fadd9","Eadd9","Dadd9",{"$f":"$C544","v":"C#add9"},{"$f":"$C543","v":"Cadd9"},{"$f":"$C554","v":"Badd9"},{"$f":"$C553","v":"Bbadd9"},"Aadd9","G#add9","Gadd9","F#add9","Fadd9","Eadd9",null,"Ebadd9",544]
[null,545,{"$f":"CONCATENATE($C$7,AD543)","v":"Eadd9"},"Ebadd9","Dadd9",{"$f":"$C544","v":"C#add9"},{"$f":"$C543","v":"Cadd9"},{"$f":"$C554","v":"Badd9"},"Bbadd9","Aadd9","G#add9","Gadd9","F#add9","Fadd9","Ebadd9","Dadd9",{"$f":"$C544","v":"C#add9"},{"$f":"$C543","v":"Cadd9"},{"$f":"$C554","v":"Badd9"},"Bbadd9","Aadd9","G#add9","Gadd9","F#add9","Fadd9",null,"Eadd9",545]
[null,546,{"$f":"CONCATENATE($C$8,AD543)","v":"Fadd9"},"Eadd9","Ebadd9","Dadd9",{"$f":"$C544","v":"C#add9"},{"$f":"$C543","v":"Cadd9"},"Badd9","Bbadd9","Aadd9","G#add9","Gadd9","F#add9","Eadd9","Ebadd9","Dadd9",{"$f":"$C544","v":"C#add9"},{"$f":"$C543","v":"Cadd9"},"Badd9","Bbadd9","Aadd9","G#add9","Gadd9","F#add9",null,{"$f":"C548","v":"Fadd9"},546]
[null,547,{"$f":"CONCATENATE($C$9,AD543)","v":"F#add9"},"Fadd9","Eadd9","Ebadd9","Dadd9",{"$f":"$C544","v":"C#add9"},{"$f":"$C543","v":"Cadd9"},{"$f":"$C554","v":"Badd9"},"Bbadd9","Aadd9","G#add9","Gadd9","Fadd9","Eadd9","Ebadd9","Dadd9",{"$f":"$C544","v":"C#add9"},{"$f":"$C543","v":"Cadd9"},{"$f":"$C554","v":"Badd9"},"Bbadd9","Aadd9","G#add9","Gadd9",null,"F#add9",547]
[null,548,{"$f":"CONCATENATE($C$10,AD543)","v":"Gadd9"},"F#add9","Fadd9","Eadd9","Ebadd9","Dadd9","C#add9",{"$f":"$C543","v":"Cadd9"},{"$f":"$C554","v":"Badd9"},"Bbadd9","Aadd9","G#add9","F#add9","Fadd9","Eadd9","Ebadd9","Dadd9","C#add9",{"$f":"$C543","v":"Cadd9"},{"$f":"$C554","v":"Badd9"},"Bbadd9","Aadd9","G#add9",null,"Gadd9",548]
[null,549,{"$f":"CONCATENATE($C$11,AD543)","v":"G#add9"},"Gadd9","F#add9","Fadd9","Eadd9","Ebadd9","Dadd9",{"$f":"$C544","v":"C#add9"},{"$f":"$C543","v":"Cadd9"},{"$f":"$C554","v":"Badd9"},"Bbadd9","Aadd9","Gadd9","F#add9","Fadd9","Eadd9","Ebadd9","Dadd9",{"$f":"$C544","v":"C#add9"},{"$f":"$C543","v":"Cadd9"},{"$f":"$C554","v":"Badd9"},"Bbadd9","Aadd9",null,"G#add9",549]
[null,550,{"$f":"CONCATENATE($C$12,AD543)","v":"Aadd9"},"G#add9","Gadd9","F#add9","Fadd9","Eadd9","Ebadd9",{"$f":"$C545","v":"Dadd9"},{"$f":"$C544","v":"C#add9"},{"$f":"$C543","v":"Cadd9"},{"$f":"$C554","v":"Badd9"},"Bbadd9","G#add9","Gadd9","F#add9","Fadd9","Eadd9","Ebadd9",{"$f":"$C545","v":"Dadd9"},{"$f":"$C544","v":"C#add9"},{"$f":"$C543","v":"Cadd9"},{"$f":"$C554","v":"Badd9"},"Bbadd9",null,"Aadd9",550]
[null,551,{"$f":"CONCATENATE($C$13,AD543)","v":"Bbadd9"},"Aadd9","G#add9","Gadd9","F#add9","Fadd9","Eadd9",{"$f":"$C546","v":"Ebadd9"},{"$f":"$C545","v":"Dadd9"},{"$f":"$C544","v":"C#add9"},{"$f":"$C543","v":"Cadd9"},{"$f":"$C554","v":"Badd9"},"Aadd9","G#add9","Gadd9","F#add9","Fadd9","Eadd9",{"$f":"$C546","v":"Ebadd9"},{"$f":"$C545","v":"Dadd9"},{"$f":"$C544","v":"C#add9"},{"$f":"$C543","v":"Cadd9"},{"$f":"$C554","v":"Badd9"},null,"Bbadd9",551]
[null,552,{"$f":"CONCATENATE($C$14,AD543)","v":"Badd9"},"Bbadd9","Aadd9","G#add9","Gadd9","F#add9","Fadd9",{"$f":"$C547","v":"Eadd9"},{"$f":"$C546","v":"Ebadd9"},{"$f":"$C545","v":"Dadd9"},{"$f":"$C544","v":"C#add9"},{"$f":"$C543","v":"Cadd9"},"Bbadd9","Aadd9","G#add9","Gadd9","F#add9","Fadd9",{"$f":"$C547","v":"Eadd9"},{"$f":"$C546","v":"Ebadd9"},{"$f":"$C545","v":"Dadd9"},{"$f":"$C544","v":"C#add9"},{"$f":"$C543","v":"Cadd9"},null,"Badd9",552]
[null,553,{"$f":"CONCATENATE($C$3,AD555)","v":"C11"},{"$f":"$C566","v":"B11"},{"$f":"$C565","v":"Bb11"},{"$f":"$C564","v":"A11"},{"$f":"$C563","v":"G#11"},{"$f":"$C562","v":"G11"},{"$f":"$C561","v":"F#11"},{"$f":"$C560","v":"F11"},{"$f":"$C559","v":"E11"},{"$f":"$C558","v":"Eb11"},{"$f":"$C557","v":"D11"},{"$f":"$C556","v":"C#11"},{"$f":"$C566","v":"B11"},{"$f":"$C565","v":"Bb11"},{"$f":"$C564","v":"A11"},{"$f":"$C563","v":"G#11"},{"$f":"$C562","v":"G11"},{"$f":"$C561","v":"F#11"},{"$f":"$C560","v":"F11"},{"$f":"$C559","v":"E11"},{"$f":"$C558","v":"Eb11"},{"$f":"$C557","v":"D11"},{"$f":"$C556","v":"C#11"},null,"C11",553,null,11]
[null,554,{"$f":"CONCATENATE($C$4,AD555)","v":"C#11"},{"$f":"$C555","v":"C11"},{"$f":"$C566","v":"B11"},{"$f":"$C565","v":"Bb11"},{"$f":"$C564","v":"A11"},{"$f":"$C563","v":"G#11"},"G11","F#11","F11","E11","Eb11","D11",{"$f":"$C555","v":"C11"},{"$f":"$C566","v":"B11"},{"$f":"$C565","v":"Bb11"},{"$f":"$C564","v":"A11"},{"$f":"$C563","v":"G#11"},"G11","F#11","F11","E11","Eb11","D11",null,"C#11",554]
[null,555,{"$f":"CONCATENATE($C$5,AD555)","v":"D11"},{"$f":"$C556","v":"C#11"},{"$f":"$C555","v":"C11"},{"$f":"$C566","v":"B11"},{"$f":"$C565","v":"Bb11"},{"$f":"$C564","v":"A11"},"G#11","G11","F#11","F11","E11","Eb11",{"$f":"$C556","v":"C#11"},{"$f":"$C555","v":"C11"},{"$f":"$C566","v":"B11"},{"$f":"$C565","v":"Bb11"},{"$f":"$C564","v":"A11"},"G#11","G11","F#11","F11","E11","Eb11",null,"D11",555]
[null,556,{"$f":"CONCATENATE($C$6,AD555)","v":"Eb11"},"D11",{"$f":"$C556","v":"C#11"},{"$f":"$C555","v":"C11"},{"$f":"$C566","v":"B11"},{"$f":"$C565","v":"Bb11"},"A11","G#11","G11","F#11","F11","E11","D11",{"$f":"$C556","v":"C#11"},{"$f":"$C555","v":"C11"},{"$f":"$C566","v":"B11"},{"$f":"$C565","v":"Bb11"},"A11","G#11","G11","F#11","F11","E11",null,"Eb11",556]
[null,557,{"$f":"CONCATENATE($C$7,AD555)","v":"E11"},"Eb11","D11",{"$f":"$C556","v":"C#11"},{"$f":"$C555","v":"C11"},{"$f":"$C566","v":"B11"},"Bb11","A11","G#11","G11","F#11","F11","Eb11","D11",{"$f":"$C556","v":"C#11"},{"$f":"$C555","v":"C11"},{"$f":"$C566","v":"B11"},"Bb11","A11","G#11","G11","F#11","F11",null,"E11",557]
[null,558,{"$f":"CONCATENATE($C$8,AD555)","v":"F11"},"E11","Eb11","D11",{"$f":"$C556","v":"C#11"},{"$f":"$C555","v":"C11"},"B11","Bb11","A11","G#11","G11","F#11","E11","Eb11","D11",{"$f":"$C556","v":"C#11"},{"$f":"$C555","v":"C11"},"B11","Bb11","A11","G#11","G11","F#11",null,{"$f":"C560","v":"F11"},558]
[null,559,{"$f":"CONCATENATE($C$9,AD555)","v":"F#11"},"F11","E11","Eb11","D11",{"$f":"$C556","v":"C#11"},{"$f":"$C555","v":"C11"},{"$f":"$C566","v":"B11"},"Bb11","A11","G#11","G11","F11","E11","Eb11","D11",{"$f":"$C556","v":"C#11"},{"$f":"$C555","v":"C11"},{"$f":"$C566","v":"B11"},"Bb11","A11","G#11","G11",null,"F#11",559]
[null,560,{"$f":"CONCATENATE($C$10,AD555)","v":"G11"},"F#11","F11","E11","Eb11","D11","C#11",{"$f":"$C555","v":"C11"},{"$f":"$C566","v":"B11"},"Bb11","A11","G#11","F#11","F11","E11","Eb11","D11","C#11",{"$f":"$C555","v":"C11"},{"$f":"$C566","v":"B11"},"Bb11","A11","G#11",null,"G11",560]
[null,561,{"$f":"CONCATENATE($C$11,AD555)","v":"G#11"},"G11","F#11","F11","E11","Eb11","D11",{"$f":"$C556","v":"C#11"},{"$f":"$C555","v":"C11"},{"$f":"$C566","v":"B11"},"Bb11","A11","G11","F#11","F11","E11","Eb11","D11",{"$f":"$C556","v":"C#11"},{"$f":"$C555","v":"C11"},{"$f":"$C566","v":"B11"},"Bb11","A11",null,"G#11",561]
[null,562,{"$f":"CONCATENATE($C$12,AD555)","v":"A11"},"G#11","G11","F#11","F11","E11","Eb11",{"$f":"$C557","v":"D11"},{"$f":"$C556","v":"C#11"},{"$f":"$C555","v":"C11"},{"$f":"$C566","v":"B11"},"Bb11","G#11","G11","F#11","F11","E11","Eb11",{"$f":"$C557","v":"D11"},{"$f":"$C556","v":"C#11"},{"$f":"$C555","v":"C11"},{"$f":"$C566","v":"B11"},"Bb11",null,"A11",562]
[null,563,{"$f":"CONCATENATE($C$13,AD555)","v":"Bb11"},"A11","G#11","G11","F#11","F11","E11",{"$f":"$C558","v":"Eb11"},{"$f":"$C557","v":"D11"},{"$f":"$C556","v":"C#11"},{"$f":"$C555","v":"C11"},{"$f":"$C566","v":"B11"},"A11","G#11","G11","F#11","F11","E11",{"$f":"$C558","v":"Eb11"},{"$f":"$C557","v":"D11"},{"$f":"$C556","v":"C#11"},{"$f":"$C555","v":"C11"},{"$f":"$C566","v":"B11"},null,"Bb11",563]
[null,564,{"$f":"CONCATENATE($C$14,AD555)","v":"B11"},"Bb11","A11","G#11","G11","F#11","F11",{"$f":"$C559","v":"E11"},{"$f":"$C558","v":"Eb11"},{"$f":"$C557","v":"D11"},{"$f":"$C556","v":"C#11"},{"$f":"$C555","v":"C11"},"Bb11","A11","G#11","G11","F#11","F11",{"$f":"$C559","v":"E11"},{"$f":"$C558","v":"Eb11"},{"$f":"$C557","v":"D11"},{"$f":"$C556","v":"C#11"},{"$f":"$C555","v":"C11"},null,"B11",564]
[null,565,{"$f":"CONCATENATE($C$3,AD567)","v":"Cadd11"},{"$f":"$C578","v":"Badd11"},{"$f":"$C577","v":"Bbadd11"},{"$f":"$C576","v":"Aadd11"},{"$f":"$C575","v":"G#add11"},{"$f":"$C574","v":"Gadd11"},{"$f":"$C573","v":"F#add11"},{"$f":"$C572","v":"Fadd11"},{"$f":"$C571","v":"Eadd11"},{"$f":"$C570","v":"Ebadd11"},{"$f":"$C569","v":"Dadd11"},{"$f":"$C568","v":"C#add11"},{"$f":"$C578","v":"Badd11"},{"$f":"$C577","v":"Bbadd11"},{"$f":"$C576","v":"Aadd11"},{"$f":"$C575","v":"G#add11"},{"$f":"$C574","v":"Gadd11"},{"$f":"$C573","v":"F#add11"},{"$f":"$C572","v":"Fadd11"},{"$f":"$C571","v":"Eadd11"},{"$f":"$C570","v":"Ebadd11"},{"$f":"$C569","v":"Dadd11"},{"$f":"$C568","v":"C#add11"},null,"Cadd11",565,null,"add11"]
[null,566,{"$f":"CONCATENATE($C$4,AD567)","v":"C#add11"},{"$f":"$C567","v":"Cadd11"},{"$f":"$C578","v":"Badd11"},{"$f":"$C577","v":"Bbadd11"},{"$f":"$C576","v":"Aadd11"},{"$f":"$C575","v":"G#add11"},"Gadd11","F#add11","Fadd11","Eadd11","Ebadd11","Dadd11",{"$f":"$C567","v":"Cadd11"},{"$f":"$C578","v":"Badd11"},{"$f":"$C577","v":"Bbadd11"},{"$f":"$C576","v":"Aadd11"},{"$f":"$C575","v":"G#add11"},"Gadd11","F#add11","Fadd11","Eadd11","Ebadd11","Dadd11",null,"C#add11",566]
[null,567,{"$f":"CONCATENATE($C$5,AD567)","v":"Dadd11"},{"$f":"$C568","v":"C#add11"},{"$f":"$C567","v":"Cadd11"},{"$f":"$C578","v":"Badd11"},{"$f":"$C577","v":"Bbadd11"},{"$f":"$C576","v":"Aadd11"},"G#add11","Gadd11","F#add11","Fadd11","Eadd11","Ebadd11",{"$f":"$C568","v":"C#add11"},{"$f":"$C567","v":"Cadd11"},{"$f":"$C578","v":"Badd11"},{"$f":"$C577","v":"Bbadd11"},{"$f":"$C576","v":"Aadd11"},"G#add11","Gadd11","F#add11","Fadd11","Eadd11","Ebadd11",null,"Dadd11",567]
[null,568,{"$f":"CONCATENATE($C$6,AD567)","v":"Ebadd11"},"Dadd11",{"$f":"$C568","v":"C#add11"},{"$f":"$C567","v":"Cadd11"},{"$f":"$C578","v":"Badd11"},{"$f":"$C577","v":"Bbadd11"},"Aadd11","G#add11","Gadd11","F#add11","Fadd11","Eadd11","Dadd11",{"$f":"$C568","v":"C#add11"},{"$f":"$C567","v":"Cadd11"},{"$f":"$C578","v":"Badd11"},{"$f":"$C577","v":"Bbadd11"},"Aadd11","G#add11","Gadd11","F#add11","Fadd11","Eadd11",null,"Ebadd11",568]
[null,569,{"$f":"CONCATENATE($C$7,AD567)","v":"Eadd11"},"Ebadd11","Dadd11",{"$f":"$C568","v":"C#add11"},{"$f":"$C567","v":"Cadd11"},{"$f":"$C578","v":"Badd11"},"Bbadd11","Aadd11","G#add11","Gadd11","F#add11","Fadd11","Ebadd11","Dadd11",{"$f":"$C568","v":"C#add11"},{"$f":"$C567","v":"Cadd11"},{"$f":"$C578","v":"Badd11"},"Bbadd11","Aadd11","G#add11","Gadd11","F#add11","Fadd11",null,"Eadd11",569]
[null,570,{"$f":"CONCATENATE($C$8,AD567)","v":"Fadd11"},"Eadd11","Ebadd11","Dadd11",{"$f":"$C568","v":"C#add11"},{"$f":"$C567","v":"Cadd11"},"Badd11","Bbadd11","Aadd11","G#add11","Gadd11","F#add11","Eadd11","Ebadd11","Dadd11",{"$f":"$C568","v":"C#add11"},{"$f":"$C567","v":"Cadd11"},"Badd11","Bbadd11","Aadd11","G#add11","Gadd11","F#add11",null,"Fadd11",570]
[null,571,{"$f":"CONCATENATE($C$9,AD567)","v":"F#add11"},"Fadd11","Eadd11","Ebadd11","Dadd11",{"$f":"$C568","v":"C#add11"},{"$f":"$C567","v":"Cadd11"},{"$f":"$C578","v":"Badd11"},"Bbadd11","Aadd11","G#add11","Gadd11","Fadd11","Eadd11","Ebadd11","Dadd11",{"$f":"$C568","v":"C#add11"},{"$f":"$C567","v":"Cadd11"},{"$f":"$C578","v":"Badd11"},"Bbadd11","Aadd11","G#add11","Gadd11",null,"F#add11",571]
[null,572,{"$f":"CONCATENATE($C$10,AD567)","v":"Gadd11"},"F#add11","Fadd11","Eadd11","Ebadd11","Dadd11","C#add11",{"$f":"$C567","v":"Cadd11"},{"$f":"$C578","v":"Badd11"},"Bbadd11","Aadd11","G#add11","F#add11","Fadd11","Eadd11","Ebadd11","Dadd11","C#add11",{"$f":"$C567","v":"Cadd11"},{"$f":"$C578","v":"Badd11"},"Bbadd11","Aadd11","G#add11",null,"Gadd11",572]
[null,573,{"$f":"CONCATENATE($C$11,AD567)","v":"G#add11"},"Gadd11","F#add11","Fadd11","Eadd11","Ebadd11","Dadd11",{"$f":"$C568","v":"C#add11"},{"$f":"$C567","v":"Cadd11"},{"$f":"$C578","v":"Badd11"},"Bbadd11","Aadd11","Gadd11","F#add11","Fadd11","Eadd11","Ebadd11","Dadd11",{"$f":"$C568","v":"C#add11"},{"$f":"$C567","v":"Cadd11"},{"$f":"$C578","v":"Badd11"},"Bbadd11","Aadd11",null,"G#add11",573]
[null,574,{"$f":"CONCATENATE($C$12,AD567)","v":"Aadd11"},"G#add11","Gadd11","F#add11","Fadd11","Eadd11","Ebadd11",{"$f":"$C569","v":"Dadd11"},{"$f":"$C568","v":"C#add11"},{"$f":"$C567","v":"Cadd11"},{"$f":"$C578","v":"Badd11"},"Bbadd11","G#add11","Gadd11","F#add11","Fadd11","Eadd11","Ebadd11",{"$f":"$C569","v":"Dadd11"},{"$f":"$C568","v":"C#add11"},{"$f":"$C567","v":"Cadd11"},{"$f":"$C578","v":"Badd11"},"Bbadd11",null,"Aadd11",574]
[null,575,{"$f":"CONCATENATE($C$13,AD567)","v":"Bbadd11"},"Aadd11","G#add11","Gadd11","F#add11","Fadd11","Eadd11",{"$f":"$C570","v":"Ebadd11"},{"$f":"$C569","v":"Dadd11"},{"$f":"$C568","v":"C#add11"},{"$f":"$C567","v":"Cadd11"},{"$f":"$C578","v":"Badd11"},"Aadd11","G#add11","Gadd11","F#add11","Fadd11","Eadd11",{"$f":"$C570","v":"Ebadd11"},{"$f":"$C569","v":"Dadd11"},{"$f":"$C568","v":"C#add11"},{"$f":"$C567","v":"Cadd11"},{"$f":"$C578","v":"Badd11"},null,"Bbadd11",575]
[null,576,{"$f":"CONCATENATE($C$14,AD567)","v":"Badd11"},"Bbadd11","Aadd11","G#add11","Gadd11","F#add11","Fadd11",{"$f":"$C571","v":"Eadd11"},{"$f":"$C570","v":"Ebadd11"},{"$f":"$C569","v":"Dadd11"},{"$f":"$C568","v":"C#add11"},{"$f":"$C567","v":"Cadd11"},"Bbadd11","Aadd11","G#add11","Gadd11","F#add11","Fadd11",{"$f":"$C571","v":"Eadd11"},{"$f":"$C570","v":"Ebadd11"},{"$f":"$C569","v":"Dadd11"},{"$f":"$C568","v":"C#add11"},{"$f":"$C567","v":"Cadd11"},null,"Badd11",576]
[null,577,{"$f":"CONCATENATE($C$3,AD579)","v":"C-13"},{"$f":"$C590","v":"B-13"},{"$f":"$C589","v":"Bb-13"},{"$f":"$C588","v":"A-13"},{"$f":"$C587","v":"G#-13"},{"$f":"$C586","v":"G-13"},{"$f":"$C585","v":"F#-13"},{"$f":"$C584","v":"F-13"},{"$f":"$C583","v":"E-13"},{"$f":"$C582","v":"Eb-13"},{"$f":"$C581","v":"D-13"},{"$f":"$C580","v":"C#-13"},{"$f":"$C590","v":"B-13"},{"$f":"$C589","v":"Bb-13"},{"$f":"$C588","v":"A-13"},{"$f":"$C587","v":"G#-13"},{"$f":"$C586","v":"G-13"},{"$f":"$C585","v":"F#-13"},{"$f":"$C584","v":"F-13"},{"$f":"$C583","v":"E-13"},{"$f":"$C582","v":"Eb-13"},{"$f":"$C581","v":"D-13"},{"$f":"$C580","v":"C#-13"},null,"C-13",{"$f":"B579","v":577},null,"-13"]
[null,578,{"$f":"CONCATENATE($C$4,AD579)","v":"C#-13"},{"$f":"$C579","v":"C-13"},{"$f":"$C590","v":"B-13"},{"$f":"$C589","v":"Bb-13"},{"$f":"$C588","v":"A-13"},{"$f":"$C587","v":"G#-13"},"G-13","F#-13","F-13","E-13","Eb-13","D-13",{"$f":"$C579","v":"C-13"},{"$f":"$C590","v":"B-13"},{"$f":"$C589","v":"Bb-13"},{"$f":"$C588","v":"A-13"},{"$f":"$C587","v":"G#-13"},"G-13","F#-13","F-13","E-13","Eb-13","D-13",null,"C#-13",578]
[null,579,{"$f":"CONCATENATE($C$5,AD579)","v":"D-13"},{"$f":"$C580","v":"C#-13"},{"$f":"$C579","v":"C-13"},{"$f":"$C590","v":"B-13"},{"$f":"$C589","v":"Bb-13"},{"$f":"$C588","v":"A-13"},"G#-13","G-13","F#-13","F-13","E-13","Eb-13",{"$f":"$C580","v":"C#-13"},{"$f":"$C579","v":"C-13"},{"$f":"$C590","v":"B-13"},{"$f":"$C589","v":"Bb-13"},{"$f":"$C588","v":"A-13"},"G#-13","G-13","F#-13","F-13","E-13","Eb-13",null,"D-13",579]
[null,580,{"$f":"CONCATENATE($C$6,AD579)","v":"Eb-13"},"D-13",{"$f":"$C580","v":"C#-13"},{"$f":"$C579","v":"C-13"},{"$f":"$C590","v":"B-13"},{"$f":"$C589","v":"Bb-13"},"A-13","G#-13","G-13","F#-13","F-13","E-13","D-13",{"$f":"$C580","v":"C#-13"},{"$f":"$C579","v":"C-13"},{"$f":"$C590","v":"B-13"},{"$f":"$C589","v":"Bb-13"},"A-13","G#-13","G-13","F#-13","F-13","E-13",null,"Eb-13",580]
[null,581,{"$f":"CONCATENATE($C$7,AD579)","v":"E-13"},"Eb-13","D-13",{"$f":"$C580","v":"C#-13"},{"$f":"$C579","v":"C-13"},{"$f":"$C590","v":"B-13"},"Bb-13","A-13","G#-13","G-13","F#-13","F-13","Eb-13","D-13",{"$f":"$C580","v":"C#-13"},{"$f":"$C579","v":"C-13"},{"$f":"$C590","v":"B-13"},"Bb-13","A-13","G#-13","G-13","F#-13","F-13",null,"E-13",581]
[null,582,{"$f":"CONCATENATE($C$8,AD579)","v":"F-13"},"E-13","Eb-13","D-13",{"$f":"$C580","v":"C#-13"},{"$f":"$C579","v":"C-13"},"B-13","Bb-13","A-13","G#-13","G-13","F#-13","E-13","Eb-13","D-13",{"$f":"$C580","v":"C#-13"},{"$f":"$C579","v":"C-13"},"B-13","Bb-13","A-13","G#-13","G-13","F#-13",null,"F-13",582]
[null,583,{"$f":"CONCATENATE($C$9,AD579)","v":"F#-13"},"F-13","E-13","Eb-13","D-13",{"$f":"$C580","v":"C#-13"},{"$f":"$C579","v":"C-13"},{"$f":"$C590","v":"B-13"},"Bb-13","A-13","G#-13","G-13","F-13","E-13","Eb-13","D-13",{"$f":"$C580","v":"C#-13"},{"$f":"$C579","v":"C-13"},{"$f":"$C590","v":"B-13"},"Bb-13","A-13","G#-13","G-13",null,"F#-13",583]
[null,584,{"$f":"CONCATENATE($C$10,AD579)","v":"G-13"},"F#-13","F-13","E-13","Eb-13","D-13","C#-13",{"$f":"$C579","v":"C-13"},{"$f":"$C590","v":"B-13"},"Bb-13","A-13","G#-13","F#-13","F-13","E-13","Eb-13","D-13","C#-13",{"$f":"$C579","v":"C-13"},{"$f":"$C590","v":"B-13"},"Bb-13","A-13","G#-13",null,"G-13",584]
[null,585,{"$f":"CONCATENATE($C$11,AD579)","v":"G#-13"},"G-13","F#-13","F-13","E-13","Eb-13","D-13",{"$f":"$C580","v":"C#-13"},{"$f":"$C579","v":"C-13"},{"$f":"$C590","v":"B-13"},"Bb-13","A-13","G-13","F#-13","F-13","E-13","Eb-13","D-13",{"$f":"$C580","v":"C#-13"},{"$f":"$C579","v":"C-13"},{"$f":"$C590","v":"B-13"},"Bb-13","A-13",null,"G#-13",585]
[null,586,{"$f":"CONCATENATE($C$12,AD579)","v":"A-13"},"G#-13","G-13","F#-13","F-13","E-13","Eb-13",{"$f":"$C581","v":"D-13"},{"$f":"$C580","v":"C#-13"},{"$f":"$C579","v":"C-13"},{"$f":"$C590","v":"B-13"},"Bb-13","G#-13","G-13","F#-13","F-13","E-13","Eb-13",{"$f":"$C581","v":"D-13"},{"$f":"$C580","v":"C#-13"},{"$f":"$C579","v":"C-13"},{"$f":"$C590","v":"B-13"},"Bb-13",null,"A-13",586]
[null,587,{"$f":"CONCATENATE($C$13,AD579)","v":"Bb-13"},"A-13","G#-13","G-13","F#-13","F-13","E-13",{"$f":"$C582","v":"Eb-13"},{"$f":"$C581","v":"D-13"},{"$f":"$C580","v":"C#-13"},{"$f":"$C579","v":"C-13"},{"$f":"$C590","v":"B-13"},"A-13","G#-13","G-13","F#-13","F-13","E-13",{"$f":"$C582","v":"Eb-13"},{"$f":"$C581","v":"D-13"},{"$f":"$C580","v":"C#-13"},{"$f":"$C579","v":"C-13"},{"$f":"$C590","v":"B-13"},null,"Bb-13",587]
[null,588,{"$f":"CONCATENATE($C$14,AD579)","v":"B-13"},"Bb-13","A-13","G#-13","G-13","F#-13","F-13",{"$f":"$C583","v":"E-13"},{"$f":"$C582","v":"Eb-13"},{"$f":"$C581","v":"D-13"},{"$f":"$C580","v":"C#-13"},{"$f":"$C579","v":"C-13"},"Bb-13","A-13","G#-13","G-13","F#-13","F-13",{"$f":"$C583","v":"E-13"},{"$f":"$C582","v":"Eb-13"},{"$f":"$C581","v":"D-13"},{"$f":"$C580","v":"C#-13"},{"$f":"$C579","v":"C-13"},null,"B-13",588]
[null,589,{"$f":"CONCATENATE($C$3,AD591)","v":"C13"},{"$f":"$C602","v":"B13"},{"$f":"$C601","v":"Bb13"},{"$f":"$C600","v":"A13"},{"$f":"$C599","v":"G#13"},{"$f":"$C598","v":"G13"},{"$f":"$C597","v":"F#13"},{"$f":"$C596","v":"F13"},{"$f":"$C595","v":"E13"},{"$f":"$C594","v":"Eb13"},{"$f":"$C593","v":"D13"},{"$f":"$C592","v":"C#13"},{"$f":"$C602","v":"B13"},{"$f":"$C601","v":"Bb13"},{"$f":"$C600","v":"A13"},{"$f":"$C599","v":"G#13"},{"$f":"$C598","v":"G13"},{"$f":"$C597","v":"F#13"},{"$f":"$C596","v":"F13"},{"$f":"$C595","v":"E13"},{"$f":"$C594","v":"Eb13"},{"$f":"$C593","v":"D13"},{"$f":"$C592","v":"C#13"},null,{"$f":"C591","v":"C13"},589,null,13]
[null,590,{"$f":"CONCATENATE($C$4,AD591)","v":"C#13"},{"$f":"$C591","v":"C13"},{"$f":"$C602","v":"B13"},{"$f":"$C601","v":"Bb13"},{"$f":"$C600","v":"A13"},{"$f":"$C599","v":"G#13"},"G13","F#13","F13","E13","Eb13","D13",{"$f":"$C591","v":"C13"},{"$f":"$C602","v":"B13"},{"$f":"$C601","v":"Bb13"},{"$f":"$C600","v":"A13"},{"$f":"$C599","v":"G#13"},"G13","F#13","F13","E13","Eb13","D13",null,"C#13",590]
[null,591,{"$f":"CONCATENATE($C$5,AD591)","v":"D13"},{"$f":"$C592","v":"C#13"},{"$f":"$C591","v":"C13"},{"$f":"$C602","v":"B13"},{"$f":"$C601","v":"Bb13"},{"$f":"$C600","v":"A13"},"G#13","G13","F#13","F13","E13","Eb13",{"$f":"$C592","v":"C#13"},{"$f":"$C591","v":"C13"},{"$f":"$C602","v":"B13"},{"$f":"$C601","v":"Bb13"},{"$f":"$C600","v":"A13"},"G#13","G13","F#13","F13","E13","Eb13",null,"D13",591]
[null,592,{"$f":"CONCATENATE($C$6,AD591)","v":"Eb13"},"D13",{"$f":"$C592","v":"C#13"},{"$f":"$C591","v":"C13"},{"$f":"$C602","v":"B13"},{"$f":"$C601","v":"Bb13"},"A13","G#13","G13","F#13","F13","E13","D13",{"$f":"$C592","v":"C#13"},{"$f":"$C591","v":"C13"},{"$f":"$C602","v":"B13"},{"$f":"$C601","v":"Bb13"},"A13","G#13","G13","F#13","F13","E13",null,"Eb13",592]
[null,593,{"$f":"CONCATENATE($C$7,AD591)","v":"E13"},"Eb13","D13",{"$f":"$C592","v":"C#13"},{"$f":"$C591","v":"C13"},{"$f":"$C602","v":"B13"},"Bb13","A13","G#13","G13","F#13","F13","Eb13","D13",{"$f":"$C592","v":"C#13"},{"$f":"$C591","v":"C13"},{"$f":"$C602","v":"B13"},"Bb13","A13","G#13","G13","F#13","F13",null,"E13",593]
[null,594,{"$f":"CONCATENATE($C$8,AD591)","v":"F13"},"E13","Eb13","D13",{"$f":"$C592","v":"C#13"},{"$f":"$C591","v":"C13"},"B13","Bb13","A13","G#13","G13","F#13","E13","Eb13","D13",{"$f":"$C592","v":"C#13"},{"$f":"$C591","v":"C13"},"B13","Bb13","A13","G#13","G13","F#13",null,"F13",594]
[null,595,{"$f":"CONCATENATE($C$9,AD591)","v":"F#13"},"F13","E13","Eb13","D13",{"$f":"$C592","v":"C#13"},{"$f":"$C591","v":"C13"},{"$f":"$C602","v":"B13"},"Bb13","A13","G#13","G13","F13","E13","Eb13","D13",{"$f":"$C592","v":"C#13"},{"$f":"$C591","v":"C13"},{"$f":"$C602","v":"B13"},"Bb13","A13","G#13","G13",null,"F#13",595]
[null,596,{"$f":"CONCATENATE($C$10,AD591)","v":"G13"},"F#13","F13","E13","Eb13","D13","C#13",{"$f":"$C591","v":"C13"},{"$f":"$C602","v":"B13"},"Bb13","A13","G#13","F#13","F13","E13","Eb13","D13","C#13",{"$f":"$C591","v":"C13"},{"$f":"$C602","v":"B13"},"Bb13","A13","G#13",null,"G13",596]
[null,597,{"$f":"CONCATENATE($C$11,AD591)","v":"G#13"},"G13","F#13","F13","E13","Eb13","D13",{"$f":"$C592","v":"C#13"},{"$f":"$C591","v":"C13"},{"$f":"$C602","v":"B13"},"Bb13","A13","G13","F#13","F13","E13","Eb13","D13",{"$f":"$C592","v":"C#13"},{"$f":"$C591","v":"C13"},{"$f":"$C602","v":"B13"},"Bb13","A13",null,"G#13",597]
[null,598,{"$f":"CONCATENATE($C$12,AD591)","v":"A13"},"G#13","G13","F#13","F13","E13","Eb13",{"$f":"$C593","v":"D13"},{"$f":"$C592","v":"C#13"},{"$f":"$C591","v":"C13"},{"$f":"$C602","v":"B13"},"Bb13","G#13","G13","F#13","F13","E13","Eb13",{"$f":"$C593","v":"D13"},{"$f":"$C592","v":"C#13"},{"$f":"$C591","v":"C13"},{"$f":"$C602","v":"B13"},"Bb13",null,"A13",598]
[null,599,{"$f":"CONCATENATE($C$13,AD591)","v":"Bb13"},"A13","G#13","G13","F#13","F13","E13",{"$f":"$C594","v":"Eb13"},{"$f":"$C593","v":"D13"},{"$f":"$C592","v":"C#13"},{"$f":"$C591","v":"C13"},{"$f":"$C602","v":"B13"},"A13","G#13","G13","F#13","F13","E13",{"$f":"$C594","v":"Eb13"},{"$f":"$C593","v":"D13"},{"$f":"$C592","v":"C#13"},{"$f":"$C591","v":"C13"},{"$f":"$C602","v":"B13"},null,"Bb13",599]
[null,600,{"$f":"CONCATENATE($C$14,AD591)","v":"B13"},"Bb13","A13","G#13","G13","F#13","F13",{"$f":"$C595","v":"E13"},{"$f":"$C594","v":"Eb13"},{"$f":"$C593","v":"D13"},{"$f":"$C592","v":"C#13"},{"$f":"$C591","v":"C13"},"Bb13","A13","G#13","G13","F#13","F13",{"$f":"$C595","v":"E13"},{"$f":"$C594","v":"Eb13"},{"$f":"$C593","v":"D13"},{"$f":"$C592","v":"C#13"},{"$f":"$C591","v":"C13"},null,"B13",600]
[null,601,{"$f":"CONCATENATE($C$3,AD603)","v":"Cadd13"},{"$f":"$C614","v":"Badd13"},{"$f":"$C613","v":"Bbadd13"},{"$f":"$C612","v":"Aadd13"},{"$f":"$C611","v":"G#add13"},{"$f":"$C610","v":"Gadd13"},{"$f":"$C609","v":"F#add13"},{"$f":"$C608","v":"Fadd13"},{"$f":"$C607","v":"Eadd13"},{"$f":"$C606","v":"Ebadd13"},{"$f":"$C605","v":"Dadd13"},{"$f":"$C604","v":"C#add13"},{"$f":"$C614","v":"Badd13"},{"$f":"$C613","v":"Bbadd13"},{"$f":"$C612","v":"Aadd13"},{"$f":"$C611","v":"G#add13"},{"$f":"$C610","v":"Gadd13"},{"$f":"$C609","v":"F#add13"},{"$f":"$C608","v":"Fadd13"},{"$f":"$C607","v":"Eadd13"},{"$f":"$C606","v":"Ebadd13"},{"$f":"$C605","v":"Dadd13"},{"$f":"$C604","v":"C#add13"},null,"Cadd13",601,null,"add13"]
[null,602,{"$f":"CONCATENATE($C$4,AD603)","v":"C#add13"},{"$f":"$C603","v":"Cadd13"},{"$f":"$C614","v":"Badd13"},{"$f":"$C613","v":"Bbadd13"},{"$f":"$C612","v":"Aadd13"},{"$f":"$C611","v":"G#add13"},"Gadd13","F#add13","Fadd13","Eadd13","Ebadd13","Dadd13",{"$f":"$C603","v":"Cadd13"},{"$f":"$C614","v":"Badd13"},{"$f":"$C613","v":"Bbadd13"},{"$f":"$C612","v":"Aadd13"},{"$f":"$C611","v":"G#add13"},"Gadd13","F#add13","Fadd13","Eadd13","Ebadd13","Dadd13",null,"C#add13",602]
[null,603,{"$f":"CONCATENATE($C$5,AD603)","v":"Dadd13"},{"$f":"$C604","v":"C#add13"},{"$f":"$C603","v":"Cadd13"},{"$f":"$C614","v":"Badd13"},{"$f":"$C613","v":"Bbadd13"},{"$f":"$C612","v":"Aadd13"},"G#add13","Gadd13","F#add13","Fadd13","Eadd13","Ebadd13",{"$f":"$C604","v":"C#add13"},{"$f":"$C603","v":"Cadd13"},{"$f":"$C614","v":"Badd13"},{"$f":"$C613","v":"Bbadd13"},{"$f":"$C612","v":"Aadd13"},"G#add13","Gadd13","F#add13","Fadd13","Eadd13","Ebadd13",null,"Dadd13",603]
[null,604,{"$f":"CONCATENATE($C$6,AD603)","v":"Ebadd13"},"Dadd13",{"$f":"$C604","v":"C#add13"},{"$f":"$C603","v":"Cadd13"},{"$f":"$C614","v":"Badd13"},{"$f":"$C613","v":"Bbadd13"},"Aadd13","G#add13","Gadd13","F#add13","Fadd13","Eadd13","Dadd13",{"$f":"$C604","v":"C#add13"},{"$f":"$C603","v":"Cadd13"},{"$f":"$C614","v":"Badd13"},{"$f":"$C613","v":"Bbadd13"},"Aadd13","G#add13","Gadd13","F#add13","Fadd13","Eadd13",null,"Ebadd13",604]
[null,605,{"$f":"CONCATENATE($C$7,AD603)","v":"Eadd13"},"Ebadd13","Dadd13",{"$f":"$C604","v":"C#add13"},{"$f":"$C603","v":"Cadd13"},{"$f":"$C614","v":"Badd13"},"Bbadd13","Aadd13","G#add13","Gadd13","F#add13","Fadd13","Ebadd13","Dadd13",{"$f":"$C604","v":"C#add13"},{"$f":"$C603","v":"Cadd13"},{"$f":"$C614","v":"Badd13"},"Bbadd13","Aadd13","G#add13","Gadd13","F#add13","Fadd13",null,"Eadd13",605]
[null,606,{"$f":"CONCATENATE($C$8,AD603)","v":"Fadd13"},"Eadd13","Ebadd13","Dadd13",{"$f":"$C604","v":"C#add13"},{"$f":"$C603","v":"Cadd13"},"Badd13","Bbadd13","Aadd13","G#add13","Gadd13","F#add13","Eadd13","Ebadd13","Dadd13",{"$f":"$C604","v":"C#add13"},{"$f":"$C603","v":"Cadd13"},"Badd13","Bbadd13","Aadd13","G#add13","Gadd13","F#add13",null,"Fadd13",606]
[null,607,{"$f":"CONCATENATE($C$9,AD603)","v":"F#add13"},"Fadd13","Eadd13","Ebadd13","Dadd13",{"$f":"$C604","v":"C#add13"},{"$f":"$C603","v":"Cadd13"},{"$f":"$C614","v":"Badd13"},"Bbadd13","Aadd13","G#add13","Gadd13","Fadd13","Eadd13","Ebadd13","Dadd13",{"$f":"$C604","v":"C#add13"},{"$f":"$C603","v":"Cadd13"},{"$f":"$C614","v":"Badd13"},"Bbadd13","Aadd13","G#add13","Gadd13",null,"F#add13",607]
[null,608,{"$f":"CONCATENATE($C$10,AD603)","v":"Gadd13"},"F#add13","Fadd13","Eadd13","Ebadd13","Dadd13","C#add13",{"$f":"$C603","v":"Cadd13"},{"$f":"$C614","v":"Badd13"},"Bbadd13","Aadd13","G#add13","F#add13","Fadd13","Eadd13","Ebadd13","Dadd13","C#add13",{"$f":"$C603","v":"Cadd13"},{"$f":"$C614","v":"Badd13"},"Bbadd13","Aadd13","G#add13",null,"Gadd13",608]
[null,609,{"$f":"CONCATENATE($C$11,AD603)","v":"G#add13"},"Gadd13","F#add13","Fadd13","Eadd13","Ebadd13","Dadd13",{"$f":"$C604","v":"C#add13"},{"$f":"$C603","v":"Cadd13"},{"$f":"$C614","v":"Badd13"},"Bbadd13","Aadd13","Gadd13","F#add13","Fadd13","Eadd13","Ebadd13","Dadd13",{"$f":"$C604","v":"C#add13"},{"$f":"$C603","v":"Cadd13"},{"$f":"$C614","v":"Badd13"},"Bbadd13","Aadd13",null,"G#add13",609]
[null,610,{"$f":"CONCATENATE($C$12,AD603)","v":"Aadd13"},"G#add13","Gadd13","F#add13","Fadd13","Eadd13","Ebadd13",{"$f":"$C605","v":"Dadd13"},{"$f":"$C604","v":"C#add13"},{"$f":"$C603","v":"Cadd13"},{"$f":"$C614","v":"Badd13"},"Bbadd13","G#add13","Gadd13","F#add13","Fadd13","Eadd13","Ebadd13",{"$f":"$C605","v":"Dadd13"},{"$f":"$C604","v":"C#add13"},{"$f":"$C603","v":"Cadd13"},{"$f":"$C614","v":"Badd13"},"Bbadd13",null,"Aadd13",610]
[null,611,{"$f":"CONCATENATE($C$13,AD603)","v":"Bbadd13"},"Aadd13","G#add13","Gadd13","F#add13","Fadd13","Eadd13",{"$f":"$C606","v":"Ebadd13"},{"$f":"$C605","v":"Dadd13"},{"$f":"$C604","v":"C#add13"},{"$f":"$C603","v":"Cadd13"},{"$f":"$C614","v":"Badd13"},"Aadd13","G#add13","Gadd13","F#add13","Fadd13","Eadd13",{"$f":"$C606","v":"Ebadd13"},{"$f":"$C605","v":"Dadd13"},{"$f":"$C604","v":"C#add13"},{"$f":"$C603","v":"Cadd13"},{"$f":"$C614","v":"Badd13"},null,"Bbadd13",611]
[null,612,{"$f":"CONCATENATE($C$14,AD603)","v":"Badd13"},"Bbadd13","Aadd13","G#add13","Gadd13","F#add13","Fadd13",{"$f":"$C607","v":"Eadd13"},{"$f":"$C606","v":"Ebadd13"},{"$f":"$C605","v":"Dadd13"},{"$f":"$C604","v":"C#add13"},{"$f":"$C603","v":"Cadd13"},"Bbadd13","Aadd13","G#add13","Gadd13","F#add13","Fadd13",{"$f":"$C607","v":"Eadd13"},{"$f":"$C606","v":"Ebadd13"},{"$f":"$C605","v":"Dadd13"},{"$f":"$C604","v":"C#add13"},{"$f":"$C603","v":"Cadd13"},null,"Badd13",612]
[null,613,{"$f":"CONCATENATE($C$3,AD615)","v":"Cm5"},{"$f":"$C626","v":"Bm5"},{"$f":"$C625","v":"Bbm5"},{"$f":"$C624","v":"Am5"},{"$f":"$C623","v":"G#m5"},{"$f":"$C622","v":"Gm5"},{"$f":"$C621","v":"F#m5"},{"$f":"$C620","v":"Fm5"},{"$f":"$C619","v":"Em5"},{"$f":"$C618","v":"Ebm5"},{"$f":"$C617","v":"Dm5"},{"$f":"$C616","v":"C#m5"},{"$f":"$C626","v":"Bm5"},{"$f":"$C625","v":"Bbm5"},{"$f":"$C624","v":"Am5"},{"$f":"$C623","v":"G#m5"},{"$f":"$C622","v":"Gm5"},{"$f":"$C621","v":"F#m5"},{"$f":"$C620","v":"Fm5"},{"$f":"$C619","v":"Em5"},{"$f":"$C618","v":"Ebm5"},{"$f":"$C617","v":"Dm5"},{"$f":"$C616","v":"C#m5"},null,"Cm5",613,null,"m5"]
[null,614,{"$f":"CONCATENATE($C$4,AD615)","v":"C#m5"},{"$f":"$C615","v":"Cm5"},{"$f":"$C626","v":"Bm5"},{"$f":"$C625","v":"Bbm5"},{"$f":"$C624","v":"Am5"},{"$f":"$C623","v":"G#m5"},"Gm5","F#m5","Fm5","Em5","Ebm5","Dm5",{"$f":"$C615","v":"Cm5"},{"$f":"$C626","v":"Bm5"},{"$f":"$C625","v":"Bbm5"},{"$f":"$C624","v":"Am5"},{"$f":"$C623","v":"G#m5"},"Gm5","F#m5","Fm5","Em5","Ebm5","Dm5",null,"C#m5",614]
[null,615,{"$f":"CONCATENATE($C$5,AD615)","v":"Dm5"},{"$f":"$C616","v":"C#m5"},{"$f":"$C615","v":"Cm5"},{"$f":"$C626","v":"Bm5"},{"$f":"$C625","v":"Bbm5"},{"$f":"$C624","v":"Am5"},"G#m5","Gm5","F#m5","Fm5","Em5","Ebm5",{"$f":"$C616","v":"C#m5"},{"$f":"$C615","v":"Cm5"},{"$f":"$C626","v":"Bm5"},{"$f":"$C625","v":"Bbm5"},{"$f":"$C624","v":"Am5"},"G#m5","Gm5","F#m5","Fm5","Em5","Ebm5",null,"Dm5",615]
[null,616,{"$f":"CONCATENATE($C$6,AD615)","v":"Ebm5"},"Dm5",{"$f":"$C616","v":"C#m5"},{"$f":"$C615","v":"Cm5"},{"$f":"$C626","v":"Bm5"},{"$f":"$C625","v":"Bbm5"},"Am5","G#m5","Gm5","F#m5","Fm5","Em5","Dm5",{"$f":"$C616","v":"C#m5"},{"$f":"$C615","v":"Cm5"},{"$f":"$C626","v":"Bm5"},{"$f":"$C625","v":"Bbm5"},"Am5","G#m5","Gm5","F#m5","Fm5","Em5",null,"Ebm5",616]
[null,617,{"$f":"CONCATENATE($C$7,AD615)","v":"Em5"},"Ebm5","Dm5",{"$f":"$C616","v":"C#m5"},{"$f":"$C615","v":"Cm5"},{"$f":"$C626","v":"Bm5"},"Bbm5","Am5","G#m5","Gm5","F#m5","Fm5","Ebm5","Dm5",{"$f":"$C616","v":"C#m5"},{"$f":"$C615","v":"Cm5"},{"$f":"$C626","v":"Bm5"},"Bbm5","Am5","G#m5","Gm5","F#m5","Fm5",null,"Em5",617]
[null,618,{"$f":"CONCATENATE($C$8,AD615)","v":"Fm5"},"Em5","Ebm5","Dm5",{"$f":"$C616","v":"C#m5"},{"$f":"$C615","v":"Cm5"},"Bm5","Bbm5","Am5","G#m5","Gm5","F#m5","Em5","Ebm5","Dm5",{"$f":"$C616","v":"C#m5"},{"$f":"$C615","v":"Cm5"},"Bm5","Bbm5","Am5","G#m5","Gm5","F#m5",null,"Fm5",618]
[null,619,{"$f":"CONCATENATE($C$9,AD615)","v":"F#m5"},"Fm5","Em5","Ebm5","Dm5",{"$f":"$C616","v":"C#m5"},{"$f":"$C615","v":"Cm5"},{"$f":"$C626","v":"Bm5"},"Bbm5","Am5","G#m5","Gm5","Fm5","Em5","Ebm5","Dm5",{"$f":"$C616","v":"C#m5"},{"$f":"$C615","v":"Cm5"},{"$f":"$C626","v":"Bm5"},"Bbm5","Am5","G#m5","Gm5",null,"F#m5",619]
[null,620,{"$f":"CONCATENATE($C$10,AD615)","v":"Gm5"},"F#m5","Fm5","Em5","Ebm5","Dm5","C#m5",{"$f":"$C615","v":"Cm5"},{"$f":"$C626","v":"Bm5"},"Bbm5","Am5","G#m5","F#m5","Fm5","Em5","Ebm5","Dm5","C#m5",{"$f":"$C615","v":"Cm5"},{"$f":"$C626","v":"Bm5"},"Bbm5","Am5","G#m5",null,"Gm5",620]
[null,621,{"$f":"CONCATENATE($C$11,AD615)","v":"G#m5"},"Gm5","F#m5","Fm5","Em5","Ebm5","Dm5",{"$f":"$C616","v":"C#m5"},{"$f":"$C615","v":"Cm5"},{"$f":"$C626","v":"Bm5"},"Bbm5","Am5","Gm5","F#m5","Fm5","Em5","Ebm5","Dm5",{"$f":"$C616","v":"C#m5"},{"$f":"$C615","v":"Cm5"},{"$f":"$C626","v":"Bm5"},"Bbm5","Am5",null,"G#m5",621]
[null,622,{"$f":"CONCATENATE($C$12,AD615)","v":"Am5"},"G#m5","Gm5","F#m5","Fm5","Em5","Ebm5",{"$f":"$C617","v":"Dm5"},{"$f":"$C616","v":"C#m5"},{"$f":"$C615","v":"Cm5"},{"$f":"$C626","v":"Bm5"},"Bbm5","G#m5","Gm5","F#m5","Fm5","Em5","Ebm5",{"$f":"$C617","v":"Dm5"},{"$f":"$C616","v":"C#m5"},{"$f":"$C615","v":"Cm5"},{"$f":"$C626","v":"Bm5"},"Bbm5",null,"Am5",622]
[null,623,{"$f":"CONCATENATE($C$13,AD615)","v":"Bbm5"},"Am5","G#m5","Gm5","F#m5","Fm5","Em5",{"$f":"$C618","v":"Ebm5"},{"$f":"$C617","v":"Dm5"},{"$f":"$C616","v":"C#m5"},{"$f":"$C615","v":"Cm5"},{"$f":"$C626","v":"Bm5"},"Am5","G#m5","Gm5","F#m5","Fm5","Em5",{"$f":"$C618","v":"Ebm5"},{"$f":"$C617","v":"Dm5"},{"$f":"$C616","v":"C#m5"},{"$f":"$C615","v":"Cm5"},{"$f":"$C626","v":"Bm5"},null,"Bbm5",623]
[null,624,{"$f":"CONCATENATE($C$14,AD615)","v":"Bm5"},"Bbm5","Am5","G#m5","Gm5","F#m5","Fm5",{"$f":"$C619","v":"Em5"},{"$f":"$C618","v":"Ebm5"},{"$f":"$C617","v":"Dm5"},{"$f":"$C616","v":"C#m5"},{"$f":"$C615","v":"Cm5"},"Bbm5","Am5","G#m5","Gm5","F#m5","Fm5",{"$f":"$C619","v":"Em5"},{"$f":"$C618","v":"Ebm5"},{"$f":"$C617","v":"Dm5"},{"$f":"$C616","v":"C#m5"},{"$f":"$C615","v":"Cm5"},null,"Bm5",624]
[null,625,{"$f":"CONCATENATE($C$3,AD627)","v":"Cm6"},{"$f":"$C638","v":"Bm6"},{"$f":"$C637","v":"Bbm6"},{"$f":"$C636","v":"Am6"},{"$f":"$C635","v":"G#m6"},{"$f":"$C634","v":"Gm6"},{"$f":"$C633","v":"F#m6"},{"$f":"$C632","v":"Fm6"},{"$f":"$C631","v":"Em6"},{"$f":"$C630","v":"Ebm6"},{"$f":"$C629","v":"Dm6"},{"$f":"$C628","v":"C#m6"},{"$f":"$C638","v":"Bm6"},{"$f":"$C637","v":"Bbm6"},{"$f":"$C636","v":"Am6"},{"$f":"$C635","v":"G#m6"},{"$f":"$C634","v":"Gm6"},{"$f":"$C633","v":"F#m6"},{"$f":"$C632","v":"Fm6"},{"$f":"$C631","v":"Em6"},{"$f":"$C630","v":"Ebm6"},{"$f":"$C629","v":"Dm6"},{"$f":"$C628","v":"C#m6"},null,"Cm6",625,null,"m6"]
[null,626,{"$f":"CONCATENATE($C$4,AD627)","v":"C#m6"},{"$f":"$C627","v":"Cm6"},{"$f":"$C638","v":"Bm6"},{"$f":"$C637","v":"Bbm6"},{"$f":"$C636","v":"Am6"},{"$f":"$C635","v":"G#m6"},"Gm6","F#m6","Fm6","Em6","Ebm6","Dm6",{"$f":"$C627","v":"Cm6"},{"$f":"$C638","v":"Bm6"},{"$f":"$C637","v":"Bbm6"},{"$f":"$C636","v":"Am6"},{"$f":"$C635","v":"G#m6"},"Gm6","F#m6","Fm6","Em6","Ebm6","Dm6",null,"C#m6",626]
[null,627,{"$f":"CONCATENATE($C$5,AD627)","v":"Dm6"},{"$f":"$C628","v":"C#m6"},{"$f":"$C627","v":"Cm6"},{"$f":"$C638","v":"Bm6"},{"$f":"$C637","v":"Bbm6"},{"$f":"$C636","v":"Am6"},"G#m6","Gm6","F#m6","Fm6","Em6","Ebm6",{"$f":"$C628","v":"C#m6"},{"$f":"$C627","v":"Cm6"},{"$f":"$C638","v":"Bm6"},{"$f":"$C637","v":"Bbm6"},{"$f":"$C636","v":"Am6"},"G#m6","Gm6","F#m6","Fm6","Em6","Ebm6",null,{"$f":"C629","v":"Dm6"},627]
[null,628,{"$f":"CONCATENATE($C$6,AD627)","v":"Ebm6"},"Dm6",{"$f":"$C628","v":"C#m6"},{"$f":"$C627","v":"Cm6"},{"$f":"$C638","v":"Bm6"},{"$f":"$C637","v":"Bbm6"},"Am6","G#m6","Gm6","F#m6","Fm6","Em6","Dm6",{"$f":"$C628","v":"C#m6"},{"$f":"$C627","v":"Cm6"},{"$f":"$C638","v":"Bm6"},{"$f":"$C637","v":"Bbm6"},"Am6","G#m6","Gm6","F#m6","Fm6","Em6",null,"Ebm6",628]
[null,629,{"$f":"CONCATENATE($C$7,AD627)","v":"Em6"},"Ebm6","Dm6",{"$f":"$C628","v":"C#m6"},{"$f":"$C627","v":"Cm6"},{"$f":"$C638","v":"Bm6"},"Bbm6","Am6","G#m6","Gm6","F#m6","Fm6","Ebm6","Dm6",{"$f":"$C628","v":"C#m6"},{"$f":"$C627","v":"Cm6"},{"$f":"$C638","v":"Bm6"},"Bbm6","Am6","G#m6","Gm6","F#m6","Fm6",null,"Em6",629]
[null,630,{"$f":"CONCATENATE($C$8,AD627)","v":"Fm6"},"Em6","Ebm6","Dm6",{"$f":"$C628","v":"C#m6"},{"$f":"$C627","v":"Cm6"},"Bm6","Bbm6","Am6","G#m6","Gm6","F#m6","Em6","Ebm6","Dm6",{"$f":"$C628","v":"C#m6"},{"$f":"$C627","v":"Cm6"},"Bm6","Bbm6","Am6","G#m6","Gm6","F#m6",null,"Fm6",630]
[null,631,{"$f":"CONCATENATE($C$9,AD627)","v":"F#m6"},"Fm6","Em6","Ebm6","Dm6",{"$f":"$C628","v":"C#m6"},{"$f":"$C627","v":"Cm6"},{"$f":"$C638","v":"Bm6"},"Bbm6","Am6","G#m6","Gm6","Fm6","Em6","Ebm6","Dm6",{"$f":"$C628","v":"C#m6"},{"$f":"$C627","v":"Cm6"},{"$f":"$C638","v":"Bm6"},"Bbm6","Am6","G#m6","Gm6",null,"F#m6",631]
[null,632,{"$f":"CONCATENATE($C$10,AD627)","v":"Gm6"},"F#m6","Fm6","Em6","Ebm6","Dm6","C#m6",{"$f":"$C627","v":"Cm6"},{"$f":"$C638","v":"Bm6"},"Bbm6","Am6","G#m6","F#m6","Fm6","Em6","Ebm6","Dm6","C#m6",{"$f":"$C627","v":"Cm6"},{"$f":"$C638","v":"Bm6"},"Bbm6","Am6","G#m6",null,"Gm6",632]
[null,633,{"$f":"CONCATENATE($C$11,AD627)","v":"G#m6"},"Gm6","F#m6","Fm6","Em6","Ebm6","Dm6",{"$f":"$C628","v":"C#m6"},{"$f":"$C627","v":"Cm6"},{"$f":"$C638","v":"Bm6"},"Bbm6","Am6","Gm6","F#m6","Fm6","Em6","Ebm6","Dm6",{"$f":"$C628","v":"C#m6"},{"$f":"$C627","v":"Cm6"},{"$f":"$C638","v":"Bm6"},"Bbm6","Am6",null,"G#m6",633]
[null,634,{"$f":"CONCATENATE($C$12,AD627)","v":"Am6"},"G#m6","Gm6","F#m6","Fm6","Em6","Ebm6",{"$f":"$C629","v":"Dm6"},{"$f":"$C628","v":"C#m6"},{"$f":"$C627","v":"Cm6"},{"$f":"$C638","v":"Bm6"},"Bbm6","G#m6","Gm6","F#m6","Fm6","Em6","Ebm6",{"$f":"$C629","v":"Dm6"},{"$f":"$C628","v":"C#m6"},{"$f":"$C627","v":"Cm6"},{"$f":"$C638","v":"Bm6"},"Bbm6",null,"Am6",634]
[null,635,{"$f":"CONCATENATE($C$13,AD627)","v":"Bbm6"},"Am6","G#m6","Gm6","F#m6","Fm6","Em6",{"$f":"$C630","v":"Ebm6"},{"$f":"$C629","v":"Dm6"},{"$f":"$C628","v":"C#m6"},{"$f":"$C627","v":"Cm6"},{"$f":"$C638","v":"Bm6"},"Am6","G#m6","Gm6","F#m6","Fm6","Em6",{"$f":"$C630","v":"Ebm6"},{"$f":"$C629","v":"Dm6"},{"$f":"$C628","v":"C#m6"},{"$f":"$C627","v":"Cm6"},{"$f":"$C638","v":"Bm6"},null,"Bbm6",635]
[null,636,{"$f":"CONCATENATE($C$14,AD627)","v":"Bm6"},"Bbm6","Am6","G#m6","Gm6","F#m6","Fm6",{"$f":"$C631","v":"Em6"},{"$f":"$C630","v":"Ebm6"},{"$f":"$C629","v":"Dm6"},{"$f":"$C628","v":"C#m6"},{"$f":"$C627","v":"Cm6"},"Bbm6","Am6","G#m6","Gm6","F#m6","Fm6",{"$f":"$C631","v":"Em6"},{"$f":"$C630","v":"Ebm6"},{"$f":"$C629","v":"Dm6"},{"$f":"$C628","v":"C#m6"},{"$f":"$C627","v":"Cm6"},null,"Bm6",636]
[null,637,{"$f":"CONCATENATE($C$3,AD639)","v":"Cm7"},{"$f":"$C650","v":"Bm7"},{"$f":"$C649","v":"Bbm7"},{"$f":"$C648","v":"Am7"},{"$f":"$C647","v":"G#m7"},{"$f":"$C646","v":"Gm7"},{"$f":"$C645","v":"F#m7"},{"$f":"$C644","v":"Fm7"},{"$f":"$C643","v":"Em7"},{"$f":"$C642","v":"Ebm7"},{"$f":"$C641","v":"Dm7"},{"$f":"$C640","v":"C#m7"},{"$f":"$C650","v":"Bm7"},{"$f":"$C649","v":"Bbm7"},{"$f":"$C648","v":"Am7"},{"$f":"$C647","v":"G#m7"},{"$f":"$C646","v":"Gm7"},{"$f":"$C645","v":"F#m7"},{"$f":"$C644","v":"Fm7"},{"$f":"$C643","v":"Em7"},{"$f":"$C642","v":"Ebm7"},{"$f":"$C641","v":"Dm7"},{"$f":"$C640","v":"C#m7"},null,"Cm7",637,null,"m7"]
[null,638,{"$f":"CONCATENATE($C$4,AD639)","v":"C#m7"},{"$f":"$C639","v":"Cm7"},{"$f":"$C650","v":"Bm7"},{"$f":"$C649","v":"Bbm7"},{"$f":"$C648","v":"Am7"},{"$f":"$C647","v":"G#m7"},"Gm7","F#m7","Fm7","Em7","Ebm7","Dm7",{"$f":"$C639","v":"Cm7"},{"$f":"$C650","v":"Bm7"},{"$f":"$C649","v":"Bbm7"},{"$f":"$C648","v":"Am7"},{"$f":"$C647","v":"G#m7"},"Gm7","F#m7","Fm7","Em7","Ebm7","Dm7",null,"C#m7",638]
[null,639,{"$f":"CONCATENATE($C$5,AD639)","v":"Dm7"},{"$f":"$C640","v":"C#m7"},{"$f":"$C639","v":"Cm7"},{"$f":"$C650","v":"Bm7"},{"$f":"$C649","v":"Bbm7"},{"$f":"$C648","v":"Am7"},"G#m7","Gm7","F#m7","Fm7","Em7","Ebm7",{"$f":"$C640","v":"C#m7"},{"$f":"$C639","v":"Cm7"},{"$f":"$C650","v":"Bm7"},{"$f":"$C649","v":"Bbm7"},{"$f":"$C648","v":"Am7"},"G#m7","Gm7","F#m7","Fm7","Em7","Ebm7",null,"Dm7",639]
[null,640,{"$f":"CONCATENATE($C$6,AD639)","v":"Ebm7"},"Dm7",{"$f":"$C640","v":"C#m7"},{"$f":"$C639","v":"Cm7"},{"$f":"$C650","v":"Bm7"},{"$f":"$C649","v":"Bbm7"},"Am7","G#m7","Gm7","F#m7","Fm7","Em7","Dm7",{"$f":"$C640","v":"C#m7"},{"$f":"$C639","v":"Cm7"},{"$f":"$C650","v":"Bm7"},{"$f":"$C649","v":"Bbm7"},"Am7","G#m7","Gm7","F#m7","Fm7","Em7",null,"Ebm7",640]
[null,641,{"$f":"CONCATENATE($C$7,AD639)","v":"Em7"},"Ebm7","Dm7",{"$f":"$C640","v":"C#m7"},{"$f":"$C639","v":"Cm7"},{"$f":"$C650","v":"Bm7"},"Bbm7","Am7","G#m7","Gm7","F#m7","Fm7","Ebm7","Dm7",{"$f":"$C640","v":"C#m7"},{"$f":"$C639","v":"Cm7"},{"$f":"$C650","v":"Bm7"},"Bbm7","Am7","G#m7","Gm7","F#m7","Fm7",null,"Em7",{"$f":"B643","v":641}]
[null,642,{"$f":"CONCATENATE($C$8,AD639)","v":"Fm7"},"Em7","Ebm7","Dm7",{"$f":"$C640","v":"C#m7"},{"$f":"$C639","v":"Cm7"},"Bm7","Bbm7","Am7","G#m7","Gm7","F#m7","Em7","Ebm7","Dm7",{"$f":"$C640","v":"C#m7"},{"$f":"$C639","v":"Cm7"},"Bm7","Bbm7","Am7","G#m7","Gm7","F#m7",null,"Fm7",642]
[null,643,{"$f":"CONCATENATE($C$9,AD639)","v":"F#m7"},"Fm7","Em7","Ebm7","Dm7",{"$f":"$C640","v":"C#m7"},{"$f":"$C639","v":"Cm7"},{"$f":"$C650","v":"Bm7"},"Bbm7","Am7","G#m7","Gm7","Fm7","Em7","Ebm7","Dm7",{"$f":"$C640","v":"C#m7"},{"$f":"$C639","v":"Cm7"},{"$f":"$C650","v":"Bm7"},"Bbm7","Am7","G#m7","Gm7",null,"F#m7",643]
[null,644,{"$f":"CONCATENATE($C$10,AD639)","v":"Gm7"},"F#m7","Fm7","Em7","Ebm7","Dm7","C#m7",{"$f":"$C639","v":"Cm7"},{"$f":"$C650","v":"Bm7"},"Bbm7","Am7","G#m7","F#m7","Fm7","Em7","Ebm7","Dm7","C#m7",{"$f":"$C639","v":"Cm7"},{"$f":"$C650","v":"Bm7"},"Bbm7","Am7","G#m7",null,"Gm7",644]
[null,645,{"$f":"CONCATENATE($C$11,AD639)","v":"G#m7"},"Gm7","F#m7","Fm7","Em7","Ebm7","Dm7",{"$f":"$C640","v":"C#m7"},{"$f":"$C639","v":"Cm7"},{"$f":"$C650","v":"Bm7"},"Bbm7","Am7","Gm7","F#m7","Fm7","Em7","Ebm7","Dm7",{"$f":"$C640","v":"C#m7"},{"$f":"$C639","v":"Cm7"},{"$f":"$C650","v":"Bm7"},"Bbm7","Am7",null,"G#m7",645]
[null,646,{"$f":"CONCATENATE($C$12,AD639)","v":"Am7"},"G#m7","Gm7","F#m7","Fm7","Em7","Ebm7",{"$f":"$C641","v":"Dm7"},{"$f":"$C640","v":"C#m7"},{"$f":"$C639","v":"Cm7"},{"$f":"$C650","v":"Bm7"},"Bbm7","G#m7","Gm7","F#m7","Fm7","Em7","Ebm7",{"$f":"$C641","v":"Dm7"},{"$f":"$C640","v":"C#m7"},{"$f":"$C639","v":"Cm7"},{"$f":"$C650","v":"Bm7"},"Bbm7",null,"Am7",646]
[null,647,{"$f":"CONCATENATE($C$13,AD639)","v":"Bbm7"},"Am7","G#m7","Gm7","F#m7","Fm7","Em7",{"$f":"$C642","v":"Ebm7"},{"$f":"$C641","v":"Dm7"},{"$f":"$C640","v":"C#m7"},{"$f":"$C639","v":"Cm7"},{"$f":"$C650","v":"Bm7"},"Am7","G#m7","Gm7","F#m7","Fm7","Em7",{"$f":"$C642","v":"Ebm7"},{"$f":"$C641","v":"Dm7"},{"$f":"$C640","v":"C#m7"},{"$f":"$C639","v":"Cm7"},{"$f":"$C650","v":"Bm7"},null,"Bbm7",647]
[null,648,{"$f":"CONCATENATE($C$14,AD639)","v":"Bm7"},"Bbm7","Am7","G#m7","Gm7","F#m7","Fm7",{"$f":"$C643","v":"Em7"},{"$f":"$C642","v":"Ebm7"},{"$f":"$C641","v":"Dm7"},{"$f":"$C640","v":"C#m7"},{"$f":"$C639","v":"Cm7"},"Bbm7","Am7","G#m7","Gm7","F#m7","Fm7",{"$f":"$C643","v":"Em7"},{"$f":"$C642","v":"Ebm7"},{"$f":"$C641","v":"Dm7"},{"$f":"$C640","v":"C#m7"},{"$f":"$C639","v":"Cm7"},null,"Bm7",648]
[null,649,{"$f":"CONCATENATE($C$3,AD651)","v":"Cm9"},{"$f":"$C662","v":"Bm9"},{"$f":"$C661","v":"Bbm9"},{"$f":"$C660","v":"Am9"},{"$f":"$C659","v":"G#m9"},{"$f":"$C658","v":"Gm9"},{"$f":"$C657","v":"F#m9"},{"$f":"$C656","v":"Fm9"},{"$f":"$C655","v":"Em9"},{"$f":"$C654","v":"Ebm9"},{"$f":"$C653","v":"Dm9"},{"$f":"$C652","v":"C#m9"},{"$f":"$C662","v":"Bm9"},{"$f":"$C661","v":"Bbm9"},{"$f":"$C660","v":"Am9"},{"$f":"$C659","v":"G#m9"},{"$f":"$C658","v":"Gm9"},{"$f":"$C657","v":"F#m9"},{"$f":"$C656","v":"Fm9"},{"$f":"$C655","v":"Em9"},{"$f":"$C654","v":"Ebm9"},{"$f":"$C653","v":"Dm9"},{"$f":"$C652","v":"C#m9"},null,{"$f":"C651","v":"Cm9"},649,null,"m9"]
[null,650,{"$f":"CONCATENATE($C$4,AD651)","v":"C#m9"},{"$f":"$C651","v":"Cm9"},{"$f":"$C662","v":"Bm9"},{"$f":"$C661","v":"Bbm9"},{"$f":"$C660","v":"Am9"},{"$f":"$C659","v":"G#m9"},"Gm9","F#m9","Fm9","Em9","Ebm9","Dm9",{"$f":"$C651","v":"Cm9"},{"$f":"$C662","v":"Bm9"},{"$f":"$C661","v":"Bbm9"},{"$f":"$C660","v":"Am9"},{"$f":"$C659","v":"G#m9"},"Gm9","F#m9","Fm9","Em9","Ebm9","Dm9",null,"C#m9",650]
[null,651,{"$f":"CONCATENATE($C$5,AD651)","v":"Dm9"},{"$f":"$C652","v":"C#m9"},{"$f":"$C651","v":"Cm9"},{"$f":"$C662","v":"Bm9"},{"$f":"$C661","v":"Bbm9"},{"$f":"$C660","v":"Am9"},"G#m9","Gm9","F#m9","Fm9","Em9","Ebm9",{"$f":"$C652","v":"C#m9"},{"$f":"$C651","v":"Cm9"},{"$f":"$C662","v":"Bm9"},{"$f":"$C661","v":"Bbm9"},{"$f":"$C660","v":"Am9"},"G#m9","Gm9","F#m9","Fm9","Em9","Ebm9",null,"Dm9",651]
[null,652,{"$f":"CONCATENATE($C$6,AD651)","v":"Ebm9"},"Dm9",{"$f":"$C652","v":"C#m9"},{"$f":"$C651","v":"Cm9"},{"$f":"$C662","v":"Bm9"},{"$f":"$C661","v":"Bbm9"},"Am9","G#m9","Gm9","F#m9","Fm9","Em9","Dm9",{"$f":"$C652","v":"C#m9"},{"$f":"$C651","v":"Cm9"},{"$f":"$C662","v":"Bm9"},{"$f":"$C661","v":"Bbm9"},"Am9","G#m9","Gm9","F#m9","Fm9","Em9",null,"Ebm9",652]
[null,653,{"$f":"CONCATENATE($C$7,AD651)","v":"Em9"},"Ebm9","Dm9",{"$f":"$C652","v":"C#m9"},{"$f":"$C651","v":"Cm9"},{"$f":"$C662","v":"Bm9"},"Bbm9","Am9","G#m9","Gm9","F#m9","Fm9","Ebm9","Dm9",{"$f":"$C652","v":"C#m9"},{"$f":"$C651","v":"Cm9"},{"$f":"$C662","v":"Bm9"},"Bbm9","Am9","G#m9","Gm9","F#m9","Fm9",null,"Em9",653]
[null,654,{"$f":"CONCATENATE($C$8,AD651)","v":"Fm9"},"Em9","Ebm9","Dm9",{"$f":"$C652","v":"C#m9"},{"$f":"$C651","v":"Cm9"},"Bm9","Bbm9","Am9","G#m9","Gm9","F#m9","Em9","Ebm9","Dm9",{"$f":"$C652","v":"C#m9"},{"$f":"$C651","v":"Cm9"},"Bm9","Bbm9","Am9","G#m9","Gm9","F#m9",null,"Fm9",654]
[null,655,{"$f":"CONCATENATE($C$9,AD651)","v":"F#m9"},"Fm9","Em9","Ebm9","Dm9",{"$f":"$C652","v":"C#m9"},{"$f":"$C651","v":"Cm9"},{"$f":"$C662","v":"Bm9"},"Bbm9","Am9","G#m9","Gm9","Fm9","Em9","Ebm9","Dm9",{"$f":"$C652","v":"C#m9"},{"$f":"$C651","v":"Cm9"},{"$f":"$C662","v":"Bm9"},"Bbm9","Am9","G#m9","Gm9",null,"F#m9",655]
[null,656,{"$f":"CONCATENATE($C$10,AD651)","v":"Gm9"},"F#m9","Fm9","Em9","Ebm9","Dm9","C#m9",{"$f":"$C651","v":"Cm9"},{"$f":"$C662","v":"Bm9"},"Bbm9","Am9","G#m9","F#m9","Fm9","Em9","Ebm9","Dm9","C#m9",{"$f":"$C651","v":"Cm9"},{"$f":"$C662","v":"Bm9"},"Bbm9","Am9","G#m9",null,"Gm9",656]
[null,657,{"$f":"CONCATENATE($C$11,AD651)","v":"G#m9"},"Gm9","F#m9","Fm9","Em9","Ebm9","Dm9",{"$f":"$C652","v":"C#m9"},{"$f":"$C651","v":"Cm9"},{"$f":"$C662","v":"Bm9"},"Bbm9","Am9","Gm9","F#m9","Fm9","Em9","Ebm9","Dm9",{"$f":"$C652","v":"C#m9"},{"$f":"$C651","v":"Cm9"},{"$f":"$C662","v":"Bm9"},"Bbm9","Am9",null,"G#m9",657]
[null,658,{"$f":"CONCATENATE($C$12,AD651)","v":"Am9"},"G#m9","Gm9","F#m9","Fm9","Em9","Ebm9",{"$f":"$C653","v":"Dm9"},{"$f":"$C652","v":"C#m9"},{"$f":"$C651","v":"Cm9"},{"$f":"$C662","v":"Bm9"},"Bbm9","G#m9","Gm9","F#m9","Fm9","Em9","Ebm9",{"$f":"$C653","v":"Dm9"},{"$f":"$C652","v":"C#m9"},{"$f":"$C651","v":"Cm9"},{"$f":"$C662","v":"Bm9"},"Bbm9",null,"Am9",658]
[null,659,{"$f":"CONCATENATE($C$13,AD651)","v":"Bbm9"},"Am9","G#m9","Gm9","F#m9","Fm9","Em9",{"$f":"$C654","v":"Ebm9"},{"$f":"$C653","v":"Dm9"},{"$f":"$C652","v":"C#m9"},{"$f":"$C651","v":"Cm9"},{"$f":"$C662","v":"Bm9"},"Am9","G#m9","Gm9","F#m9","Fm9","Em9",{"$f":"$C654","v":"Ebm9"},{"$f":"$C653","v":"Dm9"},{"$f":"$C652","v":"C#m9"},{"$f":"$C651","v":"Cm9"},{"$f":"$C662","v":"Bm9"},null,"Bbm9",659]
[null,660,{"$f":"CONCATENATE($C$14,AD651)","v":"Bm9"},"Bbm9","Am9","G#m9","Gm9","F#m9","Fm9",{"$f":"$C655","v":"Em9"},{"$f":"$C654","v":"Ebm9"},{"$f":"$C653","v":"Dm9"},{"$f":"$C652","v":"C#m9"},{"$f":"$C651","v":"Cm9"},"Bbm9","Am9","G#m9","Gm9","F#m9","Fm9",{"$f":"$C655","v":"Em9"},{"$f":"$C654","v":"Ebm9"},{"$f":"$C653","v":"Dm9"},{"$f":"$C652","v":"C#m9"},{"$f":"$C651","v":"Cm9"},null,"Bm9",660]
[null,661,{"$f":"CONCATENATE($C$3,AD663)","v":"Cm11"},{"$f":"$C674","v":"Bm11"},{"$f":"$C673","v":"Bbm11"},{"$f":"$C672","v":"Am11"},{"$f":"$C671","v":"G#m11"},{"$f":"$C670","v":"Gm11"},{"$f":"$C669","v":"F#m11"},{"$f":"$C668","v":"Fm11"},{"$f":"$C667","v":"Em11"},{"$f":"$C666","v":"Ebm11"},{"$f":"$C665","v":"Dm11"},{"$f":"$C664","v":"C#m11"},{"$f":"$C674","v":"Bm11"},{"$f":"$C673","v":"Bbm11"},{"$f":"$C672","v":"Am11"},{"$f":"$C671","v":"G#m11"},{"$f":"$C670","v":"Gm11"},{"$f":"$C669","v":"F#m11"},{"$f":"$C668","v":"Fm11"},{"$f":"$C667","v":"Em11"},{"$f":"$C666","v":"Ebm11"},{"$f":"$C665","v":"Dm11"},{"$f":"$C664","v":"C#m11"},null,{"$f":"C663","v":"Cm11"},661,null,"m11"]
[null,662,{"$f":"CONCATENATE($C$4,AD663)","v":"C#m11"},{"$f":"$C663","v":"Cm11"},{"$f":"$C674","v":"Bm11"},{"$f":"$C673","v":"Bbm11"},{"$f":"$C672","v":"Am11"},{"$f":"$C671","v":"G#m11"},"Gm11","F#m11","Fm11","Em11","Ebm11","Dm11",{"$f":"$C663","v":"Cm11"},{"$f":"$C674","v":"Bm11"},{"$f":"$C673","v":"Bbm11"},{"$f":"$C672","v":"Am11"},{"$f":"$C671","v":"G#m11"},"Gm11","F#m11","Fm11","Em11","Ebm11","Dm11",null,"C#m11",662]
[null,663,{"$f":"CONCATENATE($C$5,AD663)","v":"Dm11"},{"$f":"$C664","v":"C#m11"},{"$f":"$C663","v":"Cm11"},{"$f":"$C674","v":"Bm11"},{"$f":"$C673","v":"Bbm11"},{"$f":"$C672","v":"Am11"},"G#m11","Gm11","F#m11","Fm11","Em11","Ebm11",{"$f":"$C664","v":"C#m11"},{"$f":"$C663","v":"Cm11"},{"$f":"$C674","v":"Bm11"},{"$f":"$C673","v":"Bbm11"},{"$f":"$C672","v":"Am11"},"G#m11","Gm11","F#m11","Fm11","Em11","Ebm11",null,"Dm11",663]
[null,664,{"$f":"CONCATENATE($C$6,AD663)","v":"Ebm11"},"Dm11",{"$f":"$C664","v":"C#m11"},{"$f":"$C663","v":"Cm11"},{"$f":"$C674","v":"Bm11"},{"$f":"$C673","v":"Bbm11"},"Am11","G#m11","Gm11","F#m11","Fm11","Em11","Dm11",{"$f":"$C664","v":"C#m11"},{"$f":"$C663","v":"Cm11"},{"$f":"$C674","v":"Bm11"},{"$f":"$C673","v":"Bbm11"},"Am11","G#m11","Gm11","F#m11","Fm11","Em11",null,"Ebm11",664]
[null,665,{"$f":"CONCATENATE($C$7,AD663)","v":"Em11"},"Ebm11","Dm11",{"$f":"$C664","v":"C#m11"},{"$f":"$C663","v":"Cm11"},{"$f":"$C674","v":"Bm11"},"Bbm11","Am11","G#m11","Gm11","F#m11","Fm11","Ebm11","Dm11",{"$f":"$C664","v":"C#m11"},{"$f":"$C663","v":"Cm11"},{"$f":"$C674","v":"Bm11"},"Bbm11","Am11","G#m11","Gm11","F#m11","Fm11",null,"Em11",665]
[null,666,{"$f":"CONCATENATE($C$8,AD663)","v":"Fm11"},"Em11","Ebm11","Dm11",{"$f":"$C664","v":"C#m11"},{"$f":"$C663","v":"Cm11"},"Bm11","Bbm11","Am11","G#m11","Gm11","F#m11","Em11","Ebm11","Dm11",{"$f":"$C664","v":"C#m11"},{"$f":"$C663","v":"Cm11"},"Bm11","Bbm11","Am11","G#m11","Gm11","F#m11",null,"Fm11",666]
[null,667,{"$f":"CONCATENATE($C$9,AD663)","v":"F#m11"},"Fm11","Em11","Ebm11","Dm11",{"$f":"$C664","v":"C#m11"},{"$f":"$C663","v":"Cm11"},{"$f":"$C674","v":"Bm11"},"Bbm11","Am11","G#m11","Gm11","Fm11","Em11","Ebm11","Dm11",{"$f":"$C664","v":"C#m11"},{"$f":"$C663","v":"Cm11"},{"$f":"$C674","v":"Bm11"},"Bbm11","Am11","G#m11","Gm11",null,"F#m11",667]
[null,668,{"$f":"CONCATENATE($C$10,AD663)","v":"Gm11"},"F#m11","Fm11","Em11","Ebm11","Dm11","C#m11",{"$f":"$C663","v":"Cm11"},{"$f":"$C674","v":"Bm11"},"Bbm11","Am11","G#m11","F#m11","Fm11","Em11","Ebm11","Dm11","C#m11",{"$f":"$C663","v":"Cm11"},{"$f":"$C674","v":"Bm11"},"Bbm11","Am11","G#m11",null,"Gm11",668]
[null,669,{"$f":"CONCATENATE($C$11,AD663)","v":"G#m11"},"Gm11","F#m11","Fm11","Em11","Ebm11","Dm11",{"$f":"$C664","v":"C#m11"},{"$f":"$C663","v":"Cm11"},{"$f":"$C674","v":"Bm11"},"Bbm11","Am11","Gm11","F#m11","Fm11","Em11","Ebm11","Dm11",{"$f":"$C664","v":"C#m11"},{"$f":"$C663","v":"Cm11"},{"$f":"$C674","v":"Bm11"},"Bbm11","Am11",null,"G#m11",669]
[null,670,{"$f":"CONCATENATE($C$12,AD663)","v":"Am11"},"G#m11","Gm11","F#m11","Fm11","Em11","Ebm11",{"$f":"$C665","v":"Dm11"},{"$f":"$C664","v":"C#m11"},{"$f":"$C663","v":"Cm11"},{"$f":"$C674","v":"Bm11"},"Bbm11","G#m11","Gm11","F#m11","Fm11","Em11","Ebm11",{"$f":"$C665","v":"Dm11"},{"$f":"$C664","v":"C#m11"},{"$f":"$C663","v":"Cm11"},{"$f":"$C674","v":"Bm11"},"Bbm11",null,"Am11",670]
[null,671,{"$f":"CONCATENATE($C$13,AD663)","v":"Bbm11"},"Am11","G#m11","Gm11","F#m11","Fm11","Em11",{"$f":"$C666","v":"Ebm11"},{"$f":"$C665","v":"Dm11"},{"$f":"$C664","v":"C#m11"},{"$f":"$C663","v":"Cm11"},{"$f":"$C674","v":"Bm11"},"Am11","G#m11","Gm11","F#m11","Fm11","Em11",{"$f":"$C666","v":"Ebm11"},{"$f":"$C665","v":"Dm11"},{"$f":"$C664","v":"C#m11"},{"$f":"$C663","v":"Cm11"},{"$f":"$C674","v":"Bm11"},null,"Bbm11",671]
[null,672,{"$f":"CONCATENATE($C$14,AD663)","v":"Bm11"},"Bbm11","Am11","G#m11","Gm11","F#m11","Fm11",{"$f":"$C667","v":"Em11"},{"$f":"$C666","v":"Ebm11"},{"$f":"$C665","v":"Dm11"},{"$f":"$C664","v":"C#m11"},{"$f":"$C663","v":"Cm11"},"Bbm11","Am11","G#m11","Gm11","F#m11","Fm11",{"$f":"$C667","v":"Em11"},{"$f":"$C666","v":"Ebm11"},{"$f":"$C665","v":"Dm11"},{"$f":"$C664","v":"C#m11"},{"$f":"$C663","v":"Cm11"},null,"Bm11",672]
[null,673,{"$f":"CONCATENATE($C$3,AD675)","v":"Cm7(11)"},{"$f":"$C686","v":"Bm7(11)"},{"$f":"$C685","v":"Bbm7(11)"},{"$f":"$C684","v":"Am7(11)"},{"$f":"$C683","v":"G#m7(11)"},{"$f":"$C682","v":"Gm7(11)"},{"$f":"$C681","v":"F#m7(11)"},{"$f":"$C680","v":"Fm7(11)"},{"$f":"$C679","v":"Em7(11)"},{"$f":"$C678","v":"Ebm7(11)"},{"$f":"$C677","v":"Dm7(11)"},{"$f":"$C676","v":"C#m7(11)"},{"$f":"$C686","v":"Bm7(11)"},{"$f":"$C685","v":"Bbm7(11)"},{"$f":"$C684","v":"Am7(11)"},{"$f":"$C683","v":"G#m7(11)"},{"$f":"$C682","v":"Gm7(11)"},{"$f":"$C681","v":"F#m7(11)"},{"$f":"$C680","v":"Fm7(11)"},{"$f":"$C679","v":"Em7(11)"},{"$f":"$C678","v":"Ebm7(11)"},{"$f":"$C677","v":"Dm7(11)"},{"$f":"$C676","v":"C#m7(11)"},null,"Cm7(11)",673,null,"m7(11)"]
[null,674,{"$f":"CONCATENATE($C$4,AD675)","v":"C#m7(11)"},{"$f":"$C675","v":"Cm7(11)"},{"$f":"$C686","v":"Bm7(11)"},{"$f":"$C685","v":"Bbm7(11)"},{"$f":"$C684","v":"Am7(11)"},{"$f":"$C683","v":"G#m7(11)"},"Gm7(11)","F#m7(11)","Fm7(11)","Em7(11)","Ebm7(11)","Dm7(11)",{"$f":"$C675","v":"Cm7(11)"},{"$f":"$C686","v":"Bm7(11)"},{"$f":"$C685","v":"Bbm7(11)"},{"$f":"$C684","v":"Am7(11)"},{"$f":"$C683","v":"G#m7(11)"},"Gm7(11)","F#m7(11)","Fm7(11)","Em7(11)","Ebm7(11)","Dm7(11)",null,"C#m7(11)",674]
[null,675,{"$f":"CONCATENATE($C$5,AD675)","v":"Dm7(11)"},{"$f":"$C676","v":"C#m7(11)"},{"$f":"$C675","v":"Cm7(11)"},{"$f":"$C686","v":"Bm7(11)"},{"$f":"$C685","v":"Bbm7(11)"},{"$f":"$C684","v":"Am7(11)"},"G#m7(11)","Gm7(11)","F#m7(11)","Fm7(11)","Em7(11)","Ebm7(11)",{"$f":"$C676","v":"C#m7(11)"},{"$f":"$C675","v":"Cm7(11)"},{"$f":"$C686","v":"Bm7(11)"},{"$f":"$C685","v":"Bbm7(11)"},{"$f":"$C684","v":"Am7(11)"},"G#m7(11)","Gm7(11)","F#m7(11)","Fm7(11)","Em7(11)","Ebm7(11)",null,"Dm7(11)",675]
[null,676,{"$f":"CONCATENATE($C$6,AD675)","v":"Ebm7(11)"},"Dm7(11)",{"$f":"$C676","v":"C#m7(11)"},{"$f":"$C675","v":"Cm7(11)"},{"$f":"$C686","v":"Bm7(11)"},{"$f":"$C685","v":"Bbm7(11)"},"Am7(11)","G#m7(11)","Gm7(11)","F#m7(11)","Fm7(11)","Em7(11)","Dm7(11)",{"$f":"$C676","v":"C#m7(11)"},{"$f":"$C675","v":"Cm7(11)"},{"$f":"$C686","v":"Bm7(11)"},{"$f":"$C685","v":"Bbm7(11)"},"Am7(11)","G#m7(11)","Gm7(11)","F#m7(11)","Fm7(11)","Em7(11)",null,"Ebm7(11)",676]
[null,677,{"$f":"CONCATENATE($C$7,AD675)","v":"Em7(11)"},"Ebm7(11)","Dm7(11)",{"$f":"$C676","v":"C#m7(11)"},{"$f":"$C675","v":"Cm7(11)"},{"$f":"$C686","v":"Bm7(11)"},"Bbm7(11)","Am7(11)","G#m7(11)","Gm7(11)","F#m7(11)","Fm7(11)","Ebm7(11)","Dm7(11)",{"$f":"$C676","v":"C#m7(11)"},{"$f":"$C675","v":"Cm7(11)"},{"$f":"$C686","v":"Bm7(11)"},"Bbm7(11)","Am7(11)","G#m7(11)","Gm7(11)","F#m7(11)","Fm7(11)",null,"Em7(11)",677]
[null,678,{"$f":"CONCATENATE($C$8,AD675)","v":"Fm7(11)"},"Em7(11)","Ebm7(11)","Dm7(11)",{"$f":"$C676","v":"C#m7(11)"},{"$f":"$C675","v":"Cm7(11)"},"Bm7(11)","Bbm7(11)","Am7(11)","G#m7(11)","Gm7(11)","F#m7(11)","Em7(11)","Ebm7(11)","Dm7(11)",{"$f":"$C676","v":"C#m7(11)"},{"$f":"$C675","v":"Cm7(11)"},"Bm7(11)","Bbm7(11)","Am7(11)","G#m7(11)","Gm7(11)","F#m7(11)",null,"Fm7(11)",678]
[null,679,{"$f":"CONCATENATE($C$9,AD675)","v":"F#m7(11)"},"Fm7(11)","Em7(11)","Ebm7(11)","Dm7(11)",{"$f":"$C676","v":"C#m7(11)"},{"$f":"$C675","v":"Cm7(11)"},{"$f":"$C686","v":"Bm7(11)"},"Bbm7(11)","Am7(11)","G#m7(11)","Gm7(11)","Fm7(11)","Em7(11)","Ebm7(11)","Dm7(11)",{"$f":"$C676","v":"C#m7(11)"},{"$f":"$C675","v":"Cm7(11)"},{"$f":"$C686","v":"Bm7(11)"},"Bbm7(11)","Am7(11)","G#m7(11)","Gm7(11)",null,"F#m7(11)",679]
[null,680,{"$f":"CONCATENATE($C$10,AD675)","v":"Gm7(11)"},"F#m7(11)","Fm7(11)","Em7(11)","Ebm7(11)","Dm7(11)","C#m7(11)",{"$f":"$C675","v":"Cm7(11)"},{"$f":"$C686","v":"Bm7(11)"},"Bbm7(11)","Am7(11)","G#m7(11)","F#m7(11)","Fm7(11)","Em7(11)","Ebm7(11)","Dm7(11)","C#m7(11)",{"$f":"$C675","v":"Cm7(11)"},{"$f":"$C686","v":"Bm7(11)"},"Bbm7(11)","Am7(11)","G#m7(11)",null,"Gm7(11)",680]
[null,681,{"$f":"CONCATENATE($C$11,AD675)","v":"G#m7(11)"},"Gm7(11)","F#m7(11)","Fm7(11)","Em7(11)","Ebm7(11)","Dm7(11)",{"$f":"$C676","v":"C#m7(11)"},{"$f":"$C675","v":"Cm7(11)"},{"$f":"$C686","v":"Bm7(11)"},"Bbm7(11)","Am7(11)","Gm7(11)","F#m7(11)","Fm7(11)","Em7(11)","Ebm7(11)","Dm7(11)",{"$f":"$C676","v":"C#m7(11)"},{"$f":"$C675","v":"Cm7(11)"},{"$f":"$C686","v":"Bm7(11)"},"Bbm7(11)","Am7(11)",null,"G#m7(11)",681]
[null,682,{"$f":"CONCATENATE($C$12,AD675)","v":"Am7(11)"},"G#m7(11)","Gm7(11)","F#m7(11)","Fm7(11)","Em7(11)","Ebm7(11)",{"$f":"$C677","v":"Dm7(11)"},{"$f":"$C676","v":"C#m7(11)"},{"$f":"$C675","v":"Cm7(11)"},{"$f":"$C686","v":"Bm7(11)"},"Bbm7(11)","G#m7(11)","Gm7(11)","F#m7(11)","Fm7(11)","Em7(11)","Ebm7(11)",{"$f":"$C677","v":"Dm7(11)"},{"$f":"$C676","v":"C#m7(11)"},{"$f":"$C675","v":"Cm7(11)"},{"$f":"$C686","v":"Bm7(11)"},"Bbm7(11)",null,"Am7(11)",682]
[null,683,{"$f":"CONCATENATE($C$13,AD675)","v":"Bbm7(11)"},"Am7(11)","G#m7(11)","Gm7(11)","F#m7(11)","Fm7(11)","Em7(11)",{"$f":"$C678","v":"Ebm7(11)"},{"$f":"$C677","v":"Dm7(11)"},{"$f":"$C676","v":"C#m7(11)"},{"$f":"$C675","v":"Cm7(11)"},{"$f":"$C686","v":"Bm7(11)"},"Am7(11)","G#m7(11)","Gm7(11)","F#m7(11)","Fm7(11)","Em7(11)",{"$f":"$C678","v":"Ebm7(11)"},{"$f":"$C677","v":"Dm7(11)"},{"$f":"$C676","v":"C#m7(11)"},{"$f":"$C675","v":"Cm7(11)"},{"$f":"$C686","v":"Bm7(11)"},null,"Bbm7(11)",683]
[null,684,{"$f":"CONCATENATE($C$14,AD675)","v":"Bm7(11)"},"Bbm7(11)","Am7(11)","G#m7(11)","Gm7(11)","F#m7(11)","Fm7(11)",{"$f":"$C679","v":"Em7(11)"},{"$f":"$C678","v":"Ebm7(11)"},{"$f":"$C677","v":"Dm7(11)"},{"$f":"$C676","v":"C#m7(11)"},{"$f":"$C675","v":"Cm7(11)"},"Bbm7(11)","Am7(11)","G#m7(11)","Gm7(11)","F#m7(11)","Fm7(11)",{"$f":"$C679","v":"Em7(11)"},{"$f":"$C678","v":"Ebm7(11)"},{"$f":"$C677","v":"Dm7(11)"},{"$f":"$C676","v":"C#m7(11)"},{"$f":"$C675","v":"Cm7(11)"},null,"Bm7(11)",684]
[null,685,{"$f":"CONCATENATE($C$3,AD687)","v":"Cm7(-13)"},{"$f":"$C698","v":"Bm7(-13)"},{"$f":"$C697","v":"Bbm7(-13)"},{"$f":"$C696","v":"Am7(-13)"},{"$f":"$C695","v":"G#m7(-13)"},{"$f":"$C694","v":"Gm7(-13)"},{"$f":"$C693","v":"F#m7(-13)"},{"$f":"$C692","v":"Fm7(-13)"},{"$f":"$C691","v":"Em7(-13)"},{"$f":"$C690","v":"Ebm7(-13)"},{"$f":"$C689","v":"Dm7(-13)"},{"$f":"$C688","v":"C#m7(-13)"},{"$f":"$C698","v":"Bm7(-13)"},{"$f":"$C697","v":"Bbm7(-13)"},{"$f":"$C696","v":"Am7(-13)"},{"$f":"$C695","v":"G#m7(-13)"},{"$f":"$C694","v":"Gm7(-13)"},{"$f":"$C693","v":"F#m7(-13)"},{"$f":"$C692","v":"Fm7(-13)"},{"$f":"$C691","v":"Em7(-13)"},{"$f":"$C690","v":"Ebm7(-13)"},{"$f":"$C689","v":"Dm7(-13)"},{"$f":"$C688","v":"C#m7(-13)"},null,{"$f":"C687","v":"Cm7(-13)"},685,null,"m7(-13)"]
[null,686,{"$f":"CONCATENATE($C$4,AD687)","v":"C#m7(-13)"},{"$f":"$C687","v":"Cm7(-13)"},{"$f":"$C698","v":"Bm7(-13)"},{"$f":"$C697","v":"Bbm7(-13)"},{"$f":"$C696","v":"Am7(-13)"},{"$f":"$C695","v":"G#m7(-13)"},"Gm7(-13)","F#m7(-13)","Fm7(-13)","Em7(-13)","Ebm7(-13)","Dm7(-13)",{"$f":"$C687","v":"Cm7(-13)"},{"$f":"$C698","v":"Bm7(-13)"},{"$f":"$C697","v":"Bbm7(-13)"},{"$f":"$C696","v":"Am7(-13)"},{"$f":"$C695","v":"G#m7(-13)"},"Gm7(-13)","F#m7(-13)","Fm7(-13)","Em7(-13)","Ebm7(-13)","Dm7(-13)",null,"C#m7(-13)",686]
[null,687,{"$f":"CONCATENATE($C$5,AD687)","v":"Dm7(-13)"},{"$f":"$C688","v":"C#m7(-13)"},{"$f":"$C687","v":"Cm7(-13)"},{"$f":"$C698","v":"Bm7(-13)"},{"$f":"$C697","v":"Bbm7(-13)"},{"$f":"$C696","v":"Am7(-13)"},"G#m7(-13)","Gm7(-13)","F#m7(-13)","Fm7(-13)","Em7(-13)","Ebm7(-13)",{"$f":"$C688","v":"C#m7(-13)"},{"$f":"$C687","v":"Cm7(-13)"},{"$f":"$C698","v":"Bm7(-13)"},{"$f":"$C697","v":"Bbm7(-13)"},{"$f":"$C696","v":"Am7(-13)"},"G#m7(-13)","Gm7(-13)","F#m7(-13)","Fm7(-13)","Em7(-13)","Ebm7(-13)",null,"Dm7(-13)",687]
[null,688,{"$f":"CONCATENATE($C$6,AD687)","v":"Ebm7(-13)"},"Dm7(-13)",{"$f":"$C688","v":"C#m7(-13)"},{"$f":"$C687","v":"Cm7(-13)"},{"$f":"$C698","v":"Bm7(-13)"},{"$f":"$C697","v":"Bbm7(-13)"},"Am7(-13)","G#m7(-13)","Gm7(-13)","F#m7(-13)","Fm7(-13)","Em7(-13)","Dm7(-13)",{"$f":"$C688","v":"C#m7(-13)"},{"$f":"$C687","v":"Cm7(-13)"},{"$f":"$C698","v":"Bm7(-13)"},{"$f":"$C697","v":"Bbm7(-13)"},"Am7(-13)","G#m7(-13)","Gm7(-13)","F#m7(-13)","Fm7(-13)","Em7(-13)",null,"Ebm7(-13)",688]
[null,689,{"$f":"CONCATENATE($C$7,AD687)","v":"Em7(-13)"},"Ebm7(-13)","Dm7(-13)",{"$f":"$C688","v":"C#m7(-13)"},{"$f":"$C687","v":"Cm7(-13)"},{"$f":"$C698","v":"Bm7(-13)"},"Bbm7(-13)","Am7(-13)","G#m7(-13)","Gm7(-13)","F#m7(-13)","Fm7(-13)","Ebm7(-13)","Dm7(-13)",{"$f":"$C688","v":"C#m7(-13)"},{"$f":"$C687","v":"Cm7(-13)"},{"$f":"$C698","v":"Bm7(-13)"},"Bbm7(-13)","Am7(-13)","G#m7(-13)","Gm7(-13)","F#m7(-13)","Fm7(-13)",null,"Em7(-13)",689]
[null,690,{"$f":"CONCATENATE($C$8,AD687)","v":"Fm7(-13)"},"Em7(-13)","Ebm7(-13)","Dm7(-13)",{"$f":"$C688","v":"C#m7(-13)"},{"$f":"$C687","v":"Cm7(-13)"},"Bm7(-13)","Bbm7(-13)","Am7(-13)","G#m7(-13)","Gm7(-13)","F#m7(-13)","Em7(-13)","Ebm7(-13)","Dm7(-13)",{"$f":"$C688","v":"C#m7(-13)"},{"$f":"$C687","v":"Cm7(-13)"},"Bm7(-13)","Bbm7(-13)","Am7(-13)","G#m7(-13)","Gm7(-13)","F#m7(-13)",null,"Fm7(-13)",690]
[null,691,{"$f":"CONCATENATE($C$9,AD687)","v":"F#m7(-13)"},"Fm7(-13)","Em7(-13)","Ebm7(-13)","Dm7(-13)",{"$f":"$C688","v":"C#m7(-13)"},{"$f":"$C687","v":"Cm7(-13)"},{"$f":"$C698","v":"Bm7(-13)"},"Bbm7(-13)","Am7(-13)","G#m7(-13)","Gm7(-13)","Fm7(-13)","Em7(-13)","Ebm7(-13)","Dm7(-13)",{"$f":"$C688","v":"C#m7(-13)"},{"$f":"$C687","v":"Cm7(-13)"},{"$f":"$C698","v":"Bm7(-13)"},"Bbm7(-13)","Am7(-13)","G#m7(-13)","Gm7(-13)",null,"F#m7(-13)",691]
[null,692,{"$f":"CONCATENATE($C$10,AD687)","v":"Gm7(-13)"},"F#m7(-13)","Fm7(-13)","Em7(-13)","Ebm7(-13)","Dm7(-13)","C#m7(-13)",{"$f":"$C687","v":"Cm7(-13)"},{"$f":"$C698","v":"Bm7(-13)"},"Bbm7(-13)","Am7(-13)","G#m7(-13)","F#m7(-13)","Fm7(-13)","Em7(-13)","Ebm7(-13)","Dm7(-13)","C#m7(-13)",{"$f":"$C687","v":"Cm7(-13)"},{"$f":"$C698","v":"Bm7(-13)"},"Bbm7(-13)","Am7(-13)","G#m7(-13)",null,"Gm7(-13)",692]
[null,693,{"$f":"CONCATENATE($C$11,AD687)","v":"G#m7(-13)"},"Gm7(-13)","F#m7(-13)","Fm7(-13)","Em7(-13)","Ebm7(-13)","Dm7(-13)",{"$f":"$C688","v":"C#m7(-13)"},{"$f":"$C687","v":"Cm7(-13)"},{"$f":"$C698","v":"Bm7(-13)"},"Bbm7(-13)","Am7(-13)","Gm7(-13)","F#m7(-13)","Fm7(-13)","Em7(-13)","Ebm7(-13)","Dm7(-13)",{"$f":"$C688","v":"C#m7(-13)"},{"$f":"$C687","v":"Cm7(-13)"},{"$f":"$C698","v":"Bm7(-13)"},"Bbm7(-13)","Am7(-13)",null,"G#m7(-13)",693]
[null,694,{"$f":"CONCATENATE($C$12,AD687)","v":"Am7(-13)"},"G#m7(-13)","Gm7(-13)","F#m7(-13)","Fm7(-13)","Em7(-13)","Ebm7(-13)",{"$f":"$C689","v":"Dm7(-13)"},{"$f":"$C688","v":"C#m7(-13)"},{"$f":"$C687","v":"Cm7(-13)"},{"$f":"$C698","v":"Bm7(-13)"},"Bbm7(-13)","G#m7(-13)","Gm7(-13)","F#m7(-13)","Fm7(-13)","Em7(-13)","Ebm7(-13)",{"$f":"$C689","v":"Dm7(-13)"},{"$f":"$C688","v":"C#m7(-13)"},{"$f":"$C687","v":"Cm7(-13)"},{"$f":"$C698","v":"Bm7(-13)"},"Bbm7(-13)",null,"Am7(-13)",694]
[null,695,{"$f":"CONCATENATE($C$13,AD687)","v":"Bbm7(-13)"},"Am7(-13)","G#m7(-13)","Gm7(-13)","F#m7(-13)","Fm7(-13)","Em7(-13)",{"$f":"$C690","v":"Ebm7(-13)"},{"$f":"$C689","v":"Dm7(-13)"},{"$f":"$C688","v":"C#m7(-13)"},{"$f":"$C687","v":"Cm7(-13)"},{"$f":"$C698","v":"Bm7(-13)"},"Am7(-13)","G#m7(-13)","Gm7(-13)","F#m7(-13)","Fm7(-13)","Em7(-13)",{"$f":"$C690","v":"Ebm7(-13)"},{"$f":"$C689","v":"Dm7(-13)"},{"$f":"$C688","v":"C#m7(-13)"},{"$f":"$C687","v":"Cm7(-13)"},{"$f":"$C698","v":"Bm7(-13)"},null,"Bbm7(-13)",695]
[null,696,{"$f":"CONCATENATE($C$14,AD687)","v":"Bm7(-13)"},"Bbm7(-13)","Am7(-13)","G#m7(-13)","Gm7(-13)","F#m7(-13)","Fm7(-13)",{"$f":"$C691","v":"Em7(-13)"},{"$f":"$C690","v":"Ebm7(-13)"},{"$f":"$C689","v":"Dm7(-13)"},{"$f":"$C688","v":"C#m7(-13)"},{"$f":"$C687","v":"Cm7(-13)"},"Bbm7(-13)","Am7(-13)","G#m7(-13)","Gm7(-13)","F#m7(-13)","Fm7(-13)",{"$f":"$C691","v":"Em7(-13)"},{"$f":"$C690","v":"Ebm7(-13)"},{"$f":"$C689","v":"Dm7(-13)"},{"$f":"$C688","v":"C#m7(-13)"},{"$f":"$C687","v":"Cm7(-13)"},null,"Bm7(-13)",696]
[null,697,{"$f":"CONCATENATE($C$3,AD699)","v":"Cm13"},{"$f":"$C710","v":"Bm13"},{"$f":"$C709","v":"Bbm13"},{"$f":"$C708","v":"Am13"},{"$f":"$C707","v":"G#m13"},{"$f":"$C706","v":"Gm13"},{"$f":"$C705","v":"F#m13"},{"$f":"$C704","v":"Fm13"},{"$f":"$C703","v":"Em13"},{"$f":"$C702","v":"Ebm13"},{"$f":"$C701","v":"Dm13"},{"$f":"$C700","v":"C#m13"},{"$f":"$C710","v":"Bm13"},{"$f":"$C709","v":"Bbm13"},{"$f":"$C708","v":"Am13"},{"$f":"$C707","v":"G#m13"},{"$f":"$C706","v":"Gm13"},{"$f":"$C705","v":"F#m13"},{"$f":"$C704","v":"Fm13"},{"$f":"$C703","v":"Em13"},{"$f":"$C702","v":"Ebm13"},{"$f":"$C701","v":"Dm13"},{"$f":"$C700","v":"C#m13"},null,"Cm13",697,null,"m13"]
[null,698,{"$f":"CONCATENATE($C$4,AD699)","v":"C#m13"},{"$f":"$C699","v":"Cm13"},{"$f":"$C710","v":"Bm13"},{"$f":"$C709","v":"Bbm13"},{"$f":"$C708","v":"Am13"},{"$f":"$C707","v":"G#m13"},"Gm13","F#m13","Fm13","Em13","Ebm13","Dm13",{"$f":"$C699","v":"Cm13"},{"$f":"$C710","v":"Bm13"},{"$f":"$C709","v":"Bbm13"},{"$f":"$C708","v":"Am13"},{"$f":"$C707","v":"G#m13"},"Gm13","F#m13","Fm13","Em13","Ebm13","Dm13",null,"C#m13",698]
[null,699,{"$f":"CONCATENATE($C$5,AD699)","v":"Dm13"},{"$f":"$C700","v":"C#m13"},{"$f":"$C699","v":"Cm13"},{"$f":"$C710","v":"Bm13"},{"$f":"$C709","v":"Bbm13"},{"$f":"$C708","v":"Am13"},"G#m13","Gm13","F#m13","Fm13","Em13","Ebm13",{"$f":"$C700","v":"C#m13"},{"$f":"$C699","v":"Cm13"},{"$f":"$C710","v":"Bm13"},{"$f":"$C709","v":"Bbm13"},{"$f":"$C708","v":"Am13"},"G#m13","Gm13","F#m13","Fm13","Em13","Ebm13",null,"Dm13",699]
[null,700,{"$f":"CONCATENATE($C$6,AD699)","v":"Ebm13"},"Dm13",{"$f":"$C700","v":"C#m13"},{"$f":"$C699","v":"Cm13"},{"$f":"$C710","v":"Bm13"},{"$f":"$C709","v":"Bbm13"},"Am13","G#m13","Gm13","F#m13","Fm13","Em13","Dm13",{"$f":"$C700","v":"C#m13"},{"$f":"$C699","v":"Cm13"},{"$f":"$C710","v":"Bm13"},{"$f":"$C709","v":"Bbm13"},"Am13","G#m13","Gm13","F#m13","Fm13","Em13",null,"Ebm13",700]
[null,701,{"$f":"CONCATENATE($C$7,AD699)","v":"Em13"},"Ebm13","Dm13",{"$f":"$C700","v":"C#m13"},{"$f":"$C699","v":"Cm13"},{"$f":"$C710","v":"Bm13"},"Bbm13","Am13","G#m13","Gm13","F#m13","Fm13","Ebm13","Dm13",{"$f":"$C700","v":"C#m13"},{"$f":"$C699","v":"Cm13"},{"$f":"$C710","v":"Bm13"},"Bbm13","Am13","G#m13","Gm13","F#m13","Fm13",null,"Em13",701]
[null,702,{"$f":"CONCATENATE($C$8,AD699)","v":"Fm13"},"Em13","Ebm13","Dm13",{"$f":"$C700","v":"C#m13"},{"$f":"$C699","v":"Cm13"},"Bm13","Bbm13","Am13","G#m13","Gm13","F#m13","Em13","Ebm13","Dm13",{"$f":"$C700","v":"C#m13"},{"$f":"$C699","v":"Cm13"},"Bm13","Bbm13","Am13","G#m13","Gm13","F#m13",null,"Fm13",702]
[null,703,{"$f":"CONCATENATE($C$9,AD699)","v":"F#m13"},"Fm13","Em13","Ebm13","Dm13",{"$f":"$C700","v":"C#m13"},{"$f":"$C699","v":"Cm13"},{"$f":"$C710","v":"Bm13"},"Bbm13","Am13","G#m13","Gm13","Fm13","Em13","Ebm13","Dm13",{"$f":"$C700","v":"C#m13"},{"$f":"$C699","v":"Cm13"},{"$f":"$C710","v":"Bm13"},"Bbm13","Am13","G#m13","Gm13",null,"F#m13",703]
[null,704,{"$f":"CONCATENATE($C$10,AD699)","v":"Gm13"},"F#m13","Fm13","Em13","Ebm13","Dm13","C#m13",{"$f":"$C699","v":"Cm13"},{"$f":"$C710","v":"Bm13"},"Bbm13","Am13","G#m13","F#m13","Fm13","Em13","Ebm13","Dm13","C#m13",{"$f":"$C699","v":"Cm13"},{"$f":"$C710","v":"Bm13"},"Bbm13","Am13","G#m13",null,"Gm13",704]
[null,705,{"$f":"CONCATENATE($C$11,AD699)","v":"G#m13"},"Gm13","F#m13","Fm13","Em13","Ebm13","Dm13",{"$f":"$C700","v":"C#m13"},{"$f":"$C699","v":"Cm13"},{"$f":"$C710","v":"Bm13"},"Bbm13","Am13","Gm13","F#m13","Fm13","Em13","Ebm13","Dm13",{"$f":"$C700","v":"C#m13"},{"$f":"$C699","v":"Cm13"},{"$f":"$C710","v":"Bm13"},"Bbm13","Am13",null,"G#m13",{"$f":"B707","v":705}]
[null,706,{"$f":"CONCATENATE($C$12,AD699)","v":"Am13"},"G#m13","Gm13","F#m13","Fm13","Em13","Ebm13",{"$f":"$C701","v":"Dm13"},{"$f":"$C700","v":"C#m13"},{"$f":"$C699","v":"Cm13"},{"$f":"$C710","v":"Bm13"},"Bbm13","G#m13","Gm13","F#m13","Fm13","Em13","Ebm13",{"$f":"$C701","v":"Dm13"},{"$f":"$C700","v":"C#m13"},{"$f":"$C699","v":"Cm13"},{"$f":"$C710","v":"Bm13"},"Bbm13",null,"Am13",706]
[null,707,{"$f":"CONCATENATE($C$13,AD699)","v":"Bbm13"},"Am13","G#m13","Gm13","F#m13","Fm13","Em13",{"$f":"$C702","v":"Ebm13"},{"$f":"$C701","v":"Dm13"},{"$f":"$C700","v":"C#m13"},{"$f":"$C699","v":"Cm13"},{"$f":"$C710","v":"Bm13"},"Am13","G#m13","Gm13","F#m13","Fm13","Em13",{"$f":"$C702","v":"Ebm13"},{"$f":"$C701","v":"Dm13"},{"$f":"$C700","v":"C#m13"},{"$f":"$C699","v":"Cm13"},{"$f":"$C710","v":"Bm13"},null,"Bbm13",707]
[null,708,{"$f":"CONCATENATE($C$14,AD699)","v":"Bm13"},"Bbm13","Am13","G#m13","Gm13","F#m13","Fm13",{"$f":"$C703","v":"Em13"},{"$f":"$C702","v":"Ebm13"},{"$f":"$C701","v":"Dm13"},{"$f":"$C700","v":"C#m13"},{"$f":"$C699","v":"Cm13"},"Bbm13","Am13","G#m13","Gm13","F#m13","Fm13",{"$f":"$C703","v":"Em13"},{"$f":"$C702","v":"Ebm13"},{"$f":"$C701","v":"Dm13"},{"$f":"$C700","v":"C#m13"},{"$f":"$C699","v":"Cm13"},null,"Bm13",708]
[null,709,{"$f":"CONCATENATE($C$3,AD711)","v":"Cm7(13)"},{"$f":"$C722","v":"Bm7(13)"},{"$f":"$C721","v":"Bbm7(13)"},{"$f":"$C720","v":"Am7(13)"},{"$f":"$C719","v":"G#m7(13)"},{"$f":"$C718","v":"Gm7(13)"},{"$f":"$C717","v":"F#m7(13)"},{"$f":"$C716","v":"Fm7(13)"},{"$f":"$C715","v":"Em7(13)"},{"$f":"$C714","v":"Ebm7(13)"},{"$f":"$C713","v":"Dm7(13)"},{"$f":"$C712","v":"C#m7(13)"},{"$f":"$C722","v":"Bm7(13)"},{"$f":"$C721","v":"Bbm7(13)"},{"$f":"$C720","v":"Am7(13)"},{"$f":"$C719","v":"G#m7(13)"},{"$f":"$C718","v":"Gm7(13)"},{"$f":"$C717","v":"F#m7(13)"},{"$f":"$C716","v":"Fm7(13)"},{"$f":"$C715","v":"Em7(13)"},{"$f":"$C714","v":"Ebm7(13)"},{"$f":"$C713","v":"Dm7(13)"},{"$f":"$C712","v":"C#m7(13)"},null,"Cm7(13)",709,null,"m7(13)"]
[null,710,{"$f":"CONCATENATE($C$4,AD711)","v":"C#m7(13)"},{"$f":"$C711","v":"Cm7(13)"},{"$f":"$C722","v":"Bm7(13)"},{"$f":"$C721","v":"Bbm7(13)"},{"$f":"$C720","v":"Am7(13)"},{"$f":"$C719","v":"G#m7(13)"},"Gm7(13)","F#m7(13)","Fm7(13)","Em7(13)","Ebm7(13)","Dm7(13)",{"$f":"$C711","v":"Cm7(13)"},{"$f":"$C722","v":"Bm7(13)"},{"$f":"$C721","v":"Bbm7(13)"},{"$f":"$C720","v":"Am7(13)"},{"$f":"$C719","v":"G#m7(13)"},"Gm7(13)","F#m7(13)","Fm7(13)","Em7(13)","Ebm7(13)","Dm7(13)",null,"C#m7(13)",710]
[null,711,{"$f":"CONCATENATE($C$5,AD711)","v":"Dm7(13)"},{"$f":"$C712","v":"C#m7(13)"},{"$f":"$C711","v":"Cm7(13)"},{"$f":"$C722","v":"Bm7(13)"},{"$f":"$C721","v":"Bbm7(13)"},{"$f":"$C720","v":"Am7(13)"},"G#m7(13)","Gm7(13)","F#m7(13)","Fm7(13)","Em7(13)","Ebm7(13)",{"$f":"$C712","v":"C#m7(13)"},{"$f":"$C711","v":"Cm7(13)"},{"$f":"$C722","v":"Bm7(13)"},{"$f":"$C721","v":"Bbm7(13)"},{"$f":"$C720","v":"Am7(13)"},"G#m7(13)","Gm7(13)","F#m7(13)","Fm7(13)","Em7(13)","Ebm7(13)",null,"Dm7(13)",711]
[null,712,{"$f":"CONCATENATE($C$6,AD711)","v":"Ebm7(13)"},"Dm7(13)",{"$f":"$C712","v":"C#m7(13)"},{"$f":"$C711","v":"Cm7(13)"},{"$f":"$C722","v":"Bm7(13)"},{"$f":"$C721","v":"Bbm7(13)"},"Am7(13)","G#m7(13)","Gm7(13)","F#m7(13)","Fm7(13)","Em7(13)","Dm7(13)",{"$f":"$C712","v":"C#m7(13)"},{"$f":"$C711","v":"Cm7(13)"},{"$f":"$C722","v":"Bm7(13)"},{"$f":"$C721","v":"Bbm7(13)"},"Am7(13)","G#m7(13)","Gm7(13)","F#m7(13)","Fm7(13)","Em7(13)",null,"Ebm7(13)",712]
[null,713,{"$f":"CONCATENATE($C$7,AD711)","v":"Em7(13)"},"Ebm7(13)","Dm7(13)",{"$f":"$C712","v":"C#m7(13)"},{"$f":"$C711","v":"Cm7(13)"},{"$f":"$C722","v":"Bm7(13)"},"Bbm7(13)","Am7(13)","G#m7(13)","Gm7(13)","F#m7(13)","Fm7(13)","Ebm7(13)","Dm7(13)",{"$f":"$C712","v":"C#m7(13)"},{"$f":"$C711","v":"Cm7(13)"},{"$f":"$C722","v":"Bm7(13)"},"Bbm7(13)","Am7(13)","G#m7(13)","Gm7(13)","F#m7(13)","Fm7(13)",null,"Em7(13)",713]
[null,714,{"$f":"CONCATENATE($C$8,AD711)","v":"Fm7(13)"},"Em7(13)","Ebm7(13)","Dm7(13)",{"$f":"$C712","v":"C#m7(13)"},{"$f":"$C711","v":"Cm7(13)"},"Bm7(13)","Bbm7(13)","Am7(13)","G#m7(13)","Gm7(13)","F#m7(13)","Em7(13)","Ebm7(13)","Dm7(13)",{"$f":"$C712","v":"C#m7(13)"},{"$f":"$C711","v":"Cm7(13)"},"Bm7(13)","Bbm7(13)","Am7(13)","G#m7(13)","Gm7(13)","F#m7(13)",null,"Fm7(13)",714]
[null,715,{"$f":"CONCATENATE($C$9,AD711)","v":"F#m7(13)"},"Fm7(13)","Em7(13)","Ebm7(13)","Dm7(13)",{"$f":"$C712","v":"C#m7(13)"},{"$f":"$C711","v":"Cm7(13)"},{"$f":"$C722","v":"Bm7(13)"},"Bbm7(13)","Am7(13)","G#m7(13)","Gm7(13)","Fm7(13)","Em7(13)","Ebm7(13)","Dm7(13)",{"$f":"$C712","v":"C#m7(13)"},{"$f":"$C711","v":"Cm7(13)"},{"$f":"$C722","v":"Bm7(13)"},"Bbm7(13)","Am7(13)","G#m7(13)","Gm7(13)",null,"F#m7(13)",715]
[null,716,{"$f":"CONCATENATE($C$10,AD711)","v":"Gm7(13)"},"F#m7(13)","Fm7(13)","Em7(13)","Ebm7(13)","Dm7(13)","C#m7(13)",{"$f":"$C711","v":"Cm7(13)"},{"$f":"$C722","v":"Bm7(13)"},"Bbm7(13)","Am7(13)","G#m7(13)","F#m7(13)","Fm7(13)","Em7(13)","Ebm7(13)","Dm7(13)","C#m7(13)",{"$f":"$C711","v":"Cm7(13)"},{"$f":"$C722","v":"Bm7(13)"},"Bbm7(13)","Am7(13)","G#m7(13)",null,"Gm7(13)",716]
[null,717,{"$f":"CONCATENATE($C$11,AD711)","v":"G#m7(13)"},"Gm7(13)","F#m7(13)","Fm7(13)","Em7(13)","Ebm7(13)","Dm7(13)",{"$f":"$C712","v":"C#m7(13)"},{"$f":"$C711","v":"Cm7(13)"},{"$f":"$C722","v":"Bm7(13)"},"Bbm7(13)","Am7(13)","Gm7(13)","F#m7(13)","Fm7(13)","Em7(13)","Ebm7(13)","Dm7(13)",{"$f":"$C712","v":"C#m7(13)"},{"$f":"$C711","v":"Cm7(13)"},{"$f":"$C722","v":"Bm7(13)"},"Bbm7(13)","Am7(13)",null,"G#m7(13)",717]
[null,718,{"$f":"CONCATENATE($C$12,AD711)","v":"Am7(13)"},"G#m7(13)","Gm7(13)","F#m7(13)","Fm7(13)","Em7(13)","Ebm7(13)",{"$f":"$C713","v":"Dm7(13)"},{"$f":"$C712","v":"C#m7(13)"},{"$f":"$C711","v":"Cm7(13)"},{"$f":"$C722","v":"Bm7(13)"},"Bbm7(13)","G#m7(13)","Gm7(13)","F#m7(13)","Fm7(13)","Em7(13)","Ebm7(13)",{"$f":"$C713","v":"Dm7(13)"},{"$f":"$C712","v":"C#m7(13)"},{"$f":"$C711","v":"Cm7(13)"},{"$f":"$C722","v":"Bm7(13)"},"Bbm7(13)",null,"Am7(13)",718]
[null,719,{"$f":"CONCATENATE($C$13,AD711)","v":"Bbm7(13)"},"Am7(13)","G#m7(13)","Gm7(13)","F#m7(13)","Fm7(13)","Em7(13)",{"$f":"$C714","v":"Ebm7(13)"},{"$f":"$C713","v":"Dm7(13)"},{"$f":"$C712","v":"C#m7(13)"},{"$f":"$C711","v":"Cm7(13)"},{"$f":"$C722","v":"Bm7(13)"},"Am7(13)","G#m7(13)","Gm7(13)","F#m7(13)","Fm7(13)","Em7(13)",{"$f":"$C714","v":"Ebm7(13)"},{"$f":"$C713","v":"Dm7(13)"},{"$f":"$C712","v":"C#m7(13)"},{"$f":"$C711","v":"Cm7(13)"},{"$f":"$C722","v":"Bm7(13)"},null,"Bbm7(13)",719]
[null,720,{"$f":"CONCATENATE($C$14,AD711)","v":"Bm7(13)"},"Bbm7(13)","Am7(13)","G#m7(13)","Gm7(13)","F#m7(13)","Fm7(13)",{"$f":"$C715","v":"Em7(13)"},{"$f":"$C714","v":"Ebm7(13)"},{"$f":"$C713","v":"Dm7(13)"},{"$f":"$C712","v":"C#m7(13)"},{"$f":"$C711","v":"Cm7(13)"},"Bbm7(13)","Am7(13)","G#m7(13)","Gm7(13)","F#m7(13)","Fm7(13)",{"$f":"$C715","v":"Em7(13)"},{"$f":"$C714","v":"Ebm7(13)"},{"$f":"$C713","v":"Dm7(13)"},{"$f":"$C712","v":"C#m7(13)"},{"$f":"$C711","v":"Cm7(13)"},null,"Bm7(13)",720]
[null,721,{"$f":"CONCATENATE($C$3,AD723)","v":"Cm7-5"},{"$f":"$C734","v":"Bm7-5"},{"$f":"$C733","v":"Bbm7-5"},{"$f":"$C732","v":"Am7-5"},{"$f":"$C731","v":"G#m7-5"},{"$f":"$C730","v":"Gm7-5"},{"$f":"$C729","v":"F#m7-5"},{"$f":"$C728","v":"Fm7-5"},{"$f":"$C727","v":"Em7-5"},{"$f":"$C726","v":"Ebm7-5"},{"$f":"$C725","v":"Dm7-5"},{"$f":"$C724","v":"C#m7-5"},{"$f":"$C734","v":"Bm7-5"},{"$f":"$C733","v":"Bbm7-5"},{"$f":"$C732","v":"Am7-5"},{"$f":"$C731","v":"G#m7-5"},{"$f":"$C730","v":"Gm7-5"},{"$f":"$C729","v":"F#m7-5"},{"$f":"$C728","v":"Fm7-5"},{"$f":"$C727","v":"Em7-5"},{"$f":"$C726","v":"Ebm7-5"},{"$f":"$C725","v":"Dm7-5"},{"$f":"$C724","v":"C#m7-5"},null,{"$f":"C723","v":"Cm7-5"},721,null,"m7-5"]
[null,722,{"$f":"CONCATENATE($C$4,AD723)","v":"C#m7-5"},{"$f":"$C723","v":"Cm7-5"},{"$f":"$C734","v":"Bm7-5"},{"$f":"$C733","v":"Bbm7-5"},{"$f":"$C732","v":"Am7-5"},{"$f":"$C731","v":"G#m7-5"},"Gm7-5","F#m7-5","Fm7-5","Em7-5","Ebm7-5","Dm7-5",{"$f":"$C723","v":"Cm7-5"},{"$f":"$C734","v":"Bm7-5"},{"$f":"$C733","v":"Bbm7-5"},{"$f":"$C732","v":"Am7-5"},{"$f":"$C731","v":"G#m7-5"},"Gm7-5","F#m7-5","Fm7-5","Em7-5","Ebm7-5","Dm7-5",null,"C#m7-5",722]
[null,723,{"$f":"CONCATENATE($C$5,AD723)","v":"Dm7-5"},{"$f":"$C724","v":"C#m7-5"},{"$f":"$C723","v":"Cm7-5"},{"$f":"$C734","v":"Bm7-5"},{"$f":"$C733","v":"Bbm7-5"},{"$f":"$C732","v":"Am7-5"},"G#m7-5","Gm7-5","F#m7-5","Fm7-5","Em7-5","Ebm7-5",{"$f":"$C724","v":"C#m7-5"},{"$f":"$C723","v":"Cm7-5"},{"$f":"$C734","v":"Bm7-5"},{"$f":"$C733","v":"Bbm7-5"},{"$f":"$C732","v":"Am7-5"},"G#m7-5","Gm7-5","F#m7-5","Fm7-5","Em7-5","Ebm7-5",null,"Dm7-5",723]
[null,724,{"$f":"CONCATENATE($C$6,AD723)","v":"Ebm7-5"},"Dm7-5",{"$f":"$C724","v":"C#m7-5"},{"$f":"$C723","v":"Cm7-5"},{"$f":"$C734","v":"Bm7-5"},{"$f":"$C733","v":"Bbm7-5"},"Am7-5","G#m7-5","Gm7-5","F#m7-5","Fm7-5","Em7-5","Dm7-5",{"$f":"$C724","v":"C#m7-5"},{"$f":"$C723","v":"Cm7-5"},{"$f":"$C734","v":"Bm7-5"},{"$f":"$C733","v":"Bbm7-5"},"Am7-5","G#m7-5","Gm7-5","F#m7-5","Fm7-5","Em7-5",null,"Ebm7-5",724]
[null,725,{"$f":"CONCATENATE($C$7,AD723)","v":"Em7-5"},"Ebm7-5","Dm7-5",{"$f":"$C724","v":"C#m7-5"},{"$f":"$C723","v":"Cm7-5"},{"$f":"$C734","v":"Bm7-5"},"Bbm7-5","Am7-5","G#m7-5","Gm7-5","F#m7-5","Fm7-5","Ebm7-5","Dm7-5",{"$f":"$C724","v":"C#m7-5"},{"$f":"$C723","v":"Cm7-5"},{"$f":"$C734","v":"Bm7-5"},"Bbm7-5","Am7-5","G#m7-5","Gm7-5","F#m7-5","Fm7-5",null,"Em7-5",725]
[null,726,{"$f":"CONCATENATE($C$8,AD723)","v":"Fm7-5"},"Em7-5","Ebm7-5","Dm7-5",{"$f":"$C724","v":"C#m7-5"},{"$f":"$C723","v":"Cm7-5"},"Bm7-5","Bbm7-5","Am7-5","G#m7-5","Gm7-5","F#m7-5","Em7-5","Ebm7-5","Dm7-5",{"$f":"$C724","v":"C#m7-5"},{"$f":"$C723","v":"Cm7-5"},"Bm7-5","Bbm7-5","Am7-5","G#m7-5","Gm7-5","F#m7-5",null,"Fm7-5",726]
[null,727,{"$f":"CONCATENATE($C$9,AD723)","v":"F#m7-5"},"Fm7-5","Em7-5","Ebm7-5","Dm7-5",{"$f":"$C724","v":"C#m7-5"},{"$f":"$C723","v":"Cm7-5"},{"$f":"$C734","v":"Bm7-5"},"Bbm7-5","Am7-5","G#m7-5","Gm7-5","Fm7-5","Em7-5","Ebm7-5","Dm7-5",{"$f":"$C724","v":"C#m7-5"},{"$f":"$C723","v":"Cm7-5"},{"$f":"$C734","v":"Bm7-5"},"Bbm7-5","Am7-5","G#m7-5","Gm7-5",null,"F#m7-5",727]
[null,728,{"$f":"CONCATENATE($C$10,AD723)","v":"Gm7-5"},"F#m7-5","Fm7-5","Em7-5","Ebm7-5","Dm7-5","C#m7-5",{"$f":"$C723","v":"Cm7-5"},{"$f":"$C734","v":"Bm7-5"},"Bbm7-5","Am7-5","G#m7-5","F#m7-5","Fm7-5","Em7-5","Ebm7-5","Dm7-5","C#m7-5",{"$f":"$C723","v":"Cm7-5"},{"$f":"$C734","v":"Bm7-5"},"Bbm7-5","Am7-5","G#m7-5",null,"Gm7-5",728]
[null,729,{"$f":"CONCATENATE($C$11,AD723)","v":"G#m7-5"},"Gm7-5","F#m7-5","Fm7-5","Em7-5","Ebm7-5","Dm7-5",{"$f":"$C724","v":"C#m7-5"},{"$f":"$C723","v":"Cm7-5"},{"$f":"$C734","v":"Bm7-5"},"Bbm7-5","Am7-5","Gm7-5","F#m7-5","Fm7-5","Em7-5","Ebm7-5","Dm7-5",{"$f":"$C724","v":"C#m7-5"},{"$f":"$C723","v":"Cm7-5"},{"$f":"$C734","v":"Bm7-5"},"Bbm7-5","Am7-5",null,"G#m7-5",729]
[null,730,{"$f":"CONCATENATE($C$12,AD723)","v":"Am7-5"},"G#m7-5","Gm7-5","F#m7-5","Fm7-5","Em7-5","Ebm7-5",{"$f":"$C725","v":"Dm7-5"},{"$f":"$C724","v":"C#m7-5"},{"$f":"$C723","v":"Cm7-5"},{"$f":"$C734","v":"Bm7-5"},"Bbm7-5","G#m7-5","Gm7-5","F#m7-5","Fm7-5","Em7-5","Ebm7-5",{"$f":"$C725","v":"Dm7-5"},{"$f":"$C724","v":"C#m7-5"},{"$f":"$C723","v":"Cm7-5"},{"$f":"$C734","v":"Bm7-5"},"Bbm7-5",null,"Am7-5",730]
[null,731,{"$f":"CONCATENATE($C$13,AD723)","v":"Bbm7-5"},"Am7-5","G#m7-5","Gm7-5","F#m7-5","Fm7-5","Em7-5",{"$f":"$C726","v":"Ebm7-5"},{"$f":"$C725","v":"Dm7-5"},{"$f":"$C724","v":"C#m7-5"},{"$f":"$C723","v":"Cm7-5"},{"$f":"$C734","v":"Bm7-5"},"Am7-5","G#m7-5","Gm7-5","F#m7-5","Fm7-5","Em7-5",{"$f":"$C726","v":"Ebm7-5"},{"$f":"$C725","v":"Dm7-5"},{"$f":"$C724","v":"C#m7-5"},{"$f":"$C723","v":"Cm7-5"},{"$f":"$C734","v":"Bm7-5"},null,"Bbm7-5",731]
[null,732,{"$f":"CONCATENATE($C$14,AD723)","v":"Bm7-5"},"Bbm7-5","Am7-5","G#m7-5","Gm7-5","F#m7-5","Fm7-5",{"$f":"$C727","v":"Em7-5"},{"$f":"$C726","v":"Ebm7-5"},{"$f":"$C725","v":"Dm7-5"},{"$f":"$C724","v":"C#m7-5"},{"$f":"$C723","v":"Cm7-5"},"Bbm7-5","Am7-5","G#m7-5","Gm7-5","F#m7-5","Fm7-5",{"$f":"$C727","v":"Em7-5"},{"$f":"$C726","v":"Ebm7-5"},{"$f":"$C725","v":"Dm7-5"},{"$f":"$C724","v":"C#m7-5"},{"$f":"$C723","v":"Cm7-5"},null,"Bm7-5",732]
[null,733,{"$f":"CONCATENATE($C$3,AD735)","v":"Cm7b5"},{"$f":"$C746","v":"Bm7b5"},{"$f":"$C745","v":"Bbm7b5"},{"$f":"$C744","v":"Am7b5"},{"$f":"$C743","v":"G#m7b5"},{"$f":"$C742","v":"Gm7b5"},{"$f":"$C741","v":"F#m7b5"},{"$f":"$C740","v":"Fm7b5"},{"$f":"$C739","v":"Em7b5"},{"$f":"$C738","v":"Ebm7b5"},{"$f":"$C737","v":"Dm7b5"},{"$f":"$C736","v":"C#m7b5"},{"$f":"$C746","v":"Bm7b5"},{"$f":"$C745","v":"Bbm7b5"},{"$f":"$C744","v":"Am7b5"},{"$f":"$C743","v":"G#m7b5"},{"$f":"$C742","v":"Gm7b5"},{"$f":"$C741","v":"F#m7b5"},{"$f":"$C740","v":"Fm7b5"},{"$f":"$C739","v":"Em7b5"},{"$f":"$C738","v":"Ebm7b5"},{"$f":"$C737","v":"Dm7b5"},{"$f":"$C736","v":"C#m7b5"},null,"Cm7b5",733,null,"m7b5"]
[null,734,{"$f":"CONCATENATE($C$4,AD735)","v":"C#m7b5"},{"$f":"$C735","v":"Cm7b5"},{"$f":"$C746","v":"Bm7b5"},{"$f":"$C745","v":"Bbm7b5"},{"$f":"$C744","v":"Am7b5"},{"$f":"$C743","v":"G#m7b5"},"Gm7b5","F#m7b5","Fm7b5","Em7b5","Ebm7b5","Dm7b5",{"$f":"$C735","v":"Cm7b5"},{"$f":"$C746","v":"Bm7b5"},{"$f":"$C745","v":"Bbm7b5"},{"$f":"$C744","v":"Am7b5"},{"$f":"$C743","v":"G#m7b5"},"Gm7b5","F#m7b5","Fm7b5","Em7b5","Ebm7b5","Dm7b5",null,"C#m7b5",734]
[null,735,{"$f":"CONCATENATE($C$5,AD735)","v":"Dm7b5"},{"$f":"$C736","v":"C#m7b5"},{"$f":"$C735","v":"Cm7b5"},{"$f":"$C746","v":"Bm7b5"},{"$f":"$C745","v":"Bbm7b5"},{"$f":"$C744","v":"Am7b5"},"G#m7b5","Gm7b5","F#m7b5","Fm7b5","Em7b5","Ebm7b5",{"$f":"$C736","v":"C#m7b5"},{"$f":"$C735","v":"Cm7b5"},{"$f":"$C746","v":"Bm7b5"},{"$f":"$C745","v":"Bbm7b5"},{"$f":"$C744","v":"Am7b5"},"G#m7b5","Gm7b5","F#m7b5","Fm7b5","Em7b5","Ebm7b5",null,"Dm7b5",735]
[null,736,{"$f":"CONCATENATE($C$6,AD735)","v":"Ebm7b5"},"Dm7b5",{"$f":"$C736","v":"C#m7b5"},{"$f":"$C735","v":"Cm7b5"},{"$f":"$C746","v":"Bm7b5"},{"$f":"$C745","v":"Bbm7b5"},"Am7b5","G#m7b5","Gm7b5","F#m7b5","Fm7b5","Em7b5","Dm7b5",{"$f":"$C736","v":"C#m7b5"},{"$f":"$C735","v":"Cm7b5"},{"$f":"$C746","v":"Bm7b5"},{"$f":"$C745","v":"Bbm7b5"},"Am7b5","G#m7b5","Gm7b5","F#m7b5","Fm7b5","Em7b5",null,"Ebm7b5",736]
[null,737,{"$f":"CONCATENATE($C$7,AD735)","v":"Em7b5"},"Ebm7b5","Dm7b5",{"$f":"$C736","v":"C#m7b5"},{"$f":"$C735","v":"Cm7b5"},{"$f":"$C746","v":"Bm7b5"},"Bbm7b5","Am7b5","G#m7b5","Gm7b5","F#m7b5","Fm7b5","Ebm7b5","Dm7b5",{"$f":"$C736","v":"C#m7b5"},{"$f":"$C735","v":"Cm7b5"},{"$f":"$C746","v":"Bm7b5"},"Bbm7b5","Am7b5","G#m7b5","Gm7b5","F#m7b5","Fm7b5",null,"Em7b5",737]
[null,738,{"$f":"CONCATENATE($C$8,AD735)","v":"Fm7b5"},"Em7b5","Ebm7b5","Dm7b5",{"$f":"$C736","v":"C#m7b5"},{"$f":"$C735","v":"Cm7b5"},"Bm7b5","Bbm7b5","Am7b5","G#m7b5","Gm7b5","F#m7b5","Em7b5","Ebm7b5","Dm7b5",{"$f":"$C736","v":"C#m7b5"},{"$f":"$C735","v":"Cm7b5"},"Bm7b5","Bbm7b5","Am7b5","G#m7b5","Gm7b5","F#m7b5",null,"Fm7b5",738]
[null,739,{"$f":"CONCATENATE($C$9,AD735)","v":"F#m7b5"},"Fm7b5","Em7b5","Ebm7b5","Dm7b5",{"$f":"$C736","v":"C#m7b5"},{"$f":"$C735","v":"Cm7b5"},{"$f":"$C746","v":"Bm7b5"},"Bbm7b5","Am7b5","G#m7b5","Gm7b5","Fm7b5","Em7b5","Ebm7b5","Dm7b5",{"$f":"$C736","v":"C#m7b5"},{"$f":"$C735","v":"Cm7b5"},{"$f":"$C746","v":"Bm7b5"},"Bbm7b5","Am7b5","G#m7b5","Gm7b5",null,"F#m7b5",739]
[null,740,{"$f":"CONCATENATE($C$10,AD735)","v":"Gm7b5"},"F#m7b5","Fm7b5","Em7b5","Ebm7b5","Dm7b5","C#m7b5",{"$f":"$C735","v":"Cm7b5"},{"$f":"$C746","v":"Bm7b5"},"Bbm7b5","Am7b5","G#m7b5","F#m7b5","Fm7b5","Em7b5","Ebm7b5","Dm7b5","C#m7b5",{"$f":"$C735","v":"Cm7b5"},{"$f":"$C746","v":"Bm7b5"},"Bbm7b5","Am7b5","G#m7b5",null,"Gm7b5",740]
[null,741,{"$f":"CONCATENATE($C$11,AD735)","v":"G#m7b5"},"Gm7b5","F#m7b5","Fm7b5","Em7b5","Ebm7b5","Dm7b5",{"$f":"$C736","v":"C#m7b5"},{"$f":"$C735","v":"Cm7b5"},{"$f":"$C746","v":"Bm7b5"},"Bbm7b5","Am7b5","Gm7b5","F#m7b5","Fm7b5","Em7b5","Ebm7b5","Dm7b5",{"$f":"$C736","v":"C#m7b5"},{"$f":"$C735","v":"Cm7b5"},{"$f":"$C746","v":"Bm7b5"},"Bbm7b5","Am7b5",null,"G#m7b5",741]
[null,742,{"$f":"CONCATENATE($C$12,AD735)","v":"Am7b5"},"G#m7b5","Gm7b5","F#m7b5","Fm7b5","Em7b5","Ebm7b5",{"$f":"$C737","v":"Dm7b5"},{"$f":"$C736","v":"C#m7b5"},{"$f":"$C735","v":"Cm7b5"},{"$f":"$C746","v":"Bm7b5"},"Bbm7b5","G#m7b5","Gm7b5","F#m7b5","Fm7b5","Em7b5","Ebm7b5",{"$f":"$C737","v":"Dm7b5"},{"$f":"$C736","v":"C#m7b5"},{"$f":"$C735","v":"Cm7b5"},{"$f":"$C746","v":"Bm7b5"},"Bbm7b5",null,"Am7b5",742]
[null,743,{"$f":"CONCATENATE($C$13,AD735)","v":"Bbm7b5"},"Am7b5","G#m7b5","Gm7b5","F#m7b5","Fm7b5","Em7b5",{"$f":"$C738","v":"Ebm7b5"},{"$f":"$C737","v":"Dm7b5"},{"$f":"$C736","v":"C#m7b5"},{"$f":"$C735","v":"Cm7b5"},{"$f":"$C746","v":"Bm7b5"},"Am7b5","G#m7b5","Gm7b5","F#m7b5","Fm7b5","Em7b5",{"$f":"$C738","v":"Ebm7b5"},{"$f":"$C737","v":"Dm7b5"},{"$f":"$C736","v":"C#m7b5"},{"$f":"$C735","v":"Cm7b5"},{"$f":"$C746","v":"Bm7b5"},null,"Bbm7b5",743]
[null,744,{"$f":"CONCATENATE($C$14,AD735)","v":"Bm7b5"},"Bbm7b5","Am7b5","G#m7b5","Gm7b5","F#m7b5","Fm7b5",{"$f":"$C739","v":"Em7b5"},{"$f":"$C738","v":"Ebm7b5"},{"$f":"$C737","v":"Dm7b5"},{"$f":"$C736","v":"C#m7b5"},{"$f":"$C735","v":"Cm7b5"},"Bbm7b5","Am7b5","G#m7b5","Gm7b5","F#m7b5","Fm7b5",{"$f":"$C739","v":"Em7b5"},{"$f":"$C738","v":"Ebm7b5"},{"$f":"$C737","v":"Dm7b5"},{"$f":"$C736","v":"C#m7b5"},{"$f":"$C735","v":"Cm7b5"},null,"Bm7b5",744]
[null,745,{"$f":"CONCATENATE($C$3,AD747)","v":"CΦ"},{"$f":"$C758","v":"BΦ"},{"$f":"$C757","v":"BbΦ"},{"$f":"$C756","v":"AΦ"},{"$f":"$C755","v":"G#Φ"},{"$f":"$C754","v":"GΦ"},{"$f":"$C753","v":"F#Φ"},{"$f":"$C752","v":"FΦ"},{"$f":"$C751","v":"EΦ"},{"$f":"$C750","v":"EbΦ"},{"$f":"$C749","v":"DΦ"},{"$f":"$C748","v":"C#Φ"},{"$f":"$C758","v":"BΦ"},{"$f":"$C757","v":"BbΦ"},{"$f":"$C756","v":"AΦ"},{"$f":"$C755","v":"G#Φ"},{"$f":"$C754","v":"GΦ"},{"$f":"$C753","v":"F#Φ"},{"$f":"$C752","v":"FΦ"},{"$f":"$C751","v":"EΦ"},{"$f":"$C750","v":"EbΦ"},{"$f":"$C749","v":"DΦ"},{"$f":"$C748","v":"C#Φ"},null,"CΦ",745,null,"Φ"]
[null,746,{"$f":"CONCATENATE($C$4,AD747)","v":"C#Φ"},{"$f":"$C747","v":"CΦ"},{"$f":"$C758","v":"BΦ"},{"$f":"$C757","v":"BbΦ"},{"$f":"$C756","v":"AΦ"},{"$f":"$C755","v":"G#Φ"},"GΦ","F#Φ","FΦ","EΦ","EbΦ","DΦ",{"$f":"$C747","v":"CΦ"},{"$f":"$C758","v":"BΦ"},{"$f":"$C757","v":"BbΦ"},{"$f":"$C756","v":"AΦ"},{"$f":"$C755","v":"G#Φ"},"GΦ","F#Φ","FΦ","EΦ","EbΦ","DΦ",null,"C#Φ",746]
[null,747,{"$f":"CONCATENATE($C$5,AD747)","v":"DΦ"},{"$f":"$C748","v":"C#Φ"},{"$f":"$C747","v":"CΦ"},{"$f":"$C758","v":"BΦ"},{"$f":"$C757","v":"BbΦ"},{"$f":"$C756","v":"AΦ"},"G#Φ","GΦ","F#Φ","FΦ","EΦ","EbΦ",{"$f":"$C748","v":"C#Φ"},{"$f":"$C747","v":"CΦ"},{"$f":"$C758","v":"BΦ"},{"$f":"$C757","v":"BbΦ"},{"$f":"$C756","v":"AΦ"},"G#Φ","GΦ","F#Φ","FΦ","EΦ","EbΦ",null,"DΦ",747]
[null,748,{"$f":"CONCATENATE($C$6,AD747)","v":"EbΦ"},"DΦ",{"$f":"$C748","v":"C#Φ"},{"$f":"$C747","v":"CΦ"},{"$f":"$C758","v":"BΦ"},{"$f":"$C757","v":"BbΦ"},"AΦ","G#Φ","GΦ","F#Φ","FΦ","EΦ","DΦ",{"$f":"$C748","v":"C#Φ"},{"$f":"$C747","v":"CΦ"},{"$f":"$C758","v":"BΦ"},{"$f":"$C757","v":"BbΦ"},"AΦ","G#Φ","GΦ","F#Φ","FΦ","EΦ",null,"EbΦ",748]
[null,749,{"$f":"CONCATENATE($C$7,AD747)","v":"EΦ"},"EbΦ","DΦ",{"$f":"$C748","v":"C#Φ"},{"$f":"$C747","v":"CΦ"},{"$f":"$C758","v":"BΦ"},"BbΦ","AΦ","G#Φ","GΦ","F#Φ","FΦ","EbΦ","DΦ",{"$f":"$C748","v":"C#Φ"},{"$f":"$C747","v":"CΦ"},{"$f":"$C758","v":"BΦ"},"BbΦ","AΦ","G#Φ","GΦ","F#Φ","FΦ",null,"EΦ",749]
[null,750,{"$f":"CONCATENATE($C$8,AD747)","v":"FΦ"},"EΦ","EbΦ","DΦ",{"$f":"$C748","v":"C#Φ"},{"$f":"$C747","v":"CΦ"},"BΦ","BbΦ","AΦ","G#Φ","GΦ","F#Φ","EΦ","EbΦ","DΦ",{"$f":"$C748","v":"C#Φ"},{"$f":"$C747","v":"CΦ"},"BΦ","BbΦ","AΦ","G#Φ","GΦ","F#Φ",null,"FΦ",750]
[null,751,{"$f":"CONCATENATE($C$9,AD747)","v":"F#Φ"},"FΦ","EΦ","EbΦ","DΦ",{"$f":"$C748","v":"C#Φ"},{"$f":"$C747","v":"CΦ"},{"$f":"$C758","v":"BΦ"},"BbΦ","AΦ","G#Φ","GΦ","FΦ","EΦ","EbΦ","DΦ",{"$f":"$C748","v":"C#Φ"},{"$f":"$C747","v":"CΦ"},{"$f":"$C758","v":"BΦ"},"BbΦ","AΦ","G#Φ","GΦ",null,"F#Φ",751]
[null,752,{"$f":"CONCATENATE($C$10,AD747)","v":"GΦ"},"F#Φ","FΦ","EΦ","EbΦ","DΦ","C#Φ",{"$f":"$C747","v":"CΦ"},{"$f":"$C758","v":"BΦ"},"BbΦ","AΦ","G#Φ","F#Φ","FΦ","EΦ","EbΦ","DΦ","C#Φ",{"$f":"$C747","v":"CΦ"},{"$f":"$C758","v":"BΦ"},"BbΦ","AΦ","G#Φ",null,"GΦ",752]
[null,753,{"$f":"CONCATENATE($C$11,AD747)","v":"G#Φ"},"GΦ","F#Φ","FΦ","EΦ","EbΦ","DΦ",{"$f":"$C748","v":"C#Φ"},{"$f":"$C747","v":"CΦ"},{"$f":"$C758","v":"BΦ"},"BbΦ","AΦ","GΦ","F#Φ","FΦ","EΦ","EbΦ","DΦ",{"$f":"$C748","v":"C#Φ"},{"$f":"$C747","v":"CΦ"},{"$f":"$C758","v":"BΦ"},"BbΦ","AΦ",null,"G#Φ",753]
[null,754,{"$f":"CONCATENATE($C$12,AD747)","v":"AΦ"},"G#Φ","GΦ","F#Φ","FΦ","EΦ","EbΦ",{"$f":"$C749","v":"DΦ"},{"$f":"$C748","v":"C#Φ"},{"$f":"$C747","v":"CΦ"},{"$f":"$C758","v":"BΦ"},"BbΦ","G#Φ","GΦ","F#Φ","FΦ","EΦ","EbΦ",{"$f":"$C749","v":"DΦ"},{"$f":"$C748","v":"C#Φ"},{"$f":"$C747","v":"CΦ"},{"$f":"$C758","v":"BΦ"},"BbΦ",null,"AΦ",754]
[null,755,{"$f":"CONCATENATE($C$13,AD747)","v":"BbΦ"},"AΦ","G#Φ","GΦ","F#Φ","FΦ","EΦ",{"$f":"$C750","v":"EbΦ"},{"$f":"$C749","v":"DΦ"},{"$f":"$C748","v":"C#Φ"},{"$f":"$C747","v":"CΦ"},{"$f":"$C758","v":"BΦ"},"AΦ","G#Φ","GΦ","F#Φ","FΦ","EΦ",{"$f":"$C750","v":"EbΦ"},{"$f":"$C749","v":"DΦ"},{"$f":"$C748","v":"C#Φ"},{"$f":"$C747","v":"CΦ"},{"$f":"$C758","v":"BΦ"},null,"BbΦ",755]
[null,756,{"$f":"CONCATENATE($C$14,AD747)","v":"BΦ"},"BbΦ","AΦ","G#Φ","GΦ","F#Φ","FΦ",{"$f":"$C751","v":"EΦ"},{"$f":"$C750","v":"EbΦ"},{"$f":"$C749","v":"DΦ"},{"$f":"$C748","v":"C#Φ"},{"$f":"$C747","v":"CΦ"},"BbΦ","AΦ","G#Φ","GΦ","F#Φ","FΦ",{"$f":"$C751","v":"EΦ"},{"$f":"$C750","v":"EbΦ"},{"$f":"$C749","v":"DΦ"},{"$f":"$C748","v":"C#Φ"},{"$f":"$C747","v":"CΦ"},null,{"$f":"C758","v":"BΦ"},756]
[null,757,{"$f":"CONCATENATE($C$3,AD759)","v":"CmM7"},{"$f":"$C770","v":"BmM7"},{"$f":"$C769","v":"BbmM7"},{"$f":"$C768","v":"AmM7"},{"$f":"$C767","v":"G#mM7"},{"$f":"$C766","v":"GmM7"},{"$f":"$C765","v":"F#mM7"},{"$f":"$C764","v":"FmM7"},{"$f":"$C763","v":"EmM7"},{"$f":"$C762","v":"EbmM7"},{"$f":"$C761","v":"DmM7"},{"$f":"$C760","v":"C#mM7"},{"$f":"$C770","v":"BmM7"},{"$f":"$C769","v":"BbmM7"},{"$f":"$C768","v":"AmM7"},{"$f":"$C767","v":"G#mM7"},{"$f":"$C766","v":"GmM7"},{"$f":"$C765","v":"F#mM7"},{"$f":"$C764","v":"FmM7"},{"$f":"$C763","v":"EmM7"},{"$f":"$C762","v":"EbmM7"},{"$f":"$C761","v":"DmM7"},{"$f":"$C760","v":"C#mM7"},null,"CmM7",757,null,"mM7"]
[null,758,{"$f":"CONCATENATE($C$4,AD759)","v":"C#mM7"},{"$f":"$C759","v":"CmM7"},{"$f":"$C770","v":"BmM7"},{"$f":"$C769","v":"BbmM7"},{"$f":"$C768","v":"AmM7"},{"$f":"$C767","v":"G#mM7"},"GmM7","F#mM7","FmM7","EmM7","EbmM7","DmM7",{"$f":"$C759","v":"CmM7"},{"$f":"$C770","v":"BmM7"},{"$f":"$C769","v":"BbmM7"},{"$f":"$C768","v":"AmM7"},{"$f":"$C767","v":"G#mM7"},"GmM7","F#mM7","FmM7","EmM7","EbmM7","DmM7",null,"C#mM7",758]
[null,759,{"$f":"CONCATENATE($C$5,AD759)","v":"DmM7"},{"$f":"$C760","v":"C#mM7"},{"$f":"$C759","v":"CmM7"},{"$f":"$C770","v":"BmM7"},{"$f":"$C769","v":"BbmM7"},{"$f":"$C768","v":"AmM7"},"G#mM7","GmM7","F#mM7","FmM7","EmM7","EbmM7",{"$f":"$C760","v":"C#mM7"},{"$f":"$C759","v":"CmM7"},{"$f":"$C770","v":"BmM7"},{"$f":"$C769","v":"BbmM7"},{"$f":"$C768","v":"AmM7"},"G#mM7","GmM7","F#mM7","FmM7","EmM7","EbmM7",null,"DmM7",759]
[null,760,{"$f":"CONCATENATE($C$6,AD759)","v":"EbmM7"},"DmM7",{"$f":"$C760","v":"C#mM7"},{"$f":"$C759","v":"CmM7"},{"$f":"$C770","v":"BmM7"},{"$f":"$C769","v":"BbmM7"},"AmM7","G#mM7","GmM7","F#mM7","FmM7","EmM7","DmM7",{"$f":"$C760","v":"C#mM7"},{"$f":"$C759","v":"CmM7"},{"$f":"$C770","v":"BmM7"},{"$f":"$C769","v":"BbmM7"},"AmM7","G#mM7","GmM7","F#mM7","FmM7","EmM7",null,"EbmM7",760]
[null,761,{"$f":"CONCATENATE($C$7,AD759)","v":"EmM7"},"EbmM7","DmM7",{"$f":"$C760","v":"C#mM7"},{"$f":"$C759","v":"CmM7"},{"$f":"$C770","v":"BmM7"},"BbmM7","AmM7","G#mM7","GmM7","F#mM7","FmM7","EbmM7","DmM7",{"$f":"$C760","v":"C#mM7"},{"$f":"$C759","v":"CmM7"},{"$f":"$C770","v":"BmM7"},"BbmM7","AmM7","G#mM7","GmM7","F#mM7","FmM7",null,"EmM7",761]
[null,762,{"$f":"CONCATENATE($C$8,AD759)","v":"FmM7"},"EmM7","EbmM7","DmM7",{"$f":"$C760","v":"C#mM7"},{"$f":"$C759","v":"CmM7"},"BmM7","BbmM7","AmM7","G#mM7","GmM7","F#mM7","EmM7","EbmM7","DmM7",{"$f":"$C760","v":"C#mM7"},{"$f":"$C759","v":"CmM7"},"BmM7","BbmM7","AmM7","G#mM7","GmM7","F#mM7",null,"FmM7",762]
[null,763,{"$f":"CONCATENATE($C$9,AD759)","v":"F#mM7"},"FmM7","EmM7","EbmM7","DmM7",{"$f":"$C760","v":"C#mM7"},{"$f":"$C759","v":"CmM7"},{"$f":"$C770","v":"BmM7"},"BbmM7","AmM7","G#mM7","GmM7","FmM7","EmM7","EbmM7","DmM7",{"$f":"$C760","v":"C#mM7"},{"$f":"$C759","v":"CmM7"},{"$f":"$C770","v":"BmM7"},"BbmM7","AmM7","G#mM7","GmM7",null,"F#mM7",763]
[null,764,{"$f":"CONCATENATE($C$10,AD759)","v":"GmM7"},"F#mM7","FmM7","EmM7","EbmM7","DmM7","C#mM7",{"$f":"$C759","v":"CmM7"},{"$f":"$C770","v":"BmM7"},"BbmM7","AmM7","G#mM7","F#mM7","FmM7","EmM7","EbmM7","DmM7","C#mM7",{"$f":"$C759","v":"CmM7"},{"$f":"$C770","v":"BmM7"},"BbmM7","AmM7","G#mM7",null,"GmM7",764]
[null,765,{"$f":"CONCATENATE($C$11,AD759)","v":"G#mM7"},"GmM7","F#mM7","FmM7","EmM7","EbmM7","DmM7",{"$f":"$C760","v":"C#mM7"},{"$f":"$C759","v":"CmM7"},{"$f":"$C770","v":"BmM7"},"BbmM7","AmM7","GmM7","F#mM7","FmM7","EmM7","EbmM7","DmM7",{"$f":"$C760","v":"C#mM7"},{"$f":"$C759","v":"CmM7"},{"$f":"$C770","v":"BmM7"},"BbmM7","AmM7",null,"G#mM7",765]
[null,766,{"$f":"CONCATENATE($C$12,AD759)","v":"AmM7"},"G#mM7","GmM7","F#mM7","FmM7","EmM7","EbmM7",{"$f":"$C761","v":"DmM7"},{"$f":"$C760","v":"C#mM7"},{"$f":"$C759","v":"CmM7"},{"$f":"$C770","v":"BmM7"},"BbmM7","G#mM7","GmM7","F#mM7","FmM7","EmM7","EbmM7",{"$f":"$C761","v":"DmM7"},{"$f":"$C760","v":"C#mM7"},{"$f":"$C759","v":"CmM7"},{"$f":"$C770","v":"BmM7"},"BbmM7",null,"AmM7",766]
[null,767,{"$f":"CONCATENATE($C$13,AD759)","v":"BbmM7"},"AmM7","G#mM7","GmM7","F#mM7","FmM7","EmM7",{"$f":"$C762","v":"EbmM7"},{"$f":"$C761","v":"DmM7"},{"$f":"$C760","v":"C#mM7"},{"$f":"$C759","v":"CmM7"},{"$f":"$C770","v":"BmM7"},"AmM7","G#mM7","GmM7","F#mM7","FmM7","EmM7",{"$f":"$C762","v":"EbmM7"},{"$f":"$C761","v":"DmM7"},{"$f":"$C760","v":"C#mM7"},{"$f":"$C759","v":"CmM7"},{"$f":"$C770","v":"BmM7"},null,"BbmM7",767]
[null,768,{"$f":"CONCATENATE($C$14,AD759)","v":"BmM7"},"BbmM7","AmM7","G#mM7","GmM7","F#mM7","FmM7",{"$f":"$C763","v":"EmM7"},{"$f":"$C762","v":"EbmM7"},{"$f":"$C761","v":"DmM7"},{"$f":"$C760","v":"C#mM7"},{"$f":"$C759","v":"CmM7"},"BbmM7","AmM7","G#mM7","GmM7","F#mM7","FmM7",{"$f":"$C763","v":"EmM7"},{"$f":"$C762","v":"EbmM7"},{"$f":"$C761","v":"DmM7"},{"$f":"$C760","v":"C#mM7"},{"$f":"$C759","v":"CmM7"},null,"BmM7",768]
[null,769,{"$f":"CONCATENATE($C$3,AD771)","v":"Cm9"},{"$f":"$C782","v":"Bm9"},{"$f":"$C781","v":"Bbm9"},{"$f":"$C780","v":"Am9"},{"$f":"$C779","v":"G#m9"},{"$f":"$C778","v":"Gm9"},{"$f":"$C777","v":"F#m9"},{"$f":"$C776","v":"Fm9"},{"$f":"$C775","v":"Em9"},{"$f":"$C774","v":"Ebm9"},{"$f":"$C773","v":"Dm9"},{"$f":"$C772","v":"C#m9"},{"$f":"$C782","v":"Bm9"},{"$f":"$C781","v":"Bbm9"},{"$f":"$C780","v":"Am9"},{"$f":"$C779","v":"G#m9"},{"$f":"$C778","v":"Gm9"},{"$f":"$C777","v":"F#m9"},{"$f":"$C776","v":"Fm9"},{"$f":"$C775","v":"Em9"},{"$f":"$C774","v":"Ebm9"},{"$f":"$C773","v":"Dm9"},{"$f":"$C772","v":"C#m9"},null,"Cm9",{"$f":"B771","v":769},null,"m9"]
[null,770,{"$f":"CONCATENATE($C$4,AD771)","v":"C#m9"},{"$f":"$C771","v":"Cm9"},{"$f":"$C782","v":"Bm9"},{"$f":"$C781","v":"Bbm9"},{"$f":"$C780","v":"Am9"},{"$f":"$C779","v":"G#m9"},"Gm9","F#m9","Fm9","Em9","Ebm9","Dm9",{"$f":"$C771","v":"Cm9"},{"$f":"$C782","v":"Bm9"},{"$f":"$C781","v":"Bbm9"},{"$f":"$C780","v":"Am9"},{"$f":"$C779","v":"G#m9"},"Gm9","F#m9","Fm9","Em9","Ebm9","Dm9",null,"C#m9",770]
[null,771,{"$f":"CONCATENATE($C$5,AD771)","v":"Dm9"},{"$f":"$C772","v":"C#m9"},{"$f":"$C771","v":"Cm9"},{"$f":"$C782","v":"Bm9"},{"$f":"$C781","v":"Bbm9"},{"$f":"$C780","v":"Am9"},"G#m9","Gm9","F#m9","Fm9","Em9","Ebm9",{"$f":"$C772","v":"C#m9"},{"$f":"$C771","v":"Cm9"},{"$f":"$C782","v":"Bm9"},{"$f":"$C781","v":"Bbm9"},{"$f":"$C780","v":"Am9"},"G#m9","Gm9","F#m9","Fm9","Em9","Ebm9",null,"Dm9",771]
[null,772,{"$f":"CONCATENATE($C$6,AD771)","v":"Ebm9"},"Dm9",{"$f":"$C772","v":"C#m9"},{"$f":"$C771","v":"Cm9"},{"$f":"$C782","v":"Bm9"},{"$f":"$C781","v":"Bbm9"},"Am9","G#m9","Gm9","F#m9","Fm9","Em9","Dm9",{"$f":"$C772","v":"C#m9"},{"$f":"$C771","v":"Cm9"},{"$f":"$C782","v":"Bm9"},{"$f":"$C781","v":"Bbm9"},"Am9","G#m9","Gm9","F#m9","Fm9","Em9",null,"Ebm9",772]
[null,773,{"$f":"CONCATENATE($C$7,AD771)","v":"Em9"},"Ebm9","Dm9",{"$f":"$C772","v":"C#m9"},{"$f":"$C771","v":"Cm9"},{"$f":"$C782","v":"Bm9"},"Bbm9","Am9","G#m9","Gm9","F#m9","Fm9","Ebm9","Dm9",{"$f":"$C772","v":"C#m9"},{"$f":"$C771","v":"Cm9"},{"$f":"$C782","v":"Bm9"},"Bbm9","Am9","G#m9","Gm9","F#m9","Fm9",null,"Em9",773]
[null,774,{"$f":"CONCATENATE($C$8,AD771)","v":"Fm9"},"Em9","Ebm9","Dm9",{"$f":"$C772","v":"C#m9"},{"$f":"$C771","v":"Cm9"},"Bm9","Bbm9","Am9","G#m9","Gm9","F#m9","Em9","Ebm9","Dm9",{"$f":"$C772","v":"C#m9"},{"$f":"$C771","v":"Cm9"},"Bm9","Bbm9","Am9","G#m9","Gm9","F#m9",null,"Fm9",774]
[null,775,{"$f":"CONCATENATE($C$9,AD771)","v":"F#m9"},"Fm9","Em9","Ebm9","Dm9",{"$f":"$C772","v":"C#m9"},{"$f":"$C771","v":"Cm9"},{"$f":"$C782","v":"Bm9"},"Bbm9","Am9","G#m9","Gm9","Fm9","Em9","Ebm9","Dm9",{"$f":"$C772","v":"C#m9"},{"$f":"$C771","v":"Cm9"},{"$f":"$C782","v":"Bm9"},"Bbm9","Am9","G#m9","Gm9",null,"F#m9",775]
[null,776,{"$f":"CONCATENATE($C$10,AD771)","v":"Gm9"},"F#m9","Fm9","Em9","Ebm9","Dm9","C#m9",{"$f":"$C771","v":"Cm9"},{"$f":"$C782","v":"Bm9"},"Bbm9","Am9","G#m9","F#m9","Fm9","Em9","Ebm9","Dm9","C#m9",{"$f":"$C771","v":"Cm9"},{"$f":"$C782","v":"Bm9"},"Bbm9","Am9","G#m9",null,"Gm9",776]
[null,777,{"$f":"CONCATENATE($C$11,AD771)","v":"G#m9"},"Gm9","F#m9","Fm9","Em9","Ebm9","Dm9",{"$f":"$C772","v":"C#m9"},{"$f":"$C771","v":"Cm9"},{"$f":"$C782","v":"Bm9"},"Bbm9","Am9","Gm9","F#m9","Fm9","Em9","Ebm9","Dm9",{"$f":"$C772","v":"C#m9"},{"$f":"$C771","v":"Cm9"},{"$f":"$C782","v":"Bm9"},"Bbm9","Am9",null,"G#m9",777]
[null,778,{"$f":"CONCATENATE($C$12,AD771)","v":"Am9"},"G#m9","Gm9","F#m9","Fm9","Em9","Ebm9",{"$f":"$C773","v":"Dm9"},{"$f":"$C772","v":"C#m9"},{"$f":"$C771","v":"Cm9"},{"$f":"$C782","v":"Bm9"},"Bbm9","G#m9","Gm9","F#m9","Fm9","Em9","Ebm9",{"$f":"$C773","v":"Dm9"},{"$f":"$C772","v":"C#m9"},{"$f":"$C771","v":"Cm9"},{"$f":"$C782","v":"Bm9"},"Bbm9",null,"Am9",778]
[null,779,{"$f":"CONCATENATE($C$13,AD771)","v":"Bbm9"},"Am9","G#m9","Gm9","F#m9","Fm9","Em9",{"$f":"$C774","v":"Ebm9"},{"$f":"$C773","v":"Dm9"},{"$f":"$C772","v":"C#m9"},{"$f":"$C771","v":"Cm9"},{"$f":"$C782","v":"Bm9"},"Am9","G#m9","Gm9","F#m9","Fm9","Em9",{"$f":"$C774","v":"Ebm9"},{"$f":"$C773","v":"Dm9"},{"$f":"$C772","v":"C#m9"},{"$f":"$C771","v":"Cm9"},{"$f":"$C782","v":"Bm9"},null,"Bbm9",779]
[null,780,{"$f":"CONCATENATE($C$14,AD771)","v":"Bm9"},"Bbm9","Am9","G#m9","Gm9","F#m9","Fm9",{"$f":"$C775","v":"Em9"},{"$f":"$C774","v":"Ebm9"},{"$f":"$C773","v":"Dm9"},{"$f":"$C772","v":"C#m9"},{"$f":"$C771","v":"Cm9"},"Bbm9","Am9","G#m9","Gm9","F#m9","Fm9",{"$f":"$C775","v":"Em9"},{"$f":"$C774","v":"Ebm9"},{"$f":"$C773","v":"Dm9"},{"$f":"$C772","v":"C#m9"},{"$f":"$C771","v":"Cm9"},null,"Bm9",780]
[null,781,{"$f":"CONCATENATE($C$3,AD783)","v":"Cmadd9"},{"$f":"$C794","v":"Bmadd9"},{"$f":"$C793","v":"Bbmadd9"},{"$f":"$C792","v":"Amadd9"},{"$f":"$C791","v":"G#madd9"},{"$f":"$C790","v":"Gmadd9"},{"$f":"$C789","v":"F#madd9"},{"$f":"$C788","v":"Fmadd9"},{"$f":"$C787","v":"Emadd9"},{"$f":"$C786","v":"Ebmadd9"},{"$f":"$C785","v":"Dmadd9"},{"$f":"$C784","v":"C#madd9"},{"$f":"$C794","v":"Bmadd9"},{"$f":"$C793","v":"Bbmadd9"},{"$f":"$C792","v":"Amadd9"},{"$f":"$C791","v":"G#madd9"},{"$f":"$C790","v":"Gmadd9"},{"$f":"$C789","v":"F#madd9"},{"$f":"$C788","v":"Fmadd9"},{"$f":"$C787","v":"Emadd9"},{"$f":"$C786","v":"Ebmadd9"},{"$f":"$C785","v":"Dmadd9"},{"$f":"$C784","v":"C#madd9"},null,{"$f":"C783","v":"Cmadd9"},781,null,"madd9"]
[null,782,{"$f":"CONCATENATE($C$4,AD783)","v":"C#madd9"},{"$f":"$C783","v":"Cmadd9"},{"$f":"$C794","v":"Bmadd9"},{"$f":"$C793","v":"Bbmadd9"},{"$f":"$C792","v":"Amadd9"},{"$f":"$C791","v":"G#madd9"},"Gmadd9","F#madd9","Fmadd9","Emadd9","Ebmadd9","Dmadd9",{"$f":"$C783","v":"Cmadd9"},{"$f":"$C794","v":"Bmadd9"},{"$f":"$C793","v":"Bbmadd9"},{"$f":"$C792","v":"Amadd9"},{"$f":"$C791","v":"G#madd9"},"Gmadd9","F#madd9","Fmadd9","Emadd9","Ebmadd9","Dmadd9",null,"C#madd9",782]
[null,783,{"$f":"CONCATENATE($C$5,AD783)","v":"Dmadd9"},{"$f":"$C784","v":"C#madd9"},{"$f":"$C783","v":"Cmadd9"},{"$f":"$C794","v":"Bmadd9"},{"$f":"$C793","v":"Bbmadd9"},{"$f":"$C792","v":"Amadd9"},"G#madd9","Gmadd9","F#madd9","Fmadd9","Emadd9","Ebmadd9",{"$f":"$C784","v":"C#madd9"},{"$f":"$C783","v":"Cmadd9"},{"$f":"$C794","v":"Bmadd9"},{"$f":"$C793","v":"Bbmadd9"},{"$f":"$C792","v":"Amadd9"},"G#madd9","Gmadd9","F#madd9","Fmadd9","Emadd9","Ebmadd9",null,"Dmadd9",783]
[null,784,{"$f":"CONCATENATE($C$6,AD783)","v":"Ebmadd9"},"Dmadd9",{"$f":"$C784","v":"C#madd9"},{"$f":"$C783","v":"Cmadd9"},{"$f":"$C794","v":"Bmadd9"},{"$f":"$C793","v":"Bbmadd9"},"Amadd9","G#madd9","Gmadd9","F#madd9","Fmadd9","Emadd9","Dmadd9",{"$f":"$C784","v":"C#madd9"},{"$f":"$C783","v":"Cmadd9"},{"$f":"$C794","v":"Bmadd9"},{"$f":"$C793","v":"Bbmadd9"},"Amadd9","G#madd9","Gmadd9","F#madd9","Fmadd9","Emadd9",null,"Ebmadd9",784]
[null,785,{"$f":"CONCATENATE($C$7,AD783)","v":"Emadd9"},"Ebmadd9","Dmadd9",{"$f":"$C784","v":"C#madd9"},{"$f":"$C783","v":"Cmadd9"},{"$f":"$C794","v":"Bmadd9"},"Bbmadd9","Amadd9","G#madd9","Gmadd9","F#madd9","Fmadd9","Ebmadd9","Dmadd9",{"$f":"$C784","v":"C#madd9"},{"$f":"$C783","v":"Cmadd9"},{"$f":"$C794","v":"Bmadd9"},"Bbmadd9","Amadd9","G#madd9","Gmadd9","F#madd9","Fmadd9",null,"Emadd9",785]
[null,786,{"$f":"CONCATENATE($C$8,AD783)","v":"Fmadd9"},"Emadd9","Ebmadd9","Dmadd9",{"$f":"$C784","v":"C#madd9"},{"$f":"$C783","v":"Cmadd9"},"Bmadd9","Bbmadd9","Amadd9","G#madd9","Gmadd9","F#madd9","Emadd9","Ebmadd9","Dmadd9",{"$f":"$C784","v":"C#madd9"},{"$f":"$C783","v":"Cmadd9"},"Bmadd9","Bbmadd9","Amadd9","G#madd9","Gmadd9","F#madd9",null,"Fmadd9",786]
[null,787,{"$f":"CONCATENATE($C$9,AD783)","v":"F#madd9"},"Fmadd9","Emadd9","Ebmadd9","Dmadd9",{"$f":"$C784","v":"C#madd9"},{"$f":"$C783","v":"Cmadd9"},{"$f":"$C794","v":"Bmadd9"},"Bbmadd9","Amadd9","G#madd9","Gmadd9","Fmadd9","Emadd9","Ebmadd9","Dmadd9",{"$f":"$C784","v":"C#madd9"},{"$f":"$C783","v":"Cmadd9"},{"$f":"$C794","v":"Bmadd9"},"Bbmadd9","Amadd9","G#madd9","Gmadd9",null,"F#madd9",787]
[null,788,{"$f":"CONCATENATE($C$10,AD783)","v":"Gmadd9"},"F#madd9","Fmadd9","Emadd9","Ebmadd9","Dmadd9","C#madd9",{"$f":"$C783","v":"Cmadd9"},{"$f":"$C794","v":"Bmadd9"},"Bbmadd9","Amadd9","G#madd9","F#madd9","Fmadd9","Emadd9","Ebmadd9","Dmadd9","C#madd9",{"$f":"$C783","v":"Cmadd9"},{"$f":"$C794","v":"Bmadd9"},"Bbmadd9","Amadd9","G#madd9",null,"Gmadd9",788]
[null,789,{"$f":"CONCATENATE($C$11,AD783)","v":"G#madd9"},"Gmadd9","F#madd9","Fmadd9","Emadd9","Ebmadd9","Dmadd9",{"$f":"$C784","v":"C#madd9"},{"$f":"$C783","v":"Cmadd9"},{"$f":"$C794","v":"Bmadd9"},"Bbmadd9","Amadd9","Gmadd9","F#madd9","Fmadd9","Emadd9","Ebmadd9","Dmadd9",{"$f":"$C784","v":"C#madd9"},{"$f":"$C783","v":"Cmadd9"},{"$f":"$C794","v":"Bmadd9"},"Bbmadd9","Amadd9",null,"G#madd9",789]
[null,790,{"$f":"CONCATENATE($C$12,AD783)","v":"Amadd9"},"G#madd9","Gmadd9","F#madd9","Fmadd9","Emadd9","Ebmadd9",{"$f":"$C785","v":"Dmadd9"},{"$f":"$C784","v":"C#madd9"},{"$f":"$C783","v":"Cmadd9"},{"$f":"$C794","v":"Bmadd9"},"Bbmadd9","G#madd9","Gmadd9","F#madd9","Fmadd9","Emadd9","Ebmadd9",{"$f":"$C785","v":"Dmadd9"},{"$f":"$C784","v":"C#madd9"},{"$f":"$C783","v":"Cmadd9"},{"$f":"$C794","v":"Bmadd9"},"Bbmadd9",null,"Amadd9",790]
[null,791,{"$f":"CONCATENATE($C$13,AD783)","v":"Bbmadd9"},"Amadd9","G#madd9","Gmadd9","F#madd9","Fmadd9","Emadd9",{"$f":"$C786","v":"Ebmadd9"},{"$f":"$C785","v":"Dmadd9"},{"$f":"$C784","v":"C#madd9"},{"$f":"$C783","v":"Cmadd9"},{"$f":"$C794","v":"Bmadd9"},"Amadd9","G#madd9","Gmadd9","F#madd9","Fmadd9","Emadd9",{"$f":"$C786","v":"Ebmadd9"},{"$f":"$C785","v":"Dmadd9"},{"$f":"$C784","v":"C#madd9"},{"$f":"$C783","v":"Cmadd9"},{"$f":"$C794","v":"Bmadd9"},null,"Bbmadd9",791]
[null,792,{"$f":"CONCATENATE($C$14,AD783)","v":"Bmadd9"},"Bbmadd9","Amadd9","G#madd9","Gmadd9","F#madd9","Fmadd9",{"$f":"$C787","v":"Emadd9"},{"$f":"$C786","v":"Ebmadd9"},{"$f":"$C785","v":"Dmadd9"},{"$f":"$C784","v":"C#madd9"},{"$f":"$C783","v":"Cmadd9"},"Bbmadd9","Amadd9","G#madd9","Gmadd9","F#madd9","Fmadd9",{"$f":"$C787","v":"Emadd9"},{"$f":"$C786","v":"Ebmadd9"},{"$f":"$C785","v":"Dmadd9"},{"$f":"$C784","v":"C#madd9"},{"$f":"$C783","v":"Cmadd9"},null,"Bmadd9",792]
[null,793,{"$f":"CONCATENATE($C$3,AD795)","v":"Cmadd11"},{"$f":"$C806","v":"Bmadd11"},{"$f":"$C805","v":"Bbmadd11"},{"$f":"$C804","v":"Amadd11"},{"$f":"$C803","v":"G#madd11"},{"$f":"$C802","v":"Gmadd11"},{"$f":"$C801","v":"F#madd11"},{"$f":"$C800","v":"Fmadd11"},{"$f":"$C799","v":"Emadd11"},{"$f":"$C798","v":"Ebmadd11"},{"$f":"$C797","v":"Dmadd11"},{"$f":"$C796","v":"C#madd11"},{"$f":"$C806","v":"Bmadd11"},{"$f":"$C805","v":"Bbmadd11"},{"$f":"$C804","v":"Amadd11"},{"$f":"$C803","v":"G#madd11"},{"$f":"$C802","v":"Gmadd11"},{"$f":"$C801","v":"F#madd11"},{"$f":"$C800","v":"Fmadd11"},{"$f":"$C799","v":"Emadd11"},{"$f":"$C798","v":"Ebmadd11"},{"$f":"$C797","v":"Dmadd11"},{"$f":"$C796","v":"C#madd11"},null,"Cmadd11",793,null,"madd11"]
[null,794,{"$f":"CONCATENATE($C$4,AD795)","v":"C#madd11"},{"$f":"$C795","v":"Cmadd11"},{"$f":"$C806","v":"Bmadd11"},{"$f":"$C805","v":"Bbmadd11"},{"$f":"$C804","v":"Amadd11"},{"$f":"$C803","v":"G#madd11"},"Gmadd11","F#madd11","Fmadd11","Emadd11","Ebmadd11","Dmadd11",{"$f":"$C795","v":"Cmadd11"},{"$f":"$C806","v":"Bmadd11"},{"$f":"$C805","v":"Bbmadd11"},{"$f":"$C804","v":"Amadd11"},{"$f":"$C803","v":"G#madd11"},"Gmadd11","F#madd11","Fmadd11","Emadd11","Ebmadd11","Dmadd11",null,"C#madd11",794]
[null,795,{"$f":"CONCATENATE($C$5,AD795)","v":"Dmadd11"},{"$f":"$C796","v":"C#madd11"},{"$f":"$C795","v":"Cmadd11"},{"$f":"$C806","v":"Bmadd11"},{"$f":"$C805","v":"Bbmadd11"},{"$f":"$C804","v":"Amadd11"},"G#madd11","Gmadd11","F#madd11","Fmadd11","Emadd11","Ebmadd11",{"$f":"$C796","v":"C#madd11"},{"$f":"$C795","v":"Cmadd11"},{"$f":"$C806","v":"Bmadd11"},{"$f":"$C805","v":"Bbmadd11"},{"$f":"$C804","v":"Amadd11"},"G#madd11","Gmadd11","F#madd11","Fmadd11","Emadd11","Ebmadd11",null,"Dmadd11",795]
[null,796,{"$f":"CONCATENATE($C$6,AD795)","v":"Ebmadd11"},"Dmadd11",{"$f":"$C796","v":"C#madd11"},{"$f":"$C795","v":"Cmadd11"},{"$f":"$C806","v":"Bmadd11"},{"$f":"$C805","v":"Bbmadd11"},"Amadd11","G#madd11","Gmadd11","F#madd11","Fmadd11","Emadd11","Dmadd11",{"$f":"$C796","v":"C#madd11"},{"$f":"$C795","v":"Cmadd11"},{"$f":"$C806","v":"Bmadd11"},{"$f":"$C805","v":"Bbmadd11"},"Amadd11","G#madd11","Gmadd11","F#madd11","Fmadd11","Emadd11",null,"Ebmadd11",796]
[null,797,{"$f":"CONCATENATE($C$7,AD795)","v":"Emadd11"},"Ebmadd11","Dmadd11",{"$f":"$C796","v":"C#madd11"},{"$f":"$C795","v":"Cmadd11"},{"$f":"$C806","v":"Bmadd11"},"Bbmadd11","Amadd11","G#madd11","Gmadd11","F#madd11","Fmadd11","Ebmadd11","Dmadd11",{"$f":"$C796","v":"C#madd11"},{"$f":"$C795","v":"Cmadd11"},{"$f":"$C806","v":"Bmadd11"},"Bbmadd11","Amadd11","G#madd11","Gmadd11","F#madd11","Fmadd11",null,"Emadd11",797]
[null,798,{"$f":"CONCATENATE($C$8,AD795)","v":"Fmadd11"},"Emadd11","Ebmadd11","Dmadd11",{"$f":"$C796","v":"C#madd11"},{"$f":"$C795","v":"Cmadd11"},"Bmadd11","Bbmadd11","Amadd11","G#madd11","Gmadd11","F#madd11","Emadd11","Ebmadd11","Dmadd11",{"$f":"$C796","v":"C#madd11"},{"$f":"$C795","v":"Cmadd11"},"Bmadd11","Bbmadd11","Amadd11","G#madd11","Gmadd11","F#madd11",null,"Fmadd11",798]
[null,799,{"$f":"CONCATENATE($C$9,AD795)","v":"F#madd11"},"Fmadd11","Emadd11","Ebmadd11","Dmadd11",{"$f":"$C796","v":"C#madd11"},{"$f":"$C795","v":"Cmadd11"},{"$f":"$C806","v":"Bmadd11"},"Bbmadd11","Amadd11","G#madd11","Gmadd11","Fmadd11","Emadd11","Ebmadd11","Dmadd11",{"$f":"$C796","v":"C#madd11"},{"$f":"$C795","v":"Cmadd11"},{"$f":"$C806","v":"Bmadd11"},"Bbmadd11","Amadd11","G#madd11","Gmadd11",null,"F#madd11",799]
[null,800,{"$f":"CONCATENATE($C$10,AD795)","v":"Gmadd11"},"F#madd11","Fmadd11","Emadd11","Ebmadd11","Dmadd11","C#madd11",{"$f":"$C795","v":"Cmadd11"},{"$f":"$C806","v":"Bmadd11"},"Bbmadd11","Amadd11","G#madd11","F#madd11","Fmadd11","Emadd11","Ebmadd11","Dmadd11","C#madd11",{"$f":"$C795","v":"Cmadd11"},{"$f":"$C806","v":"Bmadd11"},"Bbmadd11","Amadd11","G#madd11",null,"Gmadd11",800]
[null,801,{"$f":"CONCATENATE($C$11,AD795)","v":"G#madd11"},"Gmadd11","F#madd11","Fmadd11","Emadd11","Ebmadd11","Dmadd11",{"$f":"$C796","v":"C#madd11"},{"$f":"$C795","v":"Cmadd11"},{"$f":"$C806","v":"Bmadd11"},"Bbmadd11","Amadd11","Gmadd11","F#madd11","Fmadd11","Emadd11","Ebmadd11","Dmadd11",{"$f":"$C796","v":"C#madd11"},{"$f":"$C795","v":"Cmadd11"},{"$f":"$C806","v":"Bmadd11"},"Bbmadd11","Amadd11",null,"G#madd11",801]
[null,802,{"$f":"CONCATENATE($C$12,AD795)","v":"Amadd11"},"G#madd11","Gmadd11","F#madd11","Fmadd11","Emadd11","Ebmadd11",{"$f":"$C797","v":"Dmadd11"},{"$f":"$C796","v":"C#madd11"},{"$f":"$C795","v":"Cmadd11"},{"$f":"$C806","v":"Bmadd11"},"Bbmadd11","G#madd11","Gmadd11","F#madd11","Fmadd11","Emadd11","Ebmadd11",{"$f":"$C797","v":"Dmadd11"},{"$f":"$C796","v":"C#madd11"},{"$f":"$C795","v":"Cmadd11"},{"$f":"$C806","v":"Bmadd11"},"Bbmadd11",null,"Amadd11",802]
[null,803,{"$f":"CONCATENATE($C$13,AD795)","v":"Bbmadd11"},"Amadd11","G#madd11","Gmadd11","F#madd11","Fmadd11","Emadd11",{"$f":"$C798","v":"Ebmadd11"},{"$f":"$C797","v":"Dmadd11"},{"$f":"$C796","v":"C#madd11"},{"$f":"$C795","v":"Cmadd11"},{"$f":"$C806","v":"Bmadd11"},"Amadd11","G#madd11","Gmadd11","F#madd11","Fmadd11","Emadd11",{"$f":"$C798","v":"Ebmadd11"},{"$f":"$C797","v":"Dmadd11"},{"$f":"$C796","v":"C#madd11"},{"$f":"$C795","v":"Cmadd11"},{"$f":"$C806","v":"Bmadd11"},null,"Bbmadd11",803]
[null,804,{"$f":"CONCATENATE($C$14,AD795)","v":"Bmadd11"},"Bbmadd11","Amadd11","G#madd11","Gmadd11","F#madd11","Fmadd11",{"$f":"$C799","v":"Emadd11"},{"$f":"$C798","v":"Ebmadd11"},{"$f":"$C797","v":"Dmadd11"},{"$f":"$C796","v":"C#madd11"},{"$f":"$C795","v":"Cmadd11"},"Bbmadd11","Amadd11","G#madd11","Gmadd11","F#madd11","Fmadd11",{"$f":"$C799","v":"Emadd11"},{"$f":"$C798","v":"Ebmadd11"},{"$f":"$C797","v":"Dmadd11"},{"$f":"$C796","v":"C#madd11"},{"$f":"$C795","v":"Cmadd11"},null,"Bmadd11",804]
[null,805,{"$f":"CONCATENATE($C$3,AD807)","v":"Cmadd13"},{"$f":"$C818","v":"Bmadd13"},{"$f":"$C817","v":"Bbmadd13"},{"$f":"$C816","v":"Amadd13"},{"$f":"$C815","v":"G#madd13"},{"$f":"$C814","v":"Gmadd13"},{"$f":"$C813","v":"F#madd13"},{"$f":"$C812","v":"Fmadd13"},{"$f":"$C811","v":"Emadd13"},{"$f":"$C810","v":"Ebmadd13"},{"$f":"$C809","v":"Dmadd13"},{"$f":"$C808","v":"C#madd13"},{"$f":"$C818","v":"Bmadd13"},{"$f":"$C817","v":"Bbmadd13"},{"$f":"$C816","v":"Amadd13"},{"$f":"$C815","v":"G#madd13"},{"$f":"$C814","v":"Gmadd13"},{"$f":"$C813","v":"F#madd13"},{"$f":"$C812","v":"Fmadd13"},{"$f":"$C811","v":"Emadd13"},{"$f":"$C810","v":"Ebmadd13"},{"$f":"$C809","v":"Dmadd13"},{"$f":"$C808","v":"C#madd13"},null,"Cmadd13",805,null,"madd13"]
[null,806,{"$f":"CONCATENATE($C$4,AD807)","v":"C#madd13"},{"$f":"$C807","v":"Cmadd13"},{"$f":"$C818","v":"Bmadd13"},{"$f":"$C817","v":"Bbmadd13"},{"$f":"$C816","v":"Amadd13"},{"$f":"$C815","v":"G#madd13"},"Gmadd13","F#madd13","Fmadd13","Emadd13","Ebmadd13","Dmadd13",{"$f":"$C807","v":"Cmadd13"},{"$f":"$C818","v":"Bmadd13"},{"$f":"$C817","v":"Bbmadd13"},{"$f":"$C816","v":"Amadd13"},{"$f":"$C815","v":"G#madd13"},"Gmadd13","F#madd13","Fmadd13","Emadd13","Ebmadd13","Dmadd13",null,"C#madd13",806]
[null,807,{"$f":"CONCATENATE($C$5,AD807)","v":"Dmadd13"},{"$f":"$C808","v":"C#madd13"},{"$f":"$C807","v":"Cmadd13"},{"$f":"$C818","v":"Bmadd13"},{"$f":"$C817","v":"Bbmadd13"},{"$f":"$C816","v":"Amadd13"},"G#madd13","Gmadd13","F#madd13","Fmadd13","Emadd13","Ebmadd13",{"$f":"$C808","v":"C#madd13"},{"$f":"$C807","v":"Cmadd13"},{"$f":"$C818","v":"Bmadd13"},{"$f":"$C817","v":"Bbmadd13"},{"$f":"$C816","v":"Amadd13"},"G#madd13","Gmadd13","F#madd13","Fmadd13","Emadd13","Ebmadd13",null,"Dmadd13",807]
[null,808,{"$f":"CONCATENATE($C$6,AD807)","v":"Ebmadd13"},"Dmadd13",{"$f":"$C808","v":"C#madd13"},{"$f":"$C807","v":"Cmadd13"},{"$f":"$C818","v":"Bmadd13"},{"$f":"$C817","v":"Bbmadd13"},"Amadd13","G#madd13","Gmadd13","F#madd13","Fmadd13","Emadd13","Dmadd13",{"$f":"$C808","v":"C#madd13"},{"$f":"$C807","v":"Cmadd13"},{"$f":"$C818","v":"Bmadd13"},{"$f":"$C817","v":"Bbmadd13"},"Amadd13","G#madd13","Gmadd13","F#madd13","Fmadd13","Emadd13",null,"Ebmadd13",808]
[null,809,{"$f":"CONCATENATE($C$7,AD807)","v":"Emadd13"},"Ebmadd13","Dmadd13",{"$f":"$C808","v":"C#madd13"},{"$f":"$C807","v":"Cmadd13"},{"$f":"$C818","v":"Bmadd13"},"Bbmadd13","Amadd13","G#madd13","Gmadd13","F#madd13","Fmadd13","Ebmadd13","Dmadd13",{"$f":"$C808","v":"C#madd13"},{"$f":"$C807","v":"Cmadd13"},{"$f":"$C818","v":"Bmadd13"},"Bbmadd13","Amadd13","G#madd13","Gmadd13","F#madd13","Fmadd13",null,"Emadd13",809]
[null,810,{"$f":"CONCATENATE($C$8,AD807)","v":"Fmadd13"},"Emadd13","Ebmadd13","Dmadd13",{"$f":"$C808","v":"C#madd13"},{"$f":"$C807","v":"Cmadd13"},"Bmadd13","Bbmadd13","Amadd13","G#madd13","Gmadd13","F#madd13","Emadd13","Ebmadd13","Dmadd13",{"$f":"$C808","v":"C#madd13"},{"$f":"$C807","v":"Cmadd13"},"Bmadd13","Bbmadd13","Amadd13","G#madd13","Gmadd13","F#madd13",null,"Fmadd13",810]
[null,811,{"$f":"CONCATENATE($C$9,AD807)","v":"F#madd13"},"Fmadd13","Emadd13","Ebmadd13","Dmadd13",{"$f":"$C808","v":"C#madd13"},{"$f":"$C807","v":"Cmadd13"},{"$f":"$C818","v":"Bmadd13"},"Bbmadd13","Amadd13","G#madd13","Gmadd13","Fmadd13","Emadd13","Ebmadd13","Dmadd13",{"$f":"$C808","v":"C#madd13"},{"$f":"$C807","v":"Cmadd13"},{"$f":"$C818","v":"Bmadd13"},"Bbmadd13","Amadd13","G#madd13","Gmadd13",null,"F#madd13",811]
[null,812,{"$f":"CONCATENATE($C$10,AD807)","v":"Gmadd13"},"F#madd13","Fmadd13","Emadd13","Ebmadd13","Dmadd13","C#madd13",{"$f":"$C807","v":"Cmadd13"},{"$f":"$C818","v":"Bmadd13"},"Bbmadd13","Amadd13","G#madd13","F#madd13","Fmadd13","Emadd13","Ebmadd13","Dmadd13","C#madd13",{"$f":"$C807","v":"Cmadd13"},{"$f":"$C818","v":"Bmadd13"},"Bbmadd13","Amadd13","G#madd13",null,"Gmadd13",812]
[null,813,{"$f":"CONCATENATE($C$11,AD807)","v":"G#madd13"},"Gmadd13","F#madd13","Fmadd13","Emadd13","Ebmadd13","Dmadd13",{"$f":"$C808","v":"C#madd13"},{"$f":"$C807","v":"Cmadd13"},{"$f":"$C818","v":"Bmadd13"},"Bbmadd13","Amadd13","Gmadd13","F#madd13","Fmadd13","Emadd13","Ebmadd13","Dmadd13",{"$f":"$C808","v":"C#madd13"},{"$f":"$C807","v":"Cmadd13"},{"$f":"$C818","v":"Bmadd13"},"Bbmadd13","Amadd13",null,"G#madd13",813]
[null,814,{"$f":"CONCATENATE($C$12,AD807)","v":"Amadd13"},"G#madd13","Gmadd13","F#madd13","Fmadd13","Emadd13","Ebmadd13",{"$f":"$C809","v":"Dmadd13"},{"$f":"$C808","v":"C#madd13"},{"$f":"$C807","v":"Cmadd13"},{"$f":"$C818","v":"Bmadd13"},"Bbmadd13","G#madd13","Gmadd13","F#madd13","Fmadd13","Emadd13","Ebmadd13",{"$f":"$C809","v":"Dmadd13"},{"$f":"$C808","v":"C#madd13"},{"$f":"$C807","v":"Cmadd13"},{"$f":"$C818","v":"Bmadd13"},"Bbmadd13",null,"Amadd13",814]
[null,815,{"$f":"CONCATENATE($C$13,AD807)","v":"Bbmadd13"},"Amadd13","G#madd13","Gmadd13","F#madd13","Fmadd13","Emadd13",{"$f":"$C810","v":"Ebmadd13"},{"$f":"$C809","v":"Dmadd13"},{"$f":"$C808","v":"C#madd13"},{"$f":"$C807","v":"Cmadd13"},{"$f":"$C818","v":"Bmadd13"},"Amadd13","G#madd13","Gmadd13","F#madd13","Fmadd13","Emadd13",{"$f":"$C810","v":"Ebmadd13"},{"$f":"$C809","v":"Dmadd13"},{"$f":"$C808","v":"C#madd13"},{"$f":"$C807","v":"Cmadd13"},{"$f":"$C818","v":"Bmadd13"},null,"Bbmadd13",815]
[null,816,{"$f":"CONCATENATE($C$14,AD807)","v":"Bmadd13"},"Bbmadd13","Amadd13","G#madd13","Gmadd13","F#madd13","Fmadd13",{"$f":"$C811","v":"Emadd13"},{"$f":"$C810","v":"Ebmadd13"},{"$f":"$C809","v":"Dmadd13"},{"$f":"$C808","v":"C#madd13"},{"$f":"$C807","v":"Cmadd13"},"Bbmadd13","Amadd13","G#madd13","Gmadd13","F#madd13","Fmadd13",{"$f":"$C811","v":"Emadd13"},{"$f":"$C810","v":"Ebmadd13"},{"$f":"$C809","v":"Dmadd13"},{"$f":"$C808","v":"C#madd13"},{"$f":"$C807","v":"Cmadd13"},null,"Bmadd13",816]
[null,817,{"$f":"CONCATENATE($C$3,AD819)","v":"C(9)"},{"$f":"$C830","v":"B(9)"},{"$f":"$C829","v":"Bb(9)"},{"$f":"$C828","v":"A(9)"},{"$f":"$C827","v":"G#(9)"},{"$f":"$C826","v":"G(9)"},{"$f":"$C825","v":"F#(9)"},{"$f":"$C824","v":"F(9)"},{"$f":"$C823","v":"E(9)"},{"$f":"$C822","v":"Eb(9)"},{"$f":"$C821","v":"D(9)"},{"$f":"$C820","v":"C#(9)"},{"$f":"$C830","v":"B(9)"},{"$f":"$C829","v":"Bb(9)"},{"$f":"$C828","v":"A(9)"},{"$f":"$C827","v":"G#(9)"},{"$f":"$C826","v":"G(9)"},{"$f":"$C825","v":"F#(9)"},{"$f":"$C824","v":"F(9)"},{"$f":"$C823","v":"E(9)"},{"$f":"$C822","v":"Eb(9)"},{"$f":"$C821","v":"D(9)"},{"$f":"$C820","v":"C#(9)"},null,"C(9)",817,null,"(9)"]
[null,818,{"$f":"CONCATENATE($C$4,AD819)","v":"C#(9)"},{"$f":"$C819","v":"C(9)"},{"$f":"$C830","v":"B(9)"},{"$f":"$C829","v":"Bb(9)"},{"$f":"$C828","v":"A(9)"},{"$f":"$C827","v":"G#(9)"},"G(9)","F#(9)","F(9)","E(9)","Eb(9)","D(9)",{"$f":"$C819","v":"C(9)"},{"$f":"$C830","v":"B(9)"},{"$f":"$C829","v":"Bb(9)"},{"$f":"$C828","v":"A(9)"},{"$f":"$C827","v":"G#(9)"},"G(9)","F#(9)","F(9)","E(9)","Eb(9)","D(9)",null,"C#(9)",818]
[null,819,{"$f":"CONCATENATE($C$5,AD819)","v":"D(9)"},{"$f":"$C820","v":"C#(9)"},{"$f":"$C819","v":"C(9)"},{"$f":"$C830","v":"B(9)"},{"$f":"$C829","v":"Bb(9)"},{"$f":"$C828","v":"A(9)"},"G#(9)","G(9)","F#(9)","F(9)","E(9)","Eb(9)",{"$f":"$C820","v":"C#(9)"},{"$f":"$C819","v":"C(9)"},{"$f":"$C830","v":"B(9)"},{"$f":"$C829","v":"Bb(9)"},{"$f":"$C828","v":"A(9)"},"G#(9)","G(9)","F#(9)","F(9)","E(9)","Eb(9)",null,"D(9)",819]
[null,820,{"$f":"CONCATENATE($C$6,AD819)","v":"Eb(9)"},"D(9)",{"$f":"$C820","v":"C#(9)"},{"$f":"$C819","v":"C(9)"},{"$f":"$C830","v":"B(9)"},{"$f":"$C829","v":"Bb(9)"},"A(9)","G#(9)","G(9)","F#(9)","F(9)","E(9)","D(9)",{"$f":"$C820","v":"C#(9)"},{"$f":"$C819","v":"C(9)"},{"$f":"$C830","v":"B(9)"},{"$f":"$C829","v":"Bb(9)"},"A(9)","G#(9)","G(9)","F#(9)","F(9)","E(9)",null,"Eb(9)",820]
[null,821,{"$f":"CONCATENATE($C$7,AD819)","v":"E(9)"},"Eb(9)","D(9)",{"$f":"$C820","v":"C#(9)"},{"$f":"$C819","v":"C(9)"},{"$f":"$C830","v":"B(9)"},"Bb(9)","A(9)","G#(9)","G(9)","F#(9)","F(9)","Eb(9)","D(9)",{"$f":"$C820","v":"C#(9)"},{"$f":"$C819","v":"C(9)"},{"$f":"$C830","v":"B(9)"},"Bb(9)","A(9)","G#(9)","G(9)","F#(9)","F(9)",null,"E(9)",821]
[null,822,{"$f":"CONCATENATE($C$8,AD819)","v":"F(9)"},"E(9)","Eb(9)","D(9)",{"$f":"$C820","v":"C#(9)"},{"$f":"$C819","v":"C(9)"},"B(9)","Bb(9)","A(9)","G#(9)","G(9)","F#(9)","E(9)","Eb(9)","D(9)",{"$f":"$C820","v":"C#(9)"},{"$f":"$C819","v":"C(9)"},"B(9)","Bb(9)","A(9)","G#(9)","G(9)","F#(9)",null,"F(9)",822]
[null,823,{"$f":"CONCATENATE($C$9,AD819)","v":"F#(9)"},"F(9)","E(9)","Eb(9)","D(9)",{"$f":"$C820","v":"C#(9)"},{"$f":"$C819","v":"C(9)"},{"$f":"$C830","v":"B(9)"},"Bb(9)","A(9)","G#(9)","G(9)","F(9)","E(9)","Eb(9)","D(9)",{"$f":"$C820","v":"C#(9)"},{"$f":"$C819","v":"C(9)"},{"$f":"$C830","v":"B(9)"},"Bb(9)","A(9)","G#(9)","G(9)",null,"F#(9)",823]
[null,824,{"$f":"CONCATENATE($C$10,AD819)","v":"G(9)"},"F#(9)","F(9)","E(9)","Eb(9)","D(9)","C#(9)",{"$f":"$C819","v":"C(9)"},{"$f":"$C830","v":"B(9)"},"Bb(9)","A(9)","G#(9)","F#(9)","F(9)","E(9)","Eb(9)","D(9)","C#(9)",{"$f":"$C819","v":"C(9)"},{"$f":"$C830","v":"B(9)"},"Bb(9)","A(9)","G#(9)",null,"G(9)",824]
[null,825,{"$f":"CONCATENATE($C$11,AD819)","v":"G#(9)"},"G(9)","F#(9)","F(9)","E(9)","Eb(9)","D(9)",{"$f":"$C820","v":"C#(9)"},{"$f":"$C819","v":"C(9)"},{"$f":"$C830","v":"B(9)"},"Bb(9)","A(9)","G(9)","F#(9)","F(9)","E(9)","Eb(9)","D(9)",{"$f":"$C820","v":"C#(9)"},{"$f":"$C819","v":"C(9)"},{"$f":"$C830","v":"B(9)"},"Bb(9)","A(9)",null,"G#(9)",825]
[null,826,{"$f":"CONCATENATE($C$12,AD819)","v":"A(9)"},"G#(9)","G(9)","F#(9)","F(9)","E(9)","Eb(9)",{"$f":"$C821","v":"D(9)"},{"$f":"$C820","v":"C#(9)"},{"$f":"$C819","v":"C(9)"},{"$f":"$C830","v":"B(9)"},"Bb(9)","G#(9)","G(9)","F#(9)","F(9)","E(9)","Eb(9)",{"$f":"$C821","v":"D(9)"},{"$f":"$C820","v":"C#(9)"},{"$f":"$C819","v":"C(9)"},{"$f":"$C830","v":"B(9)"},"Bb(9)",null,"A(9)",826]
[null,827,{"$f":"CONCATENATE($C$13,AD819)","v":"Bb(9)"},"A(9)","G#(9)","G(9)","F#(9)","F(9)","E(9)",{"$f":"$C822","v":"Eb(9)"},{"$f":"$C821","v":"D(9)"},{"$f":"$C820","v":"C#(9)"},{"$f":"$C819","v":"C(9)"},{"$f":"$C830","v":"B(9)"},"A(9)","G#(9)","G(9)","F#(9)","F(9)","E(9)",{"$f":"$C822","v":"Eb(9)"},{"$f":"$C821","v":"D(9)"},{"$f":"$C820","v":"C#(9)"},{"$f":"$C819","v":"C(9)"},{"$f":"$C830","v":"B(9)"},null,"Bb(9)",827]
[null,828,{"$f":"CONCATENATE($C$14,AD819)","v":"B(9)"},"Bb(9)","A(9)","G#(9)","G(9)","F#(9)","F(9)",{"$f":"$C823","v":"E(9)"},{"$f":"$C822","v":"Eb(9)"},{"$f":"$C821","v":"D(9)"},{"$f":"$C820","v":"C#(9)"},{"$f":"$C819","v":"C(9)"},"Bb(9)","A(9)","G#(9)","G(9)","F#(9)","F(9)",{"$f":"$C823","v":"E(9)"},{"$f":"$C822","v":"Eb(9)"},{"$f":"$C821","v":"D(9)"},{"$f":"$C820","v":"C#(9)"},{"$f":"$C819","v":"C(9)"},null,"B(9)",828]
[null,829,{"$f":"CONCATENATE($C$3,AD831)","v":"C(-9)"},{"$f":"$C842","v":"B(-9)"},{"$f":"$C841","v":"Bb(-9)"},{"$f":"$C840","v":"A(-9)"},{"$f":"$C839","v":"G#(-9)"},{"$f":"$C838","v":"G(-9)"},{"$f":"$C837","v":"F#(-9)"},{"$f":"$C836","v":"F(-9)"},{"$f":"$C835","v":"E(-9)"},{"$f":"$C834","v":"Eb(-9)"},{"$f":"$C833","v":"D(-9)"},{"$f":"$C832","v":"C#(-9)"},{"$f":"$C842","v":"B(-9)"},{"$f":"$C841","v":"Bb(-9)"},{"$f":"$C840","v":"A(-9)"},{"$f":"$C839","v":"G#(-9)"},{"$f":"$C838","v":"G(-9)"},{"$f":"$C837","v":"F#(-9)"},{"$f":"$C836","v":"F(-9)"},{"$f":"$C835","v":"E(-9)"},{"$f":"$C834","v":"Eb(-9)"},{"$f":"$C833","v":"D(-9)"},{"$f":"$C832","v":"C#(-9)"},null,{"$f":"C831","v":"C(-9)"},829,null,"(-9)"]
[null,830,{"$f":"CONCATENATE($C$4,AD831)","v":"C#(-9)"},{"$f":"$C831","v":"C(-9)"},{"$f":"$C842","v":"B(-9)"},{"$f":"$C841","v":"Bb(-9)"},{"$f":"$C840","v":"A(-9)"},{"$f":"$C839","v":"G#(-9)"},"G(-9)","F#(-9)","F(-9)","E(-9)","Eb(-9)","D(-9)",{"$f":"$C831","v":"C(-9)"},{"$f":"$C842","v":"B(-9)"},{"$f":"$C841","v":"Bb(-9)"},{"$f":"$C840","v":"A(-9)"},{"$f":"$C839","v":"G#(-9)"},"G(-9)","F#(-9)","F(-9)","E(-9)","Eb(-9)","D(-9)",null,"C#(-9)",830]
[null,831,{"$f":"CONCATENATE($C$5,AD831)","v":"D(-9)"},{"$f":"$C832","v":"C#(-9)"},{"$f":"$C831","v":"C(-9)"},{"$f":"$C842","v":"B(-9)"},{"$f":"$C841","v":"Bb(-9)"},{"$f":"$C840","v":"A(-9)"},"G#(-9)","G(-9)","F#(-9)","F(-9)","E(-9)","Eb(-9)",{"$f":"$C832","v":"C#(-9)"},{"$f":"$C831","v":"C(-9)"},{"$f":"$C842","v":"B(-9)"},{"$f":"$C841","v":"Bb(-9)"},{"$f":"$C840","v":"A(-9)"},"G#(-9)","G(-9)","F#(-9)","F(-9)","E(-9)","Eb(-9)",null,"D(-9)",831]
[null,832,{"$f":"CONCATENATE($C$6,AD831)","v":"Eb(-9)"},"D(-9)",{"$f":"$C832","v":"C#(-9)"},{"$f":"$C831","v":"C(-9)"},{"$f":"$C842","v":"B(-9)"},{"$f":"$C841","v":"Bb(-9)"},"A(-9)","G#(-9)","G(-9)","F#(-9)","F(-9)","E(-9)","D(-9)",{"$f":"$C832","v":"C#(-9)"},{"$f":"$C831","v":"C(-9)"},{"$f":"$C842","v":"B(-9)"},{"$f":"$C841","v":"Bb(-9)"},"A(-9)","G#(-9)","G(-9)","F#(-9)","F(-9)","E(-9)",null,"Eb(-9)",832]
[null,833,{"$f":"CONCATENATE($C$7,AD831)","v":"E(-9)"},"Eb(-9)","D(-9)",{"$f":"$C832","v":"C#(-9)"},{"$f":"$C831","v":"C(-9)"},{"$f":"$C842","v":"B(-9)"},"Bb(-9)","A(-9)","G#(-9)","G(-9)","F#(-9)","F(-9)","Eb(-9)","D(-9)",{"$f":"$C832","v":"C#(-9)"},{"$f":"$C831","v":"C(-9)"},{"$f":"$C842","v":"B(-9)"},"Bb(-9)","A(-9)","G#(-9)","G(-9)","F#(-9)","F(-9)",null,"E(-9)",{"$f":"B835","v":833}]
[null,834,{"$f":"CONCATENATE($C$8,AD831)","v":"F(-9)"},"E(-9)","Eb(-9)","D(-9)",{"$f":"$C832","v":"C#(-9)"},{"$f":"$C831","v":"C(-9)"},"B(-9)","Bb(-9)","A(-9)","G#(-9)","G(-9)","F#(-9)","E(-9)","Eb(-9)","D(-9)",{"$f":"$C832","v":"C#(-9)"},{"$f":"$C831","v":"C(-9)"},"B(-9)","Bb(-9)","A(-9)","G#(-9)","G(-9)","F#(-9)",null,"F(-9)",834]
[null,835,{"$f":"CONCATENATE($C$9,AD831)","v":"F#(-9)"},"F(-9)","E(-9)","Eb(-9)","D(-9)",{"$f":"$C832","v":"C#(-9)"},{"$f":"$C831","v":"C(-9)"},{"$f":"$C842","v":"B(-9)"},"Bb(-9)","A(-9)","G#(-9)","G(-9)","F(-9)","E(-9)","Eb(-9)","D(-9)",{"$f":"$C832","v":"C#(-9)"},{"$f":"$C831","v":"C(-9)"},{"$f":"$C842","v":"B(-9)"},"Bb(-9)","A(-9)","G#(-9)","G(-9)",null,"F#(-9)",835]
[null,836,{"$f":"CONCATENATE($C$10,AD831)","v":"G(-9)"},"F#(-9)","F(-9)","E(-9)","Eb(-9)","D(-9)","C#(-9)",{"$f":"$C831","v":"C(-9)"},{"$f":"$C842","v":"B(-9)"},"Bb(-9)","A(-9)","G#(-9)","F#(-9)","F(-9)","E(-9)","Eb(-9)","D(-9)","C#(-9)",{"$f":"$C831","v":"C(-9)"},{"$f":"$C842","v":"B(-9)"},"Bb(-9)","A(-9)","G#(-9)",null,"G(-9)",836]
[null,837,{"$f":"CONCATENATE($C$11,AD831)","v":"G#(-9)"},"G(-9)","F#(-9)","F(-9)","E(-9)","Eb(-9)","D(-9)",{"$f":"$C832","v":"C#(-9)"},{"$f":"$C831","v":"C(-9)"},{"$f":"$C842","v":"B(-9)"},"Bb(-9)","A(-9)","G(-9)","F#(-9)","F(-9)","E(-9)","Eb(-9)","D(-9)",{"$f":"$C832","v":"C#(-9)"},{"$f":"$C831","v":"C(-9)"},{"$f":"$C842","v":"B(-9)"},"Bb(-9)","A(-9)",null,"G#(-9)",837]
[null,838,{"$f":"CONCATENATE($C$12,AD831)","v":"A(-9)"},"G#(-9)","G(-9)","F#(-9)","F(-9)","E(-9)","Eb(-9)",{"$f":"$C833","v":"D(-9)"},{"$f":"$C832","v":"C#(-9)"},{"$f":"$C831","v":"C(-9)"},{"$f":"$C842","v":"B(-9)"},"Bb(-9)","G#(-9)","G(-9)","F#(-9)","F(-9)","E(-9)","Eb(-9)",{"$f":"$C833","v":"D(-9)"},{"$f":"$C832","v":"C#(-9)"},{"$f":"$C831","v":"C(-9)"},{"$f":"$C842","v":"B(-9)"},"Bb(-9)",null,"A(-9)",838]
[null,839,{"$f":"CONCATENATE($C$13,AD831)","v":"Bb(-9)"},"A(-9)","G#(-9)","G(-9)","F#(-9)","F(-9)","E(-9)",{"$f":"$C834","v":"Eb(-9)"},{"$f":"$C833","v":"D(-9)"},{"$f":"$C832","v":"C#(-9)"},{"$f":"$C831","v":"C(-9)"},{"$f":"$C842","v":"B(-9)"},"A(-9)","G#(-9)","G(-9)","F#(-9)","F(-9)","E(-9)",{"$f":"$C834","v":"Eb(-9)"},{"$f":"$C833","v":"D(-9)"},{"$f":"$C832","v":"C#(-9)"},{"$f":"$C831","v":"C(-9)"},{"$f":"$C842","v":"B(-9)"},null,"Bb(-9)",839]
[null,840,{"$f":"CONCATENATE($C$14,AD831)","v":"B(-9)"},"Bb(-9)","A(-9)","G#(-9)","G(-9)","F#(-9)","F(-9)",{"$f":"$C835","v":"E(-9)"},{"$f":"$C834","v":"Eb(-9)"},{"$f":"$C833","v":"D(-9)"},{"$f":"$C832","v":"C#(-9)"},{"$f":"$C831","v":"C(-9)"},"Bb(-9)","A(-9)","G#(-9)","G(-9)","F#(-9)","F(-9)",{"$f":"$C835","v":"E(-9)"},{"$f":"$C834","v":"Eb(-9)"},{"$f":"$C833","v":"D(-9)"},{"$f":"$C832","v":"C#(-9)"},{"$f":"$C831","v":"C(-9)"},null,"B(-9)",840]
[null,841,{"$f":"CONCATENATE($C$3,AD843)","v":"C(+9)"},{"$f":"$C854","v":"B(+9)"},{"$f":"$C853","v":"Bb(+9)"},{"$f":"$C852","v":"A(+9)"},{"$f":"$C851","v":"G#(+9)"},{"$f":"$C850","v":"G(+9)"},{"$f":"$C849","v":"F#(+9)"},{"$f":"$C848","v":"F(+9)"},{"$f":"$C847","v":"E(+9)"},{"$f":"$C846","v":"Eb(+9)"},{"$f":"$C845","v":"D(+9)"},{"$f":"$C844","v":"C#(+9)"},{"$f":"$C854","v":"B(+9)"},{"$f":"$C853","v":"Bb(+9)"},{"$f":"$C852","v":"A(+9)"},{"$f":"$C851","v":"G#(+9)"},{"$f":"$C850","v":"G(+9)"},{"$f":"$C849","v":"F#(+9)"},{"$f":"$C848","v":"F(+9)"},{"$f":"$C847","v":"E(+9)"},{"$f":"$C846","v":"Eb(+9)"},{"$f":"$C845","v":"D(+9)"},{"$f":"$C844","v":"C#(+9)"},null,"C(+9)",841,null,"(+9)"]
[null,842,{"$f":"CONCATENATE($C$4,AD843)","v":"C#(+9)"},{"$f":"$C843","v":"C(+9)"},{"$f":"$C854","v":"B(+9)"},{"$f":"$C853","v":"Bb(+9)"},{"$f":"$C852","v":"A(+9)"},{"$f":"$C851","v":"G#(+9)"},"G(+9)","F#(+9)","F(+9)","E(+9)","Eb(+9)","D(+9)",{"$f":"$C843","v":"C(+9)"},{"$f":"$C854","v":"B(+9)"},{"$f":"$C853","v":"Bb(+9)"},{"$f":"$C852","v":"A(+9)"},{"$f":"$C851","v":"G#(+9)"},"G(+9)","F#(+9)","F(+9)","E(+9)","Eb(+9)","D(+9)",null,"C#(+9)",842]
[null,843,{"$f":"CONCATENATE($C$5,AD843)","v":"D(+9)"},{"$f":"$C844","v":"C#(+9)"},{"$f":"$C843","v":"C(+9)"},{"$f":"$C854","v":"B(+9)"},{"$f":"$C853","v":"Bb(+9)"},{"$f":"$C852","v":"A(+9)"},"G#(+9)","G(+9)","F#(+9)","F(+9)","E(+9)","Eb(+9)",{"$f":"$C844","v":"C#(+9)"},{"$f":"$C843","v":"C(+9)"},{"$f":"$C854","v":"B(+9)"},{"$f":"$C853","v":"Bb(+9)"},{"$f":"$C852","v":"A(+9)"},"G#(+9)","G(+9)","F#(+9)","F(+9)","E(+9)","Eb(+9)",null,"D(+9)",843]
[null,844,{"$f":"CONCATENATE($C$6,AD843)","v":"Eb(+9)"},"D(+9)",{"$f":"$C844","v":"C#(+9)"},{"$f":"$C843","v":"C(+9)"},{"$f":"$C854","v":"B(+9)"},{"$f":"$C853","v":"Bb(+9)"},"A(+9)","G#(+9)","G(+9)","F#(+9)","F(+9)","E(+9)","D(+9)",{"$f":"$C844","v":"C#(+9)"},{"$f":"$C843","v":"C(+9)"},{"$f":"$C854","v":"B(+9)"},{"$f":"$C853","v":"Bb(+9)"},"A(+9)","G#(+9)","G(+9)","F#(+9)","F(+9)","E(+9)",null,"Eb(+9)",844]
[null,845,{"$f":"CONCATENATE($C$7,AD843)","v":"E(+9)"},"Eb(+9)","D(+9)",{"$f":"$C844","v":"C#(+9)"},{"$f":"$C843","v":"C(+9)"},{"$f":"$C854","v":"B(+9)"},"Bb(+9)","A(+9)","G#(+9)","G(+9)","F#(+9)","F(+9)","Eb(+9)","D(+9)",{"$f":"$C844","v":"C#(+9)"},{"$f":"$C843","v":"C(+9)"},{"$f":"$C854","v":"B(+9)"},"Bb(+9)","A(+9)","G#(+9)","G(+9)","F#(+9)","F(+9)",null,"E(+9)",845]
[null,846,{"$f":"CONCATENATE($C$8,AD843)","v":"F(+9)"},"E(+9)","Eb(+9)","D(+9)",{"$f":"$C844","v":"C#(+9)"},{"$f":"$C843","v":"C(+9)"},"B(+9)","Bb(+9)","A(+9)","G#(+9)","G(+9)","F#(+9)","E(+9)","Eb(+9)","D(+9)",{"$f":"$C844","v":"C#(+9)"},{"$f":"$C843","v":"C(+9)"},"B(+9)","Bb(+9)","A(+9)","G#(+9)","G(+9)","F#(+9)",null,"F(+9)",846]
[null,847,{"$f":"CONCATENATE($C$9,AD843)","v":"F#(+9)"},"F(+9)","E(+9)","Eb(+9)","D(+9)",{"$f":"$C844","v":"C#(+9)"},{"$f":"$C843","v":"C(+9)"},{"$f":"$C854","v":"B(+9)"},"Bb(+9)","A(+9)","G#(+9)","G(+9)","F(+9)","E(+9)","Eb(+9)","D(+9)",{"$f":"$C844","v":"C#(+9)"},{"$f":"$C843","v":"C(+9)"},{"$f":"$C854","v":"B(+9)"},"Bb(+9)","A(+9)","G#(+9)","G(+9)",null,"F#(+9)",847]
[null,848,{"$f":"CONCATENATE($C$10,AD843)","v":"G(+9)"},"F#(+9)","F(+9)","E(+9)","Eb(+9)","D(+9)","C#(+9)",{"$f":"$C843","v":"C(+9)"},{"$f":"$C854","v":"B(+9)"},"Bb(+9)","A(+9)","G#(+9)","F#(+9)","F(+9)","E(+9)","Eb(+9)","D(+9)","C#(+9)",{"$f":"$C843","v":"C(+9)"},{"$f":"$C854","v":"B(+9)"},"Bb(+9)","A(+9)","G#(+9)",null,"G(+9)",848]
[null,849,{"$f":"CONCATENATE($C$11,AD843)","v":"G#(+9)"},"G(+9)","F#(+9)","F(+9)","E(+9)","Eb(+9)","D(+9)",{"$f":"$C844","v":"C#(+9)"},{"$f":"$C843","v":"C(+9)"},{"$f":"$C854","v":"B(+9)"},"Bb(+9)","A(+9)","G(+9)","F#(+9)","F(+9)","E(+9)","Eb(+9)","D(+9)",{"$f":"$C844","v":"C#(+9)"},{"$f":"$C843","v":"C(+9)"},{"$f":"$C854","v":"B(+9)"},"Bb(+9)","A(+9)",null,"G#(+9)",849]
[null,850,{"$f":"CONCATENATE($C$12,AD843)","v":"A(+9)"},"G#(+9)","G(+9)","F#(+9)","F(+9)","E(+9)","Eb(+9)",{"$f":"$C845","v":"D(+9)"},{"$f":"$C844","v":"C#(+9)"},{"$f":"$C843","v":"C(+9)"},{"$f":"$C854","v":"B(+9)"},"Bb(+9)","G#(+9)","G(+9)","F#(+9)","F(+9)","E(+9)","Eb(+9)",{"$f":"$C845","v":"D(+9)"},{"$f":"$C844","v":"C#(+9)"},{"$f":"$C843","v":"C(+9)"},{"$f":"$C854","v":"B(+9)"},"Bb(+9)",null,"A(+9)",850]
[null,851,{"$f":"CONCATENATE($C$13,AD843)","v":"Bb(+9)"},"A(+9)","G#(+9)","G(+9)","F#(+9)","F(+9)","E(+9)",{"$f":"$C846","v":"Eb(+9)"},{"$f":"$C845","v":"D(+9)"},{"$f":"$C844","v":"C#(+9)"},{"$f":"$C843","v":"C(+9)"},{"$f":"$C854","v":"B(+9)"},"A(+9)","G#(+9)","G(+9)","F#(+9)","F(+9)","E(+9)",{"$f":"$C846","v":"Eb(+9)"},{"$f":"$C845","v":"D(+9)"},{"$f":"$C844","v":"C#(+9)"},{"$f":"$C843","v":"C(+9)"},{"$f":"$C854","v":"B(+9)"},null,"Bb(+9)",851]
[null,852,{"$f":"CONCATENATE($C$14,AD843)","v":"B(+9)"},"Bb(+9)","A(+9)","G#(+9)","G(+9)","F#(+9)","F(+9)",{"$f":"$C847","v":"E(+9)"},{"$f":"$C846","v":"Eb(+9)"},{"$f":"$C845","v":"D(+9)"},{"$f":"$C844","v":"C#(+9)"},{"$f":"$C843","v":"C(+9)"},"Bb(+9)","A(+9)","G#(+9)","G(+9)","F#(+9)","F(+9)",{"$f":"$C847","v":"E(+9)"},{"$f":"$C846","v":"Eb(+9)"},{"$f":"$C845","v":"D(+9)"},{"$f":"$C844","v":"C#(+9)"},{"$f":"$C843","v":"C(+9)"},null,"B(+9)",852]
[null,853,{"$f":"CONCATENATE($C$3,AD855)","v":"C(b9)"},{"$f":"$C866","v":"B(b9)"},{"$f":"$C865","v":"Bb(b9)"},{"$f":"$C864","v":"A(b9)"},{"$f":"$C863","v":"G#(b9)"},{"$f":"$C862","v":"G(b9)"},{"$f":"$C861","v":"F#(b9)"},{"$f":"$C860","v":"F(b9)"},{"$f":"$C859","v":"E(b9)"},{"$f":"$C858","v":"Eb(b9)"},{"$f":"$C857","v":"D(b9)"},{"$f":"$C856","v":"C#(b9)"},{"$f":"$C866","v":"B(b9)"},{"$f":"$C865","v":"Bb(b9)"},{"$f":"$C864","v":"A(b9)"},{"$f":"$C863","v":"G#(b9)"},{"$f":"$C862","v":"G(b9)"},{"$f":"$C861","v":"F#(b9)"},{"$f":"$C860","v":"F(b9)"},{"$f":"$C859","v":"E(b9)"},{"$f":"$C858","v":"Eb(b9)"},{"$f":"$C857","v":"D(b9)"},{"$f":"$C856","v":"C#(b9)"},null,{"$f":"C855","v":"C(b9)"},853,null,"(b9)"]
[null,854,{"$f":"CONCATENATE($C$4,AD855)","v":"C#(b9)"},{"$f":"$C855","v":"C(b9)"},{"$f":"$C866","v":"B(b9)"},{"$f":"$C865","v":"Bb(b9)"},{"$f":"$C864","v":"A(b9)"},{"$f":"$C863","v":"G#(b9)"},"G(b9)","F#(b9)","F(b9)","E(b9)","Eb(b9)","D(b9)",{"$f":"$C855","v":"C(b9)"},{"$f":"$C866","v":"B(b9)"},{"$f":"$C865","v":"Bb(b9)"},{"$f":"$C864","v":"A(b9)"},{"$f":"$C863","v":"G#(b9)"},"G(b9)","F#(b9)","F(b9)","E(b9)","Eb(b9)","D(b9)",null,"C#(b9)",854]
[null,855,{"$f":"CONCATENATE($C$5,AD855)","v":"D(b9)"},{"$f":"$C856","v":"C#(b9)"},{"$f":"$C855","v":"C(b9)"},{"$f":"$C866","v":"B(b9)"},{"$f":"$C865","v":"Bb(b9)"},{"$f":"$C864","v":"A(b9)"},"G#(b9)","G(b9)","F#(b9)","F(b9)","E(b9)","Eb(b9)",{"$f":"$C856","v":"C#(b9)"},{"$f":"$C855","v":"C(b9)"},{"$f":"$C866","v":"B(b9)"},{"$f":"$C865","v":"Bb(b9)"},{"$f":"$C864","v":"A(b9)"},"G#(b9)","G(b9)","F#(b9)","F(b9)","E(b9)","Eb(b9)",null,"D(b9)",855]
[null,856,{"$f":"CONCATENATE($C$6,AD855)","v":"Eb(b9)"},"D(b9)",{"$f":"$C856","v":"C#(b9)"},{"$f":"$C855","v":"C(b9)"},{"$f":"$C866","v":"B(b9)"},{"$f":"$C865","v":"Bb(b9)"},"A(b9)","G#(b9)","G(b9)","F#(b9)","F(b9)","E(b9)","D(b9)",{"$f":"$C856","v":"C#(b9)"},{"$f":"$C855","v":"C(b9)"},{"$f":"$C866","v":"B(b9)"},{"$f":"$C865","v":"Bb(b9)"},"A(b9)","G#(b9)","G(b9)","F#(b9)","F(b9)","E(b9)",null,"Eb(b9)",856]
[null,857,{"$f":"CONCATENATE($C$7,AD855)","v":"E(b9)"},"Eb(b9)","D(b9)",{"$f":"$C856","v":"C#(b9)"},{"$f":"$C855","v":"C(b9)"},{"$f":"$C866","v":"B(b9)"},"Bb(b9)","A(b9)","G#(b9)","G(b9)","F#(b9)","F(b9)","Eb(b9)","D(b9)",{"$f":"$C856","v":"C#(b9)"},{"$f":"$C855","v":"C(b9)"},{"$f":"$C866","v":"B(b9)"},"Bb(b9)","A(b9)","G#(b9)","G(b9)","F#(b9)","F(b9)",null,"E(b9)",857]
[null,858,{"$f":"CONCATENATE($C$8,AD855)","v":"F(b9)"},"E(b9)","Eb(b9)","D(b9)",{"$f":"$C856","v":"C#(b9)"},{"$f":"$C855","v":"C(b9)"},"B(b9)","Bb(b9)","A(b9)","G#(b9)","G(b9)","F#(b9)","E(b9)","Eb(b9)","D(b9)",{"$f":"$C856","v":"C#(b9)"},{"$f":"$C855","v":"C(b9)"},"B(b9)","Bb(b9)","A(b9)","G#(b9)","G(b9)","F#(b9)",null,"F(b9)",858]
[null,859,{"$f":"CONCATENATE($C$9,AD855)","v":"F#(b9)"},"F(b9)","E(b9)","Eb(b9)","D(b9)",{"$f":"$C856","v":"C#(b9)"},{"$f":"$C855","v":"C(b9)"},{"$f":"$C866","v":"B(b9)"},"Bb(b9)","A(b9)","G#(b9)","G(b9)","F(b9)","E(b9)","Eb(b9)","D(b9)",{"$f":"$C856","v":"C#(b9)"},{"$f":"$C855","v":"C(b9)"},{"$f":"$C866","v":"B(b9)"},"Bb(b9)","A(b9)","G#(b9)","G(b9)",null,"F#(b9)",859]
[null,860,{"$f":"CONCATENATE($C$10,AD855)","v":"G(b9)"},"F#(b9)","F(b9)","E(b9)","Eb(b9)","D(b9)","C#(b9)",{"$f":"$C855","v":"C(b9)"},{"$f":"$C866","v":"B(b9)"},"Bb(b9)","A(b9)","G#(b9)","F#(b9)","F(b9)","E(b9)","Eb(b9)","D(b9)","C#(b9)",{"$f":"$C855","v":"C(b9)"},{"$f":"$C866","v":"B(b9)"},"Bb(b9)","A(b9)","G#(b9)",null,"G(b9)",860]
[null,861,{"$f":"CONCATENATE($C$11,AD855)","v":"G#(b9)"},"G(b9)","F#(b9)","F(b9)","E(b9)","Eb(b9)","D(b9)",{"$f":"$C856","v":"C#(b9)"},{"$f":"$C855","v":"C(b9)"},{"$f":"$C866","v":"B(b9)"},"Bb(b9)","A(b9)","G(b9)","F#(b9)","F(b9)","E(b9)","Eb(b9)","D(b9)",{"$f":"$C856","v":"C#(b9)"},{"$f":"$C855","v":"C(b9)"},{"$f":"$C866","v":"B(b9)"},"Bb(b9)","A(b9)",null,"G#(b9)",861]
[null,862,{"$f":"CONCATENATE($C$12,AD855)","v":"A(b9)"},"G#(b9)","G(b9)","F#(b9)","F(b9)","E(b9)","Eb(b9)",{"$f":"$C857","v":"D(b9)"},{"$f":"$C856","v":"C#(b9)"},{"$f":"$C855","v":"C(b9)"},{"$f":"$C866","v":"B(b9)"},"Bb(b9)","G#(b9)","G(b9)","F#(b9)","F(b9)","E(b9)","Eb(b9)",{"$f":"$C857","v":"D(b9)"},{"$f":"$C856","v":"C#(b9)"},{"$f":"$C855","v":"C(b9)"},{"$f":"$C866","v":"B(b9)"},"Bb(b9)",null,"A(b9)",862]
[null,863,{"$f":"CONCATENATE($C$13,AD855)","v":"Bb(b9)"},"A(b9)","G#(b9)","G(b9)","F#(b9)","F(b9)","E(b9)",{"$f":"$C858","v":"Eb(b9)"},{"$f":"$C857","v":"D(b9)"},{"$f":"$C856","v":"C#(b9)"},{"$f":"$C855","v":"C(b9)"},{"$f":"$C866","v":"B(b9)"},"A(b9)","G#(b9)","G(b9)","F#(b9)","F(b9)","E(b9)",{"$f":"$C858","v":"Eb(b9)"},{"$f":"$C857","v":"D(b9)"},{"$f":"$C856","v":"C#(b9)"},{"$f":"$C855","v":"C(b9)"},{"$f":"$C866","v":"B(b9)"},null,"Bb(b9)",863]
[null,864,{"$f":"CONCATENATE($C$14,AD855)","v":"B(b9)"},"Bb(b9)","A(b9)","G#(b9)","G(b9)","F#(b9)","F(b9)",{"$f":"$C859","v":"E(b9)"},{"$f":"$C858","v":"Eb(b9)"},{"$f":"$C857","v":"D(b9)"},{"$f":"$C856","v":"C#(b9)"},{"$f":"$C855","v":"C(b9)"},"Bb(b9)","A(b9)","G#(b9)","G(b9)","F#(b9)","F(b9)",{"$f":"$C859","v":"E(b9)"},{"$f":"$C858","v":"Eb(b9)"},{"$f":"$C857","v":"D(b9)"},{"$f":"$C856","v":"C#(b9)"},{"$f":"$C855","v":"C(b9)"},null,"B(b9)",864]
[null,865,{"$f":"CONCATENATE($C$3,AD867)","v":"C(#9)"},{"$f":"$C878","v":"B(#9)"},{"$f":"$C877","v":"Bb(#9)"},{"$f":"$C876","v":"A(#9)"},{"$f":"$C875","v":"G#(#9)"},{"$f":"$C874","v":"G(#9)"},{"$f":"$C873","v":"F#(#9)"},{"$f":"$C872","v":"F(#9)"},{"$f":"$C871","v":"E(#9)"},{"$f":"$C870","v":"Eb(#9)"},{"$f":"$C869","v":"D(#9)"},{"$f":"$C868","v":"C#(#9)"},{"$f":"$C878","v":"B(#9)"},{"$f":"$C877","v":"Bb(#9)"},{"$f":"$C876","v":"A(#9)"},{"$f":"$C875","v":"G#(#9)"},{"$f":"$C874","v":"G(#9)"},{"$f":"$C873","v":"F#(#9)"},{"$f":"$C872","v":"F(#9)"},{"$f":"$C871","v":"E(#9)"},{"$f":"$C870","v":"Eb(#9)"},{"$f":"$C869","v":"D(#9)"},{"$f":"$C868","v":"C#(#9)"},null,"C(#9)",865,null,"(#9)"]
[null,866,{"$f":"CONCATENATE($C$4,AD867)","v":"C#(#9)"},{"$f":"$C867","v":"C(#9)"},{"$f":"$C878","v":"B(#9)"},{"$f":"$C877","v":"Bb(#9)"},{"$f":"$C876","v":"A(#9)"},{"$f":"$C875","v":"G#(#9)"},"G(#9)","F#(#9)","F(#9)","E(#9)","Eb(#9)","D(#9)",{"$f":"$C867","v":"C(#9)"},{"$f":"$C878","v":"B(#9)"},{"$f":"$C877","v":"Bb(#9)"},{"$f":"$C876","v":"A(#9)"},{"$f":"$C875","v":"G#(#9)"},"G(#9)","F#(#9)","F(#9)","E(#9)","Eb(#9)","D(#9)",null,"C#(#9)",866]
[null,867,{"$f":"CONCATENATE($C$5,AD867)","v":"D(#9)"},{"$f":"$C868","v":"C#(#9)"},{"$f":"$C867","v":"C(#9)"},{"$f":"$C878","v":"B(#9)"},{"$f":"$C877","v":"Bb(#9)"},{"$f":"$C876","v":"A(#9)"},"G#(#9)","G(#9)","F#(#9)","F(#9)","E(#9)","Eb(#9)",{"$f":"$C868","v":"C#(#9)"},{"$f":"$C867","v":"C(#9)"},{"$f":"$C878","v":"B(#9)"},{"$f":"$C877","v":"Bb(#9)"},{"$f":"$C876","v":"A(#9)"},"G#(#9)","G(#9)","F#(#9)","F(#9)","E(#9)","Eb(#9)",null,"D(#9)",867]
[null,868,{"$f":"CONCATENATE($C$6,AD867)","v":"Eb(#9)"},"D(#9)",{"$f":"$C868","v":"C#(#9)"},{"$f":"$C867","v":"C(#9)"},{"$f":"$C878","v":"B(#9)"},{"$f":"$C877","v":"Bb(#9)"},"A(#9)","G#(#9)","G(#9)","F#(#9)","F(#9)","E(#9)","D(#9)",{"$f":"$C868","v":"C#(#9)"},{"$f":"$C867","v":"C(#9)"},{"$f":"$C878","v":"B(#9)"},{"$f":"$C877","v":"Bb(#9)"},"A(#9)","G#(#9)","G(#9)","F#(#9)","F(#9)","E(#9)",null,"Eb(#9)",868]
[null,869,{"$f":"CONCATENATE($C$7,AD867)","v":"E(#9)"},"Eb(#9)","D(#9)",{"$f":"$C868","v":"C#(#9)"},{"$f":"$C867","v":"C(#9)"},{"$f":"$C878","v":"B(#9)"},"Bb(#9)","A(#9)","G#(#9)","G(#9)","F#(#9)","F(#9)","Eb(#9)","D(#9)",{"$f":"$C868","v":"C#(#9)"},{"$f":"$C867","v":"C(#9)"},{"$f":"$C878","v":"B(#9)"},"Bb(#9)","A(#9)","G#(#9)","G(#9)","F#(#9)","F(#9)",null,"E(#9)",869]
[null,870,{"$f":"CONCATENATE($C$8,AD867)","v":"F(#9)"},"E(#9)","Eb(#9)","D(#9)",{"$f":"$C868","v":"C#(#9)"},{"$f":"$C867","v":"C(#9)"},"B(#9)","Bb(#9)","A(#9)","G#(#9)","G(#9)","F#(#9)","E(#9)","Eb(#9)","D(#9)",{"$f":"$C868","v":"C#(#9)"},{"$f":"$C867","v":"C(#9)"},"B(#9)","Bb(#9)","A(#9)","G#(#9)","G(#9)","F#(#9)",null,"F(#9)",870]
[null,871,{"$f":"CONCATENATE($C$9,AD867)","v":"F#(#9)"},"F(#9)","E(#9)","Eb(#9)","D(#9)",{"$f":"$C868","v":"C#(#9)"},{"$f":"$C867","v":"C(#9)"},{"$f":"$C878","v":"B(#9)"},"Bb(#9)","A(#9)","G#(#9)","G(#9)","F(#9)","E(#9)","Eb(#9)","D(#9)",{"$f":"$C868","v":"C#(#9)"},{"$f":"$C867","v":"C(#9)"},{"$f":"$C878","v":"B(#9)"},"Bb(#9)","A(#9)","G#(#9)","G(#9)",null,"F#(#9)",871]
[null,872,{"$f":"CONCATENATE($C$10,AD867)","v":"G(#9)"},"F#(#9)","F(#9)","E(#9)","Eb(#9)","D(#9)","C#(#9)",{"$f":"$C867","v":"C(#9)"},{"$f":"$C878","v":"B(#9)"},"Bb(#9)","A(#9)","G#(#9)","F#(#9)","F(#9)","E(#9)","Eb(#9)","D(#9)","C#(#9)",{"$f":"$C867","v":"C(#9)"},{"$f":"$C878","v":"B(#9)"},"Bb(#9)","A(#9)","G#(#9)",null,"G(#9)",872]
[null,873,{"$f":"CONCATENATE($C$11,AD867)","v":"G#(#9)"},"G(#9)","F#(#9)","F(#9)","E(#9)","Eb(#9)","D(#9)",{"$f":"$C868","v":"C#(#9)"},{"$f":"$C867","v":"C(#9)"},{"$f":"$C878","v":"B(#9)"},"Bb(#9)","A(#9)","G(#9)","F#(#9)","F(#9)","E(#9)","Eb(#9)","D(#9)",{"$f":"$C868","v":"C#(#9)"},{"$f":"$C867","v":"C(#9)"},{"$f":"$C878","v":"B(#9)"},"Bb(#9)","A(#9)",null,"G#(#9)",873]
[null,874,{"$f":"CONCATENATE($C$12,AD867)","v":"A(#9)"},"G#(#9)","G(#9)","F#(#9)","F(#9)","E(#9)","Eb(#9)",{"$f":"$C869","v":"D(#9)"},{"$f":"$C868","v":"C#(#9)"},{"$f":"$C867","v":"C(#9)"},{"$f":"$C878","v":"B(#9)"},"Bb(#9)","G#(#9)","G(#9)","F#(#9)","F(#9)","E(#9)","Eb(#9)",{"$f":"$C869","v":"D(#9)"},{"$f":"$C868","v":"C#(#9)"},{"$f":"$C867","v":"C(#9)"},{"$f":"$C878","v":"B(#9)"},"Bb(#9)",null,"A(#9)",874]
[null,875,{"$f":"CONCATENATE($C$13,AD867)","v":"Bb(#9)"},"A(#9)","G#(#9)","G(#9)","F#(#9)","F(#9)","E(#9)",{"$f":"$C870","v":"Eb(#9)"},{"$f":"$C869","v":"D(#9)"},{"$f":"$C868","v":"C#(#9)"},{"$f":"$C867","v":"C(#9)"},{"$f":"$C878","v":"B(#9)"},"A(#9)","G#(#9)","G(#9)","F#(#9)","F(#9)","E(#9)",{"$f":"$C870","v":"Eb(#9)"},{"$f":"$C869","v":"D(#9)"},{"$f":"$C868","v":"C#(#9)"},{"$f":"$C867","v":"C(#9)"},{"$f":"$C878","v":"B(#9)"},null,"Bb(#9)",875]
[null,876,{"$f":"CONCATENATE($C$14,AD867)","v":"B(#9)"},"Bb(#9)","A(#9)","G#(#9)","G(#9)","F#(#9)","F(#9)",{"$f":"$C871","v":"E(#9)"},{"$f":"$C870","v":"Eb(#9)"},{"$f":"$C869","v":"D(#9)"},{"$f":"$C868","v":"C#(#9)"},{"$f":"$C867","v":"C(#9)"},"Bb(#9)","A(#9)","G#(#9)","G(#9)","F#(#9)","F(#9)",{"$f":"$C871","v":"E(#9)"},{"$f":"$C870","v":"Eb(#9)"},{"$f":"$C869","v":"D(#9)"},{"$f":"$C868","v":"C#(#9)"},{"$f":"$C867","v":"C(#9)"},null,"B(#9)",876]
[null,877,{"$f":"CONCATENATE($C$3,AD879)","v":"C(11)"},{"$f":"$C890","v":"B(11)"},{"$f":"$C889","v":"Bb(11)"},{"$f":"$C888","v":"A(11)"},{"$f":"$C887","v":"G#(11)"},{"$f":"$C886","v":"G(11)"},{"$f":"$C885","v":"F#(11)"},{"$f":"$C884","v":"F(11)"},{"$f":"$C883","v":"E(11)"},{"$f":"$C882","v":"Eb(11)"},{"$f":"$C881","v":"D(11)"},{"$f":"$C880","v":"C#(11)"},{"$f":"$C890","v":"B(11)"},{"$f":"$C889","v":"Bb(11)"},{"$f":"$C888","v":"A(11)"},{"$f":"$C887","v":"G#(11)"},{"$f":"$C886","v":"G(11)"},{"$f":"$C885","v":"F#(11)"},{"$f":"$C884","v":"F(11)"},{"$f":"$C883","v":"E(11)"},{"$f":"$C882","v":"Eb(11)"},{"$f":"$C881","v":"D(11)"},{"$f":"$C880","v":"C#(11)"},null,"C(11)",877,null,"(11)"]
[null,878,{"$f":"CONCATENATE($C$4,AD879)","v":"C#(11)"},{"$f":"$C879","v":"C(11)"},{"$f":"$C890","v":"B(11)"},{"$f":"$C889","v":"Bb(11)"},{"$f":"$C888","v":"A(11)"},{"$f":"$C887","v":"G#(11)"},"G(11)","F#(11)","F(11)","E(11)","Eb(11)","D(11)",{"$f":"$C879","v":"C(11)"},{"$f":"$C890","v":"B(11)"},{"$f":"$C889","v":"Bb(11)"},{"$f":"$C888","v":"A(11)"},{"$f":"$C887","v":"G#(11)"},"G(11)","F#(11)","F(11)","E(11)","Eb(11)","D(11)",null,"C#(11)",878]
[null,879,{"$f":"CONCATENATE($C$5,AD879)","v":"D(11)"},{"$f":"$C880","v":"C#(11)"},{"$f":"$C879","v":"C(11)"},{"$f":"$C890","v":"B(11)"},{"$f":"$C889","v":"Bb(11)"},{"$f":"$C888","v":"A(11)"},"G#(11)","G(11)","F#(11)","F(11)","E(11)","Eb(11)",{"$f":"$C880","v":"C#(11)"},{"$f":"$C879","v":"C(11)"},{"$f":"$C890","v":"B(11)"},{"$f":"$C889","v":"Bb(11)"},{"$f":"$C888","v":"A(11)"},"G#(11)","G(11)","F#(11)","F(11)","E(11)","Eb(11)",null,"D(11)",879]
[null,880,{"$f":"CONCATENATE($C$6,AD879)","v":"Eb(11)"},"D(11)",{"$f":"$C880","v":"C#(11)"},{"$f":"$C879","v":"C(11)"},{"$f":"$C890","v":"B(11)"},{"$f":"$C889","v":"Bb(11)"},"A(11)","G#(11)","G(11)","F#(11)","F(11)","E(11)","D(11)",{"$f":"$C880","v":"C#(11)"},{"$f":"$C879","v":"C(11)"},{"$f":"$C890","v":"B(11)"},{"$f":"$C889","v":"Bb(11)"},"A(11)","G#(11)","G(11)","F#(11)","F(11)","E(11)",null,"Eb(11)",880]
[null,881,{"$f":"CONCATENATE($C$7,AD879)","v":"E(11)"},"Eb(11)","D(11)",{"$f":"$C880","v":"C#(11)"},{"$f":"$C879","v":"C(11)"},{"$f":"$C890","v":"B(11)"},"Bb(11)","A(11)","G#(11)","G(11)","F#(11)","F(11)","Eb(11)","D(11)",{"$f":"$C880","v":"C#(11)"},{"$f":"$C879","v":"C(11)"},{"$f":"$C890","v":"B(11)"},"Bb(11)","A(11)","G#(11)","G(11)","F#(11)","F(11)",null,"E(11)",881]
[null,882,{"$f":"CONCATENATE($C$8,AD879)","v":"F(11)"},"E(11)","Eb(11)","D(11)",{"$f":"$C880","v":"C#(11)"},{"$f":"$C879","v":"C(11)"},"B(11)","Bb(11)","A(11)","G#(11)","G(11)","F#(11)","E(11)","Eb(11)","D(11)",{"$f":"$C880","v":"C#(11)"},{"$f":"$C879","v":"C(11)"},"B(11)","Bb(11)","A(11)","G#(11)","G(11)","F#(11)",null,"F(11)",882]
[null,883,{"$f":"CONCATENATE($C$9,AD879)","v":"F#(11)"},"F(11)","E(11)","Eb(11)","D(11)",{"$f":"$C880","v":"C#(11)"},{"$f":"$C879","v":"C(11)"},{"$f":"$C890","v":"B(11)"},"Bb(11)","A(11)","G#(11)","G(11)","F(11)","E(11)","Eb(11)","D(11)",{"$f":"$C880","v":"C#(11)"},{"$f":"$C879","v":"C(11)"},{"$f":"$C890","v":"B(11)"},"Bb(11)","A(11)","G#(11)","G(11)",null,"F#(11)",883]
[null,884,{"$f":"CONCATENATE($C$10,AD879)","v":"G(11)"},"F#(11)","F(11)","E(11)","Eb(11)","D(11)","C#(11)",{"$f":"$C879","v":"C(11)"},{"$f":"$C890","v":"B(11)"},"Bb(11)","A(11)","G#(11)","F#(11)","F(11)","E(11)","Eb(11)","D(11)","C#(11)",{"$f":"$C879","v":"C(11)"},{"$f":"$C890","v":"B(11)"},"Bb(11)","A(11)","G#(11)",null,"G(11)",884]
[null,885,{"$f":"CONCATENATE($C$11,AD879)","v":"G#(11)"},"G(11)","F#(11)","F(11)","E(11)","Eb(11)","D(11)",{"$f":"$C880","v":"C#(11)"},{"$f":"$C879","v":"C(11)"},{"$f":"$C890","v":"B(11)"},"Bb(11)","A(11)","G(11)","F#(11)","F(11)","E(11)","Eb(11)","D(11)",{"$f":"$C880","v":"C#(11)"},{"$f":"$C879","v":"C(11)"},{"$f":"$C890","v":"B(11)"},"Bb(11)","A(11)",null,"G#(11)",885]
[null,886,{"$f":"CONCATENATE($C$12,AD879)","v":"A(11)"},"G#(11)","G(11)","F#(11)","F(11)","E(11)","Eb(11)",{"$f":"$C881","v":"D(11)"},{"$f":"$C880","v":"C#(11)"},{"$f":"$C879","v":"C(11)"},{"$f":"$C890","v":"B(11)"},"Bb(11)","G#(11)","G(11)","F#(11)","F(11)","E(11)","Eb(11)",{"$f":"$C881","v":"D(11)"},{"$f":"$C880","v":"C#(11)"},{"$f":"$C879","v":"C(11)"},{"$f":"$C890","v":"B(11)"},"Bb(11)",null,"A(11)",886]
[null,887,{"$f":"CONCATENATE($C$13,AD879)","v":"Bb(11)"},"A(11)","G#(11)","G(11)","F#(11)","F(11)","E(11)",{"$f":"$C882","v":"Eb(11)"},{"$f":"$C881","v":"D(11)"},{"$f":"$C880","v":"C#(11)"},{"$f":"$C879","v":"C(11)"},{"$f":"$C890","v":"B(11)"},"A(11)","G#(11)","G(11)","F#(11)","F(11)","E(11)",{"$f":"$C882","v":"Eb(11)"},{"$f":"$C881","v":"D(11)"},{"$f":"$C880","v":"C#(11)"},{"$f":"$C879","v":"C(11)"},{"$f":"$C890","v":"B(11)"},null,"Bb(11)",887]
[null,888,{"$f":"CONCATENATE($C$14,AD879)","v":"B(11)"},"Bb(11)","A(11)","G#(11)","G(11)","F#(11)","F(11)",{"$f":"$C883","v":"E(11)"},{"$f":"$C882","v":"Eb(11)"},{"$f":"$C881","v":"D(11)"},{"$f":"$C880","v":"C#(11)"},{"$f":"$C879","v":"C(11)"},"Bb(11)","A(11)","G#(11)","G(11)","F#(11)","F(11)",{"$f":"$C883","v":"E(11)"},{"$f":"$C882","v":"Eb(11)"},{"$f":"$C881","v":"D(11)"},{"$f":"$C880","v":"C#(11)"},{"$f":"$C879","v":"C(11)"},null,"B(11)",888]
[null,889,{"$f":"CONCATENATE($C$3,AD891)","v":"C(#11)"},{"$f":"$C902","v":"B(#11)"},{"$f":"$C901","v":"Bb(#11)"},{"$f":"$C900","v":"A(#11)"},{"$f":"$C899","v":"G#(#11)"},{"$f":"$C898","v":"G(#11)"},{"$f":"$C897","v":"F#(#11)"},{"$f":"$C896","v":"F(#11)"},{"$f":"$C895","v":"E(#11)"},{"$f":"$C894","v":"Eb(#11)"},{"$f":"$C893","v":"D(#11)"},{"$f":"$C892","v":"C#(#11)"},{"$f":"$C902","v":"B(#11)"},{"$f":"$C901","v":"Bb(#11)"},{"$f":"$C900","v":"A(#11)"},{"$f":"$C899","v":"G#(#11)"},{"$f":"$C898","v":"G(#11)"},{"$f":"$C897","v":"F#(#11)"},{"$f":"$C896","v":"F(#11)"},{"$f":"$C895","v":"E(#11)"},{"$f":"$C894","v":"Eb(#11)"},{"$f":"$C893","v":"D(#11)"},{"$f":"$C892","v":"C#(#11)"},null,{"$f":"C891","v":"C(#11)"},889,null,"(#11)"]
[null,890,{"$f":"CONCATENATE($C$4,AD891)","v":"C#(#11)"},{"$f":"$C891","v":"C(#11)"},{"$f":"$C902","v":"B(#11)"},{"$f":"$C901","v":"Bb(#11)"},{"$f":"$C900","v":"A(#11)"},{"$f":"$C899","v":"G#(#11)"},"G(#11)","F#(#11)","F(#11)","E(#11)","Eb(#11)","D(#11)",{"$f":"$C891","v":"C(#11)"},{"$f":"$C902","v":"B(#11)"},{"$f":"$C901","v":"Bb(#11)"},{"$f":"$C900","v":"A(#11)"},{"$f":"$C899","v":"G#(#11)"},"G(#11)","F#(#11)","F(#11)","E(#11)","Eb(#11)","D(#11)",null,"C#(#11)",890]
[null,891,{"$f":"CONCATENATE($C$5,AD891)","v":"D(#11)"},{"$f":"$C892","v":"C#(#11)"},{"$f":"$C891","v":"C(#11)"},{"$f":"$C902","v":"B(#11)"},{"$f":"$C901","v":"Bb(#11)"},{"$f":"$C900","v":"A(#11)"},"G#(#11)","G(#11)","F#(#11)","F(#11)","E(#11)","Eb(#11)",{"$f":"$C892","v":"C#(#11)"},{"$f":"$C891","v":"C(#11)"},{"$f":"$C902","v":"B(#11)"},{"$f":"$C901","v":"Bb(#11)"},{"$f":"$C900","v":"A(#11)"},"G#(#11)","G(#11)","F#(#11)","F(#11)","E(#11)","Eb(#11)",null,"D(#11)",891]
[null,892,{"$f":"CONCATENATE($C$6,AD891)","v":"Eb(#11)"},"D(#11)",{"$f":"$C892","v":"C#(#11)"},{"$f":"$C891","v":"C(#11)"},{"$f":"$C902","v":"B(#11)"},{"$f":"$C901","v":"Bb(#11)"},"A(#11)","G#(#11)","G(#11)","F#(#11)","F(#11)","E(#11)","D(#11)",{"$f":"$C892","v":"C#(#11)"},{"$f":"$C891","v":"C(#11)"},{"$f":"$C902","v":"B(#11)"},{"$f":"$C901","v":"Bb(#11)"},"A(#11)","G#(#11)","G(#11)","F#(#11)","F(#11)","E(#11)",null,"Eb(#11)",892]
[null,893,{"$f":"CONCATENATE($C$7,AD891)","v":"E(#11)"},"Eb(#11)","D(#11)",{"$f":"$C892","v":"C#(#11)"},{"$f":"$C891","v":"C(#11)"},{"$f":"$C902","v":"B(#11)"},"Bb(#11)","A(#11)","G#(#11)","G(#11)","F#(#11)","F(#11)","Eb(#11)","D(#11)",{"$f":"$C892","v":"C#(#11)"},{"$f":"$C891","v":"C(#11)"},{"$f":"$C902","v":"B(#11)"},"Bb(#11)","A(#11)","G#(#11)","G(#11)","F#(#11)","F(#11)",null,"E(#11)",893]
[null,894,{"$f":"CONCATENATE($C$8,AD891)","v":"F(#11)"},"E(#11)","Eb(#11)","D(#11)",{"$f":"$C892","v":"C#(#11)"},{"$f":"$C891","v":"C(#11)"},"B(#11)","Bb(#11)","A(#11)","G#(#11)","G(#11)","F#(#11)","E(#11)","Eb(#11)","D(#11)",{"$f":"$C892","v":"C#(#11)"},{"$f":"$C891","v":"C(#11)"},"B(#11)","Bb(#11)","A(#11)","G#(#11)","G(#11)","F#(#11)",null,"F(#11)",894]
[null,895,{"$f":"CONCATENATE($C$9,AD891)","v":"F#(#11)"},"F(#11)","E(#11)","Eb(#11)","D(#11)",{"$f":"$C892","v":"C#(#11)"},{"$f":"$C891","v":"C(#11)"},{"$f":"$C902","v":"B(#11)"},"Bb(#11)","A(#11)","G#(#11)","G(#11)","F(#11)","E(#11)","Eb(#11)","D(#11)",{"$f":"$C892","v":"C#(#11)"},{"$f":"$C891","v":"C(#11)"},{"$f":"$C902","v":"B(#11)"},"Bb(#11)","A(#11)","G#(#11)","G(#11)",null,"F#(#11)",895]
[null,896,{"$f":"CONCATENATE($C$10,AD891)","v":"G(#11)"},"F#(#11)","F(#11)","E(#11)","Eb(#11)","D(#11)","C#(#11)",{"$f":"$C891","v":"C(#11)"},{"$f":"$C902","v":"B(#11)"},"Bb(#11)","A(#11)","G#(#11)","F#(#11)","F(#11)","E(#11)","Eb(#11)","D(#11)","C#(#11)",{"$f":"$C891","v":"C(#11)"},{"$f":"$C902","v":"B(#11)"},"Bb(#11)","A(#11)","G#(#11)",null,"G(#11)",896]
[null,897,{"$f":"CONCATENATE($C$11,AD891)","v":"G#(#11)"},"G(#11)","F#(#11)","F(#11)","E(#11)","Eb(#11)","D(#11)",{"$f":"$C892","v":"C#(#11)"},{"$f":"$C891","v":"C(#11)"},{"$f":"$C902","v":"B(#11)"},"Bb(#11)","A(#11)","G(#11)","F#(#11)","F(#11)","E(#11)","Eb(#11)","D(#11)",{"$f":"$C892","v":"C#(#11)"},{"$f":"$C891","v":"C(#11)"},{"$f":"$C902","v":"B(#11)"},"Bb(#11)","A(#11)",null,"G#(#11)",{"$f":"B899","v":897}]
[null,898,{"$f":"CONCATENATE($C$12,AD891)","v":"A(#11)"},"G#(#11)","G(#11)","F#(#11)","F(#11)","E(#11)","Eb(#11)",{"$f":"$C893","v":"D(#11)"},{"$f":"$C892","v":"C#(#11)"},{"$f":"$C891","v":"C(#11)"},{"$f":"$C902","v":"B(#11)"},"Bb(#11)","G#(#11)","G(#11)","F#(#11)","F(#11)","E(#11)","Eb(#11)",{"$f":"$C893","v":"D(#11)"},{"$f":"$C892","v":"C#(#11)"},{"$f":"$C891","v":"C(#11)"},{"$f":"$C902","v":"B(#11)"},"Bb(#11)",null,"A(#11)",898]
[null,899,{"$f":"CONCATENATE($C$13,AD891)","v":"Bb(#11)"},"A(#11)","G#(#11)","G(#11)","F#(#11)","F(#11)","E(#11)",{"$f":"$C894","v":"Eb(#11)"},{"$f":"$C893","v":"D(#11)"},{"$f":"$C892","v":"C#(#11)"},{"$f":"$C891","v":"C(#11)"},{"$f":"$C902","v":"B(#11)"},"A(#11)","G#(#11)","G(#11)","F#(#11)","F(#11)","E(#11)",{"$f":"$C894","v":"Eb(#11)"},{"$f":"$C893","v":"D(#11)"},{"$f":"$C892","v":"C#(#11)"},{"$f":"$C891","v":"C(#11)"},{"$f":"$C902","v":"B(#11)"},null,"Bb(#11)",899]
[null,900,{"$f":"CONCATENATE($C$14,AD891)","v":"B(#11)"},"Bb(#11)","A(#11)","G#(#11)","G(#11)","F#(#11)","F(#11)",{"$f":"$C895","v":"E(#11)"},{"$f":"$C894","v":"Eb(#11)"},{"$f":"$C893","v":"D(#11)"},{"$f":"$C892","v":"C#(#11)"},{"$f":"$C891","v":"C(#11)"},"Bb(#11)","A(#11)","G#(#11)","G(#11)","F#(#11)","F(#11)",{"$f":"$C895","v":"E(#11)"},{"$f":"$C894","v":"Eb(#11)"},{"$f":"$C893","v":"D(#11)"},{"$f":"$C892","v":"C#(#11)"},{"$f":"$C891","v":"C(#11)"},null,"B(#11)",900]
[null,901,{"$f":"CONCATENATE($C$3,AD903)","v":"C(+11)"},{"$f":"$C914","v":"B(+11)"},{"$f":"$C913","v":"Bb(+11)"},{"$f":"$C912","v":"A(+11)"},{"$f":"$C911","v":"G#(+11)"},{"$f":"$C910","v":"G(+11)"},{"$f":"$C909","v":"F#(+11)"},{"$f":"$C908","v":"F(+11)"},{"$f":"$C907","v":"E(+11)"},{"$f":"$C906","v":"Eb(+11)"},{"$f":"$C905","v":"D(+11)"},{"$f":"$C904","v":"C#(+11)"},{"$f":"$C914","v":"B(+11)"},{"$f":"$C913","v":"Bb(+11)"},{"$f":"$C912","v":"A(+11)"},{"$f":"$C911","v":"G#(+11)"},{"$f":"$C910","v":"G(+11)"},{"$f":"$C909","v":"F#(+11)"},{"$f":"$C908","v":"F(+11)"},{"$f":"$C907","v":"E(+11)"},{"$f":"$C906","v":"Eb(+11)"},{"$f":"$C905","v":"D(+11)"},{"$f":"$C904","v":"C#(+11)"},null,"C(+11)",901,null,"(+11)"]
[null,902,{"$f":"CONCATENATE($C$4,AD903)","v":"C#(+11)"},{"$f":"$C903","v":"C(+11)"},{"$f":"$C914","v":"B(+11)"},{"$f":"$C913","v":"Bb(+11)"},{"$f":"$C912","v":"A(+11)"},{"$f":"$C911","v":"G#(+11)"},"G(+11)","F#(+11)","F(+11)","E(+11)","Eb(+11)","D(+11)",{"$f":"$C903","v":"C(+11)"},{"$f":"$C914","v":"B(+11)"},{"$f":"$C913","v":"Bb(+11)"},{"$f":"$C912","v":"A(+11)"},{"$f":"$C911","v":"G#(+11)"},"G(+11)","F#(+11)","F(+11)","E(+11)","Eb(+11)","D(+11)",null,"C#(+11)",902]
[null,903,{"$f":"CONCATENATE($C$5,AD903)","v":"D(+11)"},{"$f":"$C904","v":"C#(+11)"},{"$f":"$C903","v":"C(+11)"},{"$f":"$C914","v":"B(+11)"},{"$f":"$C913","v":"Bb(+11)"},{"$f":"$C912","v":"A(+11)"},"G#(+11)","G(+11)","F#(+11)","F(+11)","E(+11)","Eb(+11)",{"$f":"$C904","v":"C#(+11)"},{"$f":"$C903","v":"C(+11)"},{"$f":"$C914","v":"B(+11)"},{"$f":"$C913","v":"Bb(+11)"},{"$f":"$C912","v":"A(+11)"},"G#(+11)","G(+11)","F#(+11)","F(+11)","E(+11)","Eb(+11)",null,"D(+11)",903]
[null,904,{"$f":"CONCATENATE($C$6,AD903)","v":"Eb(+11)"},"D(+11)",{"$f":"$C904","v":"C#(+11)"},{"$f":"$C903","v":"C(+11)"},{"$f":"$C914","v":"B(+11)"},{"$f":"$C913","v":"Bb(+11)"},"A(+11)","G#(+11)","G(+11)","F#(+11)","F(+11)","E(+11)","D(+11)",{"$f":"$C904","v":"C#(+11)"},{"$f":"$C903","v":"C(+11)"},{"$f":"$C914","v":"B(+11)"},{"$f":"$C913","v":"Bb(+11)"},"A(+11)","G#(+11)","G(+11)","F#(+11)","F(+11)","E(+11)",null,"Eb(+11)",904]
[null,905,{"$f":"CONCATENATE($C$7,AD903)","v":"E(+11)"},"Eb(+11)","D(+11)",{"$f":"$C904","v":"C#(+11)"},{"$f":"$C903","v":"C(+11)"},{"$f":"$C914","v":"B(+11)"},"Bb(+11)","A(+11)","G#(+11)","G(+11)","F#(+11)","F(+11)","Eb(+11)","D(+11)",{"$f":"$C904","v":"C#(+11)"},{"$f":"$C903","v":"C(+11)"},{"$f":"$C914","v":"B(+11)"},"Bb(+11)","A(+11)","G#(+11)","G(+11)","F#(+11)","F(+11)",null,"E(+11)",905]
[null,906,{"$f":"CONCATENATE($C$8,AD903)","v":"F(+11)"},"E(+11)","Eb(+11)","D(+11)",{"$f":"$C904","v":"C#(+11)"},{"$f":"$C903","v":"C(+11)"},"B(+11)","Bb(+11)","A(+11)","G#(+11)","G(+11)","F#(+11)","E(+11)","Eb(+11)","D(+11)",{"$f":"$C904","v":"C#(+11)"},{"$f":"$C903","v":"C(+11)"},"B(+11)","Bb(+11)","A(+11)","G#(+11)","G(+11)","F#(+11)",null,"F(+11)",906]
[null,907,{"$f":"CONCATENATE($C$9,AD903)","v":"F#(+11)"},"F(+11)","E(+11)","Eb(+11)","D(+11)",{"$f":"$C904","v":"C#(+11)"},{"$f":"$C903","v":"C(+11)"},{"$f":"$C914","v":"B(+11)"},"Bb(+11)","A(+11)","G#(+11)","G(+11)","F(+11)","E(+11)","Eb(+11)","D(+11)",{"$f":"$C904","v":"C#(+11)"},{"$f":"$C903","v":"C(+11)"},{"$f":"$C914","v":"B(+11)"},"Bb(+11)","A(+11)","G#(+11)","G(+11)",null,"F#(+11)",907]
[null,908,{"$f":"CONCATENATE($C$10,AD903)","v":"G(+11)"},"F#(+11)","F(+11)","E(+11)","Eb(+11)","D(+11)","C#(+11)",{"$f":"$C903","v":"C(+11)"},{"$f":"$C914","v":"B(+11)"},"Bb(+11)","A(+11)","G#(+11)","F#(+11)","F(+11)","E(+11)","Eb(+11)","D(+11)","C#(+11)",{"$f":"$C903","v":"C(+11)"},{"$f":"$C914","v":"B(+11)"},"Bb(+11)","A(+11)","G#(+11)",null,"G(+11)",908]
[null,909,{"$f":"CONCATENATE($C$11,AD903)","v":"G#(+11)"},"G(+11)","F#(+11)","F(+11)","E(+11)","Eb(+11)","D(+11)",{"$f":"$C904","v":"C#(+11)"},{"$f":"$C903","v":"C(+11)"},{"$f":"$C914","v":"B(+11)"},"Bb(+11)","A(+11)","G(+11)","F#(+11)","F(+11)","E(+11)","Eb(+11)","D(+11)",{"$f":"$C904","v":"C#(+11)"},{"$f":"$C903","v":"C(+11)"},{"$f":"$C914","v":"B(+11)"},"Bb(+11)","A(+11)",null,"G#(+11)",909]
[null,910,{"$f":"CONCATENATE($C$12,AD903)","v":"A(+11)"},"G#(+11)","G(+11)","F#(+11)","F(+11)","E(+11)","Eb(+11)",{"$f":"$C905","v":"D(+11)"},{"$f":"$C904","v":"C#(+11)"},{"$f":"$C903","v":"C(+11)"},{"$f":"$C914","v":"B(+11)"},"Bb(+11)","G#(+11)","G(+11)","F#(+11)","F(+11)","E(+11)","Eb(+11)",{"$f":"$C905","v":"D(+11)"},{"$f":"$C904","v":"C#(+11)"},{"$f":"$C903","v":"C(+11)"},{"$f":"$C914","v":"B(+11)"},"Bb(+11)",null,"A(+11)",910]
[null,911,{"$f":"CONCATENATE($C$13,AD903)","v":"Bb(+11)"},"A(+11)","G#(+11)","G(+11)","F#(+11)","F(+11)","E(+11)",{"$f":"$C906","v":"Eb(+11)"},{"$f":"$C905","v":"D(+11)"},{"$f":"$C904","v":"C#(+11)"},{"$f":"$C903","v":"C(+11)"},{"$f":"$C914","v":"B(+11)"},"A(+11)","G#(+11)","G(+11)","F#(+11)","F(+11)","E(+11)",{"$f":"$C906","v":"Eb(+11)"},{"$f":"$C905","v":"D(+11)"},{"$f":"$C904","v":"C#(+11)"},{"$f":"$C903","v":"C(+11)"},{"$f":"$C914","v":"B(+11)"},null,"Bb(+11)",911]
[null,912,{"$f":"CONCATENATE($C$14,AD903)","v":"B(+11)"},"Bb(+11)","A(+11)","G#(+11)","G(+11)","F#(+11)","F(+11)",{"$f":"$C907","v":"E(+11)"},{"$f":"$C906","v":"Eb(+11)"},{"$f":"$C905","v":"D(+11)"},{"$f":"$C904","v":"C#(+11)"},{"$f":"$C903","v":"C(+11)"},"Bb(+11)","A(+11)","G#(+11)","G(+11)","F#(+11)","F(+11)",{"$f":"$C907","v":"E(+11)"},{"$f":"$C906","v":"Eb(+11)"},{"$f":"$C905","v":"D(+11)"},{"$f":"$C904","v":"C#(+11)"},{"$f":"$C903","v":"C(+11)"},null,"B(+11)",912]
[null,913,{"$f":"CONCATENATE($C$3,AD915)","v":"C(13)"},{"$f":"$C926","v":"B(13)"},{"$f":"$C925","v":"Bb(13)"},{"$f":"$C924","v":"A(13)"},{"$f":"$C923","v":"G#(13)"},{"$f":"$C922","v":"G(13)"},{"$f":"$C921","v":"F#(13)"},{"$f":"$C920","v":"F(13)"},{"$f":"$C919","v":"E(13)"},{"$f":"$C918","v":"Eb(13)"},{"$f":"$C917","v":"D(13)"},{"$f":"$C916","v":"C#(13)"},{"$f":"$C926","v":"B(13)"},{"$f":"$C925","v":"Bb(13)"},{"$f":"$C924","v":"A(13)"},{"$f":"$C923","v":"G#(13)"},{"$f":"$C922","v":"G(13)"},{"$f":"$C921","v":"F#(13)"},{"$f":"$C920","v":"F(13)"},{"$f":"$C919","v":"E(13)"},{"$f":"$C918","v":"Eb(13)"},{"$f":"$C917","v":"D(13)"},{"$f":"$C916","v":"C#(13)"},null,"C(13)",913,null,"(13)"]
[null,914,{"$f":"CONCATENATE($C$4,AD915)","v":"C#(13)"},{"$f":"$C915","v":"C(13)"},{"$f":"$C926","v":"B(13)"},{"$f":"$C925","v":"Bb(13)"},{"$f":"$C924","v":"A(13)"},{"$f":"$C923","v":"G#(13)"},"G(13)","F#(13)","F(13)","E(13)","Eb(13)","D(13)",{"$f":"$C915","v":"C(13)"},{"$f":"$C926","v":"B(13)"},{"$f":"$C925","v":"Bb(13)"},{"$f":"$C924","v":"A(13)"},{"$f":"$C923","v":"G#(13)"},"G(13)","F#(13)","F(13)","E(13)","Eb(13)","D(13)",null,"C#(13)",914]
[null,915,{"$f":"CONCATENATE($C$5,AD915)","v":"D(13)"},{"$f":"$C916","v":"C#(13)"},{"$f":"$C915","v":"C(13)"},{"$f":"$C926","v":"B(13)"},{"$f":"$C925","v":"Bb(13)"},{"$f":"$C924","v":"A(13)"},"G#(13)","G(13)","F#(13)","F(13)","E(13)","Eb(13)",{"$f":"$C916","v":"C#(13)"},{"$f":"$C915","v":"C(13)"},{"$f":"$C926","v":"B(13)"},{"$f":"$C925","v":"Bb(13)"},{"$f":"$C924","v":"A(13)"},"G#(13)","G(13)","F#(13)","F(13)","E(13)","Eb(13)",null,"D(13)",915]
[null,916,{"$f":"CONCATENATE($C$6,AD915)","v":"Eb(13)"},"D(13)",{"$f":"$C916","v":"C#(13)"},{"$f":"$C915","v":"C(13)"},{"$f":"$C926","v":"B(13)"},{"$f":"$C925","v":"Bb(13)"},"A(13)","G#(13)","G(13)","F#(13)","F(13)","E(13)","D(13)",{"$f":"$C916","v":"C#(13)"},{"$f":"$C915","v":"C(13)"},{"$f":"$C926","v":"B(13)"},{"$f":"$C925","v":"Bb(13)"},"A(13)","G#(13)","G(13)","F#(13)","F(13)","E(13)",null,"Eb(13)",916]
[null,917,{"$f":"CONCATENATE($C$7,AD915)","v":"E(13)"},"Eb(13)","D(13)",{"$f":"$C916","v":"C#(13)"},{"$f":"$C915","v":"C(13)"},{"$f":"$C926","v":"B(13)"},"Bb(13)","A(13)","G#(13)","G(13)","F#(13)","F(13)","Eb(13)","D(13)",{"$f":"$C916","v":"C#(13)"},{"$f":"$C915","v":"C(13)"},{"$f":"$C926","v":"B(13)"},"Bb(13)","A(13)","G#(13)","G(13)","F#(13)","F(13)",null,"E(13)",917]
[null,918,{"$f":"CONCATENATE($C$8,AD915)","v":"F(13)"},"E(13)","Eb(13)","D(13)",{"$f":"$C916","v":"C#(13)"},{"$f":"$C915","v":"C(13)"},"B(13)","Bb(13)","A(13)","G#(13)","G(13)","F#(13)","E(13)","Eb(13)","D(13)",{"$f":"$C916","v":"C#(13)"},{"$f":"$C915","v":"C(13)"},"B(13)","Bb(13)","A(13)","G#(13)","G(13)","F#(13)",null,"F(13)",918]
[null,919,{"$f":"CONCATENATE($C$9,AD915)","v":"F#(13)"},"F(13)","E(13)","Eb(13)","D(13)",{"$f":"$C916","v":"C#(13)"},{"$f":"$C915","v":"C(13)"},{"$f":"$C926","v":"B(13)"},"Bb(13)","A(13)","G#(13)","G(13)","F(13)","E(13)","Eb(13)","D(13)",{"$f":"$C916","v":"C#(13)"},{"$f":"$C915","v":"C(13)"},{"$f":"$C926","v":"B(13)"},"Bb(13)","A(13)","G#(13)","G(13)",null,"F#(13)",919]
[null,920,{"$f":"CONCATENATE($C$10,AD915)","v":"G(13)"},"F#(13)","F(13)","E(13)","Eb(13)","D(13)","C#(13)",{"$f":"$C915","v":"C(13)"},{"$f":"$C926","v":"B(13)"},"Bb(13)","A(13)","G#(13)","F#(13)","F(13)","E(13)","Eb(13)","D(13)","C#(13)",{"$f":"$C915","v":"C(13)"},{"$f":"$C926","v":"B(13)"},"Bb(13)","A(13)","G#(13)",null,"G(13)",920]
[null,921,{"$f":"CONCATENATE($C$11,AD915)","v":"G#(13)"},"G(13)","F#(13)","F(13)","E(13)","Eb(13)","D(13)",{"$f":"$C916","v":"C#(13)"},{"$f":"$C915","v":"C(13)"},{"$f":"$C926","v":"B(13)"},"Bb(13)","A(13)","G(13)","F#(13)","F(13)","E(13)","Eb(13)","D(13)",{"$f":"$C916","v":"C#(13)"},{"$f":"$C915","v":"C(13)"},{"$f":"$C926","v":"B(13)"},"Bb(13)","A(13)",null,"G#(13)",921]
[null,922,{"$f":"CONCATENATE($C$12,AD915)","v":"A(13)"},"G#(13)","G(13)","F#(13)","F(13)","E(13)","Eb(13)",{"$f":"$C917","v":"D(13)"},{"$f":"$C916","v":"C#(13)"},{"$f":"$C915","v":"C(13)"},{"$f":"$C926","v":"B(13)"},"Bb(13)","G#(13)","G(13)","F#(13)","F(13)","E(13)","Eb(13)",{"$f":"$C917","v":"D(13)"},{"$f":"$C916","v":"C#(13)"},{"$f":"$C915","v":"C(13)"},{"$f":"$C926","v":"B(13)"},"Bb(13)",null,"A(13)",922]
[null,923,{"$f":"CONCATENATE($C$13,AD915)","v":"Bb(13)"},"A(13)","G#(13)","G(13)","F#(13)","F(13)","E(13)",{"$f":"$C918","v":"Eb(13)"},{"$f":"$C917","v":"D(13)"},{"$f":"$C916","v":"C#(13)"},{"$f":"$C915","v":"C(13)"},{"$f":"$C926","v":"B(13)"},"A(13)","G#(13)","G(13)","F#(13)","F(13)","E(13)",{"$f":"$C918","v":"Eb(13)"},{"$f":"$C917","v":"D(13)"},{"$f":"$C916","v":"C#(13)"},{"$f":"$C915","v":"C(13)"},{"$f":"$C926","v":"B(13)"},null,"Bb(13)",923]
[null,924,{"$f":"CONCATENATE($C$14,AD915)","v":"B(13)"},"Bb(13)","A(13)","G#(13)","G(13)","F#(13)","F(13)",{"$f":"$C919","v":"E(13)"},{"$f":"$C918","v":"Eb(13)"},{"$f":"$C917","v":"D(13)"},{"$f":"$C916","v":"C#(13)"},{"$f":"$C915","v":"C(13)"},"Bb(13)","A(13)","G#(13)","G(13)","F#(13)","F(13)",{"$f":"$C919","v":"E(13)"},{"$f":"$C918","v":"Eb(13)"},{"$f":"$C917","v":"D(13)"},{"$f":"$C916","v":"C#(13)"},{"$f":"$C915","v":"C(13)"},null,"B(13)",924]
[null,925,{"$f":"CONCATENATE($C$3,AD927)","v":"C(b13)"},{"$f":"$C938","v":"B(b13)"},{"$f":"$C937","v":"Bb(b13)"},{"$f":"$C936","v":"A(b13)"},{"$f":"$C935","v":"G#(b13)"},{"$f":"$C934","v":"G(b13)"},{"$f":"$C933","v":"F#(b13)"},{"$f":"$C932","v":"F(b13)"},{"$f":"$C931","v":"E(b13)"},{"$f":"$C930","v":"Eb(b13)"},{"$f":"$C929","v":"D(b13)"},{"$f":"$C928","v":"C#(b13)"},{"$f":"$C938","v":"B(b13)"},{"$f":"$C937","v":"Bb(b13)"},{"$f":"$C936","v":"A(b13)"},{"$f":"$C935","v":"G#(b13)"},{"$f":"$C934","v":"G(b13)"},{"$f":"$C933","v":"F#(b13)"},{"$f":"$C932","v":"F(b13)"},{"$f":"$C931","v":"E(b13)"},{"$f":"$C930","v":"Eb(b13)"},{"$f":"$C929","v":"D(b13)"},{"$f":"$C928","v":"C#(b13)"},null,{"$f":"C927","v":"C(b13)"},925,null,"(b13)"]
[null,926,{"$f":"CONCATENATE($C$4,AD927)","v":"C#(b13)"},{"$f":"$C927","v":"C(b13)"},{"$f":"$C938","v":"B(b13)"},{"$f":"$C937","v":"Bb(b13)"},{"$f":"$C936","v":"A(b13)"},{"$f":"$C935","v":"G#(b13)"},"G(b13)","F#(b13)","F(b13)","E(b13)","Eb(b13)","D(b13)",{"$f":"$C927","v":"C(b13)"},{"$f":"$C938","v":"B(b13)"},{"$f":"$C937","v":"Bb(b13)"},{"$f":"$C936","v":"A(b13)"},{"$f":"$C935","v":"G#(b13)"},"G(b13)","F#(b13)","F(b13)","E(b13)","Eb(b13)","D(b13)",null,"C#(b13)",926]
[null,927,{"$f":"CONCATENATE($C$5,AD927)","v":"D(b13)"},{"$f":"$C928","v":"C#(b13)"},{"$f":"$C927","v":"C(b13)"},{"$f":"$C938","v":"B(b13)"},{"$f":"$C937","v":"Bb(b13)"},{"$f":"$C936","v":"A(b13)"},"G#(b13)","G(b13)","F#(b13)","F(b13)","E(b13)","Eb(b13)",{"$f":"$C928","v":"C#(b13)"},{"$f":"$C927","v":"C(b13)"},{"$f":"$C938","v":"B(b13)"},{"$f":"$C937","v":"Bb(b13)"},{"$f":"$C936","v":"A(b13)"},"G#(b13)","G(b13)","F#(b13)","F(b13)","E(b13)","Eb(b13)",null,"D(b13)",927]
[null,928,{"$f":"CONCATENATE($C$6,AD927)","v":"Eb(b13)"},"D(b13)",{"$f":"$C928","v":"C#(b13)"},{"$f":"$C927","v":"C(b13)"},{"$f":"$C938","v":"B(b13)"},{"$f":"$C937","v":"Bb(b13)"},"A(b13)","G#(b13)","G(b13)","F#(b13)","F(b13)","E(b13)","D(b13)",{"$f":"$C928","v":"C#(b13)"},{"$f":"$C927","v":"C(b13)"},{"$f":"$C938","v":"B(b13)"},{"$f":"$C937","v":"Bb(b13)"},"A(b13)","G#(b13)","G(b13)","F#(b13)","F(b13)","E(b13)",null,"Eb(b13)",928]
[null,929,{"$f":"CONCATENATE($C$7,AD927)","v":"E(b13)"},"Eb(b13)","D(b13)",{"$f":"$C928","v":"C#(b13)"},{"$f":"$C927","v":"C(b13)"},{"$f":"$C938","v":"B(b13)"},"Bb(b13)","A(b13)","G#(b13)","G(b13)","F#(b13)","F(b13)","Eb(b13)","D(b13)",{"$f":"$C928","v":"C#(b13)"},{"$f":"$C927","v":"C(b13)"},{"$f":"$C938","v":"B(b13)"},"Bb(b13)","A(b13)","G#(b13)","G(b13)","F#(b13)","F(b13)",null,"E(b13)",929]
[null,930,{"$f":"CONCATENATE($C$8,AD927)","v":"F(b13)"},"E(b13)","Eb(b13)","D(b13)",{"$f":"$C928","v":"C#(b13)"},{"$f":"$C927","v":"C(b13)"},"B(b13)","Bb(b13)","A(b13)","G#(b13)","G(b13)","F#(b13)","E(b13)","Eb(b13)","D(b13)",{"$f":"$C928","v":"C#(b13)"},{"$f":"$C927","v":"C(b13)"},"B(b13)","Bb(b13)","A(b13)","G#(b13)","G(b13)","F#(b13)",null,"F(b13)",930]
[null,931,{"$f":"CONCATENATE($C$9,AD927)","v":"F#(b13)"},"F(b13)","E(b13)","Eb(b13)","D(b13)",{"$f":"$C928","v":"C#(b13)"},{"$f":"$C927","v":"C(b13)"},{"$f":"$C938","v":"B(b13)"},"Bb(b13)","A(b13)","G#(b13)","G(b13)","F(b13)","E(b13)","Eb(b13)","D(b13)",{"$f":"$C928","v":"C#(b13)"},{"$f":"$C927","v":"C(b13)"},{"$f":"$C938","v":"B(b13)"},"Bb(b13)","A(b13)","G#(b13)","G(b13)",null,"F#(b13)",931]
[null,932,{"$f":"CONCATENATE($C$10,AD927)","v":"G(b13)"},"F#(b13)","F(b13)","E(b13)","Eb(b13)","D(b13)","C#(b13)",{"$f":"$C927","v":"C(b13)"},{"$f":"$C938","v":"B(b13)"},"Bb(b13)","A(b13)","G#(b13)","F#(b13)","F(b13)","E(b13)","Eb(b13)","D(b13)","C#(b13)",{"$f":"$C927","v":"C(b13)"},{"$f":"$C938","v":"B(b13)"},"Bb(b13)","A(b13)","G#(b13)",null,"G(b13)",932]
[null,933,{"$f":"CONCATENATE($C$11,AD927)","v":"G#(b13)"},"G(b13)","F#(b13)","F(b13)","E(b13)","Eb(b13)","D(b13)",{"$f":"$C928","v":"C#(b13)"},{"$f":"$C927","v":"C(b13)"},{"$f":"$C938","v":"B(b13)"},"Bb(b13)","A(b13)","G(b13)","F#(b13)","F(b13)","E(b13)","Eb(b13)","D(b13)",{"$f":"$C928","v":"C#(b13)"},{"$f":"$C927","v":"C(b13)"},{"$f":"$C938","v":"B(b13)"},"Bb(b13)","A(b13)",null,"G#(b13)",933]
[null,934,{"$f":"CONCATENATE($C$12,AD927)","v":"A(b13)"},"G#(b13)","G(b13)","F#(b13)","F(b13)","E(b13)","Eb(b13)",{"$f":"$C929","v":"D(b13)"},{"$f":"$C928","v":"C#(b13)"},{"$f":"$C927","v":"C(b13)"},{"$f":"$C938","v":"B(b13)"},"Bb(b13)","G#(b13)","G(b13)","F#(b13)","F(b13)","E(b13)","Eb(b13)",{"$f":"$C929","v":"D(b13)"},{"$f":"$C928","v":"C#(b13)"},{"$f":"$C927","v":"C(b13)"},{"$f":"$C938","v":"B(b13)"},"Bb(b13)",null,"A(b13)",934]
[null,935,{"$f":"CONCATENATE($C$13,AD927)","v":"Bb(b13)"},"A(b13)","G#(b13)","G(b13)","F#(b13)","F(b13)","E(b13)",{"$f":"$C930","v":"Eb(b13)"},{"$f":"$C929","v":"D(b13)"},{"$f":"$C928","v":"C#(b13)"},{"$f":"$C927","v":"C(b13)"},{"$f":"$C938","v":"B(b13)"},"A(b13)","G#(b13)","G(b13)","F#(b13)","F(b13)","E(b13)",{"$f":"$C930","v":"Eb(b13)"},{"$f":"$C929","v":"D(b13)"},{"$f":"$C928","v":"C#(b13)"},{"$f":"$C927","v":"C(b13)"},{"$f":"$C938","v":"B(b13)"},null,"Bb(b13)",935]
[null,936,{"$f":"CONCATENATE($C$14,AD927)","v":"B(b13)"},"Bb(b13)","A(b13)","G#(b13)","G(b13)","F#(b13)","F(b13)",{"$f":"$C931","v":"E(b13)"},{"$f":"$C930","v":"Eb(b13)"},{"$f":"$C929","v":"D(b13)"},{"$f":"$C928","v":"C#(b13)"},{"$f":"$C927","v":"C(b13)"},"Bb(b13)","A(b13)","G#(b13)","G(b13)","F#(b13)","F(b13)",{"$f":"$C931","v":"E(b13)"},{"$f":"$C930","v":"Eb(b13)"},{"$f":"$C929","v":"D(b13)"},{"$f":"$C928","v":"C#(b13)"},{"$f":"$C927","v":"C(b13)"},null,"B(b13)",936]
[null,937,{"$f":"CONCATENATE($C$3,AD939)","v":"C(-13)"},{"$f":"$C950","v":"B(-13)"},{"$f":"$C949","v":"Bb(-13)"},{"$f":"$C948","v":"A(-13)"},{"$f":"$C947","v":"G#(-13)"},{"$f":"$C946","v":"G(-13)"},{"$f":"$C945","v":"F#(-13)"},{"$f":"$C944","v":"F(-13)"},{"$f":"$C943","v":"E(-13)"},{"$f":"$C942","v":"Eb(-13)"},{"$f":"$C941","v":"D(-13)"},{"$f":"$C940","v":"C#(-13)"},{"$f":"$C950","v":"B(-13)"},{"$f":"$C949","v":"Bb(-13)"},{"$f":"$C948","v":"A(-13)"},{"$f":"$C947","v":"G#(-13)"},{"$f":"$C946","v":"G(-13)"},{"$f":"$C945","v":"F#(-13)"},{"$f":"$C944","v":"F(-13)"},{"$f":"$C943","v":"E(-13)"},{"$f":"$C942","v":"Eb(-13)"},{"$f":"$C941","v":"D(-13)"},{"$f":"$C940","v":"C#(-13)"},null,"C(-13)",937,null,"(-13)"]
[null,938,{"$f":"CONCATENATE($C$4,AD939)","v":"C#(-13)"},{"$f":"$C939","v":"C(-13)"},{"$f":"$C950","v":"B(-13)"},{"$f":"$C949","v":"Bb(-13)"},{"$f":"$C948","v":"A(-13)"},{"$f":"$C947","v":"G#(-13)"},"G(-13)","F#(-13)","F(-13)","E(-13)","Eb(-13)","D(-13)",{"$f":"$C939","v":"C(-13)"},{"$f":"$C950","v":"B(-13)"},{"$f":"$C949","v":"Bb(-13)"},{"$f":"$C948","v":"A(-13)"},{"$f":"$C947","v":"G#(-13)"},"G(-13)","F#(-13)","F(-13)","E(-13)","Eb(-13)","D(-13)",null,"C#(-13)",938]
[null,939,{"$f":"CONCATENATE($C$5,AD939)","v":"D(-13)"},{"$f":"$C940","v":"C#(-13)"},{"$f":"$C939","v":"C(-13)"},{"$f":"$C950","v":"B(-13)"},{"$f":"$C949","v":"Bb(-13)"},{"$f":"$C948","v":"A(-13)"},"G#(-13)","G(-13)","F#(-13)","F(-13)","E(-13)","Eb(-13)",{"$f":"$C940","v":"C#(-13)"},{"$f":"$C939","v":"C(-13)"},{"$f":"$C950","v":"B(-13)"},{"$f":"$C949","v":"Bb(-13)"},{"$f":"$C948","v":"A(-13)"},"G#(-13)","G(-13)","F#(-13)","F(-13)","E(-13)","Eb(-13)",null,"D(-13)",939]
[null,940,{"$f":"CONCATENATE($C$6,AD939)","v":"Eb(-13)"},"D(-13)",{"$f":"$C940","v":"C#(-13)"},{"$f":"$C939","v":"C(-13)"},{"$f":"$C950","v":"B(-13)"},{"$f":"$C949","v":"Bb(-13)"},"A(-13)","G#(-13)","G(-13)","F#(-13)","F(-13)","E(-13)","D(-13)",{"$f":"$C940","v":"C#(-13)"},{"$f":"$C939","v":"C(-13)"},{"$f":"$C950","v":"B(-13)"},{"$f":"$C949","v":"Bb(-13)"},"A(-13)","G#(-13)","G(-13)","F#(-13)","F(-13)","E(-13)",null,"Eb(-13)",940]
[null,941,{"$f":"CONCATENATE($C$7,AD939)","v":"E(-13)"},"Eb(-13)","D(-13)",{"$f":"$C940","v":"C#(-13)"},{"$f":"$C939","v":"C(-13)"},{"$f":"$C950","v":"B(-13)"},"Bb(-13)","A(-13)","G#(-13)","G(-13)","F#(-13)","F(-13)","Eb(-13)","D(-13)",{"$f":"$C940","v":"C#(-13)"},{"$f":"$C939","v":"C(-13)"},{"$f":"$C950","v":"B(-13)"},"Bb(-13)","A(-13)","G#(-13)","G(-13)","F#(-13)","F(-13)",null,{"$f":"C943","v":"E(-13)"},941]
[null,942,{"$f":"CONCATENATE($C$8,AD939)","v":"F(-13)"},"E(-13)","Eb(-13)","D(-13)",{"$f":"$C940","v":"C#(-13)"},{"$f":"$C939","v":"C(-13)"},"B(-13)","Bb(-13)","A(-13)","G#(-13)","G(-13)","F#(-13)","E(-13)","Eb(-13)","D(-13)",{"$f":"$C940","v":"C#(-13)"},{"$f":"$C939","v":"C(-13)"},"B(-13)","Bb(-13)","A(-13)","G#(-13)","G(-13)","F#(-13)",null,"F(-13)",942]
[null,943,{"$f":"CONCATENATE($C$9,AD939)","v":"F#(-13)"},"F(-13)","E(-13)","Eb(-13)","D(-13)",{"$f":"$C940","v":"C#(-13)"},{"$f":"$C939","v":"C(-13)"},{"$f":"$C950","v":"B(-13)"},"Bb(-13)","A(-13)","G#(-13)","G(-13)","F(-13)","E(-13)","Eb(-13)","D(-13)",{"$f":"$C940","v":"C#(-13)"},{"$f":"$C939","v":"C(-13)"},{"$f":"$C950","v":"B(-13)"},"Bb(-13)","A(-13)","G#(-13)","G(-13)",null,"F#(-13)",943]
[null,944,{"$f":"CONCATENATE($C$10,AD939)","v":"G(-13)"},"F#(-13)","F(-13)","E(-13)","Eb(-13)","D(-13)","C#(-13)",{"$f":"$C939","v":"C(-13)"},{"$f":"$C950","v":"B(-13)"},"Bb(-13)","A(-13)","G#(-13)","F#(-13)","F(-13)","E(-13)","Eb(-13)","D(-13)","C#(-13)",{"$f":"$C939","v":"C(-13)"},{"$f":"$C950","v":"B(-13)"},"Bb(-13)","A(-13)","G#(-13)",null,"G(-13)",944]
[null,945,{"$f":"CONCATENATE($C$11,AD939)","v":"G#(-13)"},"G(-13)","F#(-13)","F(-13)","E(-13)","Eb(-13)","D(-13)",{"$f":"$C940","v":"C#(-13)"},{"$f":"$C939","v":"C(-13)"},{"$f":"$C950","v":"B(-13)"},"Bb(-13)","A(-13)","G(-13)","F#(-13)","F(-13)","E(-13)","Eb(-13)","D(-13)",{"$f":"$C940","v":"C#(-13)"},{"$f":"$C939","v":"C(-13)"},{"$f":"$C950","v":"B(-13)"},"Bb(-13)","A(-13)",null,"G#(-13)",945]
[null,946,{"$f":"CONCATENATE($C$12,AD939)","v":"A(-13)"},"G#(-13)","G(-13)","F#(-13)","F(-13)","E(-13)","Eb(-13)",{"$f":"$C941","v":"D(-13)"},{"$f":"$C940","v":"C#(-13)"},{"$f":"$C939","v":"C(-13)"},{"$f":"$C950","v":"B(-13)"},"Bb(-13)","G#(-13)","G(-13)","F#(-13)","F(-13)","E(-13)","Eb(-13)",{"$f":"$C941","v":"D(-13)"},{"$f":"$C940","v":"C#(-13)"},{"$f":"$C939","v":"C(-13)"},{"$f":"$C950","v":"B(-13)"},"Bb(-13)",null,"A(-13)",946]
[null,947,{"$f":"CONCATENATE($C$13,AD939)","v":"Bb(-13)"},"A(-13)","G#(-13)","G(-13)","F#(-13)","F(-13)","E(-13)",{"$f":"$C942","v":"Eb(-13)"},{"$f":"$C941","v":"D(-13)"},{"$f":"$C940","v":"C#(-13)"},{"$f":"$C939","v":"C(-13)"},{"$f":"$C950","v":"B(-13)"},"A(-13)","G#(-13)","G(-13)","F#(-13)","F(-13)","E(-13)",{"$f":"$C942","v":"Eb(-13)"},{"$f":"$C941","v":"D(-13)"},{"$f":"$C940","v":"C#(-13)"},{"$f":"$C939","v":"C(-13)"},{"$f":"$C950","v":"B(-13)"},null,"Bb(-13)",947]
[null,948,{"$f":"CONCATENATE($C$14,AD939)","v":"B(-13)"},"Bb(-13)","A(-13)","G#(-13)","G(-13)","F#(-13)","F(-13)",{"$f":"$C943","v":"E(-13)"},{"$f":"$C942","v":"Eb(-13)"},{"$f":"$C941","v":"D(-13)"},{"$f":"$C940","v":"C#(-13)"},{"$f":"$C939","v":"C(-13)"},"Bb(-13)","A(-13)","G#(-13)","G(-13)","F#(-13)","F(-13)",{"$f":"$C943","v":"E(-13)"},{"$f":"$C942","v":"Eb(-13)"},{"$f":"$C941","v":"D(-13)"},{"$f":"$C940","v":"C#(-13)"},{"$f":"$C939","v":"C(-13)"},null,"B(-13)",948]
[null,949,{"$f":"CONCATENATE($C$3,AD951)","v":"C(9/11)"},{"$f":"$C962","v":"B(9/11)"},{"$f":"$C961","v":"Bb(9/11)"},{"$f":"$C960","v":"A(9/11)"},{"$f":"$C959","v":"G#(9/11)"},{"$f":"$C958","v":"G(9/11)"},{"$f":"$C957","v":"F#(9/11)"},{"$f":"$C956","v":"F(9/11)"},{"$f":"$C955","v":"E(9/11)"},{"$f":"$C954","v":"Eb(9/11)"},{"$f":"$C953","v":"D(9/11)"},{"$f":"$C952","v":"C#(9/11)"},{"$f":"$C962","v":"B(9/11)"},{"$f":"$C961","v":"Bb(9/11)"},{"$f":"$C960","v":"A(9/11)"},{"$f":"$C959","v":"G#(9/11)"},{"$f":"$C958","v":"G(9/11)"},{"$f":"$C957","v":"F#(9/11)"},{"$f":"$C956","v":"F(9/11)"},{"$f":"$C955","v":"E(9/11)"},{"$f":"$C954","v":"Eb(9/11)"},{"$f":"$C953","v":"D(9/11)"},{"$f":"$C952","v":"C#(9/11)"},null,"C(9/11)",949,null,"(9/11)"]
[null,950,{"$f":"CONCATENATE($C$4,AD951)","v":"C#(9/11)"},{"$f":"$C951","v":"C(9/11)"},{"$f":"$C962","v":"B(9/11)"},{"$f":"$C961","v":"Bb(9/11)"},{"$f":"$C960","v":"A(9/11)"},{"$f":"$C959","v":"G#(9/11)"},"G(9/11)","F#(9/11)","F(9/11)","E(9/11)","Eb(9/11)","D(9/11)",{"$f":"$C951","v":"C(9/11)"},{"$f":"$C962","v":"B(9/11)"},{"$f":"$C961","v":"Bb(9/11)"},{"$f":"$C960","v":"A(9/11)"},{"$f":"$C959","v":"G#(9/11)"},"G(9/11)","F#(9/11)","F(9/11)","E(9/11)","Eb(9/11)","D(9/11)",null,"C#(9/11)",950]
[null,951,{"$f":"CONCATENATE($C$5,AD951)","v":"D(9/11)"},{"$f":"$C952","v":"C#(9/11)"},{"$f":"$C951","v":"C(9/11)"},{"$f":"$C962","v":"B(9/11)"},{"$f":"$C961","v":"Bb(9/11)"},{"$f":"$C960","v":"A(9/11)"},"G#(9/11)","G(9/11)","F#(9/11)","F(9/11)","E(9/11)","Eb(9/11)",{"$f":"$C952","v":"C#(9/11)"},{"$f":"$C951","v":"C(9/11)"},{"$f":"$C962","v":"B(9/11)"},{"$f":"$C961","v":"Bb(9/11)"},{"$f":"$C960","v":"A(9/11)"},"G#(9/11)","G(9/11)","F#(9/11)","F(9/11)","E(9/11)","Eb(9/11)",null,"D(9/11)",951]
[null,952,{"$f":"CONCATENATE($C$6,AD951)","v":"Eb(9/11)"},"D(9/11)",{"$f":"$C952","v":"C#(9/11)"},{"$f":"$C951","v":"C(9/11)"},{"$f":"$C962","v":"B(9/11)"},{"$f":"$C961","v":"Bb(9/11)"},"A(9/11)","G#(9/11)","G(9/11)","F#(9/11)","F(9/11)","E(9/11)","D(9/11)",{"$f":"$C952","v":"C#(9/11)"},{"$f":"$C951","v":"C(9/11)"},{"$f":"$C962","v":"B(9/11)"},{"$f":"$C961","v":"Bb(9/11)"},"A(9/11)","G#(9/11)","G(9/11)","F#(9/11)","F(9/11)","E(9/11)",null,"Eb(9/11)",952]
[null,953,{"$f":"CONCATENATE($C$7,AD951)","v":"E(9/11)"},"Eb(9/11)","D(9/11)",{"$f":"$C952","v":"C#(9/11)"},{"$f":"$C951","v":"C(9/11)"},{"$f":"$C962","v":"B(9/11)"},"Bb(9/11)","A(9/11)","G#(9/11)","G(9/11)","F#(9/11)","F(9/11)","Eb(9/11)","D(9/11)",{"$f":"$C952","v":"C#(9/11)"},{"$f":"$C951","v":"C(9/11)"},{"$f":"$C962","v":"B(9/11)"},"Bb(9/11)","A(9/11)","G#(9/11)","G(9/11)","F#(9/11)","F(9/11)",null,"E(9/11)",953]
[null,954,{"$f":"CONCATENATE($C$8,AD951)","v":"F(9/11)"},"E(9/11)","Eb(9/11)","D(9/11)",{"$f":"$C952","v":"C#(9/11)"},{"$f":"$C951","v":"C(9/11)"},"B(9/11)","Bb(9/11)","A(9/11)","G#(9/11)","G(9/11)","F#(9/11)","E(9/11)","Eb(9/11)","D(9/11)",{"$f":"$C952","v":"C#(9/11)"},{"$f":"$C951","v":"C(9/11)"},"B(9/11)","Bb(9/11)","A(9/11)","G#(9/11)","G(9/11)","F#(9/11)",null,"F(9/11)",954]
[null,955,{"$f":"CONCATENATE($C$9,AD951)","v":"F#(9/11)"},"F(9/11)","E(9/11)","Eb(9/11)","D(9/11)",{"$f":"$C952","v":"C#(9/11)"},{"$f":"$C951","v":"C(9/11)"},{"$f":"$C962","v":"B(9/11)"},"Bb(9/11)","A(9/11)","G#(9/11)","G(9/11)","F(9/11)","E(9/11)","Eb(9/11)","D(9/11)",{"$f":"$C952","v":"C#(9/11)"},{"$f":"$C951","v":"C(9/11)"},{"$f":"$C962","v":"B(9/11)"},"Bb(9/11)","A(9/11)","G#(9/11)","G(9/11)",null,"F#(9/11)",955]
[null,956,{"$f":"CONCATENATE($C$10,AD951)","v":"G(9/11)"},"F#(9/11)","F(9/11)","E(9/11)","Eb(9/11)","D(9/11)","C#(9/11)",{"$f":"$C951","v":"C(9/11)"},{"$f":"$C962","v":"B(9/11)"},"Bb(9/11)","A(9/11)","G#(9/11)","F#(9/11)","F(9/11)","E(9/11)","Eb(9/11)","D(9/11)","C#(9/11)",{"$f":"$C951","v":"C(9/11)"},{"$f":"$C962","v":"B(9/11)"},"Bb(9/11)","A(9/11)","G#(9/11)",null,"G(9/11)",956]
[null,957,{"$f":"CONCATENATE($C$11,AD951)","v":"G#(9/11)"},"G(9/11)","F#(9/11)","F(9/11)","E(9/11)","Eb(9/11)","D(9/11)",{"$f":"$C952","v":"C#(9/11)"},{"$f":"$C951","v":"C(9/11)"},{"$f":"$C962","v":"B(9/11)"},"Bb(9/11)","A(9/11)","G(9/11)","F#(9/11)","F(9/11)","E(9/11)","Eb(9/11)","D(9/11)",{"$f":"$C952","v":"C#(9/11)"},{"$f":"$C951","v":"C(9/11)"},{"$f":"$C962","v":"B(9/11)"},"Bb(9/11)","A(9/11)",null,"G#(9/11)",957]
[null,958,{"$f":"CONCATENATE($C$12,AD951)","v":"A(9/11)"},"G#(9/11)","G(9/11)","F#(9/11)","F(9/11)","E(9/11)","Eb(9/11)",{"$f":"$C953","v":"D(9/11)"},{"$f":"$C952","v":"C#(9/11)"},{"$f":"$C951","v":"C(9/11)"},{"$f":"$C962","v":"B(9/11)"},"Bb(9/11)","G#(9/11)","G(9/11)","F#(9/11)","F(9/11)","E(9/11)","Eb(9/11)",{"$f":"$C953","v":"D(9/11)"},{"$f":"$C952","v":"C#(9/11)"},{"$f":"$C951","v":"C(9/11)"},{"$f":"$C962","v":"B(9/11)"},"Bb(9/11)",null,"A(9/11)",958]
[null,959,{"$f":"CONCATENATE($C$13,AD951)","v":"Bb(9/11)"},"A(9/11)","G#(9/11)","G(9/11)","F#(9/11)","F(9/11)","E(9/11)",{"$f":"$C954","v":"Eb(9/11)"},{"$f":"$C953","v":"D(9/11)"},{"$f":"$C952","v":"C#(9/11)"},{"$f":"$C951","v":"C(9/11)"},{"$f":"$C962","v":"B(9/11)"},"A(9/11)","G#(9/11)","G(9/11)","F#(9/11)","F(9/11)","E(9/11)",{"$f":"$C954","v":"Eb(9/11)"},{"$f":"$C953","v":"D(9/11)"},{"$f":"$C952","v":"C#(9/11)"},{"$f":"$C951","v":"C(9/11)"},{"$f":"$C962","v":"B(9/11)"},null,"Bb(9/11)",959]
[null,960,{"$f":"CONCATENATE($C$14,AD951)","v":"B(9/11)"},"Bb(9/11)","A(9/11)","G#(9/11)","G(9/11)","F#(9/11)","F(9/11)",{"$f":"$C955","v":"E(9/11)"},{"$f":"$C954","v":"Eb(9/11)"},{"$f":"$C953","v":"D(9/11)"},{"$f":"$C952","v":"C#(9/11)"},{"$f":"$C951","v":"C(9/11)"},"Bb(9/11)","A(9/11)","G#(9/11)","G(9/11)","F#(9/11)","F(9/11)",{"$f":"$C955","v":"E(9/11)"},{"$f":"$C954","v":"Eb(9/11)"},{"$f":"$C953","v":"D(9/11)"},{"$f":"$C952","v":"C#(9/11)"},{"$f":"$C951","v":"C(9/11)"},null,"B(9/11)",960]
[null,961,{"$f":"CONCATENATE($C$3,AD963)","v":"C(9-13)"},{"$f":"$C974","v":"B(9-13)"},{"$f":"$C973","v":"Bb(9-13)"},{"$f":"$C972","v":"A(9-13)"},{"$f":"$C971","v":"G#(9-13)"},{"$f":"$C970","v":"G(9-13)"},{"$f":"$C969","v":"F#(9-13)"},{"$f":"$C968","v":"F(9-13)"},{"$f":"$C967","v":"E(9-13)"},{"$f":"$C966","v":"Eb(9-13)"},{"$f":"$C965","v":"D(9-13)"},{"$f":"$C964","v":"C#(9-13)"},{"$f":"$C974","v":"B(9-13)"},{"$f":"$C973","v":"Bb(9-13)"},{"$f":"$C972","v":"A(9-13)"},{"$f":"$C971","v":"G#(9-13)"},{"$f":"$C970","v":"G(9-13)"},{"$f":"$C969","v":"F#(9-13)"},{"$f":"$C968","v":"F(9-13)"},{"$f":"$C967","v":"E(9-13)"},{"$f":"$C966","v":"Eb(9-13)"},{"$f":"$C965","v":"D(9-13)"},{"$f":"$C964","v":"C#(9-13)"},null,"C(9-13)",{"$f":"B963","v":961},null,"(9-13)"]
[null,962,{"$f":"CONCATENATE($C$4,AD963)","v":"C#(9-13)"},{"$f":"$C963","v":"C(9-13)"},{"$f":"$C974","v":"B(9-13)"},{"$f":"$C973","v":"Bb(9-13)"},{"$f":"$C972","v":"A(9-13)"},{"$f":"$C971","v":"G#(9-13)"},"G(9-13)","F#(9-13)","F(9-13)","E(9-13)","Eb(9-13)","D(9-13)",{"$f":"$C963","v":"C(9-13)"},{"$f":"$C974","v":"B(9-13)"},{"$f":"$C973","v":"Bb(9-13)"},{"$f":"$C972","v":"A(9-13)"},{"$f":"$C971","v":"G#(9-13)"},"G(9-13)","F#(9-13)","F(9-13)","E(9-13)","Eb(9-13)","D(9-13)",null,"C#(9-13)",962]
[null,963,{"$f":"CONCATENATE($C$5,AD963)","v":"D(9-13)"},{"$f":"$C964","v":"C#(9-13)"},{"$f":"$C963","v":"C(9-13)"},{"$f":"$C974","v":"B(9-13)"},{"$f":"$C973","v":"Bb(9-13)"},{"$f":"$C972","v":"A(9-13)"},"G#(9-13)","G(9-13)","F#(9-13)","F(9-13)","E(9-13)","Eb(9-13)",{"$f":"$C964","v":"C#(9-13)"},{"$f":"$C963","v":"C(9-13)"},{"$f":"$C974","v":"B(9-13)"},{"$f":"$C973","v":"Bb(9-13)"},{"$f":"$C972","v":"A(9-13)"},"G#(9-13)","G(9-13)","F#(9-13)","F(9-13)","E(9-13)","Eb(9-13)",null,"D(9-13)",963]
[null,964,{"$f":"CONCATENATE($C$6,AD963)","v":"Eb(9-13)"},"D(9-13)",{"$f":"$C964","v":"C#(9-13)"},{"$f":"$C963","v":"C(9-13)"},{"$f":"$C974","v":"B(9-13)"},{"$f":"$C973","v":"Bb(9-13)"},"A(9-13)","G#(9-13)","G(9-13)","F#(9-13)","F(9-13)","E(9-13)","D(9-13)",{"$f":"$C964","v":"C#(9-13)"},{"$f":"$C963","v":"C(9-13)"},{"$f":"$C974","v":"B(9-13)"},{"$f":"$C973","v":"Bb(9-13)"},"A(9-13)","G#(9-13)","G(9-13)","F#(9-13)","F(9-13)","E(9-13)",null,"Eb(9-13)",964]
[null,965,{"$f":"CONCATENATE($C$7,AD963)","v":"E(9-13)"},"Eb(9-13)","D(9-13)",{"$f":"$C964","v":"C#(9-13)"},{"$f":"$C963","v":"C(9-13)"},{"$f":"$C974","v":"B(9-13)"},"Bb(9-13)","A(9-13)","G#(9-13)","G(9-13)","F#(9-13)","F(9-13)","Eb(9-13)","D(9-13)",{"$f":"$C964","v":"C#(9-13)"},{"$f":"$C963","v":"C(9-13)"},{"$f":"$C974","v":"B(9-13)"},"Bb(9-13)","A(9-13)","G#(9-13)","G(9-13)","F#(9-13)","F(9-13)",null,"E(9-13)",965]
[null,966,{"$f":"CONCATENATE($C$8,AD963)","v":"F(9-13)"},"E(9-13)","Eb(9-13)","D(9-13)",{"$f":"$C964","v":"C#(9-13)"},{"$f":"$C963","v":"C(9-13)"},"B(9-13)","Bb(9-13)","A(9-13)","G#(9-13)","G(9-13)","F#(9-13)","E(9-13)","Eb(9-13)","D(9-13)",{"$f":"$C964","v":"C#(9-13)"},{"$f":"$C963","v":"C(9-13)"},"B(9-13)","Bb(9-13)","A(9-13)","G#(9-13)","G(9-13)","F#(9-13)",null,"F(9-13)",966]
[null,967,{"$f":"CONCATENATE($C$9,AD963)","v":"F#(9-13)"},"F(9-13)","E(9-13)","Eb(9-13)","D(9-13)",{"$f":"$C964","v":"C#(9-13)"},{"$f":"$C963","v":"C(9-13)"},{"$f":"$C974","v":"B(9-13)"},"Bb(9-13)","A(9-13)","G#(9-13)","G(9-13)","F(9-13)","E(9-13)","Eb(9-13)","D(9-13)",{"$f":"$C964","v":"C#(9-13)"},{"$f":"$C963","v":"C(9-13)"},{"$f":"$C974","v":"B(9-13)"},"Bb(9-13)","A(9-13)","G#(9-13)","G(9-13)",null,"F#(9-13)",967]
[null,968,{"$f":"CONCATENATE($C$10,AD963)","v":"G(9-13)"},"F#(9-13)","F(9-13)","E(9-13)","Eb(9-13)","D(9-13)","C#(9-13)",{"$f":"$C963","v":"C(9-13)"},{"$f":"$C974","v":"B(9-13)"},"Bb(9-13)","A(9-13)","G#(9-13)","F#(9-13)","F(9-13)","E(9-13)","Eb(9-13)","D(9-13)","C#(9-13)",{"$f":"$C963","v":"C(9-13)"},{"$f":"$C974","v":"B(9-13)"},"Bb(9-13)","A(9-13)","G#(9-13)",null,"G(9-13)",968]
[null,969,{"$f":"CONCATENATE($C$11,AD963)","v":"G#(9-13)"},"G(9-13)","F#(9-13)","F(9-13)","E(9-13)","Eb(9-13)","D(9-13)",{"$f":"$C964","v":"C#(9-13)"},{"$f":"$C963","v":"C(9-13)"},{"$f":"$C974","v":"B(9-13)"},"Bb(9-13)","A(9-13)","G(9-13)","F#(9-13)","F(9-13)","E(9-13)","Eb(9-13)","D(9-13)",{"$f":"$C964","v":"C#(9-13)"},{"$f":"$C963","v":"C(9-13)"},{"$f":"$C974","v":"B(9-13)"},"Bb(9-13)","A(9-13)",null,"G#(9-13)",969]
[null,970,{"$f":"CONCATENATE($C$12,AD963)","v":"A(9-13)"},"G#(9-13)","G(9-13)","F#(9-13)","F(9-13)","E(9-13)","Eb(9-13)",{"$f":"$C965","v":"D(9-13)"},{"$f":"$C964","v":"C#(9-13)"},{"$f":"$C963","v":"C(9-13)"},{"$f":"$C974","v":"B(9-13)"},"Bb(9-13)","G#(9-13)","G(9-13)","F#(9-13)","F(9-13)","E(9-13)","Eb(9-13)",{"$f":"$C965","v":"D(9-13)"},{"$f":"$C964","v":"C#(9-13)"},{"$f":"$C963","v":"C(9-13)"},{"$f":"$C974","v":"B(9-13)"},"Bb(9-13)",null,"A(9-13)",970]
[null,971,{"$f":"CONCATENATE($C$13,AD963)","v":"Bb(9-13)"},"A(9-13)","G#(9-13)","G(9-13)","F#(9-13)","F(9-13)","E(9-13)",{"$f":"$C966","v":"Eb(9-13)"},{"$f":"$C965","v":"D(9-13)"},{"$f":"$C964","v":"C#(9-13)"},{"$f":"$C963","v":"C(9-13)"},{"$f":"$C974","v":"B(9-13)"},"A(9-13)","G#(9-13)","G(9-13)","F#(9-13)","F(9-13)","E(9-13)",{"$f":"$C966","v":"Eb(9-13)"},{"$f":"$C965","v":"D(9-13)"},{"$f":"$C964","v":"C#(9-13)"},{"$f":"$C963","v":"C(9-13)"},{"$f":"$C974","v":"B(9-13)"},null,"Bb(9-13)",971]
[null,972,{"$f":"CONCATENATE($C$14,AD963)","v":"B(9-13)"},"Bb(9-13)","A(9-13)","G#(9-13)","G(9-13)","F#(9-13)","F(9-13)",{"$f":"$C967","v":"E(9-13)"},{"$f":"$C966","v":"Eb(9-13)"},{"$f":"$C965","v":"D(9-13)"},{"$f":"$C964","v":"C#(9-13)"},{"$f":"$C963","v":"C(9-13)"},"Bb(9-13)","A(9-13)","G#(9-13)","G(9-13)","F#(9-13)","F(9-13)",{"$f":"$C967","v":"E(9-13)"},{"$f":"$C966","v":"Eb(9-13)"},{"$f":"$C965","v":"D(9-13)"},{"$f":"$C964","v":"C#(9-13)"},{"$f":"$C963","v":"C(9-13)"},null,"B(9-13)",972]
[null,973,{"$f":"CONCATENATE($C$3,AD975)","v":"C(11/13)"},{"$f":"$C986","v":"B(11/13)"},{"$f":"$C985","v":"Bb(11/13)"},{"$f":"$C984","v":"A(11/13)"},{"$f":"$C983","v":"G#(11/13)"},{"$f":"$C982","v":"G(11/13)"},{"$f":"$C981","v":"F#(11/13)"},{"$f":"$C980","v":"F(11/13)"},{"$f":"$C979","v":"E(11/13)"},{"$f":"$C978","v":"Eb(11/13)"},{"$f":"$C977","v":"D(11/13)"},{"$f":"$C976","v":"C#(11/13)"},{"$f":"$C986","v":"B(11/13)"},{"$f":"$C985","v":"Bb(11/13)"},{"$f":"$C984","v":"A(11/13)"},{"$f":"$C983","v":"G#(11/13)"},{"$f":"$C982","v":"G(11/13)"},{"$f":"$C981","v":"F#(11/13)"},{"$f":"$C980","v":"F(11/13)"},{"$f":"$C979","v":"E(11/13)"},{"$f":"$C978","v":"Eb(11/13)"},{"$f":"$C977","v":"D(11/13)"},{"$f":"$C976","v":"C#(11/13)"},null,"C(11/13)",973,null,"(11/13)"]
[null,974,{"$f":"CONCATENATE($C$4,AD975)","v":"C#(11/13)"},{"$f":"$C975","v":"C(11/13)"},{"$f":"$C986","v":"B(11/13)"},{"$f":"$C985","v":"Bb(11/13)"},{"$f":"$C984","v":"A(11/13)"},{"$f":"$C983","v":"G#(11/13)"},"G(11/13)","F#(11/13)","F(11/13)","E(11/13)","Eb(11/13)","D(11/13)",{"$f":"$C975","v":"C(11/13)"},{"$f":"$C986","v":"B(11/13)"},{"$f":"$C985","v":"Bb(11/13)"},{"$f":"$C984","v":"A(11/13)"},{"$f":"$C983","v":"G#(11/13)"},"G(11/13)","F#(11/13)","F(11/13)","E(11/13)","Eb(11/13)","D(11/13)",null,"C#(11/13)",974]
[null,975,{"$f":"CONCATENATE($C$5,AD975)","v":"D(11/13)"},{"$f":"$C976","v":"C#(11/13)"},{"$f":"$C975","v":"C(11/13)"},{"$f":"$C986","v":"B(11/13)"},{"$f":"$C985","v":"Bb(11/13)"},{"$f":"$C984","v":"A(11/13)"},"G#(11/13)","G(11/13)","F#(11/13)","F(11/13)","E(11/13)","Eb(11/13)",{"$f":"$C976","v":"C#(11/13)"},{"$f":"$C975","v":"C(11/13)"},{"$f":"$C986","v":"B(11/13)"},{"$f":"$C985","v":"Bb(11/13)"},{"$f":"$C984","v":"A(11/13)"},"G#(11/13)","G(11/13)","F#(11/13)","F(11/13)","E(11/13)","Eb(11/13)",null,"D(11/13)",975]
[null,976,{"$f":"CONCATENATE($C$6,AD975)","v":"Eb(11/13)"},"D(11/13)",{"$f":"$C976","v":"C#(11/13)"},{"$f":"$C975","v":"C(11/13)"},{"$f":"$C986","v":"B(11/13)"},{"$f":"$C985","v":"Bb(11/13)"},"A(11/13)","G#(11/13)","G(11/13)","F#(11/13)","F(11/13)","E(11/13)","D(11/13)",{"$f":"$C976","v":"C#(11/13)"},{"$f":"$C975","v":"C(11/13)"},{"$f":"$C986","v":"B(11/13)"},{"$f":"$C985","v":"Bb(11/13)"},"A(11/13)","G#(11/13)","G(11/13)","F#(11/13)","F(11/13)","E(11/13)",null,"Eb(11/13)",976]
[null,977,{"$f":"CONCATENATE($C$7,AD975)","v":"E(11/13)"},"Eb(11/13)","D(11/13)",{"$f":"$C976","v":"C#(11/13)"},{"$f":"$C975","v":"C(11/13)"},{"$f":"$C986","v":"B(11/13)"},"Bb(11/13)","A(11/13)","G#(11/13)","G(11/13)","F#(11/13)","F(11/13)","Eb(11/13)","D(11/13)",{"$f":"$C976","v":"C#(11/13)"},{"$f":"$C975","v":"C(11/13)"},{"$f":"$C986","v":"B(11/13)"},"Bb(11/13)","A(11/13)","G#(11/13)","G(11/13)","F#(11/13)","F(11/13)",null,"E(11/13)",977]
[null,978,{"$f":"CONCATENATE($C$8,AD975)","v":"F(11/13)"},"E(11/13)","Eb(11/13)","D(11/13)",{"$f":"$C976","v":"C#(11/13)"},{"$f":"$C975","v":"C(11/13)"},"B(11/13)","Bb(11/13)","A(11/13)","G#(11/13)","G(11/13)","F#(11/13)","E(11/13)","Eb(11/13)","D(11/13)",{"$f":"$C976","v":"C#(11/13)"},{"$f":"$C975","v":"C(11/13)"},"B(11/13)","Bb(11/13)","A(11/13)","G#(11/13)","G(11/13)","F#(11/13)",null,"F(11/13)",978]
[null,979,{"$f":"CONCATENATE($C$9,AD975)","v":"F#(11/13)"},"F(11/13)","E(11/13)","Eb(11/13)","D(11/13)",{"$f":"$C976","v":"C#(11/13)"},{"$f":"$C975","v":"C(11/13)"},{"$f":"$C986","v":"B(11/13)"},"Bb(11/13)","A(11/13)","G#(11/13)","G(11/13)","F(11/13)","E(11/13)","Eb(11/13)","D(11/13)",{"$f":"$C976","v":"C#(11/13)"},{"$f":"$C975","v":"C(11/13)"},{"$f":"$C986","v":"B(11/13)"},"Bb(11/13)","A(11/13)","G#(11/13)","G(11/13)",null,"F#(11/13)",979]
[null,980,{"$f":"CONCATENATE($C$10,AD975)","v":"G(11/13)"},"F#(11/13)","F(11/13)","E(11/13)","Eb(11/13)","D(11/13)","C#(11/13)",{"$f":"$C975","v":"C(11/13)"},{"$f":"$C986","v":"B(11/13)"},"Bb(11/13)","A(11/13)","G#(11/13)","F#(11/13)","F(11/13)","E(11/13)","Eb(11/13)","D(11/13)","C#(11/13)",{"$f":"$C975","v":"C(11/13)"},{"$f":"$C986","v":"B(11/13)"},"Bb(11/13)","A(11/13)","G#(11/13)",null,"G(11/13)",980]
[null,981,{"$f":"CONCATENATE($C$11,AD975)","v":"G#(11/13)"},"G(11/13)","F#(11/13)","F(11/13)","E(11/13)","Eb(11/13)","D(11/13)",{"$f":"$C976","v":"C#(11/13)"},{"$f":"$C975","v":"C(11/13)"},{"$f":"$C986","v":"B(11/13)"},"Bb(11/13)","A(11/13)","G(11/13)","F#(11/13)","F(11/13)","E(11/13)","Eb(11/13)","D(11/13)",{"$f":"$C976","v":"C#(11/13)"},{"$f":"$C975","v":"C(11/13)"},{"$f":"$C986","v":"B(11/13)"},"Bb(11/13)","A(11/13)",null,"G#(11/13)",981]
[null,982,{"$f":"CONCATENATE($C$12,AD975)","v":"A(11/13)"},"G#(11/13)","G(11/13)","F#(11/13)","F(11/13)","E(11/13)","Eb(11/13)",{"$f":"$C977","v":"D(11/13)"},{"$f":"$C976","v":"C#(11/13)"},{"$f":"$C975","v":"C(11/13)"},{"$f":"$C986","v":"B(11/13)"},"Bb(11/13)","G#(11/13)","G(11/13)","F#(11/13)","F(11/13)","E(11/13)","Eb(11/13)",{"$f":"$C977","v":"D(11/13)"},{"$f":"$C976","v":"C#(11/13)"},{"$f":"$C975","v":"C(11/13)"},{"$f":"$C986","v":"B(11/13)"},"Bb(11/13)",null,"A(11/13)",982]
[null,983,{"$f":"CONCATENATE($C$13,AD975)","v":"Bb(11/13)"},"A(11/13)","G#(11/13)","G(11/13)","F#(11/13)","F(11/13)","E(11/13)",{"$f":"$C978","v":"Eb(11/13)"},{"$f":"$C977","v":"D(11/13)"},{"$f":"$C976","v":"C#(11/13)"},{"$f":"$C975","v":"C(11/13)"},{"$f":"$C986","v":"B(11/13)"},"A(11/13)","G#(11/13)","G(11/13)","F#(11/13)","F(11/13)","E(11/13)",{"$f":"$C978","v":"Eb(11/13)"},{"$f":"$C977","v":"D(11/13)"},{"$f":"$C976","v":"C#(11/13)"},{"$f":"$C975","v":"C(11/13)"},{"$f":"$C986","v":"B(11/13)"},null,"Bb(11/13)",983]
[null,984,{"$f":"CONCATENATE($C$14,AD975)","v":"B(11/13)"},"Bb(11/13)","A(11/13)","G#(11/13)","G(11/13)","F#(11/13)","F(11/13)",{"$f":"$C979","v":"E(11/13)"},{"$f":"$C978","v":"Eb(11/13)"},{"$f":"$C977","v":"D(11/13)"},{"$f":"$C976","v":"C#(11/13)"},{"$f":"$C975","v":"C(11/13)"},"Bb(11/13)","A(11/13)","G#(11/13)","G(11/13)","F#(11/13)","F(11/13)",{"$f":"$C979","v":"E(11/13)"},{"$f":"$C978","v":"Eb(11/13)"},{"$f":"$C977","v":"D(11/13)"},{"$f":"$C976","v":"C#(11/13)"},{"$f":"$C975","v":"C(11/13)"},null,"B(11/13)",984]
[null,985,{"$f":"CONCATENATE($C$3,AD987)","v":"C/C#"},{"$f":"$C998","v":"B/C"},{"$f":"$C997","v":"Bb/B"},{"$f":"$C996","v":"A/Bb"},{"$f":"$C995","v":"G#/A"},{"$f":"$C994","v":"G/G#"},{"$f":"$C993","v":"F#/G"},{"$f":"$C992","v":"F/F#"},{"$f":"$C991","v":"E/F"},{"$f":"$C990","v":"Eb/E"},{"$f":"$C989","v":"D/Eb"},{"$f":"$C988","v":"C#/D"},{"$f":"$C998","v":"B/C"},{"$f":"$C997","v":"Bb/B"},{"$f":"$C996","v":"A/Bb"},{"$f":"$C995","v":"G#/A"},{"$f":"$C994","v":"G/G#"},{"$f":"$C993","v":"F#/G"},{"$f":"$C992","v":"F/F#"},{"$f":"$C991","v":"E/F"},{"$f":"$C990","v":"Eb/E"},{"$f":"$C989","v":"D/Eb"},{"$f":"$C988","v":"C#/D"},null,{"$f":"C987","v":"C/C#"},985,null,{"$f":"CONCATENATE(AE987,VLOOKUP(AF987,$AH$1647:$AH$1669,1,0))","v":"/C#"},"/",{"$f":"IF(印刷用!$T$12=1,$AK$1647,$AK$1648)","v":"C#"}]
[null,986,{"$f":"CONCATENATE($C$4,AD988)","v":"C#/D"},{"$f":"$C987","v":"C/C#"},{"$f":"$C998","v":"B/C"},{"$f":"$C997","v":"Bb/B"},{"$f":"$C996","v":"A/Bb"},{"$f":"$C995","v":"G#/A"},"G/G#","F#/G","F/F#","E/F","Eb/E","D/Eb",{"$f":"$C987","v":"C/C#"},{"$f":"$C998","v":"B/C"},{"$f":"$C997","v":"Bb/B"},{"$f":"$C996","v":"A/Bb"},{"$f":"$C995","v":"G#/A"},"G/G#","F#/G","F/F#","E/F","Eb/E","D/Eb",null,"C#/D",986,null,{"$f":"CONCATENATE(AE987,VLOOKUP(AF988,$AH$1647:$AH$1669,1,0))","v":"/D"},null,{"$f":"VLOOKUP(AF987,$AH$1647:$AI$1658,2,0)","v":"D"}]
[null,987,{"$f":"CONCATENATE($C$5,AD989)","v":"D/Eb"},{"$f":"$C988","v":"C#/D"},{"$f":"$C987","v":"C/C#"},{"$f":"$C998","v":"B/C"},{"$f":"$C997","v":"Bb/B"},{"$f":"$C996","v":"A/Bb"},"G#/A","G/G#","F#/G","F/F#","E/F","Eb/E",{"$f":"$C988","v":"C#/D"},{"$f":"$C987","v":"C/C#"},{"$f":"$C998","v":"B/C"},{"$f":"$C997","v":"Bb/B"},{"$f":"$C996","v":"A/Bb"},"G#/A","G/G#","F#/G","F/F#","E/F","Eb/E",null,"D/Eb",987,null,{"$f":"CONCATENATE(AE987,VLOOKUP(AF989,$AH$1647:$AH$1669,1,0))","v":"/Eb"},null,"Eb"]
[null,988,{"$f":"CONCATENATE($C$6,AD990)","v":"Eb/E"},"D/Eb",{"$f":"$C988","v":"C#/D"},{"$f":"$C987","v":"C/C#"},{"$f":"$C998","v":"B/C"},{"$f":"$C997","v":"Bb/B"},"A/Bb","G#/A","G/G#","F#/G","F/F#","E/F","D/Eb",{"$f":"$C988","v":"C#/D"},{"$f":"$C987","v":"C/C#"},{"$f":"$C998","v":"B/C"},{"$f":"$C997","v":"Bb/B"},"A/Bb","G#/A","G/G#","F#/G","F/F#","E/F",null,"Eb/E",988,null,{"$f":"CONCATENATE(AE987,VLOOKUP(AF990,$AH$1647:$AH$1669,1,0))","v":"/E"},null,"E"]
[null,989,{"$f":"CONCATENATE($C$7,AD991)","v":"E/F"},"Eb/E","D/Eb",{"$f":"$C988","v":"C#/D"},{"$f":"$C987","v":"C/C#"},{"$f":"$C998","v":"B/C"},"Bb/B","A/Bb","G#/A","G/G#","F#/G","F/F#","Eb/E","D/Eb",{"$f":"$C988","v":"C#/D"},{"$f":"$C987","v":"C/C#"},{"$f":"$C998","v":"B/C"},"Bb/B","A/Bb","G#/A","G/G#","F#/G","F/F#",null,"E/F",989,null,{"$f":"CONCATENATE(AE987,VLOOKUP(AF991,$AH$1647:$AH$1669,1,0))","v":"/F"},null,"F"]
[null,990,{"$f":"CONCATENATE($C$8,AD992)","v":"F/F#"},"E/F","Eb/E","D/Eb",{"$f":"$C988","v":"C#/D"},{"$f":"$C987","v":"C/C#"},"B/C","Bb/B","A/Bb","G#/A","G/G#","F#/G","E/F","Eb/E","D/Eb",{"$f":"$C988","v":"C#/D"},{"$f":"$C987","v":"C/C#"},"B/C","Bb/B","A/Bb","G#/A","G/G#","F#/G",null,"F/F#",990,null,{"$f":"CONCATENATE(AE987,VLOOKUP(AF992,$AH$1647:$AH$1669,1,0))","v":"/F#"},null,"F#"]
[null,991,{"$f":"CONCATENATE($C$9,AD993)","v":"F#/G"},"F/F#","E/F","Eb/E","D/Eb",{"$f":"$C988","v":"C#/D"},{"$f":"$C987","v":"C/C#"},{"$f":"$C998","v":"B/C"},"Bb/B","A/Bb","G#/A","G/G#","F/F#","E/F","Eb/E","D/Eb",{"$f":"$C988","v":"C#/D"},{"$f":"$C987","v":"C/C#"},{"$f":"$C998","v":"B/C"},"Bb/B","A/Bb","G#/A","G/G#",null,"F#/G",991,null,{"$f":"CONCATENATE(AE987,VLOOKUP(AF993,$AH$1647:$AH$1669,1,0))","v":"/G"},null,"G"]
[null,992,{"$f":"CONCATENATE($C$10,AD994)","v":"G/G#"},"F#/G","F/F#","E/F","Eb/E","D/Eb","C#/D",{"$f":"$C987","v":"C/C#"},{"$f":"$C998","v":"B/C"},"Bb/B","A/Bb","G#/A","F#/G","F/F#","E/F","Eb/E","D/Eb","C#/D",{"$f":"$C987","v":"C/C#"},{"$f":"$C998","v":"B/C"},"Bb/B","A/Bb","G#/A",null,"G/G#",992,null,{"$f":"CONCATENATE(AE987,VLOOKUP(AF994,$AH$1647:$AH$1669,1,0))","v":"/G#"},null,"G#"]
[null,993,{"$f":"CONCATENATE($C$11,AD995)","v":"G#/A"},"G/G#","F#/G","F/F#","E/F","Eb/E","D/Eb",{"$f":"$C988","v":"C#/D"},{"$f":"$C987","v":"C/C#"},{"$f":"$C998","v":"B/C"},"Bb/B","A/Bb","G/G#","F#/G","F/F#","E/F","Eb/E","D/Eb",{"$f":"$C988","v":"C#/D"},{"$f":"$C987","v":"C/C#"},{"$f":"$C998","v":"B/C"},"Bb/B","A/Bb",null,"G#/A",993,null,{"$f":"CONCATENATE(AE987,VLOOKUP(AF995,$AH$1647:$AH$1669,1,0))","v":"/A"},null,"A"]
[null,994,{"$f":"CONCATENATE($C$12,AD996)","v":"A/Bb"},"G#/A","G/G#","F#/G","F/F#","E/F","Eb/E",{"$f":"$C989","v":"D/Eb"},{"$f":"$C988","v":"C#/D"},{"$f":"$C987","v":"C/C#"},{"$f":"$C998","v":"B/C"},"Bb/B","G#/A","G/G#","F#/G","F/F#","E/F","Eb/E",{"$f":"$C989","v":"D/Eb"},{"$f":"$C988","v":"C#/D"},{"$f":"$C987","v":"C/C#"},{"$f":"$C998","v":"B/C"},"Bb/B",null,"A/Bb",994,null,{"$f":"CONCATENATE(AE987,VLOOKUP(AF996,$AH$1647:$AH$1669,1,0))","v":"/Bb"},null,"Bb"]
[null,995,{"$f":"CONCATENATE($C$13,AD997)","v":"Bb/B"},"A/Bb","G#/A","G/G#","F#/G","F/F#","E/F",{"$f":"$C990","v":"Eb/E"},{"$f":"$C989","v":"D/Eb"},{"$f":"$C988","v":"C#/D"},{"$f":"$C987","v":"C/C#"},{"$f":"$C998","v":"B/C"},"A/Bb","G#/A","G/G#","F#/G","F/F#","E/F",{"$f":"$C990","v":"Eb/E"},{"$f":"$C989","v":"D/Eb"},{"$f":"$C988","v":"C#/D"},{"$f":"$C987","v":"C/C#"},{"$f":"$C998","v":"B/C"},null,"Bb/B",995,null,{"$f":"CONCATENATE(AE987,VLOOKUP(AF997,$AH$1647:$AH$1669,1,0))","v":"/B"},null,"B"]
[null,996,{"$f":"CONCATENATE($C$14,AD998)","v":"B/C"},"Bb/B","A/Bb","G#/A","G/G#","F#/G","F/F#",{"$f":"$C991","v":"E/F"},{"$f":"$C990","v":"Eb/E"},{"$f":"$C989","v":"D/Eb"},{"$f":"$C988","v":"C#/D"},{"$f":"$C987","v":"C/C#"},"Bb/B","A/Bb","G#/A","G/G#","F#/G","F/F#",{"$f":"$C991","v":"E/F"},{"$f":"$C990","v":"Eb/E"},{"$f":"$C989","v":"D/Eb"},{"$f":"$C988","v":"C#/D"},{"$f":"$C987","v":"C/C#"},null,"B/C",996,null,{"$f":"CONCATENATE(AE987,VLOOKUP(AF998,$AH$1647:$AH$1669,1,0))","v":"/C"},null,"C"]
[null,997,{"$f":"CONCATENATE($C$3,AD999)","v":"C/D"},{"$f":"$C1010","v":"B/C#"},{"$f":"$C1009","v":"Bb/C"},{"$f":"$C1008","v":"A/B"},{"$f":"$C1007","v":"G#/Bb"},{"$f":"$C1006","v":"G/A"},{"$f":"$C1005","v":"F#/G#"},{"$f":"$C1004","v":"F/G"},{"$f":"$C1003","v":"E/F#"},{"$f":"$C1002","v":"Eb/F"},{"$f":"$C1001","v":"D/E"},{"$f":"$C1000","v":"C#/Eb"},{"$f":"$C1010","v":"B/C#"},{"$f":"$C1009","v":"Bb/C"},{"$f":"$C1008","v":"A/B"},{"$f":"$C1007","v":"G#/Bb"},{"$f":"$C1006","v":"G/A"},{"$f":"$C1005","v":"F#/G#"},{"$f":"$C1004","v":"F/G"},{"$f":"$C1003","v":"E/F#"},{"$f":"$C1002","v":"Eb/F"},{"$f":"$C1001","v":"D/E"},{"$f":"$C1000","v":"C#/Eb"},null,"C/D",997,null,{"$f":"CONCATENATE(AE999,VLOOKUP(AF999,$AH$1647:$AH$1669,1,0))","v":"/D"},"/","D"]
[null,998,{"$f":"CONCATENATE($C$4,AD1000)","v":"C#/Eb"},{"$f":"$C999","v":"C/D"},{"$f":"$C1010","v":"B/C#"},{"$f":"$C1009","v":"Bb/C"},{"$f":"$C1008","v":"A/B"},{"$f":"$C1007","v":"G#/Bb"},"G/A","F#/G#","F/G","E/F#","Eb/F","D/E",{"$f":"$C999","v":"C/D"},{"$f":"$C1010","v":"B/C#"},{"$f":"$C1009","v":"Bb/C"},{"$f":"$C1008","v":"A/B"},{"$f":"$C1007","v":"G#/Bb"},"G/A","F#/G#","F/G","E/F#","Eb/F","D/E",null,"C#/Eb",998,null,{"$f":"CONCATENATE(AE999,VLOOKUP(AF1000,$AH$1647:$AH$1669,1,0))","v":"/Eb"},null,{"$f":"VLOOKUP(AF999,$AH$1647:$AI$1658,2,0)","v":"Eb"}]
[null,999,{"$f":"CONCATENATE($C$5,AD1001)","v":"D/E"},{"$f":"$C1000","v":"C#/Eb"},{"$f":"$C999","v":"C/D"},{"$f":"$C1010","v":"B/C#"},{"$f":"$C1009","v":"Bb/C"},{"$f":"$C1008","v":"A/B"},"G#/Bb","G/A","F#/G#","F/G","E/F#","Eb/F",{"$f":"$C1000","v":"C#/Eb"},{"$f":"$C999","v":"C/D"},{"$f":"$C1010","v":"B/C#"},{"$f":"$C1009","v":"Bb/C"},{"$f":"$C1008","v":"A/B"},"G#/Bb","G/A","F#/G#","F/G","E/F#","Eb/F",null,"D/E",999,null,{"$f":"CONCATENATE(AE999,VLOOKUP(AF1001,$AH$1647:$AH$1669,1,0))","v":"/E"},null,"E"]
[null,1000,{"$f":"CONCATENATE($C$6,AD1002)","v":"Eb/F"},"D/E",{"$f":"$C1000","v":"C#/Eb"},{"$f":"$C999","v":"C/D"},{"$f":"$C1010","v":"B/C#"},{"$f":"$C1009","v":"Bb/C"},"A/B","G#/Bb","G/A","F#/G#","F/G","E/F#","D/E",{"$f":"$C1000","v":"C#/Eb"},{"$f":"$C999","v":"C/D"},{"$f":"$C1010","v":"B/C#"},{"$f":"$C1009","v":"Bb/C"},"A/B","G#/Bb","G/A","F#/G#","F/G","E/F#",null,"Eb/F",1000,null,{"$f":"CONCATENATE(AE999,VLOOKUP(AF1002,$AH$1647:$AH$1669,1,0))","v":"/F"},null,"F"]
[null,1001,{"$f":"CONCATENATE($C$7,AD1003)","v":"E/F#"},"Eb/F","D/E",{"$f":"$C1000","v":"C#/Eb"},{"$f":"$C999","v":"C/D"},{"$f":"$C1010","v":"B/C#"},"Bb/C","A/B","G#/Bb","G/A","F#/G#","F/G","Eb/F","D/E",{"$f":"$C1000","v":"C#/Eb"},{"$f":"$C999","v":"C/D"},{"$f":"$C1010","v":"B/C#"},"Bb/C","A/B","G#/Bb","G/A","F#/G#","F/G",null,"E/F#",1001,null,{"$f":"CONCATENATE(AE999,VLOOKUP(AF1003,$AH$1647:$AH$1669,1,0))","v":"/F#"},null,"F#"]
[null,1002,{"$f":"CONCATENATE($C$8,AD1004)","v":"F/G"},"E/F#","Eb/F","D/E",{"$f":"$C1000","v":"C#/Eb"},{"$f":"$C999","v":"C/D"},"B/C#","Bb/C","A/B","G#/Bb","G/A","F#/G#","E/F#","Eb/F","D/E",{"$f":"$C1000","v":"C#/Eb"},{"$f":"$C999","v":"C/D"},"B/C#","Bb/C","A/B","G#/Bb","G/A","F#/G#",null,"F/G",1002,null,{"$f":"CONCATENATE(AE999,VLOOKUP(AF1004,$AH$1647:$AH$1669,1,0))","v":"/G"},null,"G"]
[null,1003,{"$f":"CONCATENATE($C$9,AD1005)","v":"F#/G#"},"F/G","E/F#","Eb/F","D/E",{"$f":"$C1000","v":"C#/Eb"},{"$f":"$C999","v":"C/D"},{"$f":"$C1010","v":"B/C#"},"Bb/C","A/B","G#/Bb","G/A","F/G","E/F#","Eb/F","D/E",{"$f":"$C1000","v":"C#/Eb"},{"$f":"$C999","v":"C/D"},{"$f":"$C1010","v":"B/C#"},"Bb/C","A/B","G#/Bb","G/A",null,"F#/G#",1003,null,{"$f":"CONCATENATE(AE999,VLOOKUP(AF1005,$AH$1647:$AH$1669,1,0))","v":"/G#"},null,"G#"]
[null,1004,{"$f":"CONCATENATE($C$10,AD1006)","v":"G/A"},"F#/G#","F/G","E/F#","Eb/F","D/E","C#/Eb",{"$f":"$C999","v":"C/D"},{"$f":"$C1010","v":"B/C#"},"Bb/C","A/B","G#/Bb","F#/G#","F/G","E/F#","Eb/F","D/E","C#/Eb",{"$f":"$C999","v":"C/D"},{"$f":"$C1010","v":"B/C#"},"Bb/C","A/B","G#/Bb",null,"G/A",1004,null,{"$f":"CONCATENATE(AE999,VLOOKUP(AF1006,$AH$1647:$AH$1669,1,0))","v":"/A"},null,"A"]
[null,1005,{"$f":"CONCATENATE($C$11,AD1007)","v":"G#/Bb"},"G/A","F#/G#","F/G","E/F#","Eb/F","D/E",{"$f":"$C1000","v":"C#/Eb"},{"$f":"$C999","v":"C/D"},{"$f":"$C1010","v":"B/C#"},"Bb/C","A/B","G/A","F#/G#","F/G","E/F#","Eb/F","D/E",{"$f":"$C1000","v":"C#/Eb"},{"$f":"$C999","v":"C/D"},{"$f":"$C1010","v":"B/C#"},"Bb/C","A/B",null,"G#/Bb",1005,null,{"$f":"CONCATENATE(AE999,VLOOKUP(AF1007,$AH$1647:$AH$1669,1,0))","v":"/Bb"},null,"Bb"]
[null,1006,{"$f":"CONCATENATE($C$12,AD1008)","v":"A/B"},"G#/Bb","G/A","F#/G#","F/G","E/F#","Eb/F",{"$f":"$C1001","v":"D/E"},{"$f":"$C1000","v":"C#/Eb"},{"$f":"$C999","v":"C/D"},{"$f":"$C1010","v":"B/C#"},"Bb/C","G#/Bb","G/A","F#/G#","F/G","E/F#","Eb/F",{"$f":"$C1001","v":"D/E"},{"$f":"$C1000","v":"C#/Eb"},{"$f":"$C999","v":"C/D"},{"$f":"$C1010","v":"B/C#"},"Bb/C",null,{"$f":"C1008","v":"A/B"},1006,null,{"$f":"CONCATENATE(AE999,VLOOKUP(AF1008,$AH$1647:$AH$1669,1,0))","v":"/B"},null,"B"]
[null,1007,{"$f":"CONCATENATE($C$13,AD1009)","v":"Bb/C"},"A/B","G#/Bb","G/A","F#/G#","F/G","E/F#",{"$f":"$C1002","v":"Eb/F"},{"$f":"$C1001","v":"D/E"},{"$f":"$C1000","v":"C#/Eb"},{"$f":"$C999","v":"C/D"},{"$f":"$C1010","v":"B/C#"},"A/B","G#/Bb","G/A","F#/G#","F/G","E/F#",{"$f":"$C1002","v":"Eb/F"},{"$f":"$C1001","v":"D/E"},{"$f":"$C1000","v":"C#/Eb"},{"$f":"$C999","v":"C/D"},{"$f":"$C1010","v":"B/C#"},null,"Bb/C",1007,null,{"$f":"CONCATENATE(AE999,VLOOKUP(AF1009,$AH$1647:$AH$1669,1,0))","v":"/C"},null,"C"]
[null,1008,{"$f":"CONCATENATE($C$14,AD1010)","v":"B/C#"},"Bb/C","A/B","G#/Bb","G/A","F#/G#","F/G",{"$f":"$C1003","v":"E/F#"},{"$f":"$C1002","v":"Eb/F"},{"$f":"$C1001","v":"D/E"},{"$f":"$C1000","v":"C#/Eb"},{"$f":"$C999","v":"C/D"},"Bb/C","A/B","G#/Bb","G/A","F#/G#","F/G",{"$f":"$C1003","v":"E/F#"},{"$f":"$C1002","v":"Eb/F"},{"$f":"$C1001","v":"D/E"},{"$f":"$C1000","v":"C#/Eb"},{"$f":"$C999","v":"C/D"},null,"B/C#",1008,null,{"$f":"CONCATENATE(AE999,VLOOKUP(AF1010,$AH$1647:$AH$1669,1,0))","v":"/C#"},null,"C#"]
[null,1009,{"$f":"CONCATENATE($C$3,AD1011)","v":"C/Eb"},{"$f":"$C1022","v":"B/D"},{"$f":"$C1021","v":"Bb/C#"},{"$f":"$C1020","v":"A/C"},{"$f":"$C1019","v":"G#/B"},{"$f":"$C1018","v":"G/Bb"},{"$f":"$C1017","v":"F#/A"},{"$f":"$C1016","v":"F/G#"},{"$f":"$C1015","v":"E/G"},{"$f":"$C1014","v":"Eb/F#"},{"$f":"$C1013","v":"D/F"},{"$f":"$C1012","v":"C#/E"},{"$f":"$C1022","v":"B/D"},{"$f":"$C1021","v":"Bb/C#"},{"$f":"$C1020","v":"A/C"},{"$f":"$C1019","v":"G#/B"},{"$f":"$C1018","v":"G/Bb"},{"$f":"$C1017","v":"F#/A"},{"$f":"$C1016","v":"F/G#"},{"$f":"$C1015","v":"E/G"},{"$f":"$C1014","v":"Eb/F#"},{"$f":"$C1013","v":"D/F"},{"$f":"$C1012","v":"C#/E"},null,"C/Eb",1009,null,{"$f":"CONCATENATE(AE1011,VLOOKUP(AF1011,$AH$1647:$AH$1669,1,0))","v":"/Eb"},"/",{"$f":"IF(印刷用!$V$12=1,$AK$1649,$AK$1650)","v":"Eb"}]
[null,1010,{"$f":"CONCATENATE($C$4,AD1012)","v":"C#/E"},{"$f":"$C1011","v":"C/Eb"},{"$f":"$C1022","v":"B/D"},{"$f":"$C1021","v":"Bb/C#"},{"$f":"$C1020","v":"A/C"},{"$f":"$C1019","v":"G#/B"},"G/Bb","F#/A","F/G#","E/G","Eb/F#","D/F",{"$f":"$C1011","v":"C/Eb"},{"$f":"$C1022","v":"B/D"},{"$f":"$C1021","v":"Bb/C#"},{"$f":"$C1020","v":"A/C"},{"$f":"$C1019","v":"G#/B"},"G/Bb","F#/A","F/G#","E/G","Eb/F#","D/F",null,"C#/E",1010,null,{"$f":"CONCATENATE(AE1011,VLOOKUP(AF1012,$AH$1647:$AH$1669,1,0))","v":"/E"},null,{"$f":"VLOOKUP(AF1011,$AH$1647:$AI$1658,2,0)","v":"E"}]
[null,1011,{"$f":"CONCATENATE($C$5,AD1013)","v":"D/F"},{"$f":"$C1012","v":"C#/E"},{"$f":"$C1011","v":"C/Eb"},{"$f":"$C1022","v":"B/D"},{"$f":"$C1021","v":"Bb/C#"},{"$f":"$C1020","v":"A/C"},"G#/B","G/Bb","F#/A","F/G#","E/G","Eb/F#",{"$f":"$C1012","v":"C#/E"},{"$f":"$C1011","v":"C/Eb"},{"$f":"$C1022","v":"B/D"},{"$f":"$C1021","v":"Bb/C#"},{"$f":"$C1020","v":"A/C"},"G#/B","G/Bb","F#/A","F/G#","E/G","Eb/F#",null,"D/F",1011,null,{"$f":"CONCATENATE(AE1011,VLOOKUP(AF1013,$AH$1647:$AH$1669,1,0))","v":"/F"},null,"F"]
[null,1012,{"$f":"CONCATENATE($C$6,AD1014)","v":"Eb/F#"},"D/F",{"$f":"$C1012","v":"C#/E"},{"$f":"$C1011","v":"C/Eb"},{"$f":"$C1022","v":"B/D"},{"$f":"$C1021","v":"Bb/C#"},"A/C","G#/B","G/Bb","F#/A","F/G#","E/G","D/F",{"$f":"$C1012","v":"C#/E"},{"$f":"$C1011","v":"C/Eb"},{"$f":"$C1022","v":"B/D"},{"$f":"$C1021","v":"Bb/C#"},"A/C","G#/B","G/Bb","F#/A","F/G#","E/G",null,"Eb/F#",1012,null,{"$f":"CONCATENATE(AE1011,VLOOKUP(AF1014,$AH$1647:$AH$1669,1,0))","v":"/F#"},null,"F#"]
[null,1013,{"$f":"CONCATENATE($C$7,AD1015)","v":"E/G"},"Eb/F#","D/F",{"$f":"$C1012","v":"C#/E"},{"$f":"$C1011","v":"C/Eb"},{"$f":"$C1022","v":"B/D"},"Bb/C#","A/C","G#/B","G/Bb","F#/A","F/G#","Eb/F#","D/F",{"$f":"$C1012","v":"C#/E"},{"$f":"$C1011","v":"C/Eb"},{"$f":"$C1022","v":"B/D"},"Bb/C#","A/C","G#/B","G/Bb","F#/A","F/G#",null,"E/G",1013,null,{"$f":"CONCATENATE(AE1011,VLOOKUP(AF1015,$AH$1647:$AH$1669,1,0))","v":"/G"},null,"G"]
[null,1014,{"$f":"CONCATENATE($C$8,AD1016)","v":"F/G#"},"E/G","Eb/F#","D/F",{"$f":"$C1012","v":"C#/E"},{"$f":"$C1011","v":"C/Eb"},"B/D","Bb/C#","A/C","G#/B","G/Bb","F#/A","E/G","Eb/F#","D/F",{"$f":"$C1012","v":"C#/E"},{"$f":"$C1011","v":"C/Eb"},"B/D","Bb/C#","A/C","G#/B","G/Bb","F#/A",null,"F/G#",1014,null,{"$f":"CONCATENATE(AE1011,VLOOKUP(AF1016,$AH$1647:$AH$1669,1,0))","v":"/G#"},null,"G#"]
[null,1015,{"$f":"CONCATENATE($C$9,AD1017)","v":"F#/A"},"F/G#","E/G","Eb/F#","D/F",{"$f":"$C1012","v":"C#/E"},{"$f":"$C1011","v":"C/Eb"},{"$f":"$C1022","v":"B/D"},"Bb/C#","A/C","G#/B","G/Bb","F/G#","E/G","Eb/F#","D/F",{"$f":"$C1012","v":"C#/E"},{"$f":"$C1011","v":"C/Eb"},{"$f":"$C1022","v":"B/D"},"Bb/C#","A/C","G#/B","G/Bb",null,"F#/A",1015,null,{"$f":"CONCATENATE(AE1011,VLOOKUP(AF1017,$AH$1647:$AH$1669,1,0))","v":"/A"},null,"A"]
[null,1016,{"$f":"CONCATENATE($C$10,AD1018)","v":"G/Bb"},"F#/A","F/G#","E/G","Eb/F#","D/F","C#/E",{"$f":"$C1011","v":"C/Eb"},{"$f":"$C1022","v":"B/D"},"Bb/C#","A/C","G#/B","F#/A","F/G#","E/G","Eb/F#","D/F","C#/E",{"$f":"$C1011","v":"C/Eb"},{"$f":"$C1022","v":"B/D"},"Bb/C#","A/C","G#/B",null,"G/Bb",1016,null,{"$f":"CONCATENATE(AE1011,VLOOKUP(AF1018,$AH$1647:$AH$1669,1,0))","v":"/Bb"},null,"Bb"]
[null,1017,{"$f":"CONCATENATE($C$11,AD1019)","v":"G#/B"},"G/Bb","F#/A","F/G#","E/G","Eb/F#","D/F",{"$f":"$C1012","v":"C#/E"},{"$f":"$C1011","v":"C/Eb"},{"$f":"$C1022","v":"B/D"},"Bb/C#","A/C","G/Bb","F#/A","F/G#","E/G","Eb/F#","D/F",{"$f":"$C1012","v":"C#/E"},{"$f":"$C1011","v":"C/Eb"},{"$f":"$C1022","v":"B/D"},"Bb/C#","A/C",null,"G#/B",1017,null,{"$f":"CONCATENATE(AE1011,VLOOKUP(AF1019,$AH$1647:$AH$1669,1,0))","v":"/B"},null,"B"]
[null,1018,{"$f":"CONCATENATE($C$12,AD1020)","v":"A/C"},"G#/B","G/Bb","F#/A","F/G#","E/G","Eb/F#",{"$f":"$C1013","v":"D/F"},{"$f":"$C1012","v":"C#/E"},{"$f":"$C1011","v":"C/Eb"},{"$f":"$C1022","v":"B/D"},"Bb/C#","G#/B","G/Bb","F#/A","F/G#","E/G","Eb/F#",{"$f":"$C1013","v":"D/F"},{"$f":"$C1012","v":"C#/E"},{"$f":"$C1011","v":"C/Eb"},{"$f":"$C1022","v":"B/D"},"Bb/C#",null,"A/C",1018,null,{"$f":"CONCATENATE(AE1011,VLOOKUP(AF1020,$AH$1647:$AH$1669,1,0))","v":"/C"},null,"C"]
[null,1019,{"$f":"CONCATENATE($C$13,AD1021)","v":"Bb/C#"},"A/C","G#/B","G/Bb","F#/A","F/G#","E/G",{"$f":"$C1014","v":"Eb/F#"},{"$f":"$C1013","v":"D/F"},{"$f":"$C1012","v":"C#/E"},{"$f":"$C1011","v":"C/Eb"},{"$f":"$C1022","v":"B/D"},"A/C","G#/B","G/Bb","F#/A","F/G#","E/G",{"$f":"$C1014","v":"Eb/F#"},{"$f":"$C1013","v":"D/F"},{"$f":"$C1012","v":"C#/E"},{"$f":"$C1011","v":"C/Eb"},{"$f":"$C1022","v":"B/D"},null,"Bb/C#",1019,null,{"$f":"CONCATENATE(AE1011,VLOOKUP(AF1021,$AH$1647:$AH$1669,1,0))","v":"/C#"},null,"C#"]
[null,1020,{"$f":"CONCATENATE($C$14,AD1022)","v":"B/D"},"Bb/C#","A/C","G#/B","G/Bb","F#/A","F/G#",{"$f":"$C1015","v":"E/G"},{"$f":"$C1014","v":"Eb/F#"},{"$f":"$C1013","v":"D/F"},{"$f":"$C1012","v":"C#/E"},{"$f":"$C1011","v":"C/Eb"},"Bb/C#","A/C","G#/B","G/Bb","F#/A","F/G#",{"$f":"$C1015","v":"E/G"},{"$f":"$C1014","v":"Eb/F#"},{"$f":"$C1013","v":"D/F"},{"$f":"$C1012","v":"C#/E"},{"$f":"$C1011","v":"C/Eb"},null,"B/D",1020,null,{"$f":"CONCATENATE(AE1011,VLOOKUP(AF1022,$AH$1647:$AH$1669,1,0))","v":"/D"},null,"D"]
[null,1021,{"$f":"CONCATENATE($C$3,AD1023)","v":"C/E"},{"$f":"$C1034","v":"B/Eb"},{"$f":"$C1033","v":"Bb/D"},{"$f":"$C1032","v":"A/C#"},{"$f":"$C1031","v":"G#/C"},{"$f":"$C1030","v":"G/B"},{"$f":"$C1029","v":"F#/Bb"},{"$f":"$C1028","v":"F/A"},{"$f":"$C1027","v":"E/G#"},{"$f":"$C1026","v":"Eb/G"},{"$f":"$C1025","v":"D/F#"},{"$f":"$C1024","v":"C#/F"},{"$f":"$C1034","v":"B/Eb"},{"$f":"$C1033","v":"Bb/D"},{"$f":"$C1032","v":"A/C#"},{"$f":"$C1031","v":"G#/C"},{"$f":"$C1030","v":"G/B"},{"$f":"$C1029","v":"F#/Bb"},{"$f":"$C1028","v":"F/A"},{"$f":"$C1027","v":"E/G#"},{"$f":"$C1026","v":"Eb/G"},{"$f":"$C1025","v":"D/F#"},{"$f":"$C1024","v":"C#/F"},null,"C/E",1021,null,{"$f":"CONCATENATE(AE1023,VLOOKUP(AF1023,$AH$1647:$AH$1669,1,0))","v":"/E"},"/","E"]
[null,1022,{"$f":"CONCATENATE($C$4,AD1024)","v":"C#/F"},{"$f":"$C1023","v":"C/E"},{"$f":"$C1034","v":"B/Eb"},{"$f":"$C1033","v":"Bb/D"},{"$f":"$C1032","v":"A/C#"},{"$f":"$C1031","v":"G#/C"},"G/B","F#/Bb","F/A","E/G#","Eb/G","D/F#",{"$f":"$C1023","v":"C/E"},{"$f":"$C1034","v":"B/Eb"},{"$f":"$C1033","v":"Bb/D"},{"$f":"$C1032","v":"A/C#"},{"$f":"$C1031","v":"G#/C"},"G/B","F#/Bb","F/A","E/G#","Eb/G","D/F#",null,"C#/F",1022,null,{"$f":"CONCATENATE(AE1023,VLOOKUP(AF1024,$AH$1647:$AH$1669,1,0))","v":"/F"},null,{"$f":"VLOOKUP(AF1023,$AH$1647:$AI$1658,2,0)","v":"F"}]
[null,1023,{"$f":"CONCATENATE($C$5,AD1025)","v":"D/F#"},{"$f":"$C1024","v":"C#/F"},{"$f":"$C1023","v":"C/E"},{"$f":"$C1034","v":"B/Eb"},{"$f":"$C1033","v":"Bb/D"},{"$f":"$C1032","v":"A/C#"},"G#/C","G/B","F#/Bb","F/A","E/G#","Eb/G",{"$f":"$C1024","v":"C#/F"},{"$f":"$C1023","v":"C/E"},{"$f":"$C1034","v":"B/Eb"},{"$f":"$C1033","v":"Bb/D"},{"$f":"$C1032","v":"A/C#"},"G#/C","G/B","F#/Bb","F/A","E/G#","Eb/G",null,"D/F#",1023,null,{"$f":"CONCATENATE(AE1023,VLOOKUP(AF1025,$AH$1647:$AH$1669,1,0))","v":"/F#"},null,"F#"]
[null,1024,{"$f":"CONCATENATE($C$6,AD1026)","v":"Eb/G"},"D/F#",{"$f":"$C1024","v":"C#/F"},{"$f":"$C1023","v":"C/E"},{"$f":"$C1034","v":"B/Eb"},{"$f":"$C1033","v":"Bb/D"},"A/C#","G#/C","G/B","F#/Bb","F/A","E/G#","D/F#",{"$f":"$C1024","v":"C#/F"},{"$f":"$C1023","v":"C/E"},{"$f":"$C1034","v":"B/Eb"},{"$f":"$C1033","v":"Bb/D"},"A/C#","G#/C","G/B","F#/Bb","F/A","E/G#",null,"Eb/G",1024,null,{"$f":"CONCATENATE(AE1023,VLOOKUP(AF1026,$AH$1647:$AH$1669,1,0))","v":"/G"},null,"G"]
[null,1025,{"$f":"CONCATENATE($C$7,AD1027)","v":"E/G#"},"Eb/G","D/F#",{"$f":"$C1024","v":"C#/F"},{"$f":"$C1023","v":"C/E"},{"$f":"$C1034","v":"B/Eb"},"Bb/D","A/C#","G#/C","G/B","F#/Bb","F/A","Eb/G","D/F#",{"$f":"$C1024","v":"C#/F"},{"$f":"$C1023","v":"C/E"},{"$f":"$C1034","v":"B/Eb"},"Bb/D","A/C#","G#/C","G/B","F#/Bb","F/A",null,"E/G#",{"$f":"B1027","v":1025},null,{"$f":"CONCATENATE(AE1023,VLOOKUP(AF1027,$AH$1647:$AH$1669,1,0))","v":"/G#"},null,"G#"]
[null,1026,{"$f":"CONCATENATE($C$8,AD1028)","v":"F/A"},"E/G#","Eb/G","D/F#",{"$f":"$C1024","v":"C#/F"},{"$f":"$C1023","v":"C/E"},"B/Eb","Bb/D","A/C#","G#/C","G/B","F#/Bb","E/G#","Eb/G","D/F#",{"$f":"$C1024","v":"C#/F"},{"$f":"$C1023","v":"C/E"},"B/Eb","Bb/D","A/C#","G#/C","G/B","F#/Bb",null,"F/A",1026,null,{"$f":"CONCATENATE(AE1023,VLOOKUP(AF1028,$AH$1647:$AH$1669,1,0))","v":"/A"},null,"A"]
[null,1027,{"$f":"CONCATENATE($C$9,AD1029)","v":"F#/Bb"},"F/A","E/G#","Eb/G","D/F#",{"$f":"$C1024","v":"C#/F"},{"$f":"$C1023","v":"C/E"},{"$f":"$C1034","v":"B/Eb"},"Bb/D","A/C#","G#/C","G/B","F/A","E/G#","Eb/G","D/F#",{"$f":"$C1024","v":"C#/F"},{"$f":"$C1023","v":"C/E"},{"$f":"$C1034","v":"B/Eb"},"Bb/D","A/C#","G#/C","G/B",null,"F#/Bb",1027,null,{"$f":"CONCATENATE(AE1023,VLOOKUP(AF1029,$AH$1647:$AH$1669,1,0))","v":"/Bb"},null,"Bb"]
[null,1028,{"$f":"CONCATENATE($C$10,AD1030)","v":"G/B"},"F#/Bb","F/A","E/G#","Eb/G","D/F#","C#/F",{"$f":"$C1023","v":"C/E"},{"$f":"$C1034","v":"B/Eb"},"Bb/D","A/C#","G#/C","F#/Bb","F/A","E/G#","Eb/G","D/F#","C#/F",{"$f":"$C1023","v":"C/E"},{"$f":"$C1034","v":"B/Eb"},"Bb/D","A/C#","G#/C",null,"G/B",1028,null,{"$f":"CONCATENATE(AE1023,VLOOKUP(AF1030,$AH$1647:$AH$1669,1,0))","v":"/B"},null,"B"]
[null,1029,{"$f":"CONCATENATE($C$11,AD1031)","v":"G#/C"},"G/B","F#/Bb","F/A","E/G#","Eb/G","D/F#",{"$f":"$C1024","v":"C#/F"},{"$f":"$C1023","v":"C/E"},{"$f":"$C1034","v":"B/Eb"},"Bb/D","A/C#","G/B","F#/Bb","F/A","E/G#","Eb/G","D/F#",{"$f":"$C1024","v":"C#/F"},{"$f":"$C1023","v":"C/E"},{"$f":"$C1034","v":"B/Eb"},"Bb/D","A/C#",null,"G#/C",1029,null,{"$f":"CONCATENATE(AE1023,VLOOKUP(AF1031,$AH$1647:$AH$1669,1,0))","v":"/C"},null,"C"]
[null,1030,{"$f":"CONCATENATE($C$12,AD1032)","v":"A/C#"},"G#/C","G/B","F#/Bb","F/A","E/G#","Eb/G",{"$f":"$C1025","v":"D/F#"},{"$f":"$C1024","v":"C#/F"},{"$f":"$C1023","v":"C/E"},{"$f":"$C1034","v":"B/Eb"},"Bb/D","G#/C","G/B","F#/Bb","F/A","E/G#","Eb/G",{"$f":"$C1025","v":"D/F#"},{"$f":"$C1024","v":"C#/F"},{"$f":"$C1023","v":"C/E"},{"$f":"$C1034","v":"B/Eb"},"Bb/D",null,"A/C#",1030,null,{"$f":"CONCATENATE(AE1023,VLOOKUP(AF1032,$AH$1647:$AH$1669,1,0))","v":"/C#"},null,"C#"]
[null,1031,{"$f":"CONCATENATE($C$13,AD1033)","v":"Bb/D"},"A/C#","G#/C","G/B","F#/Bb","F/A","E/G#",{"$f":"$C1026","v":"Eb/G"},{"$f":"$C1025","v":"D/F#"},{"$f":"$C1024","v":"C#/F"},{"$f":"$C1023","v":"C/E"},{"$f":"$C1034","v":"B/Eb"},"A/C#","G#/C","G/B","F#/Bb","F/A","E/G#",{"$f":"$C1026","v":"Eb/G"},{"$f":"$C1025","v":"D/F#"},{"$f":"$C1024","v":"C#/F"},{"$f":"$C1023","v":"C/E"},{"$f":"$C1034","v":"B/Eb"},null,"Bb/D",1031,null,{"$f":"CONCATENATE(AE1023,VLOOKUP(AF1033,$AH$1647:$AH$1669,1,0))","v":"/D"},null,"D"]
[null,1032,{"$f":"CONCATENATE($C$14,AD1034)","v":"B/Eb"},"Bb/D","A/C#","G#/C","G/B","F#/Bb","F/A",{"$f":"$C1027","v":"E/G#"},{"$f":"$C1026","v":"Eb/G"},{"$f":"$C1025","v":"D/F#"},{"$f":"$C1024","v":"C#/F"},{"$f":"$C1023","v":"C/E"},"Bb/D","A/C#","G#/C","G/B","F#/Bb","F/A",{"$f":"$C1027","v":"E/G#"},{"$f":"$C1026","v":"Eb/G"},{"$f":"$C1025","v":"D/F#"},{"$f":"$C1024","v":"C#/F"},{"$f":"$C1023","v":"C/E"},null,"B/Eb",1032,null,{"$f":"CONCATENATE(AE1023,VLOOKUP(AF1034,$AH$1647:$AH$1669,1,0))","v":"/Eb"},null,"Eb"]
[null,1033,{"$f":"CONCATENATE($C$3,AD1035)","v":"C/F"},{"$f":"$C1046","v":"B/E"},{"$f":"$C1045","v":"Bb/Eb"},{"$f":"$C1044","v":"A/D"},{"$f":"$C1043","v":"G#/C#"},{"$f":"$C1042","v":"G/C"},{"$f":"$C1041","v":"F#/B"},{"$f":"$C1040","v":"F/Bb"},{"$f":"$C1039","v":"E/A"},{"$f":"$C1038","v":"Eb/G#"},{"$f":"$C1037","v":"D/G"},{"$f":"$C1036","v":"C#/F#"},{"$f":"$C1046","v":"B/E"},{"$f":"$C1045","v":"Bb/Eb"},{"$f":"$C1044","v":"A/D"},{"$f":"$C1043","v":"G#/C#"},{"$f":"$C1042","v":"G/C"},{"$f":"$C1041","v":"F#/B"},{"$f":"$C1040","v":"F/Bb"},{"$f":"$C1039","v":"E/A"},{"$f":"$C1038","v":"Eb/G#"},{"$f":"$C1037","v":"D/G"},{"$f":"$C1036","v":"C#/F#"},null,{"$f":"C1035","v":"C/F"},1033,null,{"$f":"CONCATENATE(AE1035,VLOOKUP(AF1035,$AH$1647:$AH$1669,1,0))","v":"/F"},"/","F"]
[null,1034,{"$f":"CONCATENATE($C$4,AD1036)","v":"C#/F#"},{"$f":"$C1035","v":"C/F"},{"$f":"$C1046","v":"B/E"},{"$f":"$C1045","v":"Bb/Eb"},{"$f":"$C1044","v":"A/D"},{"$f":"$C1043","v":"G#/C#"},"G/C","F#/B","F/Bb","E/A","Eb/G#","D/G",{"$f":"$C1035","v":"C/F"},{"$f":"$C1046","v":"B/E"},{"$f":"$C1045","v":"Bb/Eb"},{"$f":"$C1044","v":"A/D"},{"$f":"$C1043","v":"G#/C#"},"G/C","F#/B","F/Bb","E/A","Eb/G#","D/G",null,"C#/F#",1034,null,{"$f":"CONCATENATE(AE1035,VLOOKUP(AF1036,$AH$1647:$AH$1669,1,0))","v":"/F#"},null,{"$f":"VLOOKUP(AF1035,$AH$1647:$AI$1658,2,0)","v":"F#"}]
[null,1035,{"$f":"CONCATENATE($C$5,AD1037)","v":"D/G"},{"$f":"$C1036","v":"C#/F#"},{"$f":"$C1035","v":"C/F"},{"$f":"$C1046","v":"B/E"},{"$f":"$C1045","v":"Bb/Eb"},{"$f":"$C1044","v":"A/D"},"G#/C#","G/C","F#/B","F/Bb","E/A","Eb/G#",{"$f":"$C1036","v":"C#/F#"},{"$f":"$C1035","v":"C/F"},{"$f":"$C1046","v":"B/E"},{"$f":"$C1045","v":"Bb/Eb"},{"$f":"$C1044","v":"A/D"},"G#/C#","G/C","F#/B","F/Bb","E/A","Eb/G#",null,"D/G",1035,null,{"$f":"CONCATENATE(AE1035,VLOOKUP(AF1037,$AH$1647:$AH$1669,1,0))","v":"/G"},null,"G"]
[null,1036,{"$f":"CONCATENATE($C$6,AD1038)","v":"Eb/G#"},"D/G",{"$f":"$C1036","v":"C#/F#"},{"$f":"$C1035","v":"C/F"},{"$f":"$C1046","v":"B/E"},{"$f":"$C1045","v":"Bb/Eb"},"A/D","G#/C#","G/C","F#/B","F/Bb","E/A","D/G",{"$f":"$C1036","v":"C#/F#"},{"$f":"$C1035","v":"C/F"},{"$f":"$C1046","v":"B/E"},{"$f":"$C1045","v":"Bb/Eb"},"A/D","G#/C#","G/C","F#/B","F/Bb","E/A",null,"Eb/G#",1036,null,{"$f":"CONCATENATE(AE1035,VLOOKUP(AF1038,$AH$1647:$AH$1669,1,0))","v":"/G#"},null,"G#"]
[null,1037,{"$f":"CONCATENATE($C$7,AD1039)","v":"E/A"},"Eb/G#","D/G",{"$f":"$C1036","v":"C#/F#"},{"$f":"$C1035","v":"C/F"},{"$f":"$C1046","v":"B/E"},"Bb/Eb","A/D","G#/C#","G/C","F#/B","F/Bb","Eb/G#","D/G",{"$f":"$C1036","v":"C#/F#"},{"$f":"$C1035","v":"C/F"},{"$f":"$C1046","v":"B/E"},"Bb/Eb","A/D","G#/C#","G/C","F#/B","F/Bb",null,"E/A",1037,null,{"$f":"CONCATENATE(AE1035,VLOOKUP(AF1039,$AH$1647:$AH$1669,1,0))","v":"/A"},null,"A"]
[null,1038,{"$f":"CONCATENATE($C$8,AD1040)","v":"F/Bb"},"E/A","Eb/G#","D/G",{"$f":"$C1036","v":"C#/F#"},{"$f":"$C1035","v":"C/F"},"B/E","Bb/Eb","A/D","G#/C#","G/C","F#/B","E/A","Eb/G#","D/G",{"$f":"$C1036","v":"C#/F#"},{"$f":"$C1035","v":"C/F"},"B/E","Bb/Eb","A/D","G#/C#","G/C","F#/B",null,"F/Bb",1038,null,{"$f":"CONCATENATE(AE1035,VLOOKUP(AF1040,$AH$1647:$AH$1669,1,0))","v":"/Bb"},null,"Bb"]
[null,1039,{"$f":"CONCATENATE($C$9,AD1041)","v":"F#/B"},"F/Bb","E/A","Eb/G#","D/G",{"$f":"$C1036","v":"C#/F#"},{"$f":"$C1035","v":"C/F"},{"$f":"$C1046","v":"B/E"},"Bb/Eb","A/D","G#/C#","G/C","F/Bb","E/A","Eb/G#","D/G",{"$f":"$C1036","v":"C#/F#"},{"$f":"$C1035","v":"C/F"},{"$f":"$C1046","v":"B/E"},"Bb/Eb","A/D","G#/C#","G/C",null,"F#/B",1039,null,{"$f":"CONCATENATE(AE1035,VLOOKUP(AF1041,$AH$1647:$AH$1669,1,0))","v":"/B"},null,"B"]
[null,1040,{"$f":"CONCATENATE($C$10,AD1042)","v":"G/C"},"F#/B","F/Bb","E/A","Eb/G#","D/G","C#/F#",{"$f":"$C1035","v":"C/F"},{"$f":"$C1046","v":"B/E"},"Bb/Eb","A/D","G#/C#","F#/B","F/Bb","E/A","Eb/G#","D/G","C#/F#",{"$f":"$C1035","v":"C/F"},{"$f":"$C1046","v":"B/E"},"Bb/Eb","A/D","G#/C#",null,"G/C",1040,null,{"$f":"CONCATENATE(AE1035,VLOOKUP(AF1042,$AH$1647:$AH$1669,1,0))","v":"/C"},null,"C"]
[null,1041,{"$f":"CONCATENATE($C$11,AD1043)","v":"G#/C#"},"G/C","F#/B","F/Bb","E/A","Eb/G#","D/G",{"$f":"$C1036","v":"C#/F#"},{"$f":"$C1035","v":"C/F"},{"$f":"$C1046","v":"B/E"},"Bb/Eb","A/D","G/C","F#/B","F/Bb","E/A","Eb/G#","D/G",{"$f":"$C1036","v":"C#/F#"},{"$f":"$C1035","v":"C/F"},{"$f":"$C1046","v":"B/E"},"Bb/Eb","A/D",null,"G#/C#",1041,null,{"$f":"CONCATENATE(AE1035,VLOOKUP(AF1043,$AH$1647:$AH$1669,1,0))","v":"/C#"},null,"C#"]
[null,1042,{"$f":"CONCATENATE($C$12,AD1044)","v":"A/D"},"G#/C#","G/C","F#/B","F/Bb","E/A","Eb/G#",{"$f":"$C1037","v":"D/G"},{"$f":"$C1036","v":"C#/F#"},{"$f":"$C1035","v":"C/F"},{"$f":"$C1046","v":"B/E"},"Bb/Eb","G#/C#","G/C","F#/B","F/Bb","E/A","Eb/G#",{"$f":"$C1037","v":"D/G"},{"$f":"$C1036","v":"C#/F#"},{"$f":"$C1035","v":"C/F"},{"$f":"$C1046","v":"B/E"},"Bb/Eb",null,"A/D",1042,null,{"$f":"CONCATENATE(AE1035,VLOOKUP(AF1044,$AH$1647:$AH$1669,1,0))","v":"/D"},null,"D"]
[null,1043,{"$f":"CONCATENATE($C$13,AD1045)","v":"Bb/Eb"},"A/D","G#/C#","G/C","F#/B","F/Bb","E/A",{"$f":"$C1038","v":"Eb/G#"},{"$f":"$C1037","v":"D/G"},{"$f":"$C1036","v":"C#/F#"},{"$f":"$C1035","v":"C/F"},{"$f":"$C1046","v":"B/E"},"A/D","G#/C#","G/C","F#/B","F/Bb","E/A",{"$f":"$C1038","v":"Eb/G#"},{"$f":"$C1037","v":"D/G"},{"$f":"$C1036","v":"C#/F#"},{"$f":"$C1035","v":"C/F"},{"$f":"$C1046","v":"B/E"},null,"Bb/Eb",1043,null,{"$f":"CONCATENATE(AE1035,VLOOKUP(AF1045,$AH$1647:$AH$1669,1,0))","v":"/Eb"},null,"Eb"]
[null,1044,{"$f":"CONCATENATE($C$14,AD1046)","v":"B/E"},"Bb/Eb","A/D","G#/C#","G/C","F#/B","F/Bb",{"$f":"$C1039","v":"E/A"},{"$f":"$C1038","v":"Eb/G#"},{"$f":"$C1037","v":"D/G"},{"$f":"$C1036","v":"C#/F#"},{"$f":"$C1035","v":"C/F"},"Bb/Eb","A/D","G#/C#","G/C","F#/B","F/Bb",{"$f":"$C1039","v":"E/A"},{"$f":"$C1038","v":"Eb/G#"},{"$f":"$C1037","v":"D/G"},{"$f":"$C1036","v":"C#/F#"},{"$f":"$C1035","v":"C/F"},null,"B/E",1044,null,{"$f":"CONCATENATE(AE1035,VLOOKUP(AF1046,$AH$1647:$AH$1669,1,0))","v":"/E"},null,"E"]
[null,1045,{"$f":"CONCATENATE($C$3,AD1047)","v":"C/F#"},{"$f":"$C1058","v":"B/F"},{"$f":"$C1057","v":"Bb/E"},{"$f":"$C1056","v":"A/Eb"},{"$f":"$C1055","v":"G#/D"},{"$f":"$C1054","v":"G/C#"},{"$f":"$C1053","v":"F#/C"},{"$f":"$C1052","v":"F/B"},{"$f":"$C1051","v":"E/Bb"},{"$f":"$C1050","v":"Eb/A"},{"$f":"$C1049","v":"D/G#"},{"$f":"$C1048","v":"C#/G"},{"$f":"$C1058","v":"B/F"},{"$f":"$C1057","v":"Bb/E"},{"$f":"$C1056","v":"A/Eb"},{"$f":"$C1055","v":"G#/D"},{"$f":"$C1054","v":"G/C#"},{"$f":"$C1053","v":"F#/C"},{"$f":"$C1052","v":"F/B"},{"$f":"$C1051","v":"E/Bb"},{"$f":"$C1050","v":"Eb/A"},{"$f":"$C1049","v":"D/G#"},{"$f":"$C1048","v":"C#/G"},null,{"$f":"C1047","v":"C/F#"},1045,null,{"$f":"CONCATENATE(AE1047,VLOOKUP(AF1047,$AH$1647:$AH$1669,1,0))","v":"/F#"},"/",{"$f":"IF(印刷用!$X$12=1,$AK$1651,AK1652)","v":"F#"}]
[null,1046,{"$f":"CONCATENATE($C$4,AD1048)","v":"C#/G"},{"$f":"$C1047","v":"C/F#"},{"$f":"$C1058","v":"B/F"},{"$f":"$C1057","v":"Bb/E"},{"$f":"$C1056","v":"A/Eb"},{"$f":"$C1055","v":"G#/D"},"G/C#","F#/C","F/B","E/Bb","Eb/A","D/G#",{"$f":"$C1047","v":"C/F#"},{"$f":"$C1058","v":"B/F"},{"$f":"$C1057","v":"Bb/E"},{"$f":"$C1056","v":"A/Eb"},{"$f":"$C1055","v":"G#/D"},"G/C#","F#/C","F/B","E/Bb","Eb/A","D/G#",null,"C#/G",1046,null,{"$f":"CONCATENATE(AE1047,VLOOKUP(AF1048,$AH$1647:$AH$1669,1,0))","v":"/G"},null,{"$f":"VLOOKUP(AF1047,$AH$1647:$AI$1658,2,0)","v":"G"}]
[null,1047,{"$f":"CONCATENATE($C$5,AD1049)","v":"D/G#"},{"$f":"$C1048","v":"C#/G"},{"$f":"$C1047","v":"C/F#"},{"$f":"$C1058","v":"B/F"},{"$f":"$C1057","v":"Bb/E"},{"$f":"$C1056","v":"A/Eb"},"G#/D","G/C#","F#/C","F/B","E/Bb","Eb/A",{"$f":"$C1048","v":"C#/G"},{"$f":"$C1047","v":"C/F#"},{"$f":"$C1058","v":"B/F"},{"$f":"$C1057","v":"Bb/E"},{"$f":"$C1056","v":"A/Eb"},"G#/D","G/C#","F#/C","F/B","E/Bb","Eb/A",null,"D/G#",1047,null,{"$f":"CONCATENATE(AE1047,VLOOKUP(AF1049,$AH$1647:$AH$1669,1,0))","v":"/G#"},null,"G#"]
[null,1048,{"$f":"CONCATENATE($C$6,AD1050)","v":"Eb/A"},"D/G#",{"$f":"$C1048","v":"C#/G"},{"$f":"$C1047","v":"C/F#"},{"$f":"$C1058","v":"B/F"},{"$f":"$C1057","v":"Bb/E"},"A/Eb","G#/D","G/C#","F#/C","F/B","E/Bb","D/G#",{"$f":"$C1048","v":"C#/G"},{"$f":"$C1047","v":"C/F#"},{"$f":"$C1058","v":"B/F"},{"$f":"$C1057","v":"Bb/E"},"A/Eb","G#/D","G/C#","F#/C","F/B","E/Bb",null,"Eb/A",1048,null,{"$f":"CONCATENATE(AE1047,VLOOKUP(AF1050,$AH$1647:$AH$1669,1,0))","v":"/A"},null,"A"]
[null,1049,{"$f":"CONCATENATE($C$7,AD1051)","v":"E/Bb"},"Eb/A","D/G#",{"$f":"$C1048","v":"C#/G"},{"$f":"$C1047","v":"C/F#"},{"$f":"$C1058","v":"B/F"},"Bb/E","A/Eb","G#/D","G/C#","F#/C","F/B","Eb/A","D/G#",{"$f":"$C1048","v":"C#/G"},{"$f":"$C1047","v":"C/F#"},{"$f":"$C1058","v":"B/F"},"Bb/E","A/Eb","G#/D","G/C#","F#/C","F/B",null,"E/Bb",1049,null,{"$f":"CONCATENATE(AE1047,VLOOKUP(AF1051,$AH$1647:$AH$1669,1,0))","v":"/Bb"},null,"Bb"]
[null,1050,{"$f":"CONCATENATE($C$8,AD1052)","v":"F/B"},"E/Bb","Eb/A","D/G#",{"$f":"$C1048","v":"C#/G"},{"$f":"$C1047","v":"C/F#"},"B/F","Bb/E","A/Eb","G#/D","G/C#","F#/C","E/Bb","Eb/A","D/G#",{"$f":"$C1048","v":"C#/G"},{"$f":"$C1047","v":"C/F#"},"B/F","Bb/E","A/Eb","G#/D","G/C#","F#/C",null,"F/B",1050,null,{"$f":"CONCATENATE(AE1047,VLOOKUP(AF1052,$AH$1647:$AH$1669,1,0))","v":"/B"},null,"B"]
[null,1051,{"$f":"CONCATENATE($C$9,AD1053)","v":"F#/C"},"F/B","E/Bb","Eb/A","D/G#",{"$f":"$C1048","v":"C#/G"},{"$f":"$C1047","v":"C/F#"},{"$f":"$C1058","v":"B/F"},"Bb/E","A/Eb","G#/D","G/C#","F/B","E/Bb","Eb/A","D/G#",{"$f":"$C1048","v":"C#/G"},{"$f":"$C1047","v":"C/F#"},{"$f":"$C1058","v":"B/F"},"Bb/E","A/Eb","G#/D","G/C#",null,"F#/C",1051,null,{"$f":"CONCATENATE(AE1047,VLOOKUP(AF1053,$AH$1647:$AH$1669,1,0))","v":"/C"},null,"C"]
[null,1052,{"$f":"CONCATENATE($C$10,AD1054)","v":"G/C#"},"F#/C","F/B","E/Bb","Eb/A","D/G#","C#/G",{"$f":"$C1047","v":"C/F#"},{"$f":"$C1058","v":"B/F"},"Bb/E","A/Eb","G#/D","F#/C","F/B","E/Bb","Eb/A","D/G#","C#/G",{"$f":"$C1047","v":"C/F#"},{"$f":"$C1058","v":"B/F"},"Bb/E","A/Eb","G#/D",null,"G/C#",1052,null,{"$f":"CONCATENATE(AE1047,VLOOKUP(AF1054,$AH$1647:$AH$1669,1,0))","v":"/C#"},null,"C#"]
[null,1053,{"$f":"CONCATENATE($C$11,AD1055)","v":"G#/D"},"G/C#","F#/C","F/B","E/Bb","Eb/A","D/G#",{"$f":"$C1048","v":"C#/G"},{"$f":"$C1047","v":"C/F#"},{"$f":"$C1058","v":"B/F"},"Bb/E","A/Eb","G/C#","F#/C","F/B","E/Bb","Eb/A","D/G#",{"$f":"$C1048","v":"C#/G"},{"$f":"$C1047","v":"C/F#"},{"$f":"$C1058","v":"B/F"},"Bb/E","A/Eb",null,"G#/D",1053,null,{"$f":"CONCATENATE(AE1047,VLOOKUP(AF1055,$AH$1647:$AH$1669,1,0))","v":"/D"},null,"D"]
[null,1054,{"$f":"CONCATENATE($C$12,AD1056)","v":"A/Eb"},"G#/D","G/C#","F#/C","F/B","E/Bb","Eb/A",{"$f":"$C1049","v":"D/G#"},{"$f":"$C1048","v":"C#/G"},{"$f":"$C1047","v":"C/F#"},{"$f":"$C1058","v":"B/F"},"Bb/E","G#/D","G/C#","F#/C","F/B","E/Bb","Eb/A",{"$f":"$C1049","v":"D/G#"},{"$f":"$C1048","v":"C#/G"},{"$f":"$C1047","v":"C/F#"},{"$f":"$C1058","v":"B/F"},"Bb/E",null,"A/Eb",1054,null,{"$f":"CONCATENATE(AE1047,VLOOKUP(AF1056,$AH$1647:$AH$1669,1,0))","v":"/Eb"},null,"Eb"]
[null,1055,{"$f":"CONCATENATE($C$13,AD1057)","v":"Bb/E"},"A/Eb","G#/D","G/C#","F#/C","F/B","E/Bb",{"$f":"$C1050","v":"Eb/A"},{"$f":"$C1049","v":"D/G#"},{"$f":"$C1048","v":"C#/G"},{"$f":"$C1047","v":"C/F#"},{"$f":"$C1058","v":"B/F"},"A/Eb","G#/D","G/C#","F#/C","F/B","E/Bb",{"$f":"$C1050","v":"Eb/A"},{"$f":"$C1049","v":"D/G#"},{"$f":"$C1048","v":"C#/G"},{"$f":"$C1047","v":"C/F#"},{"$f":"$C1058","v":"B/F"},null,"Bb/E",1055,null,{"$f":"CONCATENATE(AE1047,VLOOKUP(AF1057,$AH$1647:$AH$1669,1,0))","v":"/E"},null,"E"]
[null,1056,{"$f":"CONCATENATE($C$14,AD1058)","v":"B/F"},"Bb/E","A/Eb","G#/D","G/C#","F#/C","F/B",{"$f":"$C1051","v":"E/Bb"},{"$f":"$C1050","v":"Eb/A"},{"$f":"$C1049","v":"D/G#"},{"$f":"$C1048","v":"C#/G"},{"$f":"$C1047","v":"C/F#"},"Bb/E","A/Eb","G#/D","G/C#","F#/C","F/B",{"$f":"$C1051","v":"E/Bb"},{"$f":"$C1050","v":"Eb/A"},{"$f":"$C1049","v":"D/G#"},{"$f":"$C1048","v":"C#/G"},{"$f":"$C1047","v":"C/F#"},null,"B/F",1056,null,{"$f":"CONCATENATE(AE1047,VLOOKUP(AF1058,$AH$1647:$AH$1669,1,0))","v":"/F"},null,"F"]
[null,1057,{"$f":"CONCATENATE($C$3,AD1059)","v":"C/G"},{"$f":"$C1070","v":"B/F#"},{"$f":"$C1069","v":"Bb/F"},{"$f":"$C1068","v":"A/E"},{"$f":"$C1067","v":"G#/Eb"},{"$f":"$C1066","v":"G/D"},{"$f":"$C1065","v":"F#/C#"},{"$f":"$C1064","v":"F/C"},{"$f":"$C1063","v":"E/B"},{"$f":"$C1062","v":"Eb/Bb"},{"$f":"$C1061","v":"D/A"},{"$f":"$C1060","v":"C#/G#"},{"$f":"$C1070","v":"B/F#"},{"$f":"$C1069","v":"Bb/F"},{"$f":"$C1068","v":"A/E"},{"$f":"$C1067","v":"G#/Eb"},{"$f":"$C1066","v":"G/D"},{"$f":"$C1065","v":"F#/C#"},{"$f":"$C1064","v":"F/C"},{"$f":"$C1063","v":"E/B"},{"$f":"$C1062","v":"Eb/Bb"},{"$f":"$C1061","v":"D/A"},{"$f":"$C1060","v":"C#/G#"},null,"C/G",1057,null,{"$f":"CONCATENATE(AE1059,VLOOKUP(AF1059,$AH$1647:$AH$1669,1,0))","v":"/G"},"/","G"]
[null,1058,{"$f":"CONCATENATE($C$4,AD1060)","v":"C#/G#"},{"$f":"$C1059","v":"C/G"},{"$f":"$C1070","v":"B/F#"},{"$f":"$C1069","v":"Bb/F"},{"$f":"$C1068","v":"A/E"},{"$f":"$C1067","v":"G#/Eb"},"G/D","F#/C#","F/C","E/B","Eb/Bb","D/A",{"$f":"$C1059","v":"C/G"},{"$f":"$C1070","v":"B/F#"},{"$f":"$C1069","v":"Bb/F"},{"$f":"$C1068","v":"A/E"},{"$f":"$C1067","v":"G#/Eb"},"G/D","F#/C#","F/C","E/B","Eb/Bb","D/A",null,"C#/G#",1058,null,{"$f":"CONCATENATE(AE1059,VLOOKUP(AF1060,$AH$1647:$AH$1669,1,0))","v":"/G#"},null,{"$f":"VLOOKUP(AF1059,$AH$1647:$AI$1658,2,0)","v":"G#"}]
[null,1059,{"$f":"CONCATENATE($C$5,AD1061)","v":"D/A"},{"$f":"$C1060","v":"C#/G#"},{"$f":"$C1059","v":"C/G"},{"$f":"$C1070","v":"B/F#"},{"$f":"$C1069","v":"Bb/F"},{"$f":"$C1068","v":"A/E"},"G#/Eb","G/D","F#/C#","F/C","E/B","Eb/Bb",{"$f":"$C1060","v":"C#/G#"},{"$f":"$C1059","v":"C/G"},{"$f":"$C1070","v":"B/F#"},{"$f":"$C1069","v":"Bb/F"},{"$f":"$C1068","v":"A/E"},"G#/Eb","G/D","F#/C#","F/C","E/B","Eb/Bb",null,"D/A",1059,null,{"$f":"CONCATENATE(AE1059,VLOOKUP(AF1061,$AH$1647:$AH$1669,1,0))","v":"/A"},null,"A"]
[null,1060,{"$f":"CONCATENATE($C$6,AD1062)","v":"Eb/Bb"},"D/A",{"$f":"$C1060","v":"C#/G#"},{"$f":"$C1059","v":"C/G"},{"$f":"$C1070","v":"B/F#"},{"$f":"$C1069","v":"Bb/F"},"A/E","G#/Eb","G/D","F#/C#","F/C","E/B","D/A",{"$f":"$C1060","v":"C#/G#"},{"$f":"$C1059","v":"C/G"},{"$f":"$C1070","v":"B/F#"},{"$f":"$C1069","v":"Bb/F"},"A/E","G#/Eb","G/D","F#/C#","F/C","E/B",null,"Eb/Bb",1060,null,{"$f":"CONCATENATE(AE1059,VLOOKUP(AF1062,$AH$1647:$AH$1669,1,0))","v":"/Bb"},null,"Bb"]
[null,1061,{"$f":"CONCATENATE($C$7,AD1063)","v":"E/B"},"Eb/Bb","D/A",{"$f":"$C1060","v":"C#/G#"},{"$f":"$C1059","v":"C/G"},{"$f":"$C1070","v":"B/F#"},"Bb/F","A/E","G#/Eb","G/D","F#/C#","F/C","Eb/Bb","D/A",{"$f":"$C1060","v":"C#/G#"},{"$f":"$C1059","v":"C/G"},{"$f":"$C1070","v":"B/F#"},"Bb/F","A/E","G#/Eb","G/D","F#/C#","F/C",null,"E/B",1061,null,{"$f":"CONCATENATE(AE1059,VLOOKUP(AF1063,$AH$1647:$AH$1669,1,0))","v":"/B"},null,"B"]
[null,1062,{"$f":"CONCATENATE($C$8,AD1064)","v":"F/C"},"E/B","Eb/Bb","D/A",{"$f":"$C1060","v":"C#/G#"},{"$f":"$C1059","v":"C/G"},"B/F#","Bb/F","A/E","G#/Eb","G/D","F#/C#","E/B","Eb/Bb","D/A",{"$f":"$C1060","v":"C#/G#"},{"$f":"$C1059","v":"C/G"},"B/F#","Bb/F","A/E","G#/Eb","G/D","F#/C#",null,"F/C",1062,null,{"$f":"CONCATENATE(AE1059,VLOOKUP(AF1064,$AH$1647:$AH$1669,1,0))","v":"/C"},null,"C"]
[null,1063,{"$f":"CONCATENATE($C$9,AD1065)","v":"F#/C#"},"F/C","E/B","Eb/Bb","D/A",{"$f":"$C1060","v":"C#/G#"},{"$f":"$C1059","v":"C/G"},{"$f":"$C1070","v":"B/F#"},"Bb/F","A/E","G#/Eb","G/D","F/C","E/B","Eb/Bb","D/A",{"$f":"$C1060","v":"C#/G#"},{"$f":"$C1059","v":"C/G"},{"$f":"$C1070","v":"B/F#"},"Bb/F","A/E","G#/Eb","G/D",null,"F#/C#",1063,null,{"$f":"CONCATENATE(AE1059,VLOOKUP(AF1065,$AH$1647:$AH$1669,1,0))","v":"/C#"},null,"C#"]
[null,1064,{"$f":"CONCATENATE($C$10,AD1066)","v":"G/D"},"F#/C#","F/C","E/B","Eb/Bb","D/A","C#/G#",{"$f":"$C1059","v":"C/G"},{"$f":"$C1070","v":"B/F#"},"Bb/F","A/E","G#/Eb","F#/C#","F/C","E/B","Eb/Bb","D/A","C#/G#",{"$f":"$C1059","v":"C/G"},{"$f":"$C1070","v":"B/F#"},"Bb/F","A/E","G#/Eb",null,"G/D",1064,null,{"$f":"CONCATENATE(AE1059,VLOOKUP(AF1066,$AH$1647:$AH$1669,1,0))","v":"/D"},null,"D"]
[null,1065,{"$f":"CONCATENATE($C$11,AD1067)","v":"G#/Eb"},"G/D","F#/C#","F/C","E/B","Eb/Bb","D/A",{"$f":"$C1060","v":"C#/G#"},{"$f":"$C1059","v":"C/G"},{"$f":"$C1070","v":"B/F#"},"Bb/F","A/E","G/D","F#/C#","F/C","E/B","Eb/Bb","D/A",{"$f":"$C1060","v":"C#/G#"},{"$f":"$C1059","v":"C/G"},{"$f":"$C1070","v":"B/F#"},"Bb/F","A/E",null,"G#/Eb",1065,null,{"$f":"CONCATENATE(AE1059,VLOOKUP(AF1067,$AH$1647:$AH$1669,1,0))","v":"/Eb"},null,"Eb"]
[null,1066,{"$f":"CONCATENATE($C$12,AD1068)","v":"A/E"},"G#/Eb","G/D","F#/C#","F/C","E/B","Eb/Bb",{"$f":"$C1061","v":"D/A"},{"$f":"$C1060","v":"C#/G#"},{"$f":"$C1059","v":"C/G"},{"$f":"$C1070","v":"B/F#"},"Bb/F","G#/Eb","G/D","F#/C#","F/C","E/B","Eb/Bb",{"$f":"$C1061","v":"D/A"},{"$f":"$C1060","v":"C#/G#"},{"$f":"$C1059","v":"C/G"},{"$f":"$C1070","v":"B/F#"},"Bb/F",null,"A/E",1066,null,{"$f":"CONCATENATE(AE1059,VLOOKUP(AF1068,$AH$1647:$AH$1669,1,0))","v":"/E"},null,"E"]
[null,1067,{"$f":"CONCATENATE($C$13,AD1069)","v":"Bb/F"},"A/E","G#/Eb","G/D","F#/C#","F/C","E/B",{"$f":"$C1062","v":"Eb/Bb"},{"$f":"$C1061","v":"D/A"},{"$f":"$C1060","v":"C#/G#"},{"$f":"$C1059","v":"C/G"},{"$f":"$C1070","v":"B/F#"},"A/E","G#/Eb","G/D","F#/C#","F/C","E/B",{"$f":"$C1062","v":"Eb/Bb"},{"$f":"$C1061","v":"D/A"},{"$f":"$C1060","v":"C#/G#"},{"$f":"$C1059","v":"C/G"},{"$f":"$C1070","v":"B/F#"},null,"Bb/F",1067,null,{"$f":"CONCATENATE(AE1059,VLOOKUP(AF1069,$AH$1647:$AH$1669,1,0))","v":"/F"},null,"F"]
[null,1068,{"$f":"CONCATENATE($C$14,AD1070)","v":"B/F#"},"Bb/F","A/E","G#/Eb","G/D","F#/C#","F/C",{"$f":"$C1063","v":"E/B"},{"$f":"$C1062","v":"Eb/Bb"},{"$f":"$C1061","v":"D/A"},{"$f":"$C1060","v":"C#/G#"},{"$f":"$C1059","v":"C/G"},"Bb/F","A/E","G#/Eb","G/D","F#/C#","F/C",{"$f":"$C1063","v":"E/B"},{"$f":"$C1062","v":"Eb/Bb"},{"$f":"$C1061","v":"D/A"},{"$f":"$C1060","v":"C#/G#"},{"$f":"$C1059","v":"C/G"},null,"B/F#",1068,null,{"$f":"CONCATENATE(AE1059,VLOOKUP(AF1070,$AH$1647:$AH$1669,1,0))","v":"/F#"},null,"F#"]
[null,1069,{"$f":"CONCATENATE($C$3,AD1071)","v":"C/G#"},{"$f":"$C1082","v":"B/G"},{"$f":"$C1081","v":"Bb/F#"},{"$f":"$C1080","v":"A/F"},{"$f":"$C1079","v":"G#/E"},{"$f":"$C1078","v":"G/Eb"},{"$f":"$C1077","v":"F#/D"},{"$f":"$C1076","v":"F/C#"},{"$f":"$C1075","v":"E/C"},{"$f":"$C1074","v":"Eb/B"},{"$f":"$C1073","v":"D/Bb"},{"$f":"$C1072","v":"C#/A"},{"$f":"$C1082","v":"B/G"},{"$f":"$C1081","v":"Bb/F#"},{"$f":"$C1080","v":"A/F"},{"$f":"$C1079","v":"G#/E"},{"$f":"$C1078","v":"G/Eb"},{"$f":"$C1077","v":"F#/D"},{"$f":"$C1076","v":"F/C#"},{"$f":"$C1075","v":"E/C"},{"$f":"$C1074","v":"Eb/B"},{"$f":"$C1073","v":"D/Bb"},{"$f":"$C1072","v":"C#/A"},null,"C/G#",1069,null,{"$f":"CONCATENATE(AE1071,VLOOKUP(AF1071,$AH$1647:$AH$1669,1,0))","v":"/G#"},"/",{"$f":"IF(印刷用!$Z$12=1,$AK$1653,$AK$1654)","v":"G#"}]
[null,1070,{"$f":"CONCATENATE($C$4,AD1072)","v":"C#/A"},{"$f":"$C1071","v":"C/G#"},{"$f":"$C1082","v":"B/G"},{"$f":"$C1081","v":"Bb/F#"},{"$f":"$C1080","v":"A/F"},{"$f":"$C1079","v":"G#/E"},"G/Eb","F#/D","F/C#","E/C","Eb/B","D/Bb",{"$f":"$C1071","v":"C/G#"},{"$f":"$C1082","v":"B/G"},{"$f":"$C1081","v":"Bb/F#"},{"$f":"$C1080","v":"A/F"},{"$f":"$C1079","v":"G#/E"},"G/Eb","F#/D","F/C#","E/C","Eb/B","D/Bb",null,"C#/A",1070,null,{"$f":"CONCATENATE(AE1071,VLOOKUP(AF1072,$AH$1647:$AH$1669,1,0))","v":"/A"},null,{"$f":"VLOOKUP(AF1071,$AH$1647:$AI$1658,2,0)","v":"A"}]
[null,1071,{"$f":"CONCATENATE($C$5,AD1073)","v":"D/Bb"},{"$f":"$C1072","v":"C#/A"},{"$f":"$C1071","v":"C/G#"},{"$f":"$C1082","v":"B/G"},{"$f":"$C1081","v":"Bb/F#"},{"$f":"$C1080","v":"A/F"},"G#/E","G/Eb","F#/D","F/C#","E/C","Eb/B",{"$f":"$C1072","v":"C#/A"},{"$f":"$C1071","v":"C/G#"},{"$f":"$C1082","v":"B/G"},{"$f":"$C1081","v":"Bb/F#"},{"$f":"$C1080","v":"A/F"},"G#/E","G/Eb","F#/D","F/C#","E/C","Eb/B",null,"D/Bb",1071,null,{"$f":"CONCATENATE(AE1071,VLOOKUP(AF1073,$AH$1647:$AH$1669,1,0))","v":"/Bb"},null,"Bb"]
[null,1072,{"$f":"CONCATENATE($C$6,AD1074)","v":"Eb/B"},"D/Bb",{"$f":"$C1072","v":"C#/A"},{"$f":"$C1071","v":"C/G#"},{"$f":"$C1082","v":"B/G"},{"$f":"$C1081","v":"Bb/F#"},"A/F","G#/E","G/Eb","F#/D","F/C#","E/C","D/Bb",{"$f":"$C1072","v":"C#/A"},{"$f":"$C1071","v":"C/G#"},{"$f":"$C1082","v":"B/G"},{"$f":"$C1081","v":"Bb/F#"},"A/F","G#/E","G/Eb","F#/D","F/C#","E/C",null,"Eb/B",1072,null,{"$f":"CONCATENATE(AE1071,VLOOKUP(AF1074,$AH$1647:$AH$1669,1,0))","v":"/B"},null,"B"]
[null,1073,{"$f":"CONCATENATE($C$7,AD1075)","v":"E/C"},"Eb/B","D/Bb",{"$f":"$C1072","v":"C#/A"},{"$f":"$C1071","v":"C/G#"},{"$f":"$C1082","v":"B/G"},"Bb/F#","A/F","G#/E","G/Eb","F#/D","F/C#","Eb/B","D/Bb",{"$f":"$C1072","v":"C#/A"},{"$f":"$C1071","v":"C/G#"},{"$f":"$C1082","v":"B/G"},"Bb/F#","A/F","G#/E","G/Eb","F#/D","F/C#",null,"E/C",1073,null,{"$f":"CONCATENATE(AE1071,VLOOKUP(AF1075,$AH$1647:$AH$1669,1,0))","v":"/C"},null,"C"]
[null,1074,{"$f":"CONCATENATE($C$8,AD1076)","v":"F/C#"},"E/C","Eb/B","D/Bb",{"$f":"$C1072","v":"C#/A"},{"$f":"$C1071","v":"C/G#"},"B/G","Bb/F#","A/F","G#/E","G/Eb","F#/D","E/C","Eb/B","D/Bb",{"$f":"$C1072","v":"C#/A"},{"$f":"$C1071","v":"C/G#"},"B/G","Bb/F#","A/F","G#/E","G/Eb","F#/D",null,"F/C#",1074,null,{"$f":"CONCATENATE(AE1071,VLOOKUP(AF1076,$AH$1647:$AH$1669,1,0))","v":"/C#"},null,"C#"]
[null,1075,{"$f":"CONCATENATE($C$9,AD1077)","v":"F#/D"},"F/C#","E/C","Eb/B","D/Bb",{"$f":"$C1072","v":"C#/A"},{"$f":"$C1071","v":"C/G#"},{"$f":"$C1082","v":"B/G"},"Bb/F#","A/F","G#/E","G/Eb","F/C#","E/C","Eb/B","D/Bb",{"$f":"$C1072","v":"C#/A"},{"$f":"$C1071","v":"C/G#"},{"$f":"$C1082","v":"B/G"},"Bb/F#","A/F","G#/E","G/Eb",null,"F#/D",1075,null,{"$f":"CONCATENATE(AE1071,VLOOKUP(AF1077,$AH$1647:$AH$1669,1,0))","v":"/D"},null,"D"]
[null,1076,{"$f":"CONCATENATE($C$10,AD1078)","v":"G/Eb"},"F#/D","F/C#","E/C","Eb/B","D/Bb","C#/A",{"$f":"$C1071","v":"C/G#"},{"$f":"$C1082","v":"B/G"},"Bb/F#","A/F","G#/E","F#/D","F/C#","E/C","Eb/B","D/Bb","C#/A",{"$f":"$C1071","v":"C/G#"},{"$f":"$C1082","v":"B/G"},"Bb/F#","A/F","G#/E",null,"G/Eb",1076,null,{"$f":"CONCATENATE(AE1071,VLOOKUP(AF1078,$AH$1647:$AH$1669,1,0))","v":"/Eb"},null,"Eb"]
[null,1077,{"$f":"CONCATENATE($C$11,AD1079)","v":"G#/E"},"G/Eb","F#/D","F/C#","E/C","Eb/B","D/Bb",{"$f":"$C1072","v":"C#/A"},{"$f":"$C1071","v":"C/G#"},{"$f":"$C1082","v":"B/G"},"Bb/F#","A/F","G/Eb","F#/D","F/C#","E/C","Eb/B","D/Bb",{"$f":"$C1072","v":"C#/A"},{"$f":"$C1071","v":"C/G#"},{"$f":"$C1082","v":"B/G"},"Bb/F#","A/F",null,"G#/E",1077,null,{"$f":"CONCATENATE(AE1071,VLOOKUP(AF1079,$AH$1647:$AH$1669,1,0))","v":"/E"},null,"E"]
[null,1078,{"$f":"CONCATENATE($C$12,AD1080)","v":"A/F"},"G#/E","G/Eb","F#/D","F/C#","E/C","Eb/B",{"$f":"$C1073","v":"D/Bb"},{"$f":"$C1072","v":"C#/A"},{"$f":"$C1071","v":"C/G#"},{"$f":"$C1082","v":"B/G"},"Bb/F#","G#/E","G/Eb","F#/D","F/C#","E/C","Eb/B",{"$f":"$C1073","v":"D/Bb"},{"$f":"$C1072","v":"C#/A"},{"$f":"$C1071","v":"C/G#"},{"$f":"$C1082","v":"B/G"},"Bb/F#",null,"A/F",1078,null,{"$f":"CONCATENATE(AE1071,VLOOKUP(AF1080,$AH$1647:$AH$1669,1,0))","v":"/F"},null,"F"]
[null,1079,{"$f":"CONCATENATE($C$13,AD1081)","v":"Bb/F#"},"A/F","G#/E","G/Eb","F#/D","F/C#","E/C",{"$f":"$C1074","v":"Eb/B"},{"$f":"$C1073","v":"D/Bb"},{"$f":"$C1072","v":"C#/A"},{"$f":"$C1071","v":"C/G#"},{"$f":"$C1082","v":"B/G"},"A/F","G#/E","G/Eb","F#/D","F/C#","E/C",{"$f":"$C1074","v":"Eb/B"},{"$f":"$C1073","v":"D/Bb"},{"$f":"$C1072","v":"C#/A"},{"$f":"$C1071","v":"C/G#"},{"$f":"$C1082","v":"B/G"},null,"Bb/F#",1079,null,{"$f":"CONCATENATE(AE1071,VLOOKUP(AF1081,$AH$1647:$AH$1669,1,0))","v":"/F#"},null,"F#"]
[null,1080,{"$f":"CONCATENATE($C$14,AD1082)","v":"B/G"},"Bb/F#","A/F","G#/E","G/Eb","F#/D","F/C#",{"$f":"$C1075","v":"E/C"},{"$f":"$C1074","v":"Eb/B"},{"$f":"$C1073","v":"D/Bb"},{"$f":"$C1072","v":"C#/A"},{"$f":"$C1071","v":"C/G#"},"Bb/F#","A/F","G#/E","G/Eb","F#/D","F/C#",{"$f":"$C1075","v":"E/C"},{"$f":"$C1074","v":"Eb/B"},{"$f":"$C1073","v":"D/Bb"},{"$f":"$C1072","v":"C#/A"},{"$f":"$C1071","v":"C/G#"},null,"B/G",1080,null,{"$f":"CONCATENATE(AE1071,VLOOKUP(AF1082,$AH$1647:$AH$1669,1,0))","v":"/G"},null,"G"]
[null,1081,{"$f":"CONCATENATE($C$3,AD1083)","v":"C/A"},{"$f":"$C1094","v":"B/G#"},{"$f":"$C1093","v":"Bb/G"},{"$f":"$C1092","v":"A/F#"},{"$f":"$C1091","v":"G#/F"},{"$f":"$C1090","v":"G/E"},{"$f":"$C1089","v":"F#/Eb"},{"$f":"$C1088","v":"F/D"},{"$f":"$C1087","v":"E/C#"},{"$f":"$C1086","v":"Eb/C"},{"$f":"$C1085","v":"D/B"},{"$f":"$C1084","v":"C#/Bb"},{"$f":"$C1094","v":"B/G#"},{"$f":"$C1093","v":"Bb/G"},{"$f":"$C1092","v":"A/F#"},{"$f":"$C1091","v":"G#/F"},{"$f":"$C1090","v":"G/E"},{"$f":"$C1089","v":"F#/Eb"},{"$f":"$C1088","v":"F/D"},{"$f":"$C1087","v":"E/C#"},{"$f":"$C1086","v":"Eb/C"},{"$f":"$C1085","v":"D/B"},{"$f":"$C1084","v":"C#/Bb"},null,"C/A",1081,null,{"$f":"CONCATENATE(AE1083,VLOOKUP(AF1083,$AH$1647:$AH$1669,1,0))","v":"/A"},"/","A"]
[null,1082,{"$f":"CONCATENATE($C$4,AD1084)","v":"C#/Bb"},{"$f":"$C1083","v":"C/A"},{"$f":"$C1094","v":"B/G#"},{"$f":"$C1093","v":"Bb/G"},{"$f":"$C1092","v":"A/F#"},{"$f":"$C1091","v":"G#/F"},"G/E","F#/Eb","F/D","E/C#","Eb/C","D/B",{"$f":"$C1083","v":"C/A"},{"$f":"$C1094","v":"B/G#"},{"$f":"$C1093","v":"Bb/G"},{"$f":"$C1092","v":"A/F#"},{"$f":"$C1091","v":"G#/F"},"G/E","F#/Eb","F/D","E/C#","Eb/C","D/B",null,"C#/Bb",1082,null,{"$f":"CONCATENATE(AE1083,VLOOKUP(AF1084,$AH$1647:$AH$1669,1,0))","v":"/Bb"},null,{"$f":"VLOOKUP(AF1083,$AH$1647:$AI$1658,2,0)","v":"Bb"}]
[null,1083,{"$f":"CONCATENATE($C$5,AD1085)","v":"D/B"},{"$f":"$C1084","v":"C#/Bb"},{"$f":"$C1083","v":"C/A"},{"$f":"$C1094","v":"B/G#"},{"$f":"$C1093","v":"Bb/G"},{"$f":"$C1092","v":"A/F#"},"G#/F","G/E","F#/Eb","F/D","E/C#","Eb/C",{"$f":"$C1084","v":"C#/Bb"},{"$f":"$C1083","v":"C/A"},{"$f":"$C1094","v":"B/G#"},{"$f":"$C1093","v":"Bb/G"},{"$f":"$C1092","v":"A/F#"},"G#/F","G/E","F#/Eb","F/D","E/C#","Eb/C",null,"D/B",1083,null,{"$f":"CONCATENATE(AE1083,VLOOKUP(AF1085,$AH$1647:$AH$1669,1,0))","v":"/B"},null,"B"]
[null,1084,{"$f":"CONCATENATE($C$6,AD1086)","v":"Eb/C"},"D/B",{"$f":"$C1084","v":"C#/Bb"},{"$f":"$C1083","v":"C/A"},{"$f":"$C1094","v":"B/G#"},{"$f":"$C1093","v":"Bb/G"},"A/F#","G#/F","G/E","F#/Eb","F/D","E/C#","D/B",{"$f":"$C1084","v":"C#/Bb"},{"$f":"$C1083","v":"C/A"},{"$f":"$C1094","v":"B/G#"},{"$f":"$C1093","v":"Bb/G"},"A/F#","G#/F","G/E","F#/Eb","F/D","E/C#",null,"Eb/C",1084,null,{"$f":"CONCATENATE(AE1083,VLOOKUP(AF1086,$AH$1647:$AH$1669,1,0))","v":"/C"},null,"C"]
[null,1085,{"$f":"CONCATENATE($C$7,AD1087)","v":"E/C#"},"Eb/C","D/B",{"$f":"$C1084","v":"C#/Bb"},{"$f":"$C1083","v":"C/A"},{"$f":"$C1094","v":"B/G#"},"Bb/G","A/F#","G#/F","G/E","F#/Eb","F/D","Eb/C","D/B",{"$f":"$C1084","v":"C#/Bb"},{"$f":"$C1083","v":"C/A"},{"$f":"$C1094","v":"B/G#"},"Bb/G","A/F#","G#/F","G/E","F#/Eb","F/D",null,"E/C#",1085,null,{"$f":"CONCATENATE(AE1083,VLOOKUP(AF1087,$AH$1647:$AH$1669,1,0))","v":"/C#"},null,"C#"]
[null,1086,{"$f":"CONCATENATE($C$8,AD1088)","v":"F/D"},"E/C#","Eb/C","D/B",{"$f":"$C1084","v":"C#/Bb"},{"$f":"$C1083","v":"C/A"},"B/G#","Bb/G","A/F#","G#/F","G/E","F#/Eb","E/C#","Eb/C","D/B",{"$f":"$C1084","v":"C#/Bb"},{"$f":"$C1083","v":"C/A"},"B/G#","Bb/G","A/F#","G#/F","G/E","F#/Eb",null,"F/D",1086,null,{"$f":"CONCATENATE(AE1083,VLOOKUP(AF1088,$AH$1647:$AH$1669,1,0))","v":"/D"},null,"D"]
[null,1087,{"$f":"CONCATENATE($C$9,AD1089)","v":"F#/Eb"},"F/D","E/C#","Eb/C","D/B",{"$f":"$C1084","v":"C#/Bb"},{"$f":"$C1083","v":"C/A"},{"$f":"$C1094","v":"B/G#"},"Bb/G","A/F#","G#/F","G/E","F/D","E/C#","Eb/C","D/B",{"$f":"$C1084","v":"C#/Bb"},{"$f":"$C1083","v":"C/A"},{"$f":"$C1094","v":"B/G#"},"Bb/G","A/F#","G#/F","G/E",null,"F#/Eb",1087,null,{"$f":"CONCATENATE(AE1083,VLOOKUP(AF1089,$AH$1647:$AH$1669,1,0))","v":"/Eb"},null,"Eb"]
[null,1088,{"$f":"CONCATENATE($C$10,AD1090)","v":"G/E"},"F#/Eb","F/D","E/C#","Eb/C","D/B","C#/Bb",{"$f":"$C1083","v":"C/A"},{"$f":"$C1094","v":"B/G#"},"Bb/G","A/F#","G#/F","F#/Eb","F/D","E/C#","Eb/C","D/B","C#/Bb",{"$f":"$C1083","v":"C/A"},{"$f":"$C1094","v":"B/G#"},"Bb/G","A/F#","G#/F",null,"G/E",1088,null,{"$f":"CONCATENATE(AE1083,VLOOKUP(AF1090,$AH$1647:$AH$1669,1,0))","v":"/E"},null,"E"]
[null,1089,{"$f":"CONCATENATE($C$11,AD1091)","v":"G#/F"},"G/E","F#/Eb","F/D","E/C#","Eb/C","D/B",{"$f":"$C1084","v":"C#/Bb"},{"$f":"$C1083","v":"C/A"},{"$f":"$C1094","v":"B/G#"},"Bb/G","A/F#","G/E","F#/Eb","F/D","E/C#","Eb/C","D/B",{"$f":"$C1084","v":"C#/Bb"},{"$f":"$C1083","v":"C/A"},{"$f":"$C1094","v":"B/G#"},"Bb/G","A/F#",null,"G#/F",{"$f":"B1091","v":1089},null,{"$f":"CONCATENATE(AE1083,VLOOKUP(AF1091,$AH$1647:$AH$1669,1,0))","v":"/F"},null,"F"]
[null,1090,{"$f":"CONCATENATE($C$12,AD1092)","v":"A/F#"},"G#/F","G/E","F#/Eb","F/D","E/C#","Eb/C",{"$f":"$C1085","v":"D/B"},{"$f":"$C1084","v":"C#/Bb"},{"$f":"$C1083","v":"C/A"},{"$f":"$C1094","v":"B/G#"},"Bb/G","G#/F","G/E","F#/Eb","F/D","E/C#","Eb/C",{"$f":"$C1085","v":"D/B"},{"$f":"$C1084","v":"C#/Bb"},{"$f":"$C1083","v":"C/A"},{"$f":"$C1094","v":"B/G#"},"Bb/G",null,"A/F#",1090,null,{"$f":"CONCATENATE(AE1083,VLOOKUP(AF1092,$AH$1647:$AH$1669,1,0))","v":"/F#"},null,"F#"]
[null,1091,{"$f":"CONCATENATE($C$13,AD1093)","v":"Bb/G"},"A/F#","G#/F","G/E","F#/Eb","F/D","E/C#",{"$f":"$C1086","v":"Eb/C"},{"$f":"$C1085","v":"D/B"},{"$f":"$C1084","v":"C#/Bb"},{"$f":"$C1083","v":"C/A"},{"$f":"$C1094","v":"B/G#"},"A/F#","G#/F","G/E","F#/Eb","F/D","E/C#",{"$f":"$C1086","v":"Eb/C"},{"$f":"$C1085","v":"D/B"},{"$f":"$C1084","v":"C#/Bb"},{"$f":"$C1083","v":"C/A"},{"$f":"$C1094","v":"B/G#"},null,"Bb/G",1091,null,{"$f":"CONCATENATE(AE1083,VLOOKUP(AF1093,$AH$1647:$AH$1669,1,0))","v":"/G"},null,"G"]
[null,1092,{"$f":"CONCATENATE($C$14,AD1094)","v":"B/G#"},"Bb/G","A/F#","G#/F","G/E","F#/Eb","F/D",{"$f":"$C1087","v":"E/C#"},{"$f":"$C1086","v":"Eb/C"},{"$f":"$C1085","v":"D/B"},{"$f":"$C1084","v":"C#/Bb"},{"$f":"$C1083","v":"C/A"},"Bb/G","A/F#","G#/F","G/E","F#/Eb","F/D",{"$f":"$C1087","v":"E/C#"},{"$f":"$C1086","v":"Eb/C"},{"$f":"$C1085","v":"D/B"},{"$f":"$C1084","v":"C#/Bb"},{"$f":"$C1083","v":"C/A"},null,"B/G#",1092,null,{"$f":"CONCATENATE(AE1083,VLOOKUP(AF1094,$AH$1647:$AH$1669,1,0))","v":"/G#"},null,"G#"]
[null,1093,{"$f":"CONCATENATE($C$3,AD1095)","v":"C/Bb"},{"$f":"$C1106","v":"B/A"},{"$f":"$C1105","v":"Bb/G#"},{"$f":"$C1104","v":"A/G"},{"$f":"$C1103","v":"G#/F#"},{"$f":"$C1102","v":"G/F"},{"$f":"$C1101","v":"F#/E"},{"$f":"$C1100","v":"F/Eb"},{"$f":"$C1099","v":"E/D"},{"$f":"$C1098","v":"Eb/C#"},{"$f":"$C1097","v":"D/C"},{"$f":"$C1096","v":"C#/B"},{"$f":"$C1106","v":"B/A"},{"$f":"$C1105","v":"Bb/G#"},{"$f":"$C1104","v":"A/G"},{"$f":"$C1103","v":"G#/F#"},{"$f":"$C1102","v":"G/F"},{"$f":"$C1101","v":"F#/E"},{"$f":"$C1100","v":"F/Eb"},{"$f":"$C1099","v":"E/D"},{"$f":"$C1098","v":"Eb/C#"},{"$f":"$C1097","v":"D/C"},{"$f":"$C1096","v":"C#/B"},null,{"$f":"C1095","v":"C/Bb"},1093,null,{"$f":"CONCATENATE(AE1095,VLOOKUP(AF1095,$AH$1647:$AH$1669,1,0))","v":"/Bb"},"/",{"$f":"IF(印刷用!$AB$12=1,$AK$1655,$AK$1656)","v":"Bb"}]
[null,1094,{"$f":"CONCATENATE($C$4,AD1096)","v":"C#/B"},{"$f":"$C1095","v":"C/Bb"},{"$f":"$C1106","v":"B/A"},{"$f":"$C1105","v":"Bb/G#"},{"$f":"$C1104","v":"A/G"},{"$f":"$C1103","v":"G#/F#"},"G/F","F#/E","F/Eb","E/D","Eb/C#","D/C",{"$f":"$C1095","v":"C/Bb"},{"$f":"$C1106","v":"B/A"},{"$f":"$C1105","v":"Bb/G#"},{"$f":"$C1104","v":"A/G"},{"$f":"$C1103","v":"G#/F#"},"G/F","F#/E","F/Eb","E/D","Eb/C#","D/C",null,"C#/B",1094,null,{"$f":"CONCATENATE(AE1095,VLOOKUP(AF1096,$AH$1647:$AH$1669,1,0))","v":"/B"},null,{"$f":"VLOOKUP(AF1095,$AH$1647:$AI$1658,2,0)","v":"B"}]
[null,1095,{"$f":"CONCATENATE($C$5,AD1097)","v":"D/C"},{"$f":"$C1096","v":"C#/B"},{"$f":"$C1095","v":"C/Bb"},{"$f":"$C1106","v":"B/A"},{"$f":"$C1105","v":"Bb/G#"},{"$f":"$C1104","v":"A/G"},"G#/F#","G/F","F#/E","F/Eb","E/D","Eb/C#",{"$f":"$C1096","v":"C#/B"},{"$f":"$C1095","v":"C/Bb"},{"$f":"$C1106","v":"B/A"},{"$f":"$C1105","v":"Bb/G#"},{"$f":"$C1104","v":"A/G"},"G#/F#","G/F","F#/E","F/Eb","E/D","Eb/C#",null,"D/C",1095,null,{"$f":"CONCATENATE(AE1095,VLOOKUP(AF1097,$AH$1647:$AH$1669,1,0))","v":"/C"},null,"C"]
[null,1096,{"$f":"CONCATENATE($C$6,AD1098)","v":"Eb/C#"},"D/C",{"$f":"$C1096","v":"C#/B"},{"$f":"$C1095","v":"C/Bb"},{"$f":"$C1106","v":"B/A"},{"$f":"$C1105","v":"Bb/G#"},"A/G","G#/F#","G/F","F#/E","F/Eb","E/D","D/C",{"$f":"$C1096","v":"C#/B"},{"$f":"$C1095","v":"C/Bb"},{"$f":"$C1106","v":"B/A"},{"$f":"$C1105","v":"Bb/G#"},"A/G","G#/F#","G/F","F#/E","F/Eb","E/D",null,"Eb/C#",1096,null,{"$f":"CONCATENATE(AE1095,VLOOKUP(AF1098,$AH$1647:$AH$1669,1,0))","v":"/C#"},null,"C#"]
[null,1097,{"$f":"CONCATENATE($C$7,AD1099)","v":"E/D"},"Eb/C#","D/C",{"$f":"$C1096","v":"C#/B"},{"$f":"$C1095","v":"C/Bb"},{"$f":"$C1106","v":"B/A"},"Bb/G#","A/G","G#/F#","G/F","F#/E","F/Eb","Eb/C#","D/C",{"$f":"$C1096","v":"C#/B"},{"$f":"$C1095","v":"C/Bb"},{"$f":"$C1106","v":"B/A"},"Bb/G#","A/G","G#/F#","G/F","F#/E","F/Eb",null,"E/D",1097,null,{"$f":"CONCATENATE(AE1095,VLOOKUP(AF1099,$AH$1647:$AH$1669,1,0))","v":"/D"},null,"D"]
[null,1098,{"$f":"CONCATENATE($C$8,AD1100)","v":"F/Eb"},"E/D","Eb/C#","D/C",{"$f":"$C1096","v":"C#/B"},{"$f":"$C1095","v":"C/Bb"},"B/A","Bb/G#","A/G","G#/F#","G/F","F#/E","E/D","Eb/C#","D/C",{"$f":"$C1096","v":"C#/B"},{"$f":"$C1095","v":"C/Bb"},"B/A","Bb/G#","A/G","G#/F#","G/F","F#/E",null,"F/Eb",1098,null,{"$f":"CONCATENATE(AE1095,VLOOKUP(AF1100,$AH$1647:$AH$1669,1,0))","v":"/Eb"},null,"Eb"]
[null,1099,{"$f":"CONCATENATE($C$9,AD1101)","v":"F#/E"},"F/Eb","E/D","Eb/C#","D/C",{"$f":"$C1096","v":"C#/B"},{"$f":"$C1095","v":"C/Bb"},{"$f":"$C1106","v":"B/A"},"Bb/G#","A/G","G#/F#","G/F","F/Eb","E/D","Eb/C#","D/C",{"$f":"$C1096","v":"C#/B"},{"$f":"$C1095","v":"C/Bb"},{"$f":"$C1106","v":"B/A"},"Bb/G#","A/G","G#/F#","G/F",null,"F#/E",1099,null,{"$f":"CONCATENATE(AE1095,VLOOKUP(AF1101,$AH$1647:$AH$1669,1,0))","v":"/E"},null,"E"]
[null,1100,{"$f":"CONCATENATE($C$10,AD1102)","v":"G/F"},"F#/E","F/Eb","E/D","Eb/C#","D/C","C#/B",{"$f":"$C1095","v":"C/Bb"},{"$f":"$C1106","v":"B/A"},"Bb/G#","A/G","G#/F#","F#/E","F/Eb","E/D","Eb/C#","D/C","C#/B",{"$f":"$C1095","v":"C/Bb"},{"$f":"$C1106","v":"B/A"},"Bb/G#","A/G","G#/F#",null,"G/F",1100,null,{"$f":"CONCATENATE(AE1095,VLOOKUP(AF1102,$AH$1647:$AH$1669,1,0))","v":"/F"},null,"F"]
[null,1101,{"$f":"CONCATENATE($C$11,AD1103)","v":"G#/F#"},"G/F","F#/E","F/Eb","E/D","Eb/C#","D/C",{"$f":"$C1096","v":"C#/B"},{"$f":"$C1095","v":"C/Bb"},{"$f":"$C1106","v":"B/A"},"Bb/G#","A/G","G/F","F#/E","F/Eb","E/D","Eb/C#","D/C",{"$f":"$C1096","v":"C#/B"},{"$f":"$C1095","v":"C/Bb"},{"$f":"$C1106","v":"B/A"},"Bb/G#","A/G",null,"G#/F#",1101,null,{"$f":"CONCATENATE(AE1095,VLOOKUP(AF1103,$AH$1647:$AH$1669,1,0))","v":"/F#"},null,"F#"]
[null,1102,{"$f":"CONCATENATE($C$12,AD1104)","v":"A/G"},"G#/F#","G/F","F#/E","F/Eb","E/D","Eb/C#",{"$f":"$C1097","v":"D/C"},{"$f":"$C1096","v":"C#/B"},{"$f":"$C1095","v":"C/Bb"},{"$f":"$C1106","v":"B/A"},"Bb/G#","G#/F#","G/F","F#/E","F/Eb","E/D","Eb/C#",{"$f":"$C1097","v":"D/C"},{"$f":"$C1096","v":"C#/B"},{"$f":"$C1095","v":"C/Bb"},{"$f":"$C1106","v":"B/A"},"Bb/G#",null,"A/G",1102,null,{"$f":"CONCATENATE(AE1095,VLOOKUP(AF1104,$AH$1647:$AH$1669,1,0))","v":"/G"},null,"G"]
[null,1103,{"$f":"CONCATENATE($C$13,AD1105)","v":"Bb/G#"},"A/G","G#/F#","G/F","F#/E","F/Eb","E/D",{"$f":"$C1098","v":"Eb/C#"},{"$f":"$C1097","v":"D/C"},{"$f":"$C1096","v":"C#/B"},{"$f":"$C1095","v":"C/Bb"},{"$f":"$C1106","v":"B/A"},"A/G","G#/F#","G/F","F#/E","F/Eb","E/D",{"$f":"$C1098","v":"Eb/C#"},{"$f":"$C1097","v":"D/C"},{"$f":"$C1096","v":"C#/B"},{"$f":"$C1095","v":"C/Bb"},{"$f":"$C1106","v":"B/A"},null,"Bb/G#",1103,null,{"$f":"CONCATENATE(AE1095,VLOOKUP(AF1105,$AH$1647:$AH$1669,1,0))","v":"/G#"},null,"G#"]
[null,1104,{"$f":"CONCATENATE($C$14,AD1106)","v":"B/A"},"Bb/G#","A/G","G#/F#","G/F","F#/E","F/Eb",{"$f":"$C1099","v":"E/D"},{"$f":"$C1098","v":"Eb/C#"},{"$f":"$C1097","v":"D/C"},{"$f":"$C1096","v":"C#/B"},{"$f":"$C1095","v":"C/Bb"},"Bb/G#","A/G","G#/F#","G/F","F#/E","F/Eb",{"$f":"$C1099","v":"E/D"},{"$f":"$C1098","v":"Eb/C#"},{"$f":"$C1097","v":"D/C"},{"$f":"$C1096","v":"C#/B"},{"$f":"$C1095","v":"C/Bb"},null,"B/A",1104,null,{"$f":"CONCATENATE(AE1095,VLOOKUP(AF1106,$AH$1647:$AH$1669,1,0))","v":"/A"},null,"A"]
[null,1105,{"$f":"CONCATENATE($C$3,AD1107)","v":"C/B"},{"$f":"$C1118","v":"B/Bb"},{"$f":"$C1117","v":"Bb/A"},{"$f":"$C1116","v":"A/G#"},{"$f":"$C1115","v":"G#/G"},{"$f":"$C1114","v":"G/F#"},{"$f":"$C1113","v":"F#/F"},{"$f":"$C1112","v":"F/E"},{"$f":"$C1111","v":"E/Eb"},{"$f":"$C1110","v":"Eb/D"},{"$f":"$C1109","v":"D/C#"},{"$f":"$C1108","v":"C#/C"},{"$f":"$C1118","v":"B/Bb"},{"$f":"$C1117","v":"Bb/A"},{"$f":"$C1116","v":"A/G#"},{"$f":"$C1115","v":"G#/G"},{"$f":"$C1114","v":"G/F#"},{"$f":"$C1113","v":"F#/F"},{"$f":"$C1112","v":"F/E"},{"$f":"$C1111","v":"E/Eb"},{"$f":"$C1110","v":"Eb/D"},{"$f":"$C1109","v":"D/C#"},{"$f":"$C1108","v":"C#/C"},null,{"$f":"C1107","v":"C/B"},1105,null,{"$f":"CONCATENATE(AE1107,VLOOKUP(AF1107,$AH$1647:$AH$1669,1,0))","v":"/B"},"/","B"]
[null,1106,{"$f":"CONCATENATE($C$4,AD1108)","v":"C#/C"},{"$f":"$C1107","v":"C/B"},{"$f":"$C1118","v":"B/Bb"},{"$f":"$C1117","v":"Bb/A"},{"$f":"$C1116","v":"A/G#"},{"$f":"$C1115","v":"G#/G"},"G/F#","F#/F","F/E","E/Eb","Eb/D","D/C#",{"$f":"$C1107","v":"C/B"},{"$f":"$C1118","v":"B/Bb"},{"$f":"$C1117","v":"Bb/A"},{"$f":"$C1116","v":"A/G#"},{"$f":"$C1115","v":"G#/G"},"G/F#","F#/F","F/E","E/Eb","Eb/D","D/C#",null,"C#/C",1106,null,{"$f":"CONCATENATE(AE1107,VLOOKUP(AF1108,$AH$1647:$AH$1669,1,0))","v":"/C"},null,{"$f":"VLOOKUP(AF1107,$AH$1647:$AI$1658,2,0)","v":"C"}]
[null,1107,{"$f":"CONCATENATE($C$5,AD1109)","v":"D/C#"},{"$f":"$C1108","v":"C#/C"},{"$f":"$C1107","v":"C/B"},{"$f":"$C1118","v":"B/Bb"},{"$f":"$C1117","v":"Bb/A"},{"$f":"$C1116","v":"A/G#"},"G#/G","G/F#","F#/F","F/E","E/Eb","Eb/D",{"$f":"$C1108","v":"C#/C"},{"$f":"$C1107","v":"C/B"},{"$f":"$C1118","v":"B/Bb"},{"$f":"$C1117","v":"Bb/A"},{"$f":"$C1116","v":"A/G#"},"G#/G","G/F#","F#/F","F/E","E/Eb","Eb/D",null,"D/C#",1107,null,{"$f":"CONCATENATE(AE1107,VLOOKUP(AF1109,$AH$1647:$AH$1669,1,0))","v":"/C#"},null,"C#"]
[null,1108,{"$f":"CONCATENATE($C$6,AD1110)","v":"Eb/D"},"D/C#",{"$f":"$C1108","v":"C#/C"},{"$f":"$C1107","v":"C/B"},{"$f":"$C1118","v":"B/Bb"},{"$f":"$C1117","v":"Bb/A"},"A/G#","G#/G","G/F#","F#/F","F/E","E/Eb","D/C#",{"$f":"$C1108","v":"C#/C"},{"$f":"$C1107","v":"C/B"},{"$f":"$C1118","v":"B/Bb"},{"$f":"$C1117","v":"Bb/A"},"A/G#","G#/G","G/F#","F#/F","F/E","E/Eb",null,"Eb/D",1108,null,{"$f":"CONCATENATE(AE1107,VLOOKUP(AF1110,$AH$1647:$AH$1669,1,0))","v":"/D"},null,"D"]
[null,1109,{"$f":"CONCATENATE($C$7,AD1111)","v":"E/Eb"},"Eb/D","D/C#",{"$f":"$C1108","v":"C#/C"},{"$f":"$C1107","v":"C/B"},{"$f":"$C1118","v":"B/Bb"},"Bb/A","A/G#","G#/G","G/F#","F#/F","F/E","Eb/D","D/C#",{"$f":"$C1108","v":"C#/C"},{"$f":"$C1107","v":"C/B"},{"$f":"$C1118","v":"B/Bb"},"Bb/A","A/G#","G#/G","G/F#","F#/F","F/E",null,"E/Eb",1109,null,{"$f":"CONCATENATE(AE1107,VLOOKUP(AF1111,$AH$1647:$AH$1669,1,0))","v":"/Eb"},null,"Eb"]
[null,1110,{"$f":"CONCATENATE($C$8,AD1112)","v":"F/E"},"E/Eb","Eb/D","D/C#",{"$f":"$C1108","v":"C#/C"},{"$f":"$C1107","v":"C/B"},"B/Bb","Bb/A","A/G#","G#/G","G/F#","F#/F","E/Eb","Eb/D","D/C#",{"$f":"$C1108","v":"C#/C"},{"$f":"$C1107","v":"C/B"},"B/Bb","Bb/A","A/G#","G#/G","G/F#","F#/F",null,"F/E",1110,null,{"$f":"CONCATENATE(AE1107,VLOOKUP(AF1112,$AH$1647:$AH$1669,1,0))","v":"/E"},null,"E"]
[null,1111,{"$f":"CONCATENATE($C$9,AD1113)","v":"F#/F"},"F/E","E/Eb","Eb/D","D/C#",{"$f":"$C1108","v":"C#/C"},{"$f":"$C1107","v":"C/B"},{"$f":"$C1118","v":"B/Bb"},"Bb/A","A/G#","G#/G","G/F#","F/E","E/Eb","Eb/D","D/C#",{"$f":"$C1108","v":"C#/C"},{"$f":"$C1107","v":"C/B"},{"$f":"$C1118","v":"B/Bb"},"Bb/A","A/G#","G#/G","G/F#",null,"F#/F",1111,null,{"$f":"CONCATENATE(AE1107,VLOOKUP(AF1113,$AH$1647:$AH$1669,1,0))","v":"/F"},null,"F"]
[null,1112,{"$f":"CONCATENATE($C$10,AD1114)","v":"G/F#"},"F#/F","F/E","E/Eb","Eb/D","D/C#","C#/C",{"$f":"$C1107","v":"C/B"},{"$f":"$C1118","v":"B/Bb"},"Bb/A","A/G#","G#/G","F#/F","F/E","E/Eb","Eb/D","D/C#","C#/C",{"$f":"$C1107","v":"C/B"},{"$f":"$C1118","v":"B/Bb"},"Bb/A","A/G#","G#/G",null,"G/F#",1112,null,{"$f":"CONCATENATE(AE1107,VLOOKUP(AF1114,$AH$1647:$AH$1669,1,0))","v":"/F#"},null,"F#"]
[null,1113,{"$f":"CONCATENATE($C$11,AD1115)","v":"G#/G"},"G/F#","F#/F","F/E","E/Eb","Eb/D","D/C#",{"$f":"$C1108","v":"C#/C"},{"$f":"$C1107","v":"C/B"},{"$f":"$C1118","v":"B/Bb"},"Bb/A","A/G#","G/F#","F#/F","F/E","E/Eb","Eb/D","D/C#",{"$f":"$C1108","v":"C#/C"},{"$f":"$C1107","v":"C/B"},{"$f":"$C1118","v":"B/Bb"},"Bb/A","A/G#",null,"G#/G",1113,null,{"$f":"CONCATENATE(AE1107,VLOOKUP(AF1115,$AH$1647:$AH$1669,1,0))","v":"/G"},null,"G"]
[null,1114,{"$f":"CONCATENATE($C$12,AD1116)","v":"A/G#"},"G#/G","G/F#","F#/F","F/E","E/Eb","Eb/D",{"$f":"$C1109","v":"D/C#"},{"$f":"$C1108","v":"C#/C"},{"$f":"$C1107","v":"C/B"},{"$f":"$C1118","v":"B/Bb"},"Bb/A","G#/G","G/F#","F#/F","F/E","E/Eb","Eb/D",{"$f":"$C1109","v":"D/C#"},{"$f":"$C1108","v":"C#/C"},{"$f":"$C1107","v":"C/B"},{"$f":"$C1118","v":"B/Bb"},"Bb/A",null,"A/G#",1114,null,{"$f":"CONCATENATE(AE1107,VLOOKUP(AF1116,$AH$1647:$AH$1669,1,0))","v":"/G#"},null,"G#"]
[null,1115,{"$f":"CONCATENATE($C$13,AD1117)","v":"Bb/A"},"A/G#","G#/G","G/F#","F#/F","F/E","E/Eb",{"$f":"$C1110","v":"Eb/D"},{"$f":"$C1109","v":"D/C#"},{"$f":"$C1108","v":"C#/C"},{"$f":"$C1107","v":"C/B"},{"$f":"$C1118","v":"B/Bb"},"A/G#","G#/G","G/F#","F#/F","F/E","E/Eb",{"$f":"$C1110","v":"Eb/D"},{"$f":"$C1109","v":"D/C#"},{"$f":"$C1108","v":"C#/C"},{"$f":"$C1107","v":"C/B"},{"$f":"$C1118","v":"B/Bb"},null,"Bb/A",1115,null,{"$f":"CONCATENATE(AE1107,VLOOKUP(AF1117,$AH$1647:$AH$1669,1,0))","v":"/A"},null,"A"]
[null,1116,{"$f":"CONCATENATE($C$14,AD1118)","v":"B/Bb"},"Bb/A","A/G#","G#/G","G/F#","F#/F","F/E",{"$f":"$C1111","v":"E/Eb"},{"$f":"$C1110","v":"Eb/D"},{"$f":"$C1109","v":"D/C#"},{"$f":"$C1108","v":"C#/C"},{"$f":"$C1107","v":"C/B"},"Bb/A","A/G#","G#/G","G/F#","F#/F","F/E",{"$f":"$C1111","v":"E/Eb"},{"$f":"$C1110","v":"Eb/D"},{"$f":"$C1109","v":"D/C#"},{"$f":"$C1108","v":"C#/C"},{"$f":"$C1107","v":"C/B"},null,"B/Bb",1116,null,{"$f":"CONCATENATE(AE1107,VLOOKUP(AF1118,$AH$1647:$AH$1669,1,0))","v":"/Bb"},null,"Bb"]
[null,1117,{"$f":"CONCATENATE($C$3,AD1119)","v":"Cm/C#"},{"$f":"$C1130","v":"Bm/C"},{"$f":"$C1129","v":"Bbm/B"},{"$f":"$C1128","v":"Am/Bb"},{"$f":"$C1127","v":"G#m/A"},{"$f":"$C1126","v":"Gm/G#"},{"$f":"$C1125","v":"F#m/G"},{"$f":"$C1124","v":"Fm/F#"},{"$f":"$C1123","v":"Em/F"},{"$f":"$C1122","v":"Ebm/E"},{"$f":"$C1121","v":"Dm/Eb"},{"$f":"$C1120","v":"C#m/D"},{"$f":"$C1130","v":"Bm/C"},{"$f":"$C1129","v":"Bbm/B"},{"$f":"$C1128","v":"Am/Bb"},{"$f":"$C1127","v":"G#m/A"},{"$f":"$C1126","v":"Gm/G#"},{"$f":"$C1125","v":"F#m/G"},{"$f":"$C1124","v":"Fm/F#"},{"$f":"$C1123","v":"Em/F"},{"$f":"$C1122","v":"Ebm/E"},{"$f":"$C1121","v":"Dm/Eb"},{"$f":"$C1120","v":"C#m/D"},null,"Cm/C#",1117,null,{"$f":"CONCATENATE(AE1119,VLOOKUP(AF1119,$AH$1647:$AH$1669,1,0))","v":"m/C#"},"m/",{"$f":"IF(印刷用!$T$12=1,$AK$1647,$AK$1648)","v":"C#"}]
[null,1118,{"$f":"CONCATENATE($C$4,AD1120)","v":"C#m/D"},{"$f":"$C1119","v":"Cm/C#"},{"$f":"$C1130","v":"Bm/C"},{"$f":"$C1129","v":"Bbm/B"},{"$f":"$C1128","v":"Am/Bb"},{"$f":"$C1127","v":"G#m/A"},"Gm/G#","F#m/G","Fm/F#","Em/F","Ebm/E","Dm/Eb",{"$f":"$C1119","v":"Cm/C#"},{"$f":"$C1130","v":"Bm/C"},{"$f":"$C1129","v":"Bbm/B"},{"$f":"$C1128","v":"Am/Bb"},{"$f":"$C1127","v":"G#m/A"},"Gm/G#","F#m/G","Fm/F#","Em/F","Ebm/E","Dm/Eb",null,"C#m/D",1118,null,{"$f":"CONCATENATE(AE1119,VLOOKUP(AF1120,$AH$1647:$AH$1669,1,0))","v":"m/D"},null,{"$f":"VLOOKUP(AF1119,$AH$1647:$AI$1658,2,0)","v":"D"}]
[null,1119,{"$f":"CONCATENATE($C$5,AD1121)","v":"Dm/Eb"},{"$f":"$C1120","v":"C#m/D"},{"$f":"$C1119","v":"Cm/C#"},{"$f":"$C1130","v":"Bm/C"},{"$f":"$C1129","v":"Bbm/B"},{"$f":"$C1128","v":"Am/Bb"},"G#m/A","Gm/G#","F#m/G","Fm/F#","Em/F","Ebm/E",{"$f":"$C1120","v":"C#m/D"},{"$f":"$C1119","v":"Cm/C#"},{"$f":"$C1130","v":"Bm/C"},{"$f":"$C1129","v":"Bbm/B"},{"$f":"$C1128","v":"Am/Bb"},"G#m/A","Gm/G#","F#m/G","Fm/F#","Em/F","Ebm/E",null,"Dm/Eb",1119,null,{"$f":"CONCATENATE(AE1119,VLOOKUP(AF1121,$AH$1647:$AH$1669,1,0))","v":"m/Eb"},null,"Eb"]
[null,1120,{"$f":"CONCATENATE($C$6,AD1122)","v":"Ebm/E"},"Dm/Eb",{"$f":"$C1120","v":"C#m/D"},{"$f":"$C1119","v":"Cm/C#"},{"$f":"$C1130","v":"Bm/C"},{"$f":"$C1129","v":"Bbm/B"},"Am/Bb","G#m/A","Gm/G#","F#m/G","Fm/F#","Em/F","Dm/Eb",{"$f":"$C1120","v":"C#m/D"},{"$f":"$C1119","v":"Cm/C#"},{"$f":"$C1130","v":"Bm/C"},{"$f":"$C1129","v":"Bbm/B"},"Am/Bb","G#m/A","Gm/G#","F#m/G","Fm/F#","Em/F",null,"Ebm/E",1120,null,{"$f":"CONCATENATE(AE1119,VLOOKUP(AF1122,$AH$1647:$AH$1669,1,0))","v":"m/E"},null,"E"]
[null,1121,{"$f":"CONCATENATE($C$7,AD1123)","v":"Em/F"},"Ebm/E","Dm/Eb",{"$f":"$C1120","v":"C#m/D"},{"$f":"$C1119","v":"Cm/C#"},{"$f":"$C1130","v":"Bm/C"},"Bbm/B","Am/Bb","G#m/A","Gm/G#","F#m/G","Fm/F#","Ebm/E","Dm/Eb",{"$f":"$C1120","v":"C#m/D"},{"$f":"$C1119","v":"Cm/C#"},{"$f":"$C1130","v":"Bm/C"},"Bbm/B","Am/Bb","G#m/A","Gm/G#","F#m/G","Fm/F#",null,"Em/F",1121,null,{"$f":"CONCATENATE(AE1119,VLOOKUP(AF1123,$AH$1647:$AH$1669,1,0))","v":"m/F"},null,"F"]
[null,1122,{"$f":"CONCATENATE($C$8,AD1124)","v":"Fm/F#"},"Em/F","Ebm/E","Dm/Eb",{"$f":"$C1120","v":"C#m/D"},{"$f":"$C1119","v":"Cm/C#"},"Bm/C","Bbm/B","Am/Bb","G#m/A","Gm/G#","F#m/G","Em/F","Ebm/E","Dm/Eb",{"$f":"$C1120","v":"C#m/D"},{"$f":"$C1119","v":"Cm/C#"},"Bm/C","Bbm/B","Am/Bb","G#m/A","Gm/G#","F#m/G",null,"Fm/F#",1122,null,{"$f":"CONCATENATE(AE1119,VLOOKUP(AF1124,$AH$1647:$AH$1669,1,0))","v":"m/F#"},null,"F#"]
[null,1123,{"$f":"CONCATENATE($C$9,AD1125)","v":"F#m/G"},"Fm/F#","Em/F","Ebm/E","Dm/Eb",{"$f":"$C1120","v":"C#m/D"},{"$f":"$C1119","v":"Cm/C#"},{"$f":"$C1130","v":"Bm/C"},"Bbm/B","Am/Bb","G#m/A","Gm/G#","Fm/F#","Em/F","Ebm/E","Dm/Eb",{"$f":"$C1120","v":"C#m/D"},{"$f":"$C1119","v":"Cm/C#"},{"$f":"$C1130","v":"Bm/C"},"Bbm/B","Am/Bb","G#m/A","Gm/G#",null,"F#m/G",1123,null,{"$f":"CONCATENATE(AE1119,VLOOKUP(AF1125,$AH$1647:$AH$1669,1,0))","v":"m/G"},null,"G"]
[null,1124,{"$f":"CONCATENATE($C$10,AD1126)","v":"Gm/G#"},"F#m/G","Fm/F#","Em/F","Ebm/E","Dm/Eb","C#m/D",{"$f":"$C1119","v":"Cm/C#"},{"$f":"$C1130","v":"Bm/C"},"Bbm/B","Am/Bb","G#m/A","F#m/G","Fm/F#","Em/F","Ebm/E","Dm/Eb","C#m/D",{"$f":"$C1119","v":"Cm/C#"},{"$f":"$C1130","v":"Bm/C"},"Bbm/B","Am/Bb","G#m/A",null,"Gm/G#",1124,null,{"$f":"CONCATENATE(AE1119,VLOOKUP(AF1126,$AH$1647:$AH$1669,1,0))","v":"m/G#"},null,"G#"]
[null,1125,{"$f":"CONCATENATE($C$11,AD1127)","v":"G#m/A"},"Gm/G#","F#m/G","Fm/F#","Em/F","Ebm/E","Dm/Eb",{"$f":"$C1120","v":"C#m/D"},{"$f":"$C1119","v":"Cm/C#"},{"$f":"$C1130","v":"Bm/C"},"Bbm/B","Am/Bb","Gm/G#","F#m/G","Fm/F#","Em/F","Ebm/E","Dm/Eb",{"$f":"$C1120","v":"C#m/D"},{"$f":"$C1119","v":"Cm/C#"},{"$f":"$C1130","v":"Bm/C"},"Bbm/B","Am/Bb",null,"G#m/A",1125,null,{"$f":"CONCATENATE(AE1119,VLOOKUP(AF1127,$AH$1647:$AH$1669,1,0))","v":"m/A"},null,"A"]
[null,1126,{"$f":"CONCATENATE($C$12,AD1128)","v":"Am/Bb"},"G#m/A","Gm/G#","F#m/G","Fm/F#","Em/F","Ebm/E",{"$f":"$C1121","v":"Dm/Eb"},{"$f":"$C1120","v":"C#m/D"},{"$f":"$C1119","v":"Cm/C#"},{"$f":"$C1130","v":"Bm/C"},"Bbm/B","G#m/A","Gm/G#","F#m/G","Fm/F#","Em/F","Ebm/E",{"$f":"$C1121","v":"Dm/Eb"},{"$f":"$C1120","v":"C#m/D"},{"$f":"$C1119","v":"Cm/C#"},{"$f":"$C1130","v":"Bm/C"},"Bbm/B",null,"Am/Bb",1126,null,{"$f":"CONCATENATE(AE1119,VLOOKUP(AF1128,$AH$1647:$AH$1669,1,0))","v":"m/Bb"},null,"Bb"]
[null,1127,{"$f":"CONCATENATE($C$13,AD1129)","v":"Bbm/B"},"Am/Bb","G#m/A","Gm/G#","F#m/G","Fm/F#","Em/F",{"$f":"$C1122","v":"Ebm/E"},{"$f":"$C1121","v":"Dm/Eb"},{"$f":"$C1120","v":"C#m/D"},{"$f":"$C1119","v":"Cm/C#"},{"$f":"$C1130","v":"Bm/C"},"Am/Bb","G#m/A","Gm/G#","F#m/G","Fm/F#","Em/F",{"$f":"$C1122","v":"Ebm/E"},{"$f":"$C1121","v":"Dm/Eb"},{"$f":"$C1120","v":"C#m/D"},{"$f":"$C1119","v":"Cm/C#"},{"$f":"$C1130","v":"Bm/C"},null,"Bbm/B",1127,null,{"$f":"CONCATENATE(AE1119,VLOOKUP(AF1129,$AH$1647:$AH$1669,1,0))","v":"m/B"},null,"B"]
[null,1128,{"$f":"CONCATENATE($C$14,AD1130)","v":"Bm/C"},"Bbm/B","Am/Bb","G#m/A","Gm/G#","F#m/G","Fm/F#",{"$f":"$C1123","v":"Em/F"},{"$f":"$C1122","v":"Ebm/E"},{"$f":"$C1121","v":"Dm/Eb"},{"$f":"$C1120","v":"C#m/D"},{"$f":"$C1119","v":"Cm/C#"},"Bbm/B","Am/Bb","G#m/A","Gm/G#","F#m/G","Fm/F#",{"$f":"$C1123","v":"Em/F"},{"$f":"$C1122","v":"Ebm/E"},{"$f":"$C1121","v":"Dm/Eb"},{"$f":"$C1120","v":"C#m/D"},{"$f":"$C1119","v":"Cm/C#"},null,"Bm/C",1128,null,{"$f":"CONCATENATE(AE1119,VLOOKUP(AF1130,$AH$1647:$AH$1669,1,0))","v":"m/C"},null,"C"]
[null,1129,{"$f":"CONCATENATE($C$3,AD1131)","v":"Cm/D"},{"$f":"$C1142","v":"Bm/C#"},{"$f":"$C1141","v":"Bbm/C"},{"$f":"$C1140","v":"Am/B"},{"$f":"$C1139","v":"G#m/Bb"},{"$f":"$C1138","v":"Gm/A"},{"$f":"$C1137","v":"F#m/G#"},{"$f":"$C1136","v":"Fm/G"},{"$f":"$C1135","v":"Em/F#"},{"$f":"$C1134","v":"Ebm/F"},{"$f":"$C1133","v":"Dm/E"},{"$f":"$C1132","v":"C#m/Eb"},{"$f":"$C1142","v":"Bm/C#"},{"$f":"$C1141","v":"Bbm/C"},{"$f":"$C1140","v":"Am/B"},{"$f":"$C1139","v":"G#m/Bb"},{"$f":"$C1138","v":"Gm/A"},{"$f":"$C1137","v":"F#m/G#"},{"$f":"$C1136","v":"Fm/G"},{"$f":"$C1135","v":"Em/F#"},{"$f":"$C1134","v":"Ebm/F"},{"$f":"$C1133","v":"Dm/E"},{"$f":"$C1132","v":"C#m/Eb"},null,{"$f":"C1131","v":"Cm/D"},1129,null,{"$f":"CONCATENATE(AE1131,VLOOKUP(AF1131,$AH$1647:$AH$1669,1,0))","v":"m/D"},"m/","D"]
[null,1130,{"$f":"CONCATENATE($C$4,AD1132)","v":"C#m/Eb"},{"$f":"$C1131","v":"Cm/D"},{"$f":"$C1142","v":"Bm/C#"},{"$f":"$C1141","v":"Bbm/C"},{"$f":"$C1140","v":"Am/B"},{"$f":"$C1139","v":"G#m/Bb"},"Gm/A","F#m/G#","Fm/G","Em/F#","Ebm/F","Dm/E",{"$f":"$C1131","v":"Cm/D"},{"$f":"$C1142","v":"Bm/C#"},{"$f":"$C1141","v":"Bbm/C"},{"$f":"$C1140","v":"Am/B"},{"$f":"$C1139","v":"G#m/Bb"},"Gm/A","F#m/G#","Fm/G","Em/F#","Ebm/F","Dm/E",null,"C#m/Eb",1130,null,{"$f":"CONCATENATE(AE1131,VLOOKUP(AF1132,$AH$1647:$AH$1669,1,0))","v":"m/Eb"},null,{"$f":"VLOOKUP(AF1131,$AH$1647:$AI$1658,2,0)","v":"Eb"}]
[null,1131,{"$f":"CONCATENATE($C$5,AD1133)","v":"Dm/E"},{"$f":"$C1132","v":"C#m/Eb"},{"$f":"$C1131","v":"Cm/D"},{"$f":"$C1142","v":"Bm/C#"},{"$f":"$C1141","v":"Bbm/C"},{"$f":"$C1140","v":"Am/B"},"G#m/Bb","Gm/A","F#m/G#","Fm/G","Em/F#","Ebm/F",{"$f":"$C1132","v":"C#m/Eb"},{"$f":"$C1131","v":"Cm/D"},{"$f":"$C1142","v":"Bm/C#"},{"$f":"$C1141","v":"Bbm/C"},{"$f":"$C1140","v":"Am/B"},"G#m/Bb","Gm/A","F#m/G#","Fm/G","Em/F#","Ebm/F",null,"Dm/E",1131,null,{"$f":"CONCATENATE(AE1131,VLOOKUP(AF1133,$AH$1647:$AH$1669,1,0))","v":"m/E"},null,"E"]
[null,1132,{"$f":"CONCATENATE($C$6,AD1134)","v":"Ebm/F"},"Dm/E",{"$f":"$C1132","v":"C#m/Eb"},{"$f":"$C1131","v":"Cm/D"},{"$f":"$C1142","v":"Bm/C#"},{"$f":"$C1141","v":"Bbm/C"},"Am/B","G#m/Bb","Gm/A","F#m/G#","Fm/G","Em/F#","Dm/E",{"$f":"$C1132","v":"C#m/Eb"},{"$f":"$C1131","v":"Cm/D"},{"$f":"$C1142","v":"Bm/C#"},{"$f":"$C1141","v":"Bbm/C"},"Am/B","G#m/Bb","Gm/A","F#m/G#","Fm/G","Em/F#",null,"Ebm/F",1132,null,{"$f":"CONCATENATE(AE1131,VLOOKUP(AF1134,$AH$1647:$AH$1669,1,0))","v":"m/F"},null,"F"]
[null,1133,{"$f":"CONCATENATE($C$7,AD1135)","v":"Em/F#"},"Ebm/F","Dm/E",{"$f":"$C1132","v":"C#m/Eb"},{"$f":"$C1131","v":"Cm/D"},{"$f":"$C1142","v":"Bm/C#"},"Bbm/C","Am/B","G#m/Bb","Gm/A","F#m/G#","Fm/G","Ebm/F","Dm/E",{"$f":"$C1132","v":"C#m/Eb"},{"$f":"$C1131","v":"Cm/D"},{"$f":"$C1142","v":"Bm/C#"},"Bbm/C","Am/B","G#m/Bb","Gm/A","F#m/G#","Fm/G",null,"Em/F#",1133,null,{"$f":"CONCATENATE(AE1131,VLOOKUP(AF1135,$AH$1647:$AH$1669,1,0))","v":"m/F#"},null,"F#"]
[null,1134,{"$f":"CONCATENATE($C$8,AD1136)","v":"Fm/G"},"Em/F#","Ebm/F","Dm/E",{"$f":"$C1132","v":"C#m/Eb"},{"$f":"$C1131","v":"Cm/D"},"Bm/C#","Bbm/C","Am/B","G#m/Bb","Gm/A","F#m/G#","Em/F#","Ebm/F","Dm/E",{"$f":"$C1132","v":"C#m/Eb"},{"$f":"$C1131","v":"Cm/D"},"Bm/C#","Bbm/C","Am/B","G#m/Bb","Gm/A","F#m/G#",null,"Fm/G",1134,null,{"$f":"CONCATENATE(AE1131,VLOOKUP(AF1136,$AH$1647:$AH$1669,1,0))","v":"m/G"},null,"G"]
[null,1135,{"$f":"CONCATENATE($C$9,AD1137)","v":"F#m/G#"},"Fm/G","Em/F#","Ebm/F","Dm/E",{"$f":"$C1132","v":"C#m/Eb"},{"$f":"$C1131","v":"Cm/D"},{"$f":"$C1142","v":"Bm/C#"},"Bbm/C","Am/B","G#m/Bb","Gm/A","Fm/G","Em/F#","Ebm/F","Dm/E",{"$f":"$C1132","v":"C#m/Eb"},{"$f":"$C1131","v":"Cm/D"},{"$f":"$C1142","v":"Bm/C#"},"Bbm/C","Am/B","G#m/Bb","Gm/A",null,"F#m/G#",1135,null,{"$f":"CONCATENATE(AE1131,VLOOKUP(AF1137,$AH$1647:$AH$1669,1,0))","v":"m/G#"},null,"G#"]
[null,1136,{"$f":"CONCATENATE($C$10,AD1138)","v":"Gm/A"},"F#m/G#","Fm/G","Em/F#","Ebm/F","Dm/E","C#m/Eb",{"$f":"$C1131","v":"Cm/D"},{"$f":"$C1142","v":"Bm/C#"},"Bbm/C","Am/B","G#m/Bb","F#m/G#","Fm/G","Em/F#","Ebm/F","Dm/E","C#m/Eb",{"$f":"$C1131","v":"Cm/D"},{"$f":"$C1142","v":"Bm/C#"},"Bbm/C","Am/B","G#m/Bb",null,"Gm/A",1136,null,{"$f":"CONCATENATE(AE1131,VLOOKUP(AF1138,$AH$1647:$AH$1669,1,0))","v":"m/A"},null,"A"]
[null,1137,{"$f":"CONCATENATE($C$11,AD1139)","v":"G#m/Bb"},"Gm/A","F#m/G#","Fm/G","Em/F#","Ebm/F","Dm/E",{"$f":"$C1132","v":"C#m/Eb"},{"$f":"$C1131","v":"Cm/D"},{"$f":"$C1142","v":"Bm/C#"},"Bbm/C","Am/B","Gm/A","F#m/G#","Fm/G","Em/F#","Ebm/F","Dm/E",{"$f":"$C1132","v":"C#m/Eb"},{"$f":"$C1131","v":"Cm/D"},{"$f":"$C1142","v":"Bm/C#"},"Bbm/C","Am/B",null,"G#m/Bb",1137,null,{"$f":"CONCATENATE(AE1131,VLOOKUP(AF1139,$AH$1647:$AH$1669,1,0))","v":"m/Bb"},null,"Bb"]
[null,1138,{"$f":"CONCATENATE($C$12,AD1140)","v":"Am/B"},"G#m/Bb","Gm/A","F#m/G#","Fm/G","Em/F#","Ebm/F",{"$f":"$C1133","v":"Dm/E"},{"$f":"$C1132","v":"C#m/Eb"},{"$f":"$C1131","v":"Cm/D"},{"$f":"$C1142","v":"Bm/C#"},"Bbm/C","G#m/Bb","Gm/A","F#m/G#","Fm/G","Em/F#","Ebm/F",{"$f":"$C1133","v":"Dm/E"},{"$f":"$C1132","v":"C#m/Eb"},{"$f":"$C1131","v":"Cm/D"},{"$f":"$C1142","v":"Bm/C#"},"Bbm/C",null,"Am/B",1138,null,{"$f":"CONCATENATE(AE1131,VLOOKUP(AF1140,$AH$1647:$AH$1669,1,0))","v":"m/B"},null,"B"]
[null,1139,{"$f":"CONCATENATE($C$13,AD1141)","v":"Bbm/C"},"Am/B","G#m/Bb","Gm/A","F#m/G#","Fm/G","Em/F#",{"$f":"$C1134","v":"Ebm/F"},{"$f":"$C1133","v":"Dm/E"},{"$f":"$C1132","v":"C#m/Eb"},{"$f":"$C1131","v":"Cm/D"},{"$f":"$C1142","v":"Bm/C#"},"Am/B","G#m/Bb","Gm/A","F#m/G#","Fm/G","Em/F#",{"$f":"$C1134","v":"Ebm/F"},{"$f":"$C1133","v":"Dm/E"},{"$f":"$C1132","v":"C#m/Eb"},{"$f":"$C1131","v":"Cm/D"},{"$f":"$C1142","v":"Bm/C#"},null,"Bbm/C",1139,null,{"$f":"CONCATENATE(AE1131,VLOOKUP(AF1141,$AH$1647:$AH$1669,1,0))","v":"m/C"},null,"C"]
[null,1140,{"$f":"CONCATENATE($C$14,AD1142)","v":"Bm/C#"},"Bbm/C","Am/B","G#m/Bb","Gm/A","F#m/G#","Fm/G",{"$f":"$C1135","v":"Em/F#"},{"$f":"$C1134","v":"Ebm/F"},{"$f":"$C1133","v":"Dm/E"},{"$f":"$C1132","v":"C#m/Eb"},{"$f":"$C1131","v":"Cm/D"},"Bbm/C","Am/B","G#m/Bb","Gm/A","F#m/G#","Fm/G",{"$f":"$C1135","v":"Em/F#"},{"$f":"$C1134","v":"Ebm/F"},{"$f":"$C1133","v":"Dm/E"},{"$f":"$C1132","v":"C#m/Eb"},{"$f":"$C1131","v":"Cm/D"},null,"Bm/C#",1140,null,{"$f":"CONCATENATE(AE1131,VLOOKUP(AF1142,$AH$1647:$AH$1669,1,0))","v":"m/C#"},null,"C#"]
[null,1141,{"$f":"CONCATENATE($C$3,AD1143)","v":"Cm/Eb"},{"$f":"$C1154","v":"Bm/D"},{"$f":"$C1153","v":"Bbm/C#"},{"$f":"$C1152","v":"Am/C"},{"$f":"$C1151","v":"G#m/B"},{"$f":"$C1150","v":"Gm/Bb"},{"$f":"$C1149","v":"F#m/A"},{"$f":"$C1148","v":"Fm/G#"},{"$f":"$C1147","v":"Em/G"},{"$f":"$C1146","v":"Ebm/F#"},{"$f":"$C1145","v":"Dm/F"},{"$f":"$C1144","v":"C#m/E"},{"$f":"$C1154","v":"Bm/D"},{"$f":"$C1153","v":"Bbm/C#"},{"$f":"$C1152","v":"Am/C"},{"$f":"$C1151","v":"G#m/B"},{"$f":"$C1150","v":"Gm/Bb"},{"$f":"$C1149","v":"F#m/A"},{"$f":"$C1148","v":"Fm/G#"},{"$f":"$C1147","v":"Em/G"},{"$f":"$C1146","v":"Ebm/F#"},{"$f":"$C1145","v":"Dm/F"},{"$f":"$C1144","v":"C#m/E"},null,"Cm/Eb",1141,null,{"$f":"CONCATENATE(AE1143,VLOOKUP(AF1143,$AH$1647:$AH$1669,1,0))","v":"m/Eb"},"m/",{"$f":"IF(印刷用!$V$12=1,$AK$1649,$AK$1650)","v":"Eb"}]
[null,1142,{"$f":"CONCATENATE($C$4,AD1144)","v":"C#m/E"},{"$f":"$C1143","v":"Cm/Eb"},{"$f":"$C1154","v":"Bm/D"},{"$f":"$C1153","v":"Bbm/C#"},{"$f":"$C1152","v":"Am/C"},{"$f":"$C1151","v":"G#m/B"},"Gm/Bb","F#m/A","Fm/G#","Em/G","Ebm/F#","Dm/F",{"$f":"$C1143","v":"Cm/Eb"},{"$f":"$C1154","v":"Bm/D"},{"$f":"$C1153","v":"Bbm/C#"},{"$f":"$C1152","v":"Am/C"},{"$f":"$C1151","v":"G#m/B"},"Gm/Bb","F#m/A","Fm/G#","Em/G","Ebm/F#","Dm/F",null,"C#m/E",1142,null,{"$f":"CONCATENATE(AE1143,VLOOKUP(AF1144,$AH$1647:$AH$1669,1,0))","v":"m/E"},null,{"$f":"VLOOKUP(AF1143,$AH$1647:$AI$1658,2,0)","v":"E"}]
[null,1143,{"$f":"CONCATENATE($C$5,AD1145)","v":"Dm/F"},{"$f":"$C1144","v":"C#m/E"},{"$f":"$C1143","v":"Cm/Eb"},{"$f":"$C1154","v":"Bm/D"},{"$f":"$C1153","v":"Bbm/C#"},{"$f":"$C1152","v":"Am/C"},"G#m/B","Gm/Bb","F#m/A","Fm/G#","Em/G","Ebm/F#",{"$f":"$C1144","v":"C#m/E"},{"$f":"$C1143","v":"Cm/Eb"},{"$f":"$C1154","v":"Bm/D"},{"$f":"$C1153","v":"Bbm/C#"},{"$f":"$C1152","v":"Am/C"},"G#m/B","Gm/Bb","F#m/A","Fm/G#","Em/G","Ebm/F#",null,"Dm/F",1143,null,{"$f":"CONCATENATE(AE1143,VLOOKUP(AF1145,$AH$1647:$AH$1669,1,0))","v":"m/F"},null,"F"]
[null,1144,{"$f":"CONCATENATE($C$6,AD1146)","v":"Ebm/F#"},"Dm/F",{"$f":"$C1144","v":"C#m/E"},{"$f":"$C1143","v":"Cm/Eb"},{"$f":"$C1154","v":"Bm/D"},{"$f":"$C1153","v":"Bbm/C#"},"Am/C","G#m/B","Gm/Bb","F#m/A","Fm/G#","Em/G","Dm/F",{"$f":"$C1144","v":"C#m/E"},{"$f":"$C1143","v":"Cm/Eb"},{"$f":"$C1154","v":"Bm/D"},{"$f":"$C1153","v":"Bbm/C#"},"Am/C","G#m/B","Gm/Bb","F#m/A","Fm/G#","Em/G",null,"Ebm/F#",1144,null,{"$f":"CONCATENATE(AE1143,VLOOKUP(AF1146,$AH$1647:$AH$1669,1,0))","v":"m/F#"},null,"F#"]
[null,1145,{"$f":"CONCATENATE($C$7,AD1147)","v":"Em/G"},"Ebm/F#","Dm/F",{"$f":"$C1144","v":"C#m/E"},{"$f":"$C1143","v":"Cm/Eb"},{"$f":"$C1154","v":"Bm/D"},"Bbm/C#","Am/C","G#m/B","Gm/Bb","F#m/A","Fm/G#","Ebm/F#","Dm/F",{"$f":"$C1144","v":"C#m/E"},{"$f":"$C1143","v":"Cm/Eb"},{"$f":"$C1154","v":"Bm/D"},"Bbm/C#","Am/C","G#m/B","Gm/Bb","F#m/A","Fm/G#",null,"Em/G",1145,null,{"$f":"CONCATENATE(AE1143,VLOOKUP(AF1147,$AH$1647:$AH$1669,1,0))","v":"m/G"},null,"G"]
[null,1146,{"$f":"CONCATENATE($C$8,AD1148)","v":"Fm/G#"},"Em/G","Ebm/F#","Dm/F",{"$f":"$C1144","v":"C#m/E"},{"$f":"$C1143","v":"Cm/Eb"},"Bm/D","Bbm/C#","Am/C","G#m/B","Gm/Bb","F#m/A","Em/G","Ebm/F#","Dm/F",{"$f":"$C1144","v":"C#m/E"},{"$f":"$C1143","v":"Cm/Eb"},"Bm/D","Bbm/C#","Am/C","G#m/B","Gm/Bb","F#m/A",null,"Fm/G#",1146,null,{"$f":"CONCATENATE(AE1143,VLOOKUP(AF1148,$AH$1647:$AH$1669,1,0))","v":"m/G#"},null,"G#"]
[null,1147,{"$f":"CONCATENATE($C$9,AD1149)","v":"F#m/A"},"Fm/G#","Em/G","Ebm/F#","Dm/F",{"$f":"$C1144","v":"C#m/E"},{"$f":"$C1143","v":"Cm/Eb"},{"$f":"$C1154","v":"Bm/D"},"Bbm/C#","Am/C","G#m/B","Gm/Bb","Fm/G#","Em/G","Ebm/F#","Dm/F",{"$f":"$C1144","v":"C#m/E"},{"$f":"$C1143","v":"Cm/Eb"},{"$f":"$C1154","v":"Bm/D"},"Bbm/C#","Am/C","G#m/B","Gm/Bb",null,"F#m/A",1147,null,{"$f":"CONCATENATE(AE1143,VLOOKUP(AF1149,$AH$1647:$AH$1669,1,0))","v":"m/A"},null,"A"]
[null,1148,{"$f":"CONCATENATE($C$10,AD1150)","v":"Gm/Bb"},"F#m/A","Fm/G#","Em/G","Ebm/F#","Dm/F","C#m/E",{"$f":"$C1143","v":"Cm/Eb"},{"$f":"$C1154","v":"Bm/D"},"Bbm/C#","Am/C","G#m/B","F#m/A","Fm/G#","Em/G","Ebm/F#","Dm/F","C#m/E",{"$f":"$C1143","v":"Cm/Eb"},{"$f":"$C1154","v":"Bm/D"},"Bbm/C#","Am/C","G#m/B",null,"Gm/Bb",1148,null,{"$f":"CONCATENATE(AE1143,VLOOKUP(AF1150,$AH$1647:$AH$1669,1,0))","v":"m/Bb"},null,"Bb"]
[null,1149,{"$f":"CONCATENATE($C$11,AD1151)","v":"G#m/B"},"Gm/Bb","F#m/A","Fm/G#","Em/G","Ebm/F#","Dm/F",{"$f":"$C1144","v":"C#m/E"},{"$f":"$C1143","v":"Cm/Eb"},{"$f":"$C1154","v":"Bm/D"},"Bbm/C#","Am/C","Gm/Bb","F#m/A","Fm/G#","Em/G","Ebm/F#","Dm/F",{"$f":"$C1144","v":"C#m/E"},{"$f":"$C1143","v":"Cm/Eb"},{"$f":"$C1154","v":"Bm/D"},"Bbm/C#","Am/C",null,"G#m/B",1149,null,{"$f":"CONCATENATE(AE1143,VLOOKUP(AF1151,$AH$1647:$AH$1669,1,0))","v":"m/B"},null,"B"]
[null,1150,{"$f":"CONCATENATE($C$12,AD1152)","v":"Am/C"},"G#m/B","Gm/Bb","F#m/A","Fm/G#","Em/G","Ebm/F#",{"$f":"$C1145","v":"Dm/F"},{"$f":"$C1144","v":"C#m/E"},{"$f":"$C1143","v":"Cm/Eb"},{"$f":"$C1154","v":"Bm/D"},"Bbm/C#","G#m/B","Gm/Bb","F#m/A","Fm/G#","Em/G","Ebm/F#",{"$f":"$C1145","v":"Dm/F"},{"$f":"$C1144","v":"C#m/E"},{"$f":"$C1143","v":"Cm/Eb"},{"$f":"$C1154","v":"Bm/D"},"Bbm/C#",null,"Am/C",1150,null,{"$f":"CONCATENATE(AE1143,VLOOKUP(AF1152,$AH$1647:$AH$1669,1,0))","v":"m/C"},null,"C"]
[null,1151,{"$f":"CONCATENATE($C$13,AD1153)","v":"Bbm/C#"},"Am/C","G#m/B","Gm/Bb","F#m/A","Fm/G#","Em/G",{"$f":"$C1146","v":"Ebm/F#"},{"$f":"$C1145","v":"Dm/F"},{"$f":"$C1144","v":"C#m/E"},{"$f":"$C1143","v":"Cm/Eb"},{"$f":"$C1154","v":"Bm/D"},"Am/C","G#m/B","Gm/Bb","F#m/A","Fm/G#","Em/G",{"$f":"$C1146","v":"Ebm/F#"},{"$f":"$C1145","v":"Dm/F"},{"$f":"$C1144","v":"C#m/E"},{"$f":"$C1143","v":"Cm/Eb"},{"$f":"$C1154","v":"Bm/D"},null,"Bbm/C#",1151,null,{"$f":"CONCATENATE(AE1143,VLOOKUP(AF1153,$AH$1647:$AH$1669,1,0))","v":"m/C#"},null,"C#"]
[null,1152,{"$f":"CONCATENATE($C$14,AD1154)","v":"Bm/D"},"Bbm/C#","Am/C","G#m/B","Gm/Bb","F#m/A","Fm/G#",{"$f":"$C1147","v":"Em/G"},{"$f":"$C1146","v":"Ebm/F#"},{"$f":"$C1145","v":"Dm/F"},{"$f":"$C1144","v":"C#m/E"},{"$f":"$C1143","v":"Cm/Eb"},"Bbm/C#","Am/C","G#m/B","Gm/Bb","F#m/A","Fm/G#",{"$f":"$C1147","v":"Em/G"},{"$f":"$C1146","v":"Ebm/F#"},{"$f":"$C1145","v":"Dm/F"},{"$f":"$C1144","v":"C#m/E"},{"$f":"$C1143","v":"Cm/Eb"},null,"Bm/D",1152,null,{"$f":"CONCATENATE(AE1143,VLOOKUP(AF1154,$AH$1647:$AH$1669,1,0))","v":"m/D"},null,"D"]
[null,1153,{"$f":"CONCATENATE($C$3,AD1155)","v":"Cm/E"},{"$f":"$C1166","v":"Bm/Eb"},{"$f":"$C1165","v":"Bbm/D"},{"$f":"$C1164","v":"Am/C#"},{"$f":"$C1163","v":"G#m/C"},{"$f":"$C1162","v":"Gm/B"},{"$f":"$C1161","v":"F#m/Bb"},{"$f":"$C1160","v":"Fm/A"},{"$f":"$C1159","v":"Em/G#"},{"$f":"$C1158","v":"Ebm/G"},{"$f":"$C1157","v":"Dm/F#"},{"$f":"$C1156","v":"C#m/F"},{"$f":"$C1166","v":"Bm/Eb"},{"$f":"$C1165","v":"Bbm/D"},{"$f":"$C1164","v":"Am/C#"},{"$f":"$C1163","v":"G#m/C"},{"$f":"$C1162","v":"Gm/B"},{"$f":"$C1161","v":"F#m/Bb"},{"$f":"$C1160","v":"Fm/A"},{"$f":"$C1159","v":"Em/G#"},{"$f":"$C1158","v":"Ebm/G"},{"$f":"$C1157","v":"Dm/F#"},{"$f":"$C1156","v":"C#m/F"},null,{"$f":"C1155","v":"Cm/E"},{"$f":"B1155","v":1153},null,{"$f":"CONCATENATE(AE1155,VLOOKUP(AF1155,$AH$1647:$AH$1669,1,0))","v":"m/E"},"m/","E"]
[null,1154,{"$f":"CONCATENATE($C$4,AD1156)","v":"C#m/F"},{"$f":"$C1155","v":"Cm/E"},{"$f":"$C1166","v":"Bm/Eb"},{"$f":"$C1165","v":"Bbm/D"},{"$f":"$C1164","v":"Am/C#"},{"$f":"$C1163","v":"G#m/C"},"Gm/B","F#m/Bb","Fm/A","Em/G#","Ebm/G","Dm/F#",{"$f":"$C1155","v":"Cm/E"},{"$f":"$C1166","v":"Bm/Eb"},{"$f":"$C1165","v":"Bbm/D"},{"$f":"$C1164","v":"Am/C#"},{"$f":"$C1163","v":"G#m/C"},"Gm/B","F#m/Bb","Fm/A","Em/G#","Ebm/G","Dm/F#",null,"C#m/F",1154,null,{"$f":"CONCATENATE(AE1155,VLOOKUP(AF1156,$AH$1647:$AH$1669,1,0))","v":"m/F"},null,{"$f":"VLOOKUP(AF1155,$AH$1647:$AI$1658,2,0)","v":"F"}]
[null,1155,{"$f":"CONCATENATE($C$5,AD1157)","v":"Dm/F#"},{"$f":"$C1156","v":"C#m/F"},{"$f":"$C1155","v":"Cm/E"},{"$f":"$C1166","v":"Bm/Eb"},{"$f":"$C1165","v":"Bbm/D"},{"$f":"$C1164","v":"Am/C#"},"G#m/C","Gm/B","F#m/Bb","Fm/A","Em/G#","Ebm/G",{"$f":"$C1156","v":"C#m/F"},{"$f":"$C1155","v":"Cm/E"},{"$f":"$C1166","v":"Bm/Eb"},{"$f":"$C1165","v":"Bbm/D"},{"$f":"$C1164","v":"Am/C#"},"G#m/C","Gm/B","F#m/Bb","Fm/A","Em/G#","Ebm/G",null,"Dm/F#",1155,null,{"$f":"CONCATENATE(AE1155,VLOOKUP(AF1157,$AH$1647:$AH$1669,1,0))","v":"m/F#"},null,"F#"]
[null,1156,{"$f":"CONCATENATE($C$6,AD1158)","v":"Ebm/G"},"Dm/F#",{"$f":"$C1156","v":"C#m/F"},{"$f":"$C1155","v":"Cm/E"},{"$f":"$C1166","v":"Bm/Eb"},{"$f":"$C1165","v":"Bbm/D"},"Am/C#","G#m/C","Gm/B","F#m/Bb","Fm/A","Em/G#","Dm/F#",{"$f":"$C1156","v":"C#m/F"},{"$f":"$C1155","v":"Cm/E"},{"$f":"$C1166","v":"Bm/Eb"},{"$f":"$C1165","v":"Bbm/D"},"Am/C#","G#m/C","Gm/B","F#m/Bb","Fm/A","Em/G#",null,"Ebm/G",1156,null,{"$f":"CONCATENATE(AE1155,VLOOKUP(AF1158,$AH$1647:$AH$1669,1,0))","v":"m/G"},null,"G"]
[null,1157,{"$f":"CONCATENATE($C$7,AD1159)","v":"Em/G#"},"Ebm/G","Dm/F#",{"$f":"$C1156","v":"C#m/F"},{"$f":"$C1155","v":"Cm/E"},{"$f":"$C1166","v":"Bm/Eb"},"Bbm/D","Am/C#","G#m/C","Gm/B","F#m/Bb","Fm/A","Ebm/G","Dm/F#",{"$f":"$C1156","v":"C#m/F"},{"$f":"$C1155","v":"Cm/E"},{"$f":"$C1166","v":"Bm/Eb"},"Bbm/D","Am/C#","G#m/C","Gm/B","F#m/Bb","Fm/A",null,"Em/G#",1157,null,{"$f":"CONCATENATE(AE1155,VLOOKUP(AF1159,$AH$1647:$AH$1669,1,0))","v":"m/G#"},null,"G#"]
[null,1158,{"$f":"CONCATENATE($C$8,AD1160)","v":"Fm/A"},"Em/G#","Ebm/G","Dm/F#",{"$f":"$C1156","v":"C#m/F"},{"$f":"$C1155","v":"Cm/E"},"Bm/Eb","Bbm/D","Am/C#","G#m/C","Gm/B","F#m/Bb","Em/G#","Ebm/G","Dm/F#",{"$f":"$C1156","v":"C#m/F"},{"$f":"$C1155","v":"Cm/E"},"Bm/Eb","Bbm/D","Am/C#","G#m/C","Gm/B","F#m/Bb",null,"Fm/A",1158,null,{"$f":"CONCATENATE(AE1155,VLOOKUP(AF1160,$AH$1647:$AH$1669,1,0))","v":"m/A"},null,"A"]
[null,1159,{"$f":"CONCATENATE($C$9,AD1161)","v":"F#m/Bb"},"Fm/A","Em/G#","Ebm/G","Dm/F#",{"$f":"$C1156","v":"C#m/F"},{"$f":"$C1155","v":"Cm/E"},{"$f":"$C1166","v":"Bm/Eb"},"Bbm/D","Am/C#","G#m/C","Gm/B","Fm/A","Em/G#","Ebm/G","Dm/F#",{"$f":"$C1156","v":"C#m/F"},{"$f":"$C1155","v":"Cm/E"},{"$f":"$C1166","v":"Bm/Eb"},"Bbm/D","Am/C#","G#m/C","Gm/B",null,"F#m/Bb",1159,null,{"$f":"CONCATENATE(AE1155,VLOOKUP(AF1161,$AH$1647:$AH$1669,1,0))","v":"m/Bb"},null,"Bb"]
[null,1160,{"$f":"CONCATENATE($C$10,AD1162)","v":"Gm/B"},"F#m/Bb","Fm/A","Em/G#","Ebm/G","Dm/F#","C#m/F",{"$f":"$C1155","v":"Cm/E"},{"$f":"$C1166","v":"Bm/Eb"},"Bbm/D","Am/C#","G#m/C","F#m/Bb","Fm/A","Em/G#","Ebm/G","Dm/F#","C#m/F",{"$f":"$C1155","v":"Cm/E"},{"$f":"$C1166","v":"Bm/Eb"},"Bbm/D","Am/C#","G#m/C",null,"Gm/B",1160,null,{"$f":"CONCATENATE(AE1155,VLOOKUP(AF1162,$AH$1647:$AH$1669,1,0))","v":"m/B"},null,"B"]
[null,1161,{"$f":"CONCATENATE($C$11,AD1163)","v":"G#m/C"},"Gm/B","F#m/Bb","Fm/A","Em/G#","Ebm/G","Dm/F#",{"$f":"$C1156","v":"C#m/F"},{"$f":"$C1155","v":"Cm/E"},{"$f":"$C1166","v":"Bm/Eb"},"Bbm/D","Am/C#","Gm/B","F#m/Bb","Fm/A","Em/G#","Ebm/G","Dm/F#",{"$f":"$C1156","v":"C#m/F"},{"$f":"$C1155","v":"Cm/E"},{"$f":"$C1166","v":"Bm/Eb"},"Bbm/D","Am/C#",null,"G#m/C",1161,null,{"$f":"CONCATENATE(AE1155,VLOOKUP(AF1163,$AH$1647:$AH$1669,1,0))","v":"m/C"},null,"C"]
[null,1162,{"$f":"CONCATENATE($C$12,AD1164)","v":"Am/C#"},"G#m/C","Gm/B","F#m/Bb","Fm/A","Em/G#","Ebm/G",{"$f":"$C1157","v":"Dm/F#"},{"$f":"$C1156","v":"C#m/F"},{"$f":"$C1155","v":"Cm/E"},{"$f":"$C1166","v":"Bm/Eb"},"Bbm/D","G#m/C","Gm/B","F#m/Bb","Fm/A","Em/G#","Ebm/G",{"$f":"$C1157","v":"Dm/F#"},{"$f":"$C1156","v":"C#m/F"},{"$f":"$C1155","v":"Cm/E"},{"$f":"$C1166","v":"Bm/Eb"},"Bbm/D",null,"Am/C#",1162,null,{"$f":"CONCATENATE(AE1155,VLOOKUP(AF1164,$AH$1647:$AH$1669,1,0))","v":"m/C#"},null,"C#"]
[null,1163,{"$f":"CONCATENATE($C$13,AD1165)","v":"Bbm/D"},"Am/C#","G#m/C","Gm/B","F#m/Bb","Fm/A","Em/G#",{"$f":"$C1158","v":"Ebm/G"},{"$f":"$C1157","v":"Dm/F#"},{"$f":"$C1156","v":"C#m/F"},{"$f":"$C1155","v":"Cm/E"},{"$f":"$C1166","v":"Bm/Eb"},"Am/C#","G#m/C","Gm/B","F#m/Bb","Fm/A","Em/G#",{"$f":"$C1158","v":"Ebm/G"},{"$f":"$C1157","v":"Dm/F#"},{"$f":"$C1156","v":"C#m/F"},{"$f":"$C1155","v":"Cm/E"},{"$f":"$C1166","v":"Bm/Eb"},null,"Bbm/D",1163,null,{"$f":"CONCATENATE(AE1155,VLOOKUP(AF1165,$AH$1647:$AH$1669,1,0))","v":"m/D"},null,"D"]
[null,1164,{"$f":"CONCATENATE($C$14,AD1166)","v":"Bm/Eb"},"Bbm/D","Am/C#","G#m/C","Gm/B","F#m/Bb","Fm/A",{"$f":"$C1159","v":"Em/G#"},{"$f":"$C1158","v":"Ebm/G"},{"$f":"$C1157","v":"Dm/F#"},{"$f":"$C1156","v":"C#m/F"},{"$f":"$C1155","v":"Cm/E"},"Bbm/D","Am/C#","G#m/C","Gm/B","F#m/Bb","Fm/A",{"$f":"$C1159","v":"Em/G#"},{"$f":"$C1158","v":"Ebm/G"},{"$f":"$C1157","v":"Dm/F#"},{"$f":"$C1156","v":"C#m/F"},{"$f":"$C1155","v":"Cm/E"},null,"Bm/Eb",1164,null,{"$f":"CONCATENATE(AE1155,VLOOKUP(AF1166,$AH$1647:$AH$1669,1,0))","v":"m/Eb"},null,"Eb"]
[null,1165,{"$f":"CONCATENATE($C$3,AD1167)","v":"Cm/F"},{"$f":"$C1178","v":"Bm/E"},{"$f":"$C1177","v":"Bbm/Eb"},{"$f":"$C1176","v":"Am/D"},{"$f":"$C1175","v":"G#m/C#"},{"$f":"$C1174","v":"Gm/C"},{"$f":"$C1173","v":"F#m/B"},{"$f":"$C1172","v":"Fm/Bb"},{"$f":"$C1171","v":"Em/A"},{"$f":"$C1170","v":"Ebm/G#"},{"$f":"$C1169","v":"Dm/G"},{"$f":"$C1168","v":"C#m/F#"},{"$f":"$C1178","v":"Bm/E"},{"$f":"$C1177","v":"Bbm/Eb"},{"$f":"$C1176","v":"Am/D"},{"$f":"$C1175","v":"G#m/C#"},{"$f":"$C1174","v":"Gm/C"},{"$f":"$C1173","v":"F#m/B"},{"$f":"$C1172","v":"Fm/Bb"},{"$f":"$C1171","v":"Em/A"},{"$f":"$C1170","v":"Ebm/G#"},{"$f":"$C1169","v":"Dm/G"},{"$f":"$C1168","v":"C#m/F#"},null,{"$f":"C1167","v":"Cm/F"},1165,null,{"$f":"CONCATENATE(AE1167,VLOOKUP(AF1167,$AH$1647:$AH$1669,1,0))","v":"m/F"},"m/","F"]
[null,1166,{"$f":"CONCATENATE($C$4,AD1168)","v":"C#m/F#"},{"$f":"$C1167","v":"Cm/F"},{"$f":"$C1178","v":"Bm/E"},{"$f":"$C1177","v":"Bbm/Eb"},{"$f":"$C1176","v":"Am/D"},{"$f":"$C1175","v":"G#m/C#"},"Gm/C","F#m/B","Fm/Bb","Em/A","Ebm/G#","Dm/G",{"$f":"$C1167","v":"Cm/F"},{"$f":"$C1178","v":"Bm/E"},{"$f":"$C1177","v":"Bbm/Eb"},{"$f":"$C1176","v":"Am/D"},{"$f":"$C1175","v":"G#m/C#"},"Gm/C","F#m/B","Fm/Bb","Em/A","Ebm/G#","Dm/G",null,"C#m/F#",1166,null,{"$f":"CONCATENATE(AE1167,VLOOKUP(AF1168,$AH$1647:$AH$1669,1,0))","v":"m/F#"},null,{"$f":"VLOOKUP(AF1167,$AH$1647:$AI$1658,2,0)","v":"F#"}]
[null,1167,{"$f":"CONCATENATE($C$5,AD1169)","v":"Dm/G"},{"$f":"$C1168","v":"C#m/F#"},{"$f":"$C1167","v":"Cm/F"},{"$f":"$C1178","v":"Bm/E"},{"$f":"$C1177","v":"Bbm/Eb"},{"$f":"$C1176","v":"Am/D"},"G#m/C#","Gm/C","F#m/B","Fm/Bb","Em/A","Ebm/G#",{"$f":"$C1168","v":"C#m/F#"},{"$f":"$C1167","v":"Cm/F"},{"$f":"$C1178","v":"Bm/E"},{"$f":"$C1177","v":"Bbm/Eb"},{"$f":"$C1176","v":"Am/D"},"G#m/C#","Gm/C","F#m/B","Fm/Bb","Em/A","Ebm/G#",null,"Dm/G",1167,null,{"$f":"CONCATENATE(AE1167,VLOOKUP(AF1169,$AH$1647:$AH$1669,1,0))","v":"m/G"},null,"G"]
[null,1168,{"$f":"CONCATENATE($C$6,AD1170)","v":"Ebm/G#"},"Dm/G",{"$f":"$C1168","v":"C#m/F#"},{"$f":"$C1167","v":"Cm/F"},{"$f":"$C1178","v":"Bm/E"},{"$f":"$C1177","v":"Bbm/Eb"},"Am/D","G#m/C#","Gm/C","F#m/B","Fm/Bb","Em/A","Dm/G",{"$f":"$C1168","v":"C#m/F#"},{"$f":"$C1167","v":"Cm/F"},{"$f":"$C1178","v":"Bm/E"},{"$f":"$C1177","v":"Bbm/Eb"},"Am/D","G#m/C#","Gm/C","F#m/B","Fm/Bb","Em/A",null,"Ebm/G#",1168,null,{"$f":"CONCATENATE(AE1167,VLOOKUP(AF1170,$AH$1647:$AH$1669,1,0))","v":"m/G#"},null,"G#"]
[null,1169,{"$f":"CONCATENATE($C$7,AD1171)","v":"Em/A"},"Ebm/G#","Dm/G",{"$f":"$C1168","v":"C#m/F#"},{"$f":"$C1167","v":"Cm/F"},{"$f":"$C1178","v":"Bm/E"},"Bbm/Eb","Am/D","G#m/C#","Gm/C","F#m/B","Fm/Bb","Ebm/G#","Dm/G",{"$f":"$C1168","v":"C#m/F#"},{"$f":"$C1167","v":"Cm/F"},{"$f":"$C1178","v":"Bm/E"},"Bbm/Eb","Am/D","G#m/C#","Gm/C","F#m/B","Fm/Bb",null,"Em/A",1169,null,{"$f":"CONCATENATE(AE1167,VLOOKUP(AF1171,$AH$1647:$AH$1669,1,0))","v":"m/A"},null,"A"]
[null,1170,{"$f":"CONCATENATE($C$8,AD1172)","v":"Fm/Bb"},"Em/A","Ebm/G#","Dm/G",{"$f":"$C1168","v":"C#m/F#"},{"$f":"$C1167","v":"Cm/F"},"Bm/E","Bbm/Eb","Am/D","G#m/C#","Gm/C","F#m/B","Em/A","Ebm/G#","Dm/G",{"$f":"$C1168","v":"C#m/F#"},{"$f":"$C1167","v":"Cm/F"},"Bm/E","Bbm/Eb","Am/D","G#m/C#","Gm/C","F#m/B",null,"Fm/Bb",1170,null,{"$f":"CONCATENATE(AE1167,VLOOKUP(AF1172,$AH$1647:$AH$1669,1,0))","v":"m/Bb"},null,"Bb"]
[null,1171,{"$f":"CONCATENATE($C$9,AD1173)","v":"F#m/B"},"Fm/Bb","Em/A","Ebm/G#","Dm/G",{"$f":"$C1168","v":"C#m/F#"},{"$f":"$C1167","v":"Cm/F"},{"$f":"$C1178","v":"Bm/E"},"Bbm/Eb","Am/D","G#m/C#","Gm/C","Fm/Bb","Em/A","Ebm/G#","Dm/G",{"$f":"$C1168","v":"C#m/F#"},{"$f":"$C1167","v":"Cm/F"},{"$f":"$C1178","v":"Bm/E"},"Bbm/Eb","Am/D","G#m/C#","Gm/C",null,"F#m/B",1171,null,{"$f":"CONCATENATE(AE1167,VLOOKUP(AF1173,$AH$1647:$AH$1669,1,0))","v":"m/B"},null,"B"]
[null,1172,{"$f":"CONCATENATE($C$10,AD1174)","v":"Gm/C"},"F#m/B","Fm/Bb","Em/A","Ebm/G#","Dm/G","C#m/F#",{"$f":"$C1167","v":"Cm/F"},{"$f":"$C1178","v":"Bm/E"},"Bbm/Eb","Am/D","G#m/C#","F#m/B","Fm/Bb","Em/A","Ebm/G#","Dm/G","C#m/F#",{"$f":"$C1167","v":"Cm/F"},{"$f":"$C1178","v":"Bm/E"},"Bbm/Eb","Am/D","G#m/C#",null,"Gm/C",1172,null,{"$f":"CONCATENATE(AE1167,VLOOKUP(AF1174,$AH$1647:$AH$1669,1,0))","v":"m/C"},null,"C"]
[null,1173,{"$f":"CONCATENATE($C$11,AD1175)","v":"G#m/C#"},"Gm/C","F#m/B","Fm/Bb","Em/A","Ebm/G#","Dm/G",{"$f":"$C1168","v":"C#m/F#"},{"$f":"$C1167","v":"Cm/F"},{"$f":"$C1178","v":"Bm/E"},"Bbm/Eb","Am/D","Gm/C","F#m/B","Fm/Bb","Em/A","Ebm/G#","Dm/G",{"$f":"$C1168","v":"C#m/F#"},{"$f":"$C1167","v":"Cm/F"},{"$f":"$C1178","v":"Bm/E"},"Bbm/Eb","Am/D",null,"G#m/C#",1173,null,{"$f":"CONCATENATE(AE1167,VLOOKUP(AF1175,$AH$1647:$AH$1669,1,0))","v":"m/C#"},null,"C#"]
[null,1174,{"$f":"CONCATENATE($C$12,AD1176)","v":"Am/D"},"G#m/C#","Gm/C","F#m/B","Fm/Bb","Em/A","Ebm/G#",{"$f":"$C1169","v":"Dm/G"},{"$f":"$C1168","v":"C#m/F#"},{"$f":"$C1167","v":"Cm/F"},{"$f":"$C1178","v":"Bm/E"},"Bbm/Eb","G#m/C#","Gm/C","F#m/B","Fm/Bb","Em/A","Ebm/G#",{"$f":"$C1169","v":"Dm/G"},{"$f":"$C1168","v":"C#m/F#"},{"$f":"$C1167","v":"Cm/F"},{"$f":"$C1178","v":"Bm/E"},"Bbm/Eb",null,"Am/D",1174,null,{"$f":"CONCATENATE(AE1167,VLOOKUP(AF1176,$AH$1647:$AH$1669,1,0))","v":"m/D"},null,"D"]
[null,1175,{"$f":"CONCATENATE($C$13,AD1177)","v":"Bbm/Eb"},"Am/D","G#m/C#","Gm/C","F#m/B","Fm/Bb","Em/A",{"$f":"$C1170","v":"Ebm/G#"},{"$f":"$C1169","v":"Dm/G"},{"$f":"$C1168","v":"C#m/F#"},{"$f":"$C1167","v":"Cm/F"},{"$f":"$C1178","v":"Bm/E"},"Am/D","G#m/C#","Gm/C","F#m/B","Fm/Bb","Em/A",{"$f":"$C1170","v":"Ebm/G#"},{"$f":"$C1169","v":"Dm/G"},{"$f":"$C1168","v":"C#m/F#"},{"$f":"$C1167","v":"Cm/F"},{"$f":"$C1178","v":"Bm/E"},null,"Bbm/Eb",1175,null,{"$f":"CONCATENATE(AE1167,VLOOKUP(AF1177,$AH$1647:$AH$1669,1,0))","v":"m/Eb"},null,"Eb"]
[null,1176,{"$f":"CONCATENATE($C$14,AD1178)","v":"Bm/E"},"Bbm/Eb","Am/D","G#m/C#","Gm/C","F#m/B","Fm/Bb",{"$f":"$C1171","v":"Em/A"},{"$f":"$C1170","v":"Ebm/G#"},{"$f":"$C1169","v":"Dm/G"},{"$f":"$C1168","v":"C#m/F#"},{"$f":"$C1167","v":"Cm/F"},"Bbm/Eb","Am/D","G#m/C#","Gm/C","F#m/B","Fm/Bb",{"$f":"$C1171","v":"Em/A"},{"$f":"$C1170","v":"Ebm/G#"},{"$f":"$C1169","v":"Dm/G"},{"$f":"$C1168","v":"C#m/F#"},{"$f":"$C1167","v":"Cm/F"},null,"Bm/E",1176,null,{"$f":"CONCATENATE(AE1167,VLOOKUP(AF1178,$AH$1647:$AH$1669,1,0))","v":"m/E"},null,"E"]
[null,1177,{"$f":"CONCATENATE($C$3,AD1179)","v":"Cm/F#"},{"$f":"$C1190","v":"Bm/F"},{"$f":"$C1189","v":"Bbm/E"},{"$f":"$C1188","v":"Am/Eb"},{"$f":"$C1187","v":"G#m/D"},{"$f":"$C1186","v":"Gm/C#"},{"$f":"$C1185","v":"F#m/C"},{"$f":"$C1184","v":"Fm/B"},{"$f":"$C1183","v":"Em/Bb"},{"$f":"$C1182","v":"Ebm/A"},{"$f":"$C1181","v":"Dm/G#"},{"$f":"$C1180","v":"C#m/G"},{"$f":"$C1190","v":"Bm/F"},{"$f":"$C1189","v":"Bbm/E"},{"$f":"$C1188","v":"Am/Eb"},{"$f":"$C1187","v":"G#m/D"},{"$f":"$C1186","v":"Gm/C#"},{"$f":"$C1185","v":"F#m/C"},{"$f":"$C1184","v":"Fm/B"},{"$f":"$C1183","v":"Em/Bb"},{"$f":"$C1182","v":"Ebm/A"},{"$f":"$C1181","v":"Dm/G#"},{"$f":"$C1180","v":"C#m/G"},null,"Cm/F#",1177,null,{"$f":"CONCATENATE(AE1179,VLOOKUP(AF1179,$AH$1647:$AH$1669,1,0))","v":"m/F#"},"m/",{"$f":"IF(印刷用!$X$12=1,$AK$1651,AK1652)","v":"F#"}]
[null,1178,{"$f":"CONCATENATE($C$4,AD1180)","v":"C#m/G"},{"$f":"$C1179","v":"Cm/F#"},{"$f":"$C1190","v":"Bm/F"},{"$f":"$C1189","v":"Bbm/E"},{"$f":"$C1188","v":"Am/Eb"},{"$f":"$C1187","v":"G#m/D"},"Gm/C#","F#m/C","Fm/B","Em/Bb","Ebm/A","Dm/G#",{"$f":"$C1179","v":"Cm/F#"},{"$f":"$C1190","v":"Bm/F"},{"$f":"$C1189","v":"Bbm/E"},{"$f":"$C1188","v":"Am/Eb"},{"$f":"$C1187","v":"G#m/D"},"Gm/C#","F#m/C","Fm/B","Em/Bb","Ebm/A","Dm/G#",null,"C#m/G",1178,null,{"$f":"CONCATENATE(AE1179,VLOOKUP(AF1180,$AH$1647:$AH$1669,1,0))","v":"m/G"},null,{"$f":"VLOOKUP(AF1179,$AH$1647:$AI$1658,2,0)","v":"G"}]
[null,1179,{"$f":"CONCATENATE($C$5,AD1181)","v":"Dm/G#"},{"$f":"$C1180","v":"C#m/G"},{"$f":"$C1179","v":"Cm/F#"},{"$f":"$C1190","v":"Bm/F"},{"$f":"$C1189","v":"Bbm/E"},{"$f":"$C1188","v":"Am/Eb"},"G#m/D","Gm/C#","F#m/C","Fm/B","Em/Bb","Ebm/A",{"$f":"$C1180","v":"C#m/G"},{"$f":"$C1179","v":"Cm/F#"},{"$f":"$C1190","v":"Bm/F"},{"$f":"$C1189","v":"Bbm/E"},{"$f":"$C1188","v":"Am/Eb"},"G#m/D","Gm/C#","F#m/C","Fm/B","Em/Bb","Ebm/A",null,"Dm/G#",1179,null,{"$f":"CONCATENATE(AE1179,VLOOKUP(AF1181,$AH$1647:$AH$1669,1,0))","v":"m/G#"},null,"G#"]
[null,1180,{"$f":"CONCATENATE($C$6,AD1182)","v":"Ebm/A"},"Dm/G#",{"$f":"$C1180","v":"C#m/G"},{"$f":"$C1179","v":"Cm/F#"},{"$f":"$C1190","v":"Bm/F"},{"$f":"$C1189","v":"Bbm/E"},"Am/Eb","G#m/D","Gm/C#","F#m/C","Fm/B","Em/Bb","Dm/G#",{"$f":"$C1180","v":"C#m/G"},{"$f":"$C1179","v":"Cm/F#"},{"$f":"$C1190","v":"Bm/F"},{"$f":"$C1189","v":"Bbm/E"},"Am/Eb","G#m/D","Gm/C#","F#m/C","Fm/B","Em/Bb",null,"Ebm/A",1180,null,{"$f":"CONCATENATE(AE1179,VLOOKUP(AF1182,$AH$1647:$AH$1669,1,0))","v":"m/A"},null,"A"]
[null,1181,{"$f":"CONCATENATE($C$7,AD1183)","v":"Em/Bb"},"Ebm/A","Dm/G#",{"$f":"$C1180","v":"C#m/G"},{"$f":"$C1179","v":"Cm/F#"},{"$f":"$C1190","v":"Bm/F"},"Bbm/E","Am/Eb","G#m/D","Gm/C#","F#m/C","Fm/B","Ebm/A","Dm/G#",{"$f":"$C1180","v":"C#m/G"},{"$f":"$C1179","v":"Cm/F#"},{"$f":"$C1190","v":"Bm/F"},"Bbm/E","Am/Eb","G#m/D","Gm/C#","F#m/C","Fm/B",null,"Em/Bb",1181,null,{"$f":"CONCATENATE(AE1179,VLOOKUP(AF1183,$AH$1647:$AH$1669,1,0))","v":"m/Bb"},null,"Bb"]
[null,1182,{"$f":"CONCATENATE($C$8,AD1184)","v":"Fm/B"},"Em/Bb","Ebm/A","Dm/G#",{"$f":"$C1180","v":"C#m/G"},{"$f":"$C1179","v":"Cm/F#"},"Bm/F","Bbm/E","Am/Eb","G#m/D","Gm/C#","F#m/C","Em/Bb","Ebm/A","Dm/G#",{"$f":"$C1180","v":"C#m/G"},{"$f":"$C1179","v":"Cm/F#"},"Bm/F","Bbm/E","Am/Eb","G#m/D","Gm/C#","F#m/C",null,"Fm/B",1182,null,{"$f":"CONCATENATE(AE1179,VLOOKUP(AF1184,$AH$1647:$AH$1669,1,0))","v":"m/B"},null,"B"]
[null,1183,{"$f":"CONCATENATE($C$9,AD1185)","v":"F#m/C"},"Fm/B","Em/Bb","Ebm/A","Dm/G#",{"$f":"$C1180","v":"C#m/G"},{"$f":"$C1179","v":"Cm/F#"},{"$f":"$C1190","v":"Bm/F"},"Bbm/E","Am/Eb","G#m/D","Gm/C#","Fm/B","Em/Bb","Ebm/A","Dm/G#",{"$f":"$C1180","v":"C#m/G"},{"$f":"$C1179","v":"Cm/F#"},{"$f":"$C1190","v":"Bm/F"},"Bbm/E","Am/Eb","G#m/D","Gm/C#",null,"F#m/C",1183,null,{"$f":"CONCATENATE(AE1179,VLOOKUP(AF1185,$AH$1647:$AH$1669,1,0))","v":"m/C"},null,"C"]
[null,1184,{"$f":"CONCATENATE($C$10,AD1186)","v":"Gm/C#"},"F#m/C","Fm/B","Em/Bb","Ebm/A","Dm/G#","C#m/G",{"$f":"$C1179","v":"Cm/F#"},{"$f":"$C1190","v":"Bm/F"},"Bbm/E","Am/Eb","G#m/D","F#m/C","Fm/B","Em/Bb","Ebm/A","Dm/G#","C#m/G",{"$f":"$C1179","v":"Cm/F#"},{"$f":"$C1190","v":"Bm/F"},"Bbm/E","Am/Eb","G#m/D",null,"Gm/C#",1184,null,{"$f":"CONCATENATE(AE1179,VLOOKUP(AF1186,$AH$1647:$AH$1669,1,0))","v":"m/C#"},null,"C#"]
[null,1185,{"$f":"CONCATENATE($C$11,AD1187)","v":"G#m/D"},"Gm/C#","F#m/C","Fm/B","Em/Bb","Ebm/A","Dm/G#",{"$f":"$C1180","v":"C#m/G"},{"$f":"$C1179","v":"Cm/F#"},{"$f":"$C1190","v":"Bm/F"},"Bbm/E","Am/Eb","Gm/C#","F#m/C","Fm/B","Em/Bb","Ebm/A","Dm/G#",{"$f":"$C1180","v":"C#m/G"},{"$f":"$C1179","v":"Cm/F#"},{"$f":"$C1190","v":"Bm/F"},"Bbm/E","Am/Eb",null,"G#m/D",1185,null,{"$f":"CONCATENATE(AE1179,VLOOKUP(AF1187,$AH$1647:$AH$1669,1,0))","v":"m/D"},null,"D"]
[null,1186,{"$f":"CONCATENATE($C$12,AD1188)","v":"Am/Eb"},"G#m/D","Gm/C#","F#m/C","Fm/B","Em/Bb","Ebm/A",{"$f":"$C1181","v":"Dm/G#"},{"$f":"$C1180","v":"C#m/G"},{"$f":"$C1179","v":"Cm/F#"},{"$f":"$C1190","v":"Bm/F"},"Bbm/E","G#m/D","Gm/C#","F#m/C","Fm/B","Em/Bb","Ebm/A",{"$f":"$C1181","v":"Dm/G#"},{"$f":"$C1180","v":"C#m/G"},{"$f":"$C1179","v":"Cm/F#"},{"$f":"$C1190","v":"Bm/F"},"Bbm/E",null,"Am/Eb",1186,null,{"$f":"CONCATENATE(AE1179,VLOOKUP(AF1188,$AH$1647:$AH$1669,1,0))","v":"m/Eb"},null,"Eb"]
[null,1187,{"$f":"CONCATENATE($C$13,AD1189)","v":"Bbm/E"},"Am/Eb","G#m/D","Gm/C#","F#m/C","Fm/B","Em/Bb",{"$f":"$C1182","v":"Ebm/A"},{"$f":"$C1181","v":"Dm/G#"},{"$f":"$C1180","v":"C#m/G"},{"$f":"$C1179","v":"Cm/F#"},{"$f":"$C1190","v":"Bm/F"},"Am/Eb","G#m/D","Gm/C#","F#m/C","Fm/B","Em/Bb",{"$f":"$C1182","v":"Ebm/A"},{"$f":"$C1181","v":"Dm/G#"},{"$f":"$C1180","v":"C#m/G"},{"$f":"$C1179","v":"Cm/F#"},{"$f":"$C1190","v":"Bm/F"},null,"Bbm/E",1187,null,{"$f":"CONCATENATE(AE1179,VLOOKUP(AF1189,$AH$1647:$AH$1669,1,0))","v":"m/E"},null,"E"]
[null,1188,{"$f":"CONCATENATE($C$14,AD1190)","v":"Bm/F"},"Bbm/E","Am/Eb","G#m/D","Gm/C#","F#m/C","Fm/B",{"$f":"$C1183","v":"Em/Bb"},{"$f":"$C1182","v":"Ebm/A"},{"$f":"$C1181","v":"Dm/G#"},{"$f":"$C1180","v":"C#m/G"},{"$f":"$C1179","v":"Cm/F#"},"Bbm/E","Am/Eb","G#m/D","Gm/C#","F#m/C","Fm/B",{"$f":"$C1183","v":"Em/Bb"},{"$f":"$C1182","v":"Ebm/A"},{"$f":"$C1181","v":"Dm/G#"},{"$f":"$C1180","v":"C#m/G"},{"$f":"$C1179","v":"Cm/F#"},null,"Bm/F",1188,null,{"$f":"CONCATENATE(AE1179,VLOOKUP(AF1190,$AH$1647:$AH$1669,1,0))","v":"m/F"},null,"F"]
[null,1189,{"$f":"CONCATENATE($C$3,AD1191)","v":"Cm/G"},{"$f":"$C1202","v":"Bm/F#"},{"$f":"$C1201","v":"Bbm/F"},{"$f":"$C1200","v":"Am/E"},{"$f":"$C1199","v":"G#m/Eb"},{"$f":"$C1198","v":"Gm/D"},{"$f":"$C1197","v":"F#m/C#"},{"$f":"$C1196","v":"Fm/C"},{"$f":"$C1195","v":"Em/B"},{"$f":"$C1194","v":"Ebm/Bb"},{"$f":"$C1193","v":"Dm/A"},{"$f":"$C1192","v":"C#m/G#"},{"$f":"$C1202","v":"Bm/F#"},{"$f":"$C1201","v":"Bbm/F"},{"$f":"$C1200","v":"Am/E"},{"$f":"$C1199","v":"G#m/Eb"},{"$f":"$C1198","v":"Gm/D"},{"$f":"$C1197","v":"F#m/C#"},{"$f":"$C1196","v":"Fm/C"},{"$f":"$C1195","v":"Em/B"},{"$f":"$C1194","v":"Ebm/Bb"},{"$f":"$C1193","v":"Dm/A"},{"$f":"$C1192","v":"C#m/G#"},null,"Cm/G",1189,null,{"$f":"CONCATENATE(AE1191,VLOOKUP(AF1191,$AH$1647:$AH$1669,1,0))","v":"m/G"},"m/","G"]
[null,1190,{"$f":"CONCATENATE($C$4,AD1192)","v":"C#m/G#"},{"$f":"$C1191","v":"Cm/G"},{"$f":"$C1202","v":"Bm/F#"},{"$f":"$C1201","v":"Bbm/F"},{"$f":"$C1200","v":"Am/E"},{"$f":"$C1199","v":"G#m/Eb"},"Gm/D","F#m/C#","Fm/C","Em/B","Ebm/Bb","Dm/A",{"$f":"$C1191","v":"Cm/G"},{"$f":"$C1202","v":"Bm/F#"},{"$f":"$C1201","v":"Bbm/F"},{"$f":"$C1200","v":"Am/E"},{"$f":"$C1199","v":"G#m/Eb"},"Gm/D","F#m/C#","Fm/C","Em/B","Ebm/Bb","Dm/A",null,"C#m/G#",1190,null,{"$f":"CONCATENATE(AE1191,VLOOKUP(AF1192,$AH$1647:$AH$1669,1,0))","v":"m/G#"},null,{"$f":"VLOOKUP(AF1191,$AH$1647:$AI$1658,2,0)","v":"G#"}]
[null,1191,{"$f":"CONCATENATE($C$5,AD1193)","v":"Dm/A"},{"$f":"$C1192","v":"C#m/G#"},{"$f":"$C1191","v":"Cm/G"},{"$f":"$C1202","v":"Bm/F#"},{"$f":"$C1201","v":"Bbm/F"},{"$f":"$C1200","v":"Am/E"},"G#m/Eb","Gm/D","F#m/C#","Fm/C","Em/B","Ebm/Bb",{"$f":"$C1192","v":"C#m/G#"},{"$f":"$C1191","v":"Cm/G"},{"$f":"$C1202","v":"Bm/F#"},{"$f":"$C1201","v":"Bbm/F"},{"$f":"$C1200","v":"Am/E"},"G#m/Eb","Gm/D","F#m/C#","Fm/C","Em/B","Ebm/Bb",null,"Dm/A",1191,null,{"$f":"CONCATENATE(AE1191,VLOOKUP(AF1193,$AH$1647:$AH$1669,1,0))","v":"m/A"},null,"A"]
[null,1192,{"$f":"CONCATENATE($C$6,AD1194)","v":"Ebm/Bb"},"Dm/A",{"$f":"$C1192","v":"C#m/G#"},{"$f":"$C1191","v":"Cm/G"},{"$f":"$C1202","v":"Bm/F#"},{"$f":"$C1201","v":"Bbm/F"},"Am/E","G#m/Eb","Gm/D","F#m/C#","Fm/C","Em/B","Dm/A",{"$f":"$C1192","v":"C#m/G#"},{"$f":"$C1191","v":"Cm/G"},{"$f":"$C1202","v":"Bm/F#"},{"$f":"$C1201","v":"Bbm/F"},"Am/E","G#m/Eb","Gm/D","F#m/C#","Fm/C","Em/B",null,"Ebm/Bb",1192,null,{"$f":"CONCATENATE(AE1191,VLOOKUP(AF1194,$AH$1647:$AH$1669,1,0))","v":"m/Bb"},null,"Bb"]
[null,1193,{"$f":"CONCATENATE($C$7,AD1195)","v":"Em/B"},"Ebm/Bb","Dm/A",{"$f":"$C1192","v":"C#m/G#"},{"$f":"$C1191","v":"Cm/G"},{"$f":"$C1202","v":"Bm/F#"},"Bbm/F","Am/E","G#m/Eb","Gm/D","F#m/C#","Fm/C","Ebm/Bb","Dm/A",{"$f":"$C1192","v":"C#m/G#"},{"$f":"$C1191","v":"Cm/G"},{"$f":"$C1202","v":"Bm/F#"},"Bbm/F","Am/E","G#m/Eb","Gm/D","F#m/C#","Fm/C",null,"Em/B",1193,null,{"$f":"CONCATENATE(AE1191,VLOOKUP(AF1195,$AH$1647:$AH$1669,1,0))","v":"m/B"},null,"B"]
[null,1194,{"$f":"CONCATENATE($C$8,AD1196)","v":"Fm/C"},"Em/B","Ebm/Bb","Dm/A",{"$f":"$C1192","v":"C#m/G#"},{"$f":"$C1191","v":"Cm/G"},"Bm/F#","Bbm/F","Am/E","G#m/Eb","Gm/D","F#m/C#","Em/B","Ebm/Bb","Dm/A",{"$f":"$C1192","v":"C#m/G#"},{"$f":"$C1191","v":"Cm/G"},"Bm/F#","Bbm/F","Am/E","G#m/Eb","Gm/D","F#m/C#",null,"Fm/C",1194,null,{"$f":"CONCATENATE(AE1191,VLOOKUP(AF1196,$AH$1647:$AH$1669,1,0))","v":"m/C"},null,"C"]
[null,1195,{"$f":"CONCATENATE($C$9,AD1197)","v":"F#m/C#"},"Fm/C","Em/B","Ebm/Bb","Dm/A",{"$f":"$C1192","v":"C#m/G#"},{"$f":"$C1191","v":"Cm/G"},{"$f":"$C1202","v":"Bm/F#"},"Bbm/F","Am/E","G#m/Eb","Gm/D","Fm/C","Em/B","Ebm/Bb","Dm/A",{"$f":"$C1192","v":"C#m/G#"},{"$f":"$C1191","v":"Cm/G"},{"$f":"$C1202","v":"Bm/F#"},"Bbm/F","Am/E","G#m/Eb","Gm/D",null,"F#m/C#",1195,null,{"$f":"CONCATENATE(AE1191,VLOOKUP(AF1197,$AH$1647:$AH$1669,1,0))","v":"m/C#"},null,"C#"]
[null,1196,{"$f":"CONCATENATE($C$10,AD1198)","v":"Gm/D"},"F#m/C#","Fm/C","Em/B","Ebm/Bb","Dm/A","C#m/G#",{"$f":"$C1191","v":"Cm/G"},{"$f":"$C1202","v":"Bm/F#"},"Bbm/F","Am/E","G#m/Eb","F#m/C#","Fm/C","Em/B","Ebm/Bb","Dm/A","C#m/G#",{"$f":"$C1191","v":"Cm/G"},{"$f":"$C1202","v":"Bm/F#"},"Bbm/F","Am/E","G#m/Eb",null,"Gm/D",1196,null,{"$f":"CONCATENATE(AE1191,VLOOKUP(AF1198,$AH$1647:$AH$1669,1,0))","v":"m/D"},null,"D"]
[null,1197,{"$f":"CONCATENATE($C$11,AD1199)","v":"G#m/Eb"},"Gm/D","F#m/C#","Fm/C","Em/B","Ebm/Bb","Dm/A",{"$f":"$C1192","v":"C#m/G#"},{"$f":"$C1191","v":"Cm/G"},{"$f":"$C1202","v":"Bm/F#"},"Bbm/F","Am/E","Gm/D","F#m/C#","Fm/C","Em/B","Ebm/Bb","Dm/A",{"$f":"$C1192","v":"C#m/G#"},{"$f":"$C1191","v":"Cm/G"},{"$f":"$C1202","v":"Bm/F#"},"Bbm/F","Am/E",null,"G#m/Eb",1197,null,{"$f":"CONCATENATE(AE1191,VLOOKUP(AF1199,$AH$1647:$AH$1669,1,0))","v":"m/Eb"},null,"Eb"]
[null,1198,{"$f":"CONCATENATE($C$12,AD1200)","v":"Am/E"},"G#m/Eb","Gm/D","F#m/C#","Fm/C","Em/B","Ebm/Bb",{"$f":"$C1193","v":"Dm/A"},{"$f":"$C1192","v":"C#m/G#"},{"$f":"$C1191","v":"Cm/G"},{"$f":"$C1202","v":"Bm/F#"},"Bbm/F","G#m/Eb","Gm/D","F#m/C#","Fm/C","Em/B","Ebm/Bb",{"$f":"$C1193","v":"Dm/A"},{"$f":"$C1192","v":"C#m/G#"},{"$f":"$C1191","v":"Cm/G"},{"$f":"$C1202","v":"Bm/F#"},"Bbm/F",null,"Am/E",1198,null,{"$f":"CONCATENATE(AE1191,VLOOKUP(AF1200,$AH$1647:$AH$1669,1,0))","v":"m/E"},null,"E"]
[null,1199,{"$f":"CONCATENATE($C$13,AD1201)","v":"Bbm/F"},"Am/E","G#m/Eb","Gm/D","F#m/C#","Fm/C","Em/B",{"$f":"$C1194","v":"Ebm/Bb"},{"$f":"$C1193","v":"Dm/A"},{"$f":"$C1192","v":"C#m/G#"},{"$f":"$C1191","v":"Cm/G"},{"$f":"$C1202","v":"Bm/F#"},"Am/E","G#m/Eb","Gm/D","F#m/C#","Fm/C","Em/B",{"$f":"$C1194","v":"Ebm/Bb"},{"$f":"$C1193","v":"Dm/A"},{"$f":"$C1192","v":"C#m/G#"},{"$f":"$C1191","v":"Cm/G"},{"$f":"$C1202","v":"Bm/F#"},null,"Bbm/F",1199,null,{"$f":"CONCATENATE(AE1191,VLOOKUP(AF1201,$AH$1647:$AH$1669,1,0))","v":"m/F"},null,"F"]
[null,1200,{"$f":"CONCATENATE($C$14,AD1202)","v":"Bm/F#"},"Bbm/F","Am/E","G#m/Eb","Gm/D","F#m/C#","Fm/C",{"$f":"$C1195","v":"Em/B"},{"$f":"$C1194","v":"Ebm/Bb"},{"$f":"$C1193","v":"Dm/A"},{"$f":"$C1192","v":"C#m/G#"},{"$f":"$C1191","v":"Cm/G"},"Bbm/F","Am/E","G#m/Eb","Gm/D","F#m/C#","Fm/C",{"$f":"$C1195","v":"Em/B"},{"$f":"$C1194","v":"Ebm/Bb"},{"$f":"$C1193","v":"Dm/A"},{"$f":"$C1192","v":"C#m/G#"},{"$f":"$C1191","v":"Cm/G"},null,"Bm/F#",1200,null,{"$f":"CONCATENATE(AE1191,VLOOKUP(AF1202,$AH$1647:$AH$1669,1,0))","v":"m/F#"},null,"F#"]
[null,1201,{"$f":"CONCATENATE($C$3,AD1203)","v":"Cm/G#"},{"$f":"$C1214","v":"Bm/G"},{"$f":"$C1213","v":"Bbm/F#"},{"$f":"$C1212","v":"Am/F"},{"$f":"$C1211","v":"G#m/E"},{"$f":"$C1210","v":"Gm/Eb"},{"$f":"$C1209","v":"F#m/D"},{"$f":"$C1208","v":"Fm/C#"},{"$f":"$C1207","v":"Em/C"},{"$f":"$C1206","v":"Ebm/B"},{"$f":"$C1205","v":"Dm/Bb"},{"$f":"$C1204","v":"C#m/A"},{"$f":"$C1214","v":"Bm/G"},{"$f":"$C1213","v":"Bbm/F#"},{"$f":"$C1212","v":"Am/F"},{"$f":"$C1211","v":"G#m/E"},{"$f":"$C1210","v":"Gm/Eb"},{"$f":"$C1209","v":"F#m/D"},{"$f":"$C1208","v":"Fm/C#"},{"$f":"$C1207","v":"Em/C"},{"$f":"$C1206","v":"Ebm/B"},{"$f":"$C1205","v":"Dm/Bb"},{"$f":"$C1204","v":"C#m/A"},null,"Cm/G#",1201,null,{"$f":"CONCATENATE(AE1203,VLOOKUP(AF1203,$AH$1647:$AH$1669,1,0))","v":"m/G#"},"m/",{"$f":"IF(印刷用!$Z$12=1,$AK$1653,$AK$1654)","v":"G#"}]
[null,1202,{"$f":"CONCATENATE($C$4,AD1204)","v":"C#m/A"},{"$f":"$C1203","v":"Cm/G#"},{"$f":"$C1214","v":"Bm/G"},{"$f":"$C1213","v":"Bbm/F#"},{"$f":"$C1212","v":"Am/F"},{"$f":"$C1211","v":"G#m/E"},"Gm/Eb","F#m/D","Fm/C#","Em/C","Ebm/B","Dm/Bb",{"$f":"$C1203","v":"Cm/G#"},{"$f":"$C1214","v":"Bm/G"},{"$f":"$C1213","v":"Bbm/F#"},{"$f":"$C1212","v":"Am/F"},{"$f":"$C1211","v":"G#m/E"},"Gm/Eb","F#m/D","Fm/C#","Em/C","Ebm/B","Dm/Bb",null,"C#m/A",1202,null,{"$f":"CONCATENATE(AE1203,VLOOKUP(AF1204,$AH$1647:$AH$1669,1,0))","v":"m/A"},null,{"$f":"VLOOKUP(AF1203,$AH$1647:$AI$1658,2,0)","v":"A"}]
[null,1203,{"$f":"CONCATENATE($C$5,AD1205)","v":"Dm/Bb"},{"$f":"$C1204","v":"C#m/A"},{"$f":"$C1203","v":"Cm/G#"},{"$f":"$C1214","v":"Bm/G"},{"$f":"$C1213","v":"Bbm/F#"},{"$f":"$C1212","v":"Am/F"},"G#m/E","Gm/Eb","F#m/D","Fm/C#","Em/C","Ebm/B",{"$f":"$C1204","v":"C#m/A"},{"$f":"$C1203","v":"Cm/G#"},{"$f":"$C1214","v":"Bm/G"},{"$f":"$C1213","v":"Bbm/F#"},{"$f":"$C1212","v":"Am/F"},"G#m/E","Gm/Eb","F#m/D","Fm/C#","Em/C","Ebm/B",null,"Dm/Bb",1203,null,{"$f":"CONCATENATE(AE1203,VLOOKUP(AF1205,$AH$1647:$AH$1669,1,0))","v":"m/Bb"},null,"Bb"]
[null,1204,{"$f":"CONCATENATE($C$6,AD1206)","v":"Ebm/B"},"Dm/Bb",{"$f":"$C1204","v":"C#m/A"},{"$f":"$C1203","v":"Cm/G#"},{"$f":"$C1214","v":"Bm/G"},{"$f":"$C1213","v":"Bbm/F#"},"Am/F","G#m/E","Gm/Eb","F#m/D","Fm/C#","Em/C","Dm/Bb",{"$f":"$C1204","v":"C#m/A"},{"$f":"$C1203","v":"Cm/G#"},{"$f":"$C1214","v":"Bm/G"},{"$f":"$C1213","v":"Bbm/F#"},"Am/F","G#m/E","Gm/Eb","F#m/D","Fm/C#","Em/C",null,"Ebm/B",1204,null,{"$f":"CONCATENATE(AE1203,VLOOKUP(AF1206,$AH$1647:$AH$1669,1,0))","v":"m/B"},null,"B"]
[null,1205,{"$f":"CONCATENATE($C$7,AD1207)","v":"Em/C"},"Ebm/B","Dm/Bb",{"$f":"$C1204","v":"C#m/A"},{"$f":"$C1203","v":"Cm/G#"},{"$f":"$C1214","v":"Bm/G"},"Bbm/F#","Am/F","G#m/E","Gm/Eb","F#m/D","Fm/C#","Ebm/B","Dm/Bb",{"$f":"$C1204","v":"C#m/A"},{"$f":"$C1203","v":"Cm/G#"},{"$f":"$C1214","v":"Bm/G"},"Bbm/F#","Am/F","G#m/E","Gm/Eb","F#m/D","Fm/C#",null,"Em/C",1205,null,{"$f":"CONCATENATE(AE1203,VLOOKUP(AF1207,$AH$1647:$AH$1669,1,0))","v":"m/C"},null,"C"]
[null,1206,{"$f":"CONCATENATE($C$8,AD1208)","v":"Fm/C#"},"Em/C","Ebm/B","Dm/Bb",{"$f":"$C1204","v":"C#m/A"},{"$f":"$C1203","v":"Cm/G#"},"Bm/G","Bbm/F#","Am/F","G#m/E","Gm/Eb","F#m/D","Em/C","Ebm/B","Dm/Bb",{"$f":"$C1204","v":"C#m/A"},{"$f":"$C1203","v":"Cm/G#"},"Bm/G","Bbm/F#","Am/F","G#m/E","Gm/Eb","F#m/D",null,"Fm/C#",1206,null,{"$f":"CONCATENATE(AE1203,VLOOKUP(AF1208,$AH$1647:$AH$1669,1,0))","v":"m/C#"},null,"C#"]
[null,1207,{"$f":"CONCATENATE($C$9,AD1209)","v":"F#m/D"},"Fm/C#","Em/C","Ebm/B","Dm/Bb",{"$f":"$C1204","v":"C#m/A"},{"$f":"$C1203","v":"Cm/G#"},{"$f":"$C1214","v":"Bm/G"},"Bbm/F#","Am/F","G#m/E","Gm/Eb","Fm/C#","Em/C","Ebm/B","Dm/Bb",{"$f":"$C1204","v":"C#m/A"},{"$f":"$C1203","v":"Cm/G#"},{"$f":"$C1214","v":"Bm/G"},"Bbm/F#","Am/F","G#m/E","Gm/Eb",null,"F#m/D",1207,null,{"$f":"CONCATENATE(AE1203,VLOOKUP(AF1209,$AH$1647:$AH$1669,1,0))","v":"m/D"},null,"D"]
[null,1208,{"$f":"CONCATENATE($C$10,AD1210)","v":"Gm/Eb"},"F#m/D","Fm/C#","Em/C","Ebm/B","Dm/Bb","C#m/A",{"$f":"$C1203","v":"Cm/G#"},{"$f":"$C1214","v":"Bm/G"},"Bbm/F#","Am/F","G#m/E","F#m/D","Fm/C#","Em/C","Ebm/B","Dm/Bb","C#m/A",{"$f":"$C1203","v":"Cm/G#"},{"$f":"$C1214","v":"Bm/G"},"Bbm/F#","Am/F","G#m/E",null,"Gm/Eb",1208,null,{"$f":"CONCATENATE(AE1203,VLOOKUP(AF1210,$AH$1647:$AH$1669,1,0))","v":"m/Eb"},null,"Eb"]
[null,1209,{"$f":"CONCATENATE($C$11,AD1211)","v":"G#m/E"},"Gm/Eb","F#m/D","Fm/C#","Em/C","Ebm/B","Dm/Bb",{"$f":"$C1204","v":"C#m/A"},{"$f":"$C1203","v":"Cm/G#"},{"$f":"$C1214","v":"Bm/G"},"Bbm/F#","Am/F","Gm/Eb","F#m/D","Fm/C#","Em/C","Ebm/B","Dm/Bb",{"$f":"$C1204","v":"C#m/A"},{"$f":"$C1203","v":"Cm/G#"},{"$f":"$C1214","v":"Bm/G"},"Bbm/F#","Am/F",null,"G#m/E",1209,null,{"$f":"CONCATENATE(AE1203,VLOOKUP(AF1211,$AH$1647:$AH$1669,1,0))","v":"m/E"},null,"E"]
[null,1210,{"$f":"CONCATENATE($C$12,AD1212)","v":"Am/F"},"G#m/E","Gm/Eb","F#m/D","Fm/C#","Em/C","Ebm/B",{"$f":"$C1205","v":"Dm/Bb"},{"$f":"$C1204","v":"C#m/A"},{"$f":"$C1203","v":"Cm/G#"},{"$f":"$C1214","v":"Bm/G"},"Bbm/F#","G#m/E","Gm/Eb","F#m/D","Fm/C#","Em/C","Ebm/B",{"$f":"$C1205","v":"Dm/Bb"},{"$f":"$C1204","v":"C#m/A"},{"$f":"$C1203","v":"Cm/G#"},{"$f":"$C1214","v":"Bm/G"},"Bbm/F#",null,"Am/F",1210,null,{"$f":"CONCATENATE(AE1203,VLOOKUP(AF1212,$AH$1647:$AH$1669,1,0))","v":"m/F"},null,"F"]
[null,1211,{"$f":"CONCATENATE($C$13,AD1213)","v":"Bbm/F#"},"Am/F","G#m/E","Gm/Eb","F#m/D","Fm/C#","Em/C",{"$f":"$C1206","v":"Ebm/B"},{"$f":"$C1205","v":"Dm/Bb"},{"$f":"$C1204","v":"C#m/A"},{"$f":"$C1203","v":"Cm/G#"},{"$f":"$C1214","v":"Bm/G"},"Am/F","G#m/E","Gm/Eb","F#m/D","Fm/C#","Em/C",{"$f":"$C1206","v":"Ebm/B"},{"$f":"$C1205","v":"Dm/Bb"},{"$f":"$C1204","v":"C#m/A"},{"$f":"$C1203","v":"Cm/G#"},{"$f":"$C1214","v":"Bm/G"},null,"Bbm/F#",1211,null,{"$f":"CONCATENATE(AE1203,VLOOKUP(AF1213,$AH$1647:$AH$1669,1,0))","v":"m/F#"},null,"F#"]
[null,1212,{"$f":"CONCATENATE($C$14,AD1214)","v":"Bm/G"},"Bbm/F#","Am/F","G#m/E","Gm/Eb","F#m/D","Fm/C#",{"$f":"$C1207","v":"Em/C"},{"$f":"$C1206","v":"Ebm/B"},{"$f":"$C1205","v":"Dm/Bb"},{"$f":"$C1204","v":"C#m/A"},{"$f":"$C1203","v":"Cm/G#"},"Bbm/F#","Am/F","G#m/E","Gm/Eb","F#m/D","Fm/C#",{"$f":"$C1207","v":"Em/C"},{"$f":"$C1206","v":"Ebm/B"},{"$f":"$C1205","v":"Dm/Bb"},{"$f":"$C1204","v":"C#m/A"},{"$f":"$C1203","v":"Cm/G#"},null,"Bm/G",1212,null,{"$f":"CONCATENATE(AE1203,VLOOKUP(AF1214,$AH$1647:$AH$1669,1,0))","v":"m/G"},null,"G"]
[null,1213,{"$f":"CONCATENATE($C$3,AD1215)","v":"Cm/A"},{"$f":"$C1226","v":"Bm/G#"},{"$f":"$C1225","v":"Bbm/G"},{"$f":"$C1224","v":"Am/F#"},{"$f":"$C1223","v":"G#m/F"},{"$f":"$C1222","v":"Gm/E"},{"$f":"$C1221","v":"F#m/Eb"},{"$f":"$C1220","v":"Fm/D"},{"$f":"$C1219","v":"Em/C#"},{"$f":"$C1218","v":"Ebm/C"},{"$f":"$C1217","v":"Dm/B"},{"$f":"$C1216","v":"C#m/Bb"},{"$f":"$C1226","v":"Bm/G#"},{"$f":"$C1225","v":"Bbm/G"},{"$f":"$C1224","v":"Am/F#"},{"$f":"$C1223","v":"G#m/F"},{"$f":"$C1222","v":"Gm/E"},{"$f":"$C1221","v":"F#m/Eb"},{"$f":"$C1220","v":"Fm/D"},{"$f":"$C1219","v":"Em/C#"},{"$f":"$C1218","v":"Ebm/C"},{"$f":"$C1217","v":"Dm/B"},{"$f":"$C1216","v":"C#m/Bb"},null,"Cm/A",1213,null,{"$f":"CONCATENATE(AE1215,VLOOKUP(AF1215,$AH$1647:$AH$1669,1,0))","v":"m/A"},"m/","A"]
[null,1214,{"$f":"CONCATENATE($C$4,AD1216)","v":"C#m/Bb"},{"$f":"$C1215","v":"Cm/A"},{"$f":"$C1226","v":"Bm/G#"},{"$f":"$C1225","v":"Bbm/G"},{"$f":"$C1224","v":"Am/F#"},{"$f":"$C1223","v":"G#m/F"},"Gm/E","F#m/Eb","Fm/D","Em/C#","Ebm/C","Dm/B",{"$f":"$C1215","v":"Cm/A"},{"$f":"$C1226","v":"Bm/G#"},{"$f":"$C1225","v":"Bbm/G"},{"$f":"$C1224","v":"Am/F#"},{"$f":"$C1223","v":"G#m/F"},"Gm/E","F#m/Eb","Fm/D","Em/C#","Ebm/C","Dm/B",null,"C#m/Bb",1214,null,{"$f":"CONCATENATE(AE1215,VLOOKUP(AF1216,$AH$1647:$AH$1669,1,0))","v":"m/Bb"},null,{"$f":"VLOOKUP(AF1215,$AH$1647:$AI$1658,2,0)","v":"Bb"}]
[null,1215,{"$f":"CONCATENATE($C$5,AD1217)","v":"Dm/B"},{"$f":"$C1216","v":"C#m/Bb"},{"$f":"$C1215","v":"Cm/A"},{"$f":"$C1226","v":"Bm/G#"},{"$f":"$C1225","v":"Bbm/G"},{"$f":"$C1224","v":"Am/F#"},"G#m/F","Gm/E","F#m/Eb","Fm/D","Em/C#","Ebm/C",{"$f":"$C1216","v":"C#m/Bb"},{"$f":"$C1215","v":"Cm/A"},{"$f":"$C1226","v":"Bm/G#"},{"$f":"$C1225","v":"Bbm/G"},{"$f":"$C1224","v":"Am/F#"},"G#m/F","Gm/E","F#m/Eb","Fm/D","Em/C#","Ebm/C",null,"Dm/B",1215,null,{"$f":"CONCATENATE(AE1215,VLOOKUP(AF1217,$AH$1647:$AH$1669,1,0))","v":"m/B"},null,"B"]
[null,1216,{"$f":"CONCATENATE($C$6,AD1218)","v":"Ebm/C"},"Dm/B",{"$f":"$C1216","v":"C#m/Bb"},{"$f":"$C1215","v":"Cm/A"},{"$f":"$C1226","v":"Bm/G#"},{"$f":"$C1225","v":"Bbm/G"},"Am/F#","G#m/F","Gm/E","F#m/Eb","Fm/D","Em/C#","Dm/B",{"$f":"$C1216","v":"C#m/Bb"},{"$f":"$C1215","v":"Cm/A"},{"$f":"$C1226","v":"Bm/G#"},{"$f":"$C1225","v":"Bbm/G"},"Am/F#","G#m/F","Gm/E","F#m/Eb","Fm/D","Em/C#",null,"Ebm/C",1216,null,{"$f":"CONCATENATE(AE1215,VLOOKUP(AF1218,$AH$1647:$AH$1669,1,0))","v":"m/C"},null,"C"]
[null,1217,{"$f":"CONCATENATE($C$7,AD1219)","v":"Em/C#"},"Ebm/C","Dm/B",{"$f":"$C1216","v":"C#m/Bb"},{"$f":"$C1215","v":"Cm/A"},{"$f":"$C1226","v":"Bm/G#"},"Bbm/G","Am/F#","G#m/F","Gm/E","F#m/Eb","Fm/D","Ebm/C","Dm/B",{"$f":"$C1216","v":"C#m/Bb"},{"$f":"$C1215","v":"Cm/A"},{"$f":"$C1226","v":"Bm/G#"},"Bbm/G","Am/F#","G#m/F","Gm/E","F#m/Eb","Fm/D",null,"Em/C#",{"$f":"B1219","v":1217},null,{"$f":"CONCATENATE(AE1215,VLOOKUP(AF1219,$AH$1647:$AH$1669,1,0))","v":"m/C#"},null,"C#"]
[null,1218,{"$f":"CONCATENATE($C$8,AD1220)","v":"Fm/D"},"Em/C#","Ebm/C","Dm/B",{"$f":"$C1216","v":"C#m/Bb"},{"$f":"$C1215","v":"Cm/A"},"Bm/G#","Bbm/G","Am/F#","G#m/F","Gm/E","F#m/Eb","Em/C#","Ebm/C","Dm/B",{"$f":"$C1216","v":"C#m/Bb"},{"$f":"$C1215","v":"Cm/A"},"Bm/G#","Bbm/G","Am/F#","G#m/F","Gm/E","F#m/Eb",null,"Fm/D",1218,null,{"$f":"CONCATENATE(AE1215,VLOOKUP(AF1220,$AH$1647:$AH$1669,1,0))","v":"m/D"},null,"D"]
[null,1219,{"$f":"CONCATENATE($C$9,AD1221)","v":"F#m/Eb"},"Fm/D","Em/C#","Ebm/C","Dm/B",{"$f":"$C1216","v":"C#m/Bb"},{"$f":"$C1215","v":"Cm/A"},{"$f":"$C1226","v":"Bm/G#"},"Bbm/G","Am/F#","G#m/F","Gm/E","Fm/D","Em/C#","Ebm/C","Dm/B",{"$f":"$C1216","v":"C#m/Bb"},{"$f":"$C1215","v":"Cm/A"},{"$f":"$C1226","v":"Bm/G#"},"Bbm/G","Am/F#","G#m/F","Gm/E",null,"F#m/Eb",1219,null,{"$f":"CONCATENATE(AE1215,VLOOKUP(AF1221,$AH$1647:$AH$1669,1,0))","v":"m/Eb"},null,"Eb"]
[null,1220,{"$f":"CONCATENATE($C$10,AD1222)","v":"Gm/E"},"F#m/Eb","Fm/D","Em/C#","Ebm/C","Dm/B","C#m/Bb",{"$f":"$C1215","v":"Cm/A"},{"$f":"$C1226","v":"Bm/G#"},"Bbm/G","Am/F#","G#m/F","F#m/Eb","Fm/D","Em/C#","Ebm/C","Dm/B","C#m/Bb",{"$f":"$C1215","v":"Cm/A"},{"$f":"$C1226","v":"Bm/G#"},"Bbm/G","Am/F#","G#m/F",null,"Gm/E",1220,null,{"$f":"CONCATENATE(AE1215,VLOOKUP(AF1222,$AH$1647:$AH$1669,1,0))","v":"m/E"},null,"E"]
[null,1221,{"$f":"CONCATENATE($C$11,AD1223)","v":"G#m/F"},"Gm/E","F#m/Eb","Fm/D","Em/C#","Ebm/C","Dm/B",{"$f":"$C1216","v":"C#m/Bb"},{"$f":"$C1215","v":"Cm/A"},{"$f":"$C1226","v":"Bm/G#"},"Bbm/G","Am/F#","Gm/E","F#m/Eb","Fm/D","Em/C#","Ebm/C","Dm/B",{"$f":"$C1216","v":"C#m/Bb"},{"$f":"$C1215","v":"Cm/A"},{"$f":"$C1226","v":"Bm/G#"},"Bbm/G","Am/F#",null,"G#m/F",1221,null,{"$f":"CONCATENATE(AE1215,VLOOKUP(AF1223,$AH$1647:$AH$1669,1,0))","v":"m/F"},null,"F"]
[null,1222,{"$f":"CONCATENATE($C$12,AD1224)","v":"Am/F#"},"G#m/F","Gm/E","F#m/Eb","Fm/D","Em/C#","Ebm/C",{"$f":"$C1217","v":"Dm/B"},{"$f":"$C1216","v":"C#m/Bb"},{"$f":"$C1215","v":"Cm/A"},{"$f":"$C1226","v":"Bm/G#"},"Bbm/G","G#m/F","Gm/E","F#m/Eb","Fm/D","Em/C#","Ebm/C",{"$f":"$C1217","v":"Dm/B"},{"$f":"$C1216","v":"C#m/Bb"},{"$f":"$C1215","v":"Cm/A"},{"$f":"$C1226","v":"Bm/G#"},"Bbm/G",null,"Am/F#",1222,null,{"$f":"CONCATENATE(AE1215,VLOOKUP(AF1224,$AH$1647:$AH$1669,1,0))","v":"m/F#"},null,"F#"]
[null,1223,{"$f":"CONCATENATE($C$13,AD1225)","v":"Bbm/G"},"Am/F#","G#m/F","Gm/E","F#m/Eb","Fm/D","Em/C#",{"$f":"$C1218","v":"Ebm/C"},{"$f":"$C1217","v":"Dm/B"},{"$f":"$C1216","v":"C#m/Bb"},{"$f":"$C1215","v":"Cm/A"},{"$f":"$C1226","v":"Bm/G#"},"Am/F#","G#m/F","Gm/E","F#m/Eb","Fm/D","Em/C#",{"$f":"$C1218","v":"Ebm/C"},{"$f":"$C1217","v":"Dm/B"},{"$f":"$C1216","v":"C#m/Bb"},{"$f":"$C1215","v":"Cm/A"},{"$f":"$C1226","v":"Bm/G#"},null,"Bbm/G",1223,null,{"$f":"CONCATENATE(AE1215,VLOOKUP(AF1225,$AH$1647:$AH$1669,1,0))","v":"m/G"},null,"G"]
[null,1224,{"$f":"CONCATENATE($C$14,AD1226)","v":"Bm/G#"},"Bbm/G","Am/F#","G#m/F","Gm/E","F#m/Eb","Fm/D",{"$f":"$C1219","v":"Em/C#"},{"$f":"$C1218","v":"Ebm/C"},{"$f":"$C1217","v":"Dm/B"},{"$f":"$C1216","v":"C#m/Bb"},{"$f":"$C1215","v":"Cm/A"},"Bbm/G","Am/F#","G#m/F","Gm/E","F#m/Eb","Fm/D",{"$f":"$C1219","v":"Em/C#"},{"$f":"$C1218","v":"Ebm/C"},{"$f":"$C1217","v":"Dm/B"},{"$f":"$C1216","v":"C#m/Bb"},{"$f":"$C1215","v":"Cm/A"},null,"Bm/G#",1224,null,{"$f":"CONCATENATE(AE1215,VLOOKUP(AF1226,$AH$1647:$AH$1669,1,0))","v":"m/G#"},null,"G#"]
[null,1225,{"$f":"CONCATENATE($C$3,AD1227)","v":"Cm/Bb"},{"$f":"$C1238","v":"Bm/A"},{"$f":"$C1237","v":"Bbm/G#"},{"$f":"$C1236","v":"Am/G"},{"$f":"$C1235","v":"G#m/F#"},{"$f":"$C1234","v":"Gm/F"},{"$f":"$C1233","v":"F#m/E"},{"$f":"$C1232","v":"Fm/Eb"},{"$f":"$C1231","v":"Em/D"},{"$f":"$C1230","v":"Ebm/C#"},{"$f":"$C1229","v":"Dm/C"},{"$f":"$C1228","v":"C#m/B"},{"$f":"$C1238","v":"Bm/A"},{"$f":"$C1237","v":"Bbm/G#"},{"$f":"$C1236","v":"Am/G"},{"$f":"$C1235","v":"G#m/F#"},{"$f":"$C1234","v":"Gm/F"},{"$f":"$C1233","v":"F#m/E"},{"$f":"$C1232","v":"Fm/Eb"},{"$f":"$C1231","v":"Em/D"},{"$f":"$C1230","v":"Ebm/C#"},{"$f":"$C1229","v":"Dm/C"},{"$f":"$C1228","v":"C#m/B"},null,"Cm/Bb",1225,null,{"$f":"CONCATENATE(AE1227,VLOOKUP(AF1227,$AH$1647:$AH$1669,1,0))","v":"m/Bb"},"m/",{"$f":"IF(印刷用!$AB$12=1,$AK$1655,$AK$1656)","v":"Bb"}]
[null,1226,{"$f":"CONCATENATE($C$4,AD1228)","v":"C#m/B"},{"$f":"$C1227","v":"Cm/Bb"},{"$f":"$C1238","v":"Bm/A"},{"$f":"$C1237","v":"Bbm/G#"},{"$f":"$C1236","v":"Am/G"},{"$f":"$C1235","v":"G#m/F#"},"Gm/F","F#m/E","Fm/Eb","Em/D","Ebm/C#","Dm/C",{"$f":"$C1227","v":"Cm/Bb"},{"$f":"$C1238","v":"Bm/A"},{"$f":"$C1237","v":"Bbm/G#"},{"$f":"$C1236","v":"Am/G"},{"$f":"$C1235","v":"G#m/F#"},"Gm/F","F#m/E","Fm/Eb","Em/D","Ebm/C#","Dm/C",null,"C#m/B",1226,null,{"$f":"CONCATENATE(AE1227,VLOOKUP(AF1228,$AH$1647:$AH$1669,1,0))","v":"m/B"},null,{"$f":"VLOOKUP(AF1227,$AH$1647:$AI$1658,2,0)","v":"B"}]
[null,1227,{"$f":"CONCATENATE($C$5,AD1229)","v":"Dm/C"},{"$f":"$C1228","v":"C#m/B"},{"$f":"$C1227","v":"Cm/Bb"},{"$f":"$C1238","v":"Bm/A"},{"$f":"$C1237","v":"Bbm/G#"},{"$f":"$C1236","v":"Am/G"},"G#m/F#","Gm/F","F#m/E","Fm/Eb","Em/D","Ebm/C#",{"$f":"$C1228","v":"C#m/B"},{"$f":"$C1227","v":"Cm/Bb"},{"$f":"$C1238","v":"Bm/A"},{"$f":"$C1237","v":"Bbm/G#"},{"$f":"$C1236","v":"Am/G"},"G#m/F#","Gm/F","F#m/E","Fm/Eb","Em/D","Ebm/C#",null,"Dm/C",1227,null,{"$f":"CONCATENATE(AE1227,VLOOKUP(AF1229,$AH$1647:$AH$1669,1,0))","v":"m/C"},null,"C"]
[null,1228,{"$f":"CONCATENATE($C$6,AD1230)","v":"Ebm/C#"},"Dm/C",{"$f":"$C1228","v":"C#m/B"},{"$f":"$C1227","v":"Cm/Bb"},{"$f":"$C1238","v":"Bm/A"},{"$f":"$C1237","v":"Bbm/G#"},"Am/G","G#m/F#","Gm/F","F#m/E","Fm/Eb","Em/D","Dm/C",{"$f":"$C1228","v":"C#m/B"},{"$f":"$C1227","v":"Cm/Bb"},{"$f":"$C1238","v":"Bm/A"},{"$f":"$C1237","v":"Bbm/G#"},"Am/G","G#m/F#","Gm/F","F#m/E","Fm/Eb","Em/D",null,"Ebm/C#",1228,null,{"$f":"CONCATENATE(AE1227,VLOOKUP(AF1230,$AH$1647:$AH$1669,1,0))","v":"m/C#"},null,"C#"]
[null,1229,{"$f":"CONCATENATE($C$7,AD1231)","v":"Em/D"},"Ebm/C#","Dm/C",{"$f":"$C1228","v":"C#m/B"},{"$f":"$C1227","v":"Cm/Bb"},{"$f":"$C1238","v":"Bm/A"},"Bbm/G#","Am/G","G#m/F#","Gm/F","F#m/E","Fm/Eb","Ebm/C#","Dm/C",{"$f":"$C1228","v":"C#m/B"},{"$f":"$C1227","v":"Cm/Bb"},{"$f":"$C1238","v":"Bm/A"},"Bbm/G#","Am/G","G#m/F#","Gm/F","F#m/E","Fm/Eb",null,{"$f":"C1231","v":"Em/D"},1229,null,{"$f":"CONCATENATE(AE1227,VLOOKUP(AF1231,$AH$1647:$AH$1669,1,0))","v":"m/D"},null,"D"]
[null,1230,{"$f":"CONCATENATE($C$8,AD1232)","v":"Fm/Eb"},"Em/D","Ebm/C#","Dm/C",{"$f":"$C1228","v":"C#m/B"},{"$f":"$C1227","v":"Cm/Bb"},"Bm/A","Bbm/G#","Am/G","G#m/F#","Gm/F","F#m/E","Em/D","Ebm/C#","Dm/C",{"$f":"$C1228","v":"C#m/B"},{"$f":"$C1227","v":"Cm/Bb"},"Bm/A","Bbm/G#","Am/G","G#m/F#","Gm/F","F#m/E",null,"Fm/Eb",1230,null,{"$f":"CONCATENATE(AE1227,VLOOKUP(AF1232,$AH$1647:$AH$1669,1,0))","v":"m/Eb"},null,"Eb"]
[null,1231,{"$f":"CONCATENATE($C$9,AD1233)","v":"F#m/E"},"Fm/Eb","Em/D","Ebm/C#","Dm/C",{"$f":"$C1228","v":"C#m/B"},{"$f":"$C1227","v":"Cm/Bb"},{"$f":"$C1238","v":"Bm/A"},"Bbm/G#","Am/G","G#m/F#","Gm/F","Fm/Eb","Em/D","Ebm/C#","Dm/C",{"$f":"$C1228","v":"C#m/B"},{"$f":"$C1227","v":"Cm/Bb"},{"$f":"$C1238","v":"Bm/A"},"Bbm/G#","Am/G","G#m/F#","Gm/F",null,"F#m/E",1231,null,{"$f":"CONCATENATE(AE1227,VLOOKUP(AF1233,$AH$1647:$AH$1669,1,0))","v":"m/E"},null,"E"]
[null,1232,{"$f":"CONCATENATE($C$10,AD1234)","v":"Gm/F"},"F#m/E","Fm/Eb","Em/D","Ebm/C#","Dm/C","C#m/B",{"$f":"$C1227","v":"Cm/Bb"},{"$f":"$C1238","v":"Bm/A"},"Bbm/G#","Am/G","G#m/F#","F#m/E","Fm/Eb","Em/D","Ebm/C#","Dm/C","C#m/B",{"$f":"$C1227","v":"Cm/Bb"},{"$f":"$C1238","v":"Bm/A"},"Bbm/G#","Am/G","G#m/F#",null,"Gm/F",1232,null,{"$f":"CONCATENATE(AE1227,VLOOKUP(AF1234,$AH$1647:$AH$1669,1,0))","v":"m/F"},null,"F"]
[null,1233,{"$f":"CONCATENATE($C$11,AD1235)","v":"G#m/F#"},"Gm/F","F#m/E","Fm/Eb","Em/D","Ebm/C#","Dm/C",{"$f":"$C1228","v":"C#m/B"},{"$f":"$C1227","v":"Cm/Bb"},{"$f":"$C1238","v":"Bm/A"},"Bbm/G#","Am/G","Gm/F","F#m/E","Fm/Eb","Em/D","Ebm/C#","Dm/C",{"$f":"$C1228","v":"C#m/B"},{"$f":"$C1227","v":"Cm/Bb"},{"$f":"$C1238","v":"Bm/A"},"Bbm/G#","Am/G",null,"G#m/F#",1233,null,{"$f":"CONCATENATE(AE1227,VLOOKUP(AF1235,$AH$1647:$AH$1669,1,0))","v":"m/F#"},null,"F#"]
[null,1234,{"$f":"CONCATENATE($C$12,AD1236)","v":"Am/G"},"G#m/F#","Gm/F","F#m/E","Fm/Eb","Em/D","Ebm/C#",{"$f":"$C1229","v":"Dm/C"},{"$f":"$C1228","v":"C#m/B"},{"$f":"$C1227","v":"Cm/Bb"},{"$f":"$C1238","v":"Bm/A"},"Bbm/G#","G#m/F#","Gm/F","F#m/E","Fm/Eb","Em/D","Ebm/C#",{"$f":"$C1229","v":"Dm/C"},{"$f":"$C1228","v":"C#m/B"},{"$f":"$C1227","v":"Cm/Bb"},{"$f":"$C1238","v":"Bm/A"},"Bbm/G#",null,"Am/G",1234,null,{"$f":"CONCATENATE(AE1227,VLOOKUP(AF1236,$AH$1647:$AH$1669,1,0))","v":"m/G"},null,"G"]
[null,1235,{"$f":"CONCATENATE($C$13,AD1237)","v":"Bbm/G#"},"Am/G","G#m/F#","Gm/F","F#m/E","Fm/Eb","Em/D",{"$f":"$C1230","v":"Ebm/C#"},{"$f":"$C1229","v":"Dm/C"},{"$f":"$C1228","v":"C#m/B"},{"$f":"$C1227","v":"Cm/Bb"},{"$f":"$C1238","v":"Bm/A"},"Am/G","G#m/F#","Gm/F","F#m/E","Fm/Eb","Em/D",{"$f":"$C1230","v":"Ebm/C#"},{"$f":"$C1229","v":"Dm/C"},{"$f":"$C1228","v":"C#m/B"},{"$f":"$C1227","v":"Cm/Bb"},{"$f":"$C1238","v":"Bm/A"},null,"Bbm/G#",1235,null,{"$f":"CONCATENATE(AE1227,VLOOKUP(AF1237,$AH$1647:$AH$1669,1,0))","v":"m/G#"},null,"G#"]
[null,1236,{"$f":"CONCATENATE($C$14,AD1238)","v":"Bm/A"},"Bbm/G#","Am/G","G#m/F#","Gm/F","F#m/E","Fm/Eb",{"$f":"$C1231","v":"Em/D"},{"$f":"$C1230","v":"Ebm/C#"},{"$f":"$C1229","v":"Dm/C"},{"$f":"$C1228","v":"C#m/B"},{"$f":"$C1227","v":"Cm/Bb"},"Bbm/G#","Am/G","G#m/F#","Gm/F","F#m/E","Fm/Eb",{"$f":"$C1231","v":"Em/D"},{"$f":"$C1230","v":"Ebm/C#"},{"$f":"$C1229","v":"Dm/C"},{"$f":"$C1228","v":"C#m/B"},{"$f":"$C1227","v":"Cm/Bb"},null,"Bm/A",1236,null,{"$f":"CONCATENATE(AE1227,VLOOKUP(AF1238,$AH$1647:$AH$1669,1,0))","v":"m/A"},null,"A"]
[null,1237,{"$f":"CONCATENATE($C$3,AD1239)","v":"Cm/B"},{"$f":"$C1250","v":"Bm/Bb"},{"$f":"$C1249","v":"Bbm/A"},{"$f":"$C1248","v":"Am/G#"},{"$f":"$C1247","v":"G#m/G"},{"$f":"$C1246","v":"Gm/F#"},{"$f":"$C1245","v":"F#m/F"},{"$f":"$C1244","v":"Fm/E"},{"$f":"$C1243","v":"Em/Eb"},{"$f":"$C1242","v":"Ebm/D"},{"$f":"$C1241","v":"Dm/C#"},{"$f":"$C1240","v":"C#m/C"},{"$f":"$C1250","v":"Bm/Bb"},{"$f":"$C1249","v":"Bbm/A"},{"$f":"$C1248","v":"Am/G#"},{"$f":"$C1247","v":"G#m/G"},{"$f":"$C1246","v":"Gm/F#"},{"$f":"$C1245","v":"F#m/F"},{"$f":"$C1244","v":"Fm/E"},{"$f":"$C1243","v":"Em/Eb"},{"$f":"$C1242","v":"Ebm/D"},{"$f":"$C1241","v":"Dm/C#"},{"$f":"$C1240","v":"C#m/C"},null,{"$f":"C1239","v":"Cm/B"},1237,null,{"$f":"CONCATENATE(AE1239,VLOOKUP(AF1239,$AH$1647:$AH$1669,1,0))","v":"m/B"},"m/","B"]
[null,1238,{"$f":"CONCATENATE($C$4,AD1240)","v":"C#m/C"},{"$f":"$C1239","v":"Cm/B"},{"$f":"$C1250","v":"Bm/Bb"},{"$f":"$C1249","v":"Bbm/A"},{"$f":"$C1248","v":"Am/G#"},{"$f":"$C1247","v":"G#m/G"},"Gm/F#","F#m/F","Fm/E","Em/Eb","Ebm/D","Dm/C#",{"$f":"$C1239","v":"Cm/B"},{"$f":"$C1250","v":"Bm/Bb"},{"$f":"$C1249","v":"Bbm/A"},{"$f":"$C1248","v":"Am/G#"},{"$f":"$C1247","v":"G#m/G"},"Gm/F#","F#m/F","Fm/E","Em/Eb","Ebm/D","Dm/C#",null,"C#m/C",1238,null,{"$f":"CONCATENATE(AE1239,VLOOKUP(AF1240,$AH$1647:$AH$1669,1,0))","v":"m/C"},null,{"$f":"VLOOKUP(AF1239,$AH$1647:$AI$1658,2,0)","v":"C"}]
[null,1239,{"$f":"CONCATENATE($C$5,AD1241)","v":"Dm/C#"},{"$f":"$C1240","v":"C#m/C"},{"$f":"$C1239","v":"Cm/B"},{"$f":"$C1250","v":"Bm/Bb"},{"$f":"$C1249","v":"Bbm/A"},{"$f":"$C1248","v":"Am/G#"},"G#m/G","Gm/F#","F#m/F","Fm/E","Em/Eb","Ebm/D",{"$f":"$C1240","v":"C#m/C"},{"$f":"$C1239","v":"Cm/B"},{"$f":"$C1250","v":"Bm/Bb"},{"$f":"$C1249","v":"Bbm/A"},{"$f":"$C1248","v":"Am/G#"},"G#m/G","Gm/F#","F#m/F","Fm/E","Em/Eb","Ebm/D",null,"Dm/C#",1239,null,{"$f":"CONCATENATE(AE1239,VLOOKUP(AF1241,$AH$1647:$AH$1669,1,0))","v":"m/C#"},null,"C#"]
[null,1240,{"$f":"CONCATENATE($C$6,AD1242)","v":"Ebm/D"},"Dm/C#",{"$f":"$C1240","v":"C#m/C"},{"$f":"$C1239","v":"Cm/B"},{"$f":"$C1250","v":"Bm/Bb"},{"$f":"$C1249","v":"Bbm/A"},"Am/G#","G#m/G","Gm/F#","F#m/F","Fm/E","Em/Eb","Dm/C#",{"$f":"$C1240","v":"C#m/C"},{"$f":"$C1239","v":"Cm/B"},{"$f":"$C1250","v":"Bm/Bb"},{"$f":"$C1249","v":"Bbm/A"},"Am/G#","G#m/G","Gm/F#","F#m/F","Fm/E","Em/Eb",null,"Ebm/D",1240,null,{"$f":"CONCATENATE(AE1239,VLOOKUP(AF1242,$AH$1647:$AH$1669,1,0))","v":"m/D"},null,"D"]
[null,1241,{"$f":"CONCATENATE($C$7,AD1243)","v":"Em/Eb"},"Ebm/D","Dm/C#",{"$f":"$C1240","v":"C#m/C"},{"$f":"$C1239","v":"Cm/B"},{"$f":"$C1250","v":"Bm/Bb"},"Bbm/A","Am/G#","G#m/G","Gm/F#","F#m/F","Fm/E","Ebm/D","Dm/C#",{"$f":"$C1240","v":"C#m/C"},{"$f":"$C1239","v":"Cm/B"},{"$f":"$C1250","v":"Bm/Bb"},"Bbm/A","Am/G#","G#m/G","Gm/F#","F#m/F","Fm/E",null,"Em/Eb",1241,null,{"$f":"CONCATENATE(AE1239,VLOOKUP(AF1243,$AH$1647:$AH$1669,1,0))","v":"m/Eb"},null,"Eb"]
[null,1242,{"$f":"CONCATENATE($C$8,AD1244)","v":"Fm/E"},"Em/Eb","Ebm/D","Dm/C#",{"$f":"$C1240","v":"C#m/C"},{"$f":"$C1239","v":"Cm/B"},"Bm/Bb","Bbm/A","Am/G#","G#m/G","Gm/F#","F#m/F","Em/Eb","Ebm/D","Dm/C#",{"$f":"$C1240","v":"C#m/C"},{"$f":"$C1239","v":"Cm/B"},"Bm/Bb","Bbm/A","Am/G#","G#m/G","Gm/F#","F#m/F",null,"Fm/E",1242,null,{"$f":"CONCATENATE(AE1239,VLOOKUP(AF1244,$AH$1647:$AH$1669,1,0))","v":"m/E"},null,"E"]
[null,1243,{"$f":"CONCATENATE($C$9,AD1245)","v":"F#m/F"},"Fm/E","Em/Eb","Ebm/D","Dm/C#",{"$f":"$C1240","v":"C#m/C"},{"$f":"$C1239","v":"Cm/B"},{"$f":"$C1250","v":"Bm/Bb"},"Bbm/A","Am/G#","G#m/G","Gm/F#","Fm/E","Em/Eb","Ebm/D","Dm/C#",{"$f":"$C1240","v":"C#m/C"},{"$f":"$C1239","v":"Cm/B"},{"$f":"$C1250","v":"Bm/Bb"},"Bbm/A","Am/G#","G#m/G","Gm/F#",null,"F#m/F",1243,null,{"$f":"CONCATENATE(AE1239,VLOOKUP(AF1245,$AH$1647:$AH$1669,1,0))","v":"m/F"},null,"F"]
[null,1244,{"$f":"CONCATENATE($C$10,AD1246)","v":"Gm/F#"},"F#m/F","Fm/E","Em/Eb","Ebm/D","Dm/C#","C#m/C",{"$f":"$C1239","v":"Cm/B"},{"$f":"$C1250","v":"Bm/Bb"},"Bbm/A","Am/G#","G#m/G","F#m/F","Fm/E","Em/Eb","Ebm/D","Dm/C#","C#m/C",{"$f":"$C1239","v":"Cm/B"},{"$f":"$C1250","v":"Bm/Bb"},"Bbm/A","Am/G#","G#m/G",null,"Gm/F#",1244,null,{"$f":"CONCATENATE(AE1239,VLOOKUP(AF1246,$AH$1647:$AH$1669,1,0))","v":"m/F#"},null,"F#"]
[null,1245,{"$f":"CONCATENATE($C$11,AD1247)","v":"G#m/G"},"Gm/F#","F#m/F","Fm/E","Em/Eb","Ebm/D","Dm/C#",{"$f":"$C1240","v":"C#m/C"},{"$f":"$C1239","v":"Cm/B"},{"$f":"$C1250","v":"Bm/Bb"},"Bbm/A","Am/G#","Gm/F#","F#m/F","Fm/E","Em/Eb","Ebm/D","Dm/C#",{"$f":"$C1240","v":"C#m/C"},{"$f":"$C1239","v":"Cm/B"},{"$f":"$C1250","v":"Bm/Bb"},"Bbm/A","Am/G#",null,"G#m/G",1245,null,{"$f":"CONCATENATE(AE1239,VLOOKUP(AF1247,$AH$1647:$AH$1669,1,0))","v":"m/G"},null,"G"]
[null,1246,{"$f":"CONCATENATE($C$12,AD1248)","v":"Am/G#"},"G#m/G","Gm/F#","F#m/F","Fm/E","Em/Eb","Ebm/D",{"$f":"$C1241","v":"Dm/C#"},{"$f":"$C1240","v":"C#m/C"},{"$f":"$C1239","v":"Cm/B"},{"$f":"$C1250","v":"Bm/Bb"},"Bbm/A","G#m/G","Gm/F#","F#m/F","Fm/E","Em/Eb","Ebm/D",{"$f":"$C1241","v":"Dm/C#"},{"$f":"$C1240","v":"C#m/C"},{"$f":"$C1239","v":"Cm/B"},{"$f":"$C1250","v":"Bm/Bb"},"Bbm/A",null,"Am/G#",1246,null,{"$f":"CONCATENATE(AE1239,VLOOKUP(AF1248,$AH$1647:$AH$1669,1,0))","v":"m/G#"},null,"G#"]
[null,1247,{"$f":"CONCATENATE($C$13,AD1249)","v":"Bbm/A"},"Am/G#","G#m/G","Gm/F#","F#m/F","Fm/E","Em/Eb",{"$f":"$C1242","v":"Ebm/D"},{"$f":"$C1241","v":"Dm/C#"},{"$f":"$C1240","v":"C#m/C"},{"$f":"$C1239","v":"Cm/B"},{"$f":"$C1250","v":"Bm/Bb"},"Am/G#","G#m/G","Gm/F#","F#m/F","Fm/E","Em/Eb",{"$f":"$C1242","v":"Ebm/D"},{"$f":"$C1241","v":"Dm/C#"},{"$f":"$C1240","v":"C#m/C"},{"$f":"$C1239","v":"Cm/B"},{"$f":"$C1250","v":"Bm/Bb"},null,"Bbm/A",1247,null,{"$f":"CONCATENATE(AE1239,VLOOKUP(AF1249,$AH$1647:$AH$1669,1,0))","v":"m/A"},null,"A"]
[null,1248,{"$f":"CONCATENATE($C$14,AD1250)","v":"Bm/Bb"},"Bbm/A","Am/G#","G#m/G","Gm/F#","F#m/F","Fm/E",{"$f":"$C1243","v":"Em/Eb"},{"$f":"$C1242","v":"Ebm/D"},{"$f":"$C1241","v":"Dm/C#"},{"$f":"$C1240","v":"C#m/C"},{"$f":"$C1239","v":"Cm/B"},"Bbm/A","Am/G#","G#m/G","Gm/F#","F#m/F","Fm/E",{"$f":"$C1243","v":"Em/Eb"},{"$f":"$C1242","v":"Ebm/D"},{"$f":"$C1241","v":"Dm/C#"},{"$f":"$C1240","v":"C#m/C"},{"$f":"$C1239","v":"Cm/B"},null,"Bm/Bb",1248,null,{"$f":"CONCATENATE(AE1239,VLOOKUP(AF1250,$AH$1647:$AH$1669,1,0))","v":"m/Bb"},null,"Bb"]
[null,1249,{"$f":"CONCATENATE($C$3,AD1251)","v":"Cm7/C#"},{"$f":"$C1262","v":"Bm7/C"},{"$f":"$C1261","v":"Bbm7/B"},{"$f":"$C1260","v":"Am7/Bb"},{"$f":"$C1259","v":"G#m7/A"},{"$f":"$C1258","v":"Gm7/G#"},{"$f":"$C1257","v":"F#m7/G"},{"$f":"$C1256","v":"Fm7/F#"},{"$f":"$C1255","v":"Em7/F"},{"$f":"$C1254","v":"Ebm7/E"},{"$f":"$C1253","v":"Dm7/Eb"},{"$f":"$C1252","v":"C#m7/D"},{"$f":"$C1262","v":"Bm7/C"},{"$f":"$C1261","v":"Bbm7/B"},{"$f":"$C1260","v":"Am7/Bb"},{"$f":"$C1259","v":"G#m7/A"},{"$f":"$C1258","v":"Gm7/G#"},{"$f":"$C1257","v":"F#m7/G"},{"$f":"$C1256","v":"Fm7/F#"},{"$f":"$C1255","v":"Em7/F"},{"$f":"$C1254","v":"Ebm7/E"},{"$f":"$C1253","v":"Dm7/Eb"},{"$f":"$C1252","v":"C#m7/D"},null,"Cm7/C#",1249,null,{"$f":"CONCATENATE(AE1251,VLOOKUP(AF1251,$AH$1647:$AH$1669,1,0))","v":"m7/C#"},"m7/",{"$f":"IF(印刷用!$T$12=1,$AK$1647,$AK$1648)","v":"C#"}]
[null,1250,{"$f":"CONCATENATE($C$4,AD1252)","v":"C#m7/D"},{"$f":"$C1251","v":"Cm7/C#"},{"$f":"$C1262","v":"Bm7/C"},{"$f":"$C1261","v":"Bbm7/B"},{"$f":"$C1260","v":"Am7/Bb"},{"$f":"$C1259","v":"G#m7/A"},"Gm7/G#","F#m7/G","Fm7/F#","Em7/F","Ebm7/E","Dm7/Eb",{"$f":"$C1251","v":"Cm7/C#"},{"$f":"$C1262","v":"Bm7/C"},{"$f":"$C1261","v":"Bbm7/B"},{"$f":"$C1260","v":"Am7/Bb"},{"$f":"$C1259","v":"G#m7/A"},"Gm7/G#","F#m7/G","Fm7/F#","Em7/F","Ebm7/E","Dm7/Eb",null,"C#m7/D",1250,null,{"$f":"CONCATENATE(AE1251,VLOOKUP(AF1252,$AH$1647:$AH$1669,1,0))","v":"m7/D"},null,{"$f":"VLOOKUP(AF1251,$AH$1647:$AI$1658,2,0)","v":"D"}]
[null,1251,{"$f":"CONCATENATE($C$5,AD1253)","v":"Dm7/Eb"},{"$f":"$C1252","v":"C#m7/D"},{"$f":"$C1251","v":"Cm7/C#"},{"$f":"$C1262","v":"Bm7/C"},{"$f":"$C1261","v":"Bbm7/B"},{"$f":"$C1260","v":"Am7/Bb"},"G#m7/A","Gm7/G#","F#m7/G","Fm7/F#","Em7/F","Ebm7/E",{"$f":"$C1252","v":"C#m7/D"},{"$f":"$C1251","v":"Cm7/C#"},{"$f":"$C1262","v":"Bm7/C"},{"$f":"$C1261","v":"Bbm7/B"},{"$f":"$C1260","v":"Am7/Bb"},"G#m7/A","Gm7/G#","F#m7/G","Fm7/F#","Em7/F","Ebm7/E",null,"Dm7/Eb",1251,null,{"$f":"CONCATENATE(AE1251,VLOOKUP(AF1253,$AH$1647:$AH$1669,1,0))","v":"m7/Eb"},null,"Eb"]
[null,1252,{"$f":"CONCATENATE($C$6,AD1254)","v":"Ebm7/E"},"Dm7/Eb",{"$f":"$C1252","v":"C#m7/D"},{"$f":"$C1251","v":"Cm7/C#"},{"$f":"$C1262","v":"Bm7/C"},{"$f":"$C1261","v":"Bbm7/B"},"Am7/Bb","G#m7/A","Gm7/G#","F#m7/G","Fm7/F#","Em7/F","Dm7/Eb",{"$f":"$C1252","v":"C#m7/D"},{"$f":"$C1251","v":"Cm7/C#"},{"$f":"$C1262","v":"Bm7/C"},{"$f":"$C1261","v":"Bbm7/B"},"Am7/Bb","G#m7/A","Gm7/G#","F#m7/G","Fm7/F#","Em7/F",null,"Ebm7/E",1252,null,{"$f":"CONCATENATE(AE1251,VLOOKUP(AF1254,$AH$1647:$AH$1669,1,0))","v":"m7/E"},null,"E"]
[null,1253,{"$f":"CONCATENATE($C$7,AD1255)","v":"Em7/F"},"Ebm7/E","Dm7/Eb",{"$f":"$C1252","v":"C#m7/D"},{"$f":"$C1251","v":"Cm7/C#"},{"$f":"$C1262","v":"Bm7/C"},"Bbm7/B","Am7/Bb","G#m7/A","Gm7/G#","F#m7/G","Fm7/F#","Ebm7/E","Dm7/Eb",{"$f":"$C1252","v":"C#m7/D"},{"$f":"$C1251","v":"Cm7/C#"},{"$f":"$C1262","v":"Bm7/C"},"Bbm7/B","Am7/Bb","G#m7/A","Gm7/G#","F#m7/G","Fm7/F#",null,"Em7/F",1253,null,{"$f":"CONCATENATE(AE1251,VLOOKUP(AF1255,$AH$1647:$AH$1669,1,0))","v":"m7/F"},null,"F"]
[null,1254,{"$f":"CONCATENATE($C$8,AD1256)","v":"Fm7/F#"},"Em7/F","Ebm7/E","Dm7/Eb",{"$f":"$C1252","v":"C#m7/D"},{"$f":"$C1251","v":"Cm7/C#"},"Bm7/C","Bbm7/B","Am7/Bb","G#m7/A","Gm7/G#","F#m7/G","Em7/F","Ebm7/E","Dm7/Eb",{"$f":"$C1252","v":"C#m7/D"},{"$f":"$C1251","v":"Cm7/C#"},"Bm7/C","Bbm7/B","Am7/Bb","G#m7/A","Gm7/G#","F#m7/G",null,"Fm7/F#",1254,null,{"$f":"CONCATENATE(AE1251,VLOOKUP(AF1256,$AH$1647:$AH$1669,1,0))","v":"m7/F#"},null,"F#"]
[null,1255,{"$f":"CONCATENATE($C$9,AD1257)","v":"F#m7/G"},"Fm7/F#","Em7/F","Ebm7/E","Dm7/Eb",{"$f":"$C1252","v":"C#m7/D"},{"$f":"$C1251","v":"Cm7/C#"},{"$f":"$C1262","v":"Bm7/C"},"Bbm7/B","Am7/Bb","G#m7/A","Gm7/G#","Fm7/F#","Em7/F","Ebm7/E","Dm7/Eb",{"$f":"$C1252","v":"C#m7/D"},{"$f":"$C1251","v":"Cm7/C#"},{"$f":"$C1262","v":"Bm7/C"},"Bbm7/B","Am7/Bb","G#m7/A","Gm7/G#",null,"F#m7/G",1255,null,{"$f":"CONCATENATE(AE1251,VLOOKUP(AF1257,$AH$1647:$AH$1669,1,0))","v":"m7/G"},null,"G"]
[null,1256,{"$f":"CONCATENATE($C$10,AD1258)","v":"Gm7/G#"},"F#m7/G","Fm7/F#","Em7/F","Ebm7/E","Dm7/Eb","C#m7/D",{"$f":"$C1251","v":"Cm7/C#"},{"$f":"$C1262","v":"Bm7/C"},"Bbm7/B","Am7/Bb","G#m7/A","F#m7/G","Fm7/F#","Em7/F","Ebm7/E","Dm7/Eb","C#m7/D",{"$f":"$C1251","v":"Cm7/C#"},{"$f":"$C1262","v":"Bm7/C"},"Bbm7/B","Am7/Bb","G#m7/A",null,"Gm7/G#",1256,null,{"$f":"CONCATENATE(AE1251,VLOOKUP(AF1258,$AH$1647:$AH$1669,1,0))","v":"m7/G#"},null,"G#"]
[null,1257,{"$f":"CONCATENATE($C$11,AD1259)","v":"G#m7/A"},"Gm7/G#","F#m7/G","Fm7/F#","Em7/F","Ebm7/E","Dm7/Eb",{"$f":"$C1252","v":"C#m7/D"},{"$f":"$C1251","v":"Cm7/C#"},{"$f":"$C1262","v":"Bm7/C"},"Bbm7/B","Am7/Bb","Gm7/G#","F#m7/G","Fm7/F#","Em7/F","Ebm7/E","Dm7/Eb",{"$f":"$C1252","v":"C#m7/D"},{"$f":"$C1251","v":"Cm7/C#"},{"$f":"$C1262","v":"Bm7/C"},"Bbm7/B","Am7/Bb",null,"G#m7/A",1257,null,{"$f":"CONCATENATE(AE1251,VLOOKUP(AF1259,$AH$1647:$AH$1669,1,0))","v":"m7/A"},null,"A"]
[null,1258,{"$f":"CONCATENATE($C$12,AD1260)","v":"Am7/Bb"},"G#m7/A","Gm7/G#","F#m7/G","Fm7/F#","Em7/F","Ebm7/E",{"$f":"$C1253","v":"Dm7/Eb"},{"$f":"$C1252","v":"C#m7/D"},{"$f":"$C1251","v":"Cm7/C#"},{"$f":"$C1262","v":"Bm7/C"},"Bbm7/B","G#m7/A","Gm7/G#","F#m7/G","Fm7/F#","Em7/F","Ebm7/E",{"$f":"$C1253","v":"Dm7/Eb"},{"$f":"$C1252","v":"C#m7/D"},{"$f":"$C1251","v":"Cm7/C#"},{"$f":"$C1262","v":"Bm7/C"},"Bbm7/B",null,"Am7/Bb",1258,null,{"$f":"CONCATENATE(AE1251,VLOOKUP(AF1260,$AH$1647:$AH$1669,1,0))","v":"m7/Bb"},null,"Bb"]
[null,1259,{"$f":"CONCATENATE($C$13,AD1261)","v":"Bbm7/B"},"Am7/Bb","G#m7/A","Gm7/G#","F#m7/G","Fm7/F#","Em7/F",{"$f":"$C1254","v":"Ebm7/E"},{"$f":"$C1253","v":"Dm7/Eb"},{"$f":"$C1252","v":"C#m7/D"},{"$f":"$C1251","v":"Cm7/C#"},{"$f":"$C1262","v":"Bm7/C"},"Am7/Bb","G#m7/A","Gm7/G#","F#m7/G","Fm7/F#","Em7/F",{"$f":"$C1254","v":"Ebm7/E"},{"$f":"$C1253","v":"Dm7/Eb"},{"$f":"$C1252","v":"C#m7/D"},{"$f":"$C1251","v":"Cm7/C#"},{"$f":"$C1262","v":"Bm7/C"},null,"Bbm7/B",1259,null,{"$f":"CONCATENATE(AE1251,VLOOKUP(AF1261,$AH$1647:$AH$1669,1,0))","v":"m7/B"},null,"B"]
[null,1260,{"$f":"CONCATENATE($C$14,AD1262)","v":"Bm7/C"},"Bbm7/B","Am7/Bb","G#m7/A","Gm7/G#","F#m7/G","Fm7/F#",{"$f":"$C1255","v":"Em7/F"},{"$f":"$C1254","v":"Ebm7/E"},{"$f":"$C1253","v":"Dm7/Eb"},{"$f":"$C1252","v":"C#m7/D"},{"$f":"$C1251","v":"Cm7/C#"},"Bbm7/B","Am7/Bb","G#m7/A","Gm7/G#","F#m7/G","Fm7/F#",{"$f":"$C1255","v":"Em7/F"},{"$f":"$C1254","v":"Ebm7/E"},{"$f":"$C1253","v":"Dm7/Eb"},{"$f":"$C1252","v":"C#m7/D"},{"$f":"$C1251","v":"Cm7/C#"},null,"Bm7/C",1260,null,{"$f":"CONCATENATE(AE1251,VLOOKUP(AF1262,$AH$1647:$AH$1669,1,0))","v":"m7/C"},null,"C"]
[null,1261,{"$f":"CONCATENATE($C$3,AD1263)","v":"Cm7/D"},{"$f":"$C1274","v":"Bm7/C#"},{"$f":"$C1273","v":"Bbm7/C"},{"$f":"$C1272","v":"Am7/B"},{"$f":"$C1271","v":"G#m7/Bb"},{"$f":"$C1270","v":"Gm7/A"},{"$f":"$C1269","v":"F#m7/G#"},{"$f":"$C1268","v":"Fm7/G"},{"$f":"$C1267","v":"Em7/F#"},{"$f":"$C1266","v":"Ebm7/F"},{"$f":"$C1265","v":"Dm7/E"},{"$f":"$C1264","v":"C#m7/Eb"},{"$f":"$C1274","v":"Bm7/C#"},{"$f":"$C1273","v":"Bbm7/C"},{"$f":"$C1272","v":"Am7/B"},{"$f":"$C1271","v":"G#m7/Bb"},{"$f":"$C1270","v":"Gm7/A"},{"$f":"$C1269","v":"F#m7/G#"},{"$f":"$C1268","v":"Fm7/G"},{"$f":"$C1267","v":"Em7/F#"},{"$f":"$C1266","v":"Ebm7/F"},{"$f":"$C1265","v":"Dm7/E"},{"$f":"$C1264","v":"C#m7/Eb"},null,{"$f":"C1263","v":"Cm7/D"},1261,null,{"$f":"CONCATENATE(AE1263,VLOOKUP(AF1263,$AH$1647:$AH$1669,1,0))","v":"m7/D"},"m7/","D"]
[null,1262,{"$f":"CONCATENATE($C$4,AD1264)","v":"C#m7/Eb"},{"$f":"$C1263","v":"Cm7/D"},{"$f":"$C1274","v":"Bm7/C#"},{"$f":"$C1273","v":"Bbm7/C"},{"$f":"$C1272","v":"Am7/B"},{"$f":"$C1271","v":"G#m7/Bb"},"Gm7/A","F#m7/G#","Fm7/G","Em7/F#","Ebm7/F","Dm7/E",{"$f":"$C1263","v":"Cm7/D"},{"$f":"$C1274","v":"Bm7/C#"},{"$f":"$C1273","v":"Bbm7/C"},{"$f":"$C1272","v":"Am7/B"},{"$f":"$C1271","v":"G#m7/Bb"},"Gm7/A","F#m7/G#","Fm7/G","Em7/F#","Ebm7/F","Dm7/E",null,"C#m7/Eb",1262,null,{"$f":"CONCATENATE(AE1263,VLOOKUP(AF1264,$AH$1647:$AH$1669,1,0))","v":"m7/Eb"},null,{"$f":"VLOOKUP(AF1263,$AH$1647:$AI$1658,2,0)","v":"Eb"}]
[null,1263,{"$f":"CONCATENATE($C$5,AD1265)","v":"Dm7/E"},{"$f":"$C1264","v":"C#m7/Eb"},{"$f":"$C1263","v":"Cm7/D"},{"$f":"$C1274","v":"Bm7/C#"},{"$f":"$C1273","v":"Bbm7/C"},{"$f":"$C1272","v":"Am7/B"},"G#m7/Bb","Gm7/A","F#m7/G#","Fm7/G","Em7/F#","Ebm7/F",{"$f":"$C1264","v":"C#m7/Eb"},{"$f":"$C1263","v":"Cm7/D"},{"$f":"$C1274","v":"Bm7/C#"},{"$f":"$C1273","v":"Bbm7/C"},{"$f":"$C1272","v":"Am7/B"},"G#m7/Bb","Gm7/A","F#m7/G#","Fm7/G","Em7/F#","Ebm7/F",null,"Dm7/E",1263,null,{"$f":"CONCATENATE(AE1263,VLOOKUP(AF1265,$AH$1647:$AH$1669,1,0))","v":"m7/E"},null,"E"]
[null,1264,{"$f":"CONCATENATE($C$6,AD1266)","v":"Ebm7/F"},"Dm7/E",{"$f":"$C1264","v":"C#m7/Eb"},{"$f":"$C1263","v":"Cm7/D"},{"$f":"$C1274","v":"Bm7/C#"},{"$f":"$C1273","v":"Bbm7/C"},"Am7/B","G#m7/Bb","Gm7/A","F#m7/G#","Fm7/G","Em7/F#","Dm7/E",{"$f":"$C1264","v":"C#m7/Eb"},{"$f":"$C1263","v":"Cm7/D"},{"$f":"$C1274","v":"Bm7/C#"},{"$f":"$C1273","v":"Bbm7/C"},"Am7/B","G#m7/Bb","Gm7/A","F#m7/G#","Fm7/G","Em7/F#",null,"Ebm7/F",1264,null,{"$f":"CONCATENATE(AE1263,VLOOKUP(AF1266,$AH$1647:$AH$1669,1,0))","v":"m7/F"},null,"F"]
[null,1265,{"$f":"CONCATENATE($C$7,AD1267)","v":"Em7/F#"},"Ebm7/F","Dm7/E",{"$f":"$C1264","v":"C#m7/Eb"},{"$f":"$C1263","v":"Cm7/D"},{"$f":"$C1274","v":"Bm7/C#"},"Bbm7/C","Am7/B","G#m7/Bb","Gm7/A","F#m7/G#","Fm7/G","Ebm7/F","Dm7/E",{"$f":"$C1264","v":"C#m7/Eb"},{"$f":"$C1263","v":"Cm7/D"},{"$f":"$C1274","v":"Bm7/C#"},"Bbm7/C","Am7/B","G#m7/Bb","Gm7/A","F#m7/G#","Fm7/G",null,"Em7/F#",1265,null,{"$f":"CONCATENATE(AE1263,VLOOKUP(AF1267,$AH$1647:$AH$1669,1,0))","v":"m7/F#"},null,"F#"]
[null,1266,{"$f":"CONCATENATE($C$8,AD1268)","v":"Fm7/G"},"Em7/F#","Ebm7/F","Dm7/E",{"$f":"$C1264","v":"C#m7/Eb"},{"$f":"$C1263","v":"Cm7/D"},"Bm7/C#","Bbm7/C","Am7/B","G#m7/Bb","Gm7/A","F#m7/G#","Em7/F#","Ebm7/F","Dm7/E",{"$f":"$C1264","v":"C#m7/Eb"},{"$f":"$C1263","v":"Cm7/D"},"Bm7/C#","Bbm7/C","Am7/B","G#m7/Bb","Gm7/A","F#m7/G#",null,"Fm7/G",1266,null,{"$f":"CONCATENATE(AE1263,VLOOKUP(AF1268,$AH$1647:$AH$1669,1,0))","v":"m7/G"},null,"G"]
[null,1267,{"$f":"CONCATENATE($C$9,AD1269)","v":"F#m7/G#"},"Fm7/G","Em7/F#","Ebm7/F","Dm7/E",{"$f":"$C1264","v":"C#m7/Eb"},{"$f":"$C1263","v":"Cm7/D"},{"$f":"$C1274","v":"Bm7/C#"},"Bbm7/C","Am7/B","G#m7/Bb","Gm7/A","Fm7/G","Em7/F#","Ebm7/F","Dm7/E",{"$f":"$C1264","v":"C#m7/Eb"},{"$f":"$C1263","v":"Cm7/D"},{"$f":"$C1274","v":"Bm7/C#"},"Bbm7/C","Am7/B","G#m7/Bb","Gm7/A",null,"F#m7/G#",1267,null,{"$f":"CONCATENATE(AE1263,VLOOKUP(AF1269,$AH$1647:$AH$1669,1,0))","v":"m7/G#"},null,"G#"]
[null,1268,{"$f":"CONCATENATE($C$10,AD1270)","v":"Gm7/A"},"F#m7/G#","Fm7/G","Em7/F#","Ebm7/F","Dm7/E","C#m7/Eb",{"$f":"$C1263","v":"Cm7/D"},{"$f":"$C1274","v":"Bm7/C#"},"Bbm7/C","Am7/B","G#m7/Bb","F#m7/G#","Fm7/G","Em7/F#","Ebm7/F","Dm7/E","C#m7/Eb",{"$f":"$C1263","v":"Cm7/D"},{"$f":"$C1274","v":"Bm7/C#"},"Bbm7/C","Am7/B","G#m7/Bb",null,"Gm7/A",1268,null,{"$f":"CONCATENATE(AE1263,VLOOKUP(AF1270,$AH$1647:$AH$1669,1,0))","v":"m7/A"},null,"A"]
[null,1269,{"$f":"CONCATENATE($C$11,AD1271)","v":"G#m7/Bb"},"Gm7/A","F#m7/G#","Fm7/G","Em7/F#","Ebm7/F","Dm7/E",{"$f":"$C1264","v":"C#m7/Eb"},{"$f":"$C1263","v":"Cm7/D"},{"$f":"$C1274","v":"Bm7/C#"},"Bbm7/C","Am7/B","Gm7/A","F#m7/G#","Fm7/G","Em7/F#","Ebm7/F","Dm7/E",{"$f":"$C1264","v":"C#m7/Eb"},{"$f":"$C1263","v":"Cm7/D"},{"$f":"$C1274","v":"Bm7/C#"},"Bbm7/C","Am7/B",null,"G#m7/Bb",1269,null,{"$f":"CONCATENATE(AE1263,VLOOKUP(AF1271,$AH$1647:$AH$1669,1,0))","v":"m7/Bb"},null,"Bb"]
[null,1270,{"$f":"CONCATENATE($C$12,AD1272)","v":"Am7/B"},"G#m7/Bb","Gm7/A","F#m7/G#","Fm7/G","Em7/F#","Ebm7/F",{"$f":"$C1265","v":"Dm7/E"},{"$f":"$C1264","v":"C#m7/Eb"},{"$f":"$C1263","v":"Cm7/D"},{"$f":"$C1274","v":"Bm7/C#"},"Bbm7/C","G#m7/Bb","Gm7/A","F#m7/G#","Fm7/G","Em7/F#","Ebm7/F",{"$f":"$C1265","v":"Dm7/E"},{"$f":"$C1264","v":"C#m7/Eb"},{"$f":"$C1263","v":"Cm7/D"},{"$f":"$C1274","v":"Bm7/C#"},"Bbm7/C",null,"Am7/B",1270,null,{"$f":"CONCATENATE(AE1263,VLOOKUP(AF1272,$AH$1647:$AH$1669,1,0))","v":"m7/B"},null,"B"]
[null,1271,{"$f":"CONCATENATE($C$13,AD1273)","v":"Bbm7/C"},"Am7/B","G#m7/Bb","Gm7/A","F#m7/G#","Fm7/G","Em7/F#",{"$f":"$C1266","v":"Ebm7/F"},{"$f":"$C1265","v":"Dm7/E"},{"$f":"$C1264","v":"C#m7/Eb"},{"$f":"$C1263","v":"Cm7/D"},{"$f":"$C1274","v":"Bm7/C#"},"Am7/B","G#m7/Bb","Gm7/A","F#m7/G#","Fm7/G","Em7/F#",{"$f":"$C1266","v":"Ebm7/F"},{"$f":"$C1265","v":"Dm7/E"},{"$f":"$C1264","v":"C#m7/Eb"},{"$f":"$C1263","v":"Cm7/D"},{"$f":"$C1274","v":"Bm7/C#"},null,"Bbm7/C",1271,null,{"$f":"CONCATENATE(AE1263,VLOOKUP(AF1273,$AH$1647:$AH$1669,1,0))","v":"m7/C"},null,"C"]
[null,1272,{"$f":"CONCATENATE($C$14,AD1274)","v":"Bm7/C#"},"Bbm7/C","Am7/B","G#m7/Bb","Gm7/A","F#m7/G#","Fm7/G",{"$f":"$C1267","v":"Em7/F#"},{"$f":"$C1266","v":"Ebm7/F"},{"$f":"$C1265","v":"Dm7/E"},{"$f":"$C1264","v":"C#m7/Eb"},{"$f":"$C1263","v":"Cm7/D"},"Bbm7/C","Am7/B","G#m7/Bb","Gm7/A","F#m7/G#","Fm7/G",{"$f":"$C1267","v":"Em7/F#"},{"$f":"$C1266","v":"Ebm7/F"},{"$f":"$C1265","v":"Dm7/E"},{"$f":"$C1264","v":"C#m7/Eb"},{"$f":"$C1263","v":"Cm7/D"},null,"Bm7/C#",1272,null,{"$f":"CONCATENATE(AE1263,VLOOKUP(AF1274,$AH$1647:$AH$1669,1,0))","v":"m7/C#"},null,"C#"]
[null,1273,{"$f":"CONCATENATE($C$3,AD1275)","v":"Cm7/Eb"},{"$f":"$C1286","v":"Bm7/D"},{"$f":"$C1285","v":"Bbm7/C#"},{"$f":"$C1284","v":"Am7/C"},{"$f":"$C1283","v":"G#m7/B"},{"$f":"$C1282","v":"Gm7/Bb"},{"$f":"$C1281","v":"F#m7/A"},{"$f":"$C1280","v":"Fm7/G#"},{"$f":"$C1279","v":"Em7/G"},{"$f":"$C1278","v":"Ebm7/F#"},{"$f":"$C1277","v":"Dm7/F"},{"$f":"$C1276","v":"C#m7/E"},{"$f":"$C1286","v":"Bm7/D"},{"$f":"$C1285","v":"Bbm7/C#"},{"$f":"$C1284","v":"Am7/C"},{"$f":"$C1283","v":"G#m7/B"},{"$f":"$C1282","v":"Gm7/Bb"},{"$f":"$C1281","v":"F#m7/A"},{"$f":"$C1280","v":"Fm7/G#"},{"$f":"$C1279","v":"Em7/G"},{"$f":"$C1278","v":"Ebm7/F#"},{"$f":"$C1277","v":"Dm7/F"},{"$f":"$C1276","v":"C#m7/E"},null,"Cm7/Eb",1273,null,{"$f":"CONCATENATE(AE1275,VLOOKUP(AF1275,$AH$1647:$AH$1669,1,0))","v":"m7/Eb"},"m7/",{"$f":"IF(印刷用!$V$12=1,$AK$1649,$AK$1650)","v":"Eb"}]
[null,1274,{"$f":"CONCATENATE($C$4,AD1276)","v":"C#m7/E"},{"$f":"$C1275","v":"Cm7/Eb"},{"$f":"$C1286","v":"Bm7/D"},{"$f":"$C1285","v":"Bbm7/C#"},{"$f":"$C1284","v":"Am7/C"},{"$f":"$C1283","v":"G#m7/B"},"Gm7/Bb","F#m7/A","Fm7/G#","Em7/G","Ebm7/F#","Dm7/F",{"$f":"$C1275","v":"Cm7/Eb"},{"$f":"$C1286","v":"Bm7/D"},{"$f":"$C1285","v":"Bbm7/C#"},{"$f":"$C1284","v":"Am7/C"},{"$f":"$C1283","v":"G#m7/B"},"Gm7/Bb","F#m7/A","Fm7/G#","Em7/G","Ebm7/F#","Dm7/F",null,"C#m7/E",1274,null,{"$f":"CONCATENATE(AE1275,VLOOKUP(AF1276,$AH$1647:$AH$1669,1,0))","v":"m7/E"},null,{"$f":"VLOOKUP(AF1275,$AH$1647:$AI$1658,2,0)","v":"E"}]
[null,1275,{"$f":"CONCATENATE($C$5,AD1277)","v":"Dm7/F"},{"$f":"$C1276","v":"C#m7/E"},{"$f":"$C1275","v":"Cm7/Eb"},{"$f":"$C1286","v":"Bm7/D"},{"$f":"$C1285","v":"Bbm7/C#"},{"$f":"$C1284","v":"Am7/C"},"G#m7/B","Gm7/Bb","F#m7/A","Fm7/G#","Em7/G","Ebm7/F#",{"$f":"$C1276","v":"C#m7/E"},{"$f":"$C1275","v":"Cm7/Eb"},{"$f":"$C1286","v":"Bm7/D"},{"$f":"$C1285","v":"Bbm7/C#"},{"$f":"$C1284","v":"Am7/C"},"G#m7/B","Gm7/Bb","F#m7/A","Fm7/G#","Em7/G","Ebm7/F#",null,"Dm7/F",1275,null,{"$f":"CONCATENATE(AE1275,VLOOKUP(AF1277,$AH$1647:$AH$1669,1,0))","v":"m7/F"},null,"F"]
[null,1276,{"$f":"CONCATENATE($C$6,AD1278)","v":"Ebm7/F#"},"Dm7/F",{"$f":"$C1276","v":"C#m7/E"},{"$f":"$C1275","v":"Cm7/Eb"},{"$f":"$C1286","v":"Bm7/D"},{"$f":"$C1285","v":"Bbm7/C#"},"Am7/C","G#m7/B","Gm7/Bb","F#m7/A","Fm7/G#","Em7/G","Dm7/F",{"$f":"$C1276","v":"C#m7/E"},{"$f":"$C1275","v":"Cm7/Eb"},{"$f":"$C1286","v":"Bm7/D"},{"$f":"$C1285","v":"Bbm7/C#"},"Am7/C","G#m7/B","Gm7/Bb","F#m7/A","Fm7/G#","Em7/G",null,"Ebm7/F#",1276,null,{"$f":"CONCATENATE(AE1275,VLOOKUP(AF1278,$AH$1647:$AH$1669,1,0))","v":"m7/F#"},null,"F#"]
[null,1277,{"$f":"CONCATENATE($C$7,AD1279)","v":"Em7/G"},"Ebm7/F#","Dm7/F",{"$f":"$C1276","v":"C#m7/E"},{"$f":"$C1275","v":"Cm7/Eb"},{"$f":"$C1286","v":"Bm7/D"},"Bbm7/C#","Am7/C","G#m7/B","Gm7/Bb","F#m7/A","Fm7/G#","Ebm7/F#","Dm7/F",{"$f":"$C1276","v":"C#m7/E"},{"$f":"$C1275","v":"Cm7/Eb"},{"$f":"$C1286","v":"Bm7/D"},"Bbm7/C#","Am7/C","G#m7/B","Gm7/Bb","F#m7/A","Fm7/G#",null,"Em7/G",1277,null,{"$f":"CONCATENATE(AE1275,VLOOKUP(AF1279,$AH$1647:$AH$1669,1,0))","v":"m7/G"},null,"G"]
[null,1278,{"$f":"CONCATENATE($C$8,AD1280)","v":"Fm7/G#"},"Em7/G","Ebm7/F#","Dm7/F",{"$f":"$C1276","v":"C#m7/E"},{"$f":"$C1275","v":"Cm7/Eb"},"Bm7/D","Bbm7/C#","Am7/C","G#m7/B","Gm7/Bb","F#m7/A","Em7/G","Ebm7/F#","Dm7/F",{"$f":"$C1276","v":"C#m7/E"},{"$f":"$C1275","v":"Cm7/Eb"},"Bm7/D","Bbm7/C#","Am7/C","G#m7/B","Gm7/Bb","F#m7/A",null,"Fm7/G#",1278,null,{"$f":"CONCATENATE(AE1275,VLOOKUP(AF1280,$AH$1647:$AH$1669,1,0))","v":"m7/G#"},null,"G#"]
[null,1279,{"$f":"CONCATENATE($C$9,AD1281)","v":"F#m7/A"},"Fm7/G#","Em7/G","Ebm7/F#","Dm7/F",{"$f":"$C1276","v":"C#m7/E"},{"$f":"$C1275","v":"Cm7/Eb"},{"$f":"$C1286","v":"Bm7/D"},"Bbm7/C#","Am7/C","G#m7/B","Gm7/Bb","Fm7/G#","Em7/G","Ebm7/F#","Dm7/F",{"$f":"$C1276","v":"C#m7/E"},{"$f":"$C1275","v":"Cm7/Eb"},{"$f":"$C1286","v":"Bm7/D"},"Bbm7/C#","Am7/C","G#m7/B","Gm7/Bb",null,"F#m7/A",1279,null,{"$f":"CONCATENATE(AE1275,VLOOKUP(AF1281,$AH$1647:$AH$1669,1,0))","v":"m7/A"},null,"A"]
[null,1280,{"$f":"CONCATENATE($C$10,AD1282)","v":"Gm7/Bb"},"F#m7/A","Fm7/G#","Em7/G","Ebm7/F#","Dm7/F","C#m7/E",{"$f":"$C1275","v":"Cm7/Eb"},{"$f":"$C1286","v":"Bm7/D"},"Bbm7/C#","Am7/C","G#m7/B","F#m7/A","Fm7/G#","Em7/G","Ebm7/F#","Dm7/F","C#m7/E",{"$f":"$C1275","v":"Cm7/Eb"},{"$f":"$C1286","v":"Bm7/D"},"Bbm7/C#","Am7/C","G#m7/B",null,"Gm7/Bb",1280,null,{"$f":"CONCATENATE(AE1275,VLOOKUP(AF1282,$AH$1647:$AH$1669,1,0))","v":"m7/Bb"},null,"Bb"]
[null,1281,{"$f":"CONCATENATE($C$11,AD1283)","v":"G#m7/B"},"Gm7/Bb","F#m7/A","Fm7/G#","Em7/G","Ebm7/F#","Dm7/F",{"$f":"$C1276","v":"C#m7/E"},{"$f":"$C1275","v":"Cm7/Eb"},{"$f":"$C1286","v":"Bm7/D"},"Bbm7/C#","Am7/C","Gm7/Bb","F#m7/A","Fm7/G#","Em7/G","Ebm7/F#","Dm7/F",{"$f":"$C1276","v":"C#m7/E"},{"$f":"$C1275","v":"Cm7/Eb"},{"$f":"$C1286","v":"Bm7/D"},"Bbm7/C#","Am7/C",null,"G#m7/B",{"$f":"B1283","v":1281},null,{"$f":"CONCATENATE(AE1275,VLOOKUP(AF1283,$AH$1647:$AH$1669,1,0))","v":"m7/B"},null,"B"]
[null,1282,{"$f":"CONCATENATE($C$12,AD1284)","v":"Am7/C"},"G#m7/B","Gm7/Bb","F#m7/A","Fm7/G#","Em7/G","Ebm7/F#",{"$f":"$C1277","v":"Dm7/F"},{"$f":"$C1276","v":"C#m7/E"},{"$f":"$C1275","v":"Cm7/Eb"},{"$f":"$C1286","v":"Bm7/D"},"Bbm7/C#","G#m7/B","Gm7/Bb","F#m7/A","Fm7/G#","Em7/G","Ebm7/F#",{"$f":"$C1277","v":"Dm7/F"},{"$f":"$C1276","v":"C#m7/E"},{"$f":"$C1275","v":"Cm7/Eb"},{"$f":"$C1286","v":"Bm7/D"},"Bbm7/C#",null,"Am7/C",1282,null,{"$f":"CONCATENATE(AE1275,VLOOKUP(AF1284,$AH$1647:$AH$1669,1,0))","v":"m7/C"},null,"C"]
[null,1283,{"$f":"CONCATENATE($C$13,AD1285)","v":"Bbm7/C#"},"Am7/C","G#m7/B","Gm7/Bb","F#m7/A","Fm7/G#","Em7/G",{"$f":"$C1278","v":"Ebm7/F#"},{"$f":"$C1277","v":"Dm7/F"},{"$f":"$C1276","v":"C#m7/E"},{"$f":"$C1275","v":"Cm7/Eb"},{"$f":"$C1286","v":"Bm7/D"},"Am7/C","G#m7/B","Gm7/Bb","F#m7/A","Fm7/G#","Em7/G",{"$f":"$C1278","v":"Ebm7/F#"},{"$f":"$C1277","v":"Dm7/F"},{"$f":"$C1276","v":"C#m7/E"},{"$f":"$C1275","v":"Cm7/Eb"},{"$f":"$C1286","v":"Bm7/D"},null,"Bbm7/C#",1283,null,{"$f":"CONCATENATE(AE1275,VLOOKUP(AF1285,$AH$1647:$AH$1669,1,0))","v":"m7/C#"},null,"C#"]
[null,1284,{"$f":"CONCATENATE($C$14,AD1286)","v":"Bm7/D"},"Bbm7/C#","Am7/C","G#m7/B","Gm7/Bb","F#m7/A","Fm7/G#",{"$f":"$C1279","v":"Em7/G"},{"$f":"$C1278","v":"Ebm7/F#"},{"$f":"$C1277","v":"Dm7/F"},{"$f":"$C1276","v":"C#m7/E"},{"$f":"$C1275","v":"Cm7/Eb"},"Bbm7/C#","Am7/C","G#m7/B","Gm7/Bb","F#m7/A","Fm7/G#",{"$f":"$C1279","v":"Em7/G"},{"$f":"$C1278","v":"Ebm7/F#"},{"$f":"$C1277","v":"Dm7/F"},{"$f":"$C1276","v":"C#m7/E"},{"$f":"$C1275","v":"Cm7/Eb"},null,"Bm7/D",1284,null,{"$f":"CONCATENATE(AE1275,VLOOKUP(AF1286,$AH$1647:$AH$1669,1,0))","v":"m7/D"},null,"D"]
[null,1285,{"$f":"CONCATENATE($C$3,AD1287)","v":"Cm7/E"},{"$f":"$C1298","v":"Bm7/Eb"},{"$f":"$C1297","v":"Bbm7/D"},{"$f":"$C1296","v":"Am7/C#"},{"$f":"$C1295","v":"G#m7/C"},{"$f":"$C1294","v":"Gm7/B"},{"$f":"$C1293","v":"F#m7/Bb"},{"$f":"$C1292","v":"Fm7/A"},{"$f":"$C1291","v":"Em7/G#"},{"$f":"$C1290","v":"Ebm7/G"},{"$f":"$C1289","v":"Dm7/F#"},{"$f":"$C1288","v":"C#m7/F"},{"$f":"$C1298","v":"Bm7/Eb"},{"$f":"$C1297","v":"Bbm7/D"},{"$f":"$C1296","v":"Am7/C#"},{"$f":"$C1295","v":"G#m7/C"},{"$f":"$C1294","v":"Gm7/B"},{"$f":"$C1293","v":"F#m7/Bb"},{"$f":"$C1292","v":"Fm7/A"},{"$f":"$C1291","v":"Em7/G#"},{"$f":"$C1290","v":"Ebm7/G"},{"$f":"$C1289","v":"Dm7/F#"},{"$f":"$C1288","v":"C#m7/F"},null,"Cm7/E",1285,null,{"$f":"CONCATENATE(AE1287,VLOOKUP(AF1287,$AH$1647:$AH$1669,1,0))","v":"m7/E"},"m7/","E"]
[null,1286,{"$f":"CONCATENATE($C$4,AD1288)","v":"C#m7/F"},{"$f":"$C1287","v":"Cm7/E"},{"$f":"$C1298","v":"Bm7/Eb"},{"$f":"$C1297","v":"Bbm7/D"},{"$f":"$C1296","v":"Am7/C#"},{"$f":"$C1295","v":"G#m7/C"},"Gm7/B","F#m7/Bb","Fm7/A","Em7/G#","Ebm7/G","Dm7/F#",{"$f":"$C1287","v":"Cm7/E"},{"$f":"$C1298","v":"Bm7/Eb"},{"$f":"$C1297","v":"Bbm7/D"},{"$f":"$C1296","v":"Am7/C#"},{"$f":"$C1295","v":"G#m7/C"},"Gm7/B","F#m7/Bb","Fm7/A","Em7/G#","Ebm7/G","Dm7/F#",null,"C#m7/F",1286,null,{"$f":"CONCATENATE(AE1287,VLOOKUP(AF1288,$AH$1647:$AH$1669,1,0))","v":"m7/F"},null,{"$f":"VLOOKUP(AF1287,$AH$1647:$AI$1658,2,0)","v":"F"}]
[null,1287,{"$f":"CONCATENATE($C$5,AD1289)","v":"Dm7/F#"},{"$f":"$C1288","v":"C#m7/F"},{"$f":"$C1287","v":"Cm7/E"},{"$f":"$C1298","v":"Bm7/Eb"},{"$f":"$C1297","v":"Bbm7/D"},{"$f":"$C1296","v":"Am7/C#"},"G#m7/C","Gm7/B","F#m7/Bb","Fm7/A","Em7/G#","Ebm7/G",{"$f":"$C1288","v":"C#m7/F"},{"$f":"$C1287","v":"Cm7/E"},{"$f":"$C1298","v":"Bm7/Eb"},{"$f":"$C1297","v":"Bbm7/D"},{"$f":"$C1296","v":"Am7/C#"},"G#m7/C","Gm7/B","F#m7/Bb","Fm7/A","Em7/G#","Ebm7/G",null,"Dm7/F#",1287,null,{"$f":"CONCATENATE(AE1287,VLOOKUP(AF1289,$AH$1647:$AH$1669,1,0))","v":"m7/F#"},null,"F#"]
[null,1288,{"$f":"CONCATENATE($C$6,AD1290)","v":"Ebm7/G"},"Dm7/F#",{"$f":"$C1288","v":"C#m7/F"},{"$f":"$C1287","v":"Cm7/E"},{"$f":"$C1298","v":"Bm7/Eb"},{"$f":"$C1297","v":"Bbm7/D"},"Am7/C#","G#m7/C","Gm7/B","F#m7/Bb","Fm7/A","Em7/G#","Dm7/F#",{"$f":"$C1288","v":"C#m7/F"},{"$f":"$C1287","v":"Cm7/E"},{"$f":"$C1298","v":"Bm7/Eb"},{"$f":"$C1297","v":"Bbm7/D"},"Am7/C#","G#m7/C","Gm7/B","F#m7/Bb","Fm7/A","Em7/G#",null,"Ebm7/G",1288,null,{"$f":"CONCATENATE(AE1287,VLOOKUP(AF1290,$AH$1647:$AH$1669,1,0))","v":"m7/G"},null,"G"]
[null,1289,{"$f":"CONCATENATE($C$7,AD1291)","v":"Em7/G#"},"Ebm7/G","Dm7/F#",{"$f":"$C1288","v":"C#m7/F"},{"$f":"$C1287","v":"Cm7/E"},{"$f":"$C1298","v":"Bm7/Eb"},"Bbm7/D","Am7/C#","G#m7/C","Gm7/B","F#m7/Bb","Fm7/A","Ebm7/G","Dm7/F#",{"$f":"$C1288","v":"C#m7/F"},{"$f":"$C1287","v":"Cm7/E"},{"$f":"$C1298","v":"Bm7/Eb"},"Bbm7/D","Am7/C#","G#m7/C","Gm7/B","F#m7/Bb","Fm7/A",null,"Em7/G#",1289,null,{"$f":"CONCATENATE(AE1287,VLOOKUP(AF1291,$AH$1647:$AH$1669,1,0))","v":"m7/G#"},null,"G#"]
[null,1290,{"$f":"CONCATENATE($C$8,AD1292)","v":"Fm7/A"},"Em7/G#","Ebm7/G","Dm7/F#",{"$f":"$C1288","v":"C#m7/F"},{"$f":"$C1287","v":"Cm7/E"},"Bm7/Eb","Bbm7/D","Am7/C#","G#m7/C","Gm7/B","F#m7/Bb","Em7/G#","Ebm7/G","Dm7/F#",{"$f":"$C1288","v":"C#m7/F"},{"$f":"$C1287","v":"Cm7/E"},"Bm7/Eb","Bbm7/D","Am7/C#","G#m7/C","Gm7/B","F#m7/Bb",null,"Fm7/A",1290,null,{"$f":"CONCATENATE(AE1287,VLOOKUP(AF1292,$AH$1647:$AH$1669,1,0))","v":"m7/A"},null,"A"]
[null,1291,{"$f":"CONCATENATE($C$9,AD1293)","v":"F#m7/Bb"},"Fm7/A","Em7/G#","Ebm7/G","Dm7/F#",{"$f":"$C1288","v":"C#m7/F"},{"$f":"$C1287","v":"Cm7/E"},{"$f":"$C1298","v":"Bm7/Eb"},"Bbm7/D","Am7/C#","G#m7/C","Gm7/B","Fm7/A","Em7/G#","Ebm7/G","Dm7/F#",{"$f":"$C1288","v":"C#m7/F"},{"$f":"$C1287","v":"Cm7/E"},{"$f":"$C1298","v":"Bm7/Eb"},"Bbm7/D","Am7/C#","G#m7/C","Gm7/B",null,"F#m7/Bb",1291,null,{"$f":"CONCATENATE(AE1287,VLOOKUP(AF1293,$AH$1647:$AH$1669,1,0))","v":"m7/Bb"},null,"Bb"]
[null,1292,{"$f":"CONCATENATE($C$10,AD1294)","v":"Gm7/B"},"F#m7/Bb","Fm7/A","Em7/G#","Ebm7/G","Dm7/F#","C#m7/F",{"$f":"$C1287","v":"Cm7/E"},{"$f":"$C1298","v":"Bm7/Eb"},"Bbm7/D","Am7/C#","G#m7/C","F#m7/Bb","Fm7/A","Em7/G#","Ebm7/G","Dm7/F#","C#m7/F",{"$f":"$C1287","v":"Cm7/E"},{"$f":"$C1298","v":"Bm7/Eb"},"Bbm7/D","Am7/C#","G#m7/C",null,"Gm7/B",1292,null,{"$f":"CONCATENATE(AE1287,VLOOKUP(AF1294,$AH$1647:$AH$1669,1,0))","v":"m7/B"},null,"B"]
[null,1293,{"$f":"CONCATENATE($C$11,AD1295)","v":"G#m7/C"},"Gm7/B","F#m7/Bb","Fm7/A","Em7/G#","Ebm7/G","Dm7/F#",{"$f":"$C1288","v":"C#m7/F"},{"$f":"$C1287","v":"Cm7/E"},{"$f":"$C1298","v":"Bm7/Eb"},"Bbm7/D","Am7/C#","Gm7/B","F#m7/Bb","Fm7/A","Em7/G#","Ebm7/G","Dm7/F#",{"$f":"$C1288","v":"C#m7/F"},{"$f":"$C1287","v":"Cm7/E"},{"$f":"$C1298","v":"Bm7/Eb"},"Bbm7/D","Am7/C#",null,"G#m7/C",1293,null,{"$f":"CONCATENATE(AE1287,VLOOKUP(AF1295,$AH$1647:$AH$1669,1,0))","v":"m7/C"},null,"C"]
[null,1294,{"$f":"CONCATENATE($C$12,AD1296)","v":"Am7/C#"},"G#m7/C","Gm7/B","F#m7/Bb","Fm7/A","Em7/G#","Ebm7/G",{"$f":"$C1289","v":"Dm7/F#"},{"$f":"$C1288","v":"C#m7/F"},{"$f":"$C1287","v":"Cm7/E"},{"$f":"$C1298","v":"Bm7/Eb"},"Bbm7/D","G#m7/C","Gm7/B","F#m7/Bb","Fm7/A","Em7/G#","Ebm7/G",{"$f":"$C1289","v":"Dm7/F#"},{"$f":"$C1288","v":"C#m7/F"},{"$f":"$C1287","v":"Cm7/E"},{"$f":"$C1298","v":"Bm7/Eb"},"Bbm7/D",null,"Am7/C#",1294,null,{"$f":"CONCATENATE(AE1287,VLOOKUP(AF1296,$AH$1647:$AH$1669,1,0))","v":"m7/C#"},null,"C#"]
[null,1295,{"$f":"CONCATENATE($C$13,AD1297)","v":"Bbm7/D"},"Am7/C#","G#m7/C","Gm7/B","F#m7/Bb","Fm7/A","Em7/G#",{"$f":"$C1290","v":"Ebm7/G"},{"$f":"$C1289","v":"Dm7/F#"},{"$f":"$C1288","v":"C#m7/F"},{"$f":"$C1287","v":"Cm7/E"},{"$f":"$C1298","v":"Bm7/Eb"},"Am7/C#","G#m7/C","Gm7/B","F#m7/Bb","Fm7/A","Em7/G#",{"$f":"$C1290","v":"Ebm7/G"},{"$f":"$C1289","v":"Dm7/F#"},{"$f":"$C1288","v":"C#m7/F"},{"$f":"$C1287","v":"Cm7/E"},{"$f":"$C1298","v":"Bm7/Eb"},null,"Bbm7/D",1295,null,{"$f":"CONCATENATE(AE1287,VLOOKUP(AF1297,$AH$1647:$AH$1669,1,0))","v":"m7/D"},null,"D"]
[null,1296,{"$f":"CONCATENATE($C$14,AD1298)","v":"Bm7/Eb"},"Bbm7/D","Am7/C#","G#m7/C","Gm7/B","F#m7/Bb","Fm7/A",{"$f":"$C1291","v":"Em7/G#"},{"$f":"$C1290","v":"Ebm7/G"},{"$f":"$C1289","v":"Dm7/F#"},{"$f":"$C1288","v":"C#m7/F"},{"$f":"$C1287","v":"Cm7/E"},"Bbm7/D","Am7/C#","G#m7/C","Gm7/B","F#m7/Bb","Fm7/A",{"$f":"$C1291","v":"Em7/G#"},{"$f":"$C1290","v":"Ebm7/G"},{"$f":"$C1289","v":"Dm7/F#"},{"$f":"$C1288","v":"C#m7/F"},{"$f":"$C1287","v":"Cm7/E"},null,"Bm7/Eb",1296,null,{"$f":"CONCATENATE(AE1287,VLOOKUP(AF1298,$AH$1647:$AH$1669,1,0))","v":"m7/Eb"},null,"Eb"]
[null,1297,{"$f":"CONCATENATE($C$3,AD1299)","v":"Cm7/F"},{"$f":"$C1310","v":"Bm7/E"},{"$f":"$C1309","v":"Bbm7/Eb"},{"$f":"$C1308","v":"Am7/D"},{"$f":"$C1307","v":"G#m7/C#"},{"$f":"$C1306","v":"Gm7/C"},{"$f":"$C1305","v":"F#m7/B"},{"$f":"$C1304","v":"Fm7/Bb"},{"$f":"$C1303","v":"Em7/A"},{"$f":"$C1302","v":"Ebm7/G#"},{"$f":"$C1301","v":"Dm7/G"},{"$f":"$C1300","v":"C#m7/F#"},{"$f":"$C1310","v":"Bm7/E"},{"$f":"$C1309","v":"Bbm7/Eb"},{"$f":"$C1308","v":"Am7/D"},{"$f":"$C1307","v":"G#m7/C#"},{"$f":"$C1306","v":"Gm7/C"},{"$f":"$C1305","v":"F#m7/B"},{"$f":"$C1304","v":"Fm7/Bb"},{"$f":"$C1303","v":"Em7/A"},{"$f":"$C1302","v":"Ebm7/G#"},{"$f":"$C1301","v":"Dm7/G"},{"$f":"$C1300","v":"C#m7/F#"},null,"Cm7/F",1297,null,{"$f":"CONCATENATE(AE1299,VLOOKUP(AF1299,$AH$1647:$AH$1669,1,0))","v":"m7/F"},"m7/","F"]
[null,1298,{"$f":"CONCATENATE($C$4,AD1300)","v":"C#m7/F#"},{"$f":"$C1299","v":"Cm7/F"},{"$f":"$C1310","v":"Bm7/E"},{"$f":"$C1309","v":"Bbm7/Eb"},{"$f":"$C1308","v":"Am7/D"},{"$f":"$C1307","v":"G#m7/C#"},"Gm7/C","F#m7/B","Fm7/Bb","Em7/A","Ebm7/G#","Dm7/G",{"$f":"$C1299","v":"Cm7/F"},{"$f":"$C1310","v":"Bm7/E"},{"$f":"$C1309","v":"Bbm7/Eb"},{"$f":"$C1308","v":"Am7/D"},{"$f":"$C1307","v":"G#m7/C#"},"Gm7/C","F#m7/B","Fm7/Bb","Em7/A","Ebm7/G#","Dm7/G",null,"C#m7/F#",1298,null,{"$f":"CONCATENATE(AE1299,VLOOKUP(AF1300,$AH$1647:$AH$1669,1,0))","v":"m7/F#"},null,{"$f":"VLOOKUP(AF1299,$AH$1647:$AI$1658,2,0)","v":"F#"}]
[null,1299,{"$f":"CONCATENATE($C$5,AD1301)","v":"Dm7/G"},{"$f":"$C1300","v":"C#m7/F#"},{"$f":"$C1299","v":"Cm7/F"},{"$f":"$C1310","v":"Bm7/E"},{"$f":"$C1309","v":"Bbm7/Eb"},{"$f":"$C1308","v":"Am7/D"},"G#m7/C#","Gm7/C","F#m7/B","Fm7/Bb","Em7/A","Ebm7/G#",{"$f":"$C1300","v":"C#m7/F#"},{"$f":"$C1299","v":"Cm7/F"},{"$f":"$C1310","v":"Bm7/E"},{"$f":"$C1309","v":"Bbm7/Eb"},{"$f":"$C1308","v":"Am7/D"},"G#m7/C#","Gm7/C","F#m7/B","Fm7/Bb","Em7/A","Ebm7/G#",null,"Dm7/G",1299,null,{"$f":"CONCATENATE(AE1299,VLOOKUP(AF1301,$AH$1647:$AH$1669,1,0))","v":"m7/G"},null,"G"]
[null,1300,{"$f":"CONCATENATE($C$6,AD1302)","v":"Ebm7/G#"},"Dm7/G",{"$f":"$C1300","v":"C#m7/F#"},{"$f":"$C1299","v":"Cm7/F"},{"$f":"$C1310","v":"Bm7/E"},{"$f":"$C1309","v":"Bbm7/Eb"},"Am7/D","G#m7/C#","Gm7/C","F#m7/B","Fm7/Bb","Em7/A","Dm7/G",{"$f":"$C1300","v":"C#m7/F#"},{"$f":"$C1299","v":"Cm7/F"},{"$f":"$C1310","v":"Bm7/E"},{"$f":"$C1309","v":"Bbm7/Eb"},"Am7/D","G#m7/C#","Gm7/C","F#m7/B","Fm7/Bb","Em7/A",null,"Ebm7/G#",1300,null,{"$f":"CONCATENATE(AE1299,VLOOKUP(AF1302,$AH$1647:$AH$1669,1,0))","v":"m7/G#"},null,"G#"]
[null,1301,{"$f":"CONCATENATE($C$7,AD1303)","v":"Em7/A"},"Ebm7/G#","Dm7/G",{"$f":"$C1300","v":"C#m7/F#"},{"$f":"$C1299","v":"Cm7/F"},{"$f":"$C1310","v":"Bm7/E"},"Bbm7/Eb","Am7/D","G#m7/C#","Gm7/C","F#m7/B","Fm7/Bb","Ebm7/G#","Dm7/G",{"$f":"$C1300","v":"C#m7/F#"},{"$f":"$C1299","v":"Cm7/F"},{"$f":"$C1310","v":"Bm7/E"},"Bbm7/Eb","Am7/D","G#m7/C#","Gm7/C","F#m7/B","Fm7/Bb",null,"Em7/A",1301,null,{"$f":"CONCATENATE(AE1299,VLOOKUP(AF1303,$AH$1647:$AH$1669,1,0))","v":"m7/A"},null,"A"]
[null,1302,{"$f":"CONCATENATE($C$8,AD1304)","v":"Fm7/Bb"},"Em7/A","Ebm7/G#","Dm7/G",{"$f":"$C1300","v":"C#m7/F#"},{"$f":"$C1299","v":"Cm7/F"},"Bm7/E","Bbm7/Eb","Am7/D","G#m7/C#","Gm7/C","F#m7/B","Em7/A","Ebm7/G#","Dm7/G",{"$f":"$C1300","v":"C#m7/F#"},{"$f":"$C1299","v":"Cm7/F"},"Bm7/E","Bbm7/Eb","Am7/D","G#m7/C#","Gm7/C","F#m7/B",null,"Fm7/Bb",1302,null,{"$f":"CONCATENATE(AE1299,VLOOKUP(AF1304,$AH$1647:$AH$1669,1,0))","v":"m7/Bb"},null,"Bb"]
[null,1303,{"$f":"CONCATENATE($C$9,AD1305)","v":"F#m7/B"},"Fm7/Bb","Em7/A","Ebm7/G#","Dm7/G",{"$f":"$C1300","v":"C#m7/F#"},{"$f":"$C1299","v":"Cm7/F"},{"$f":"$C1310","v":"Bm7/E"},"Bbm7/Eb","Am7/D","G#m7/C#","Gm7/C","Fm7/Bb","Em7/A","Ebm7/G#","Dm7/G",{"$f":"$C1300","v":"C#m7/F#"},{"$f":"$C1299","v":"Cm7/F"},{"$f":"$C1310","v":"Bm7/E"},"Bbm7/Eb","Am7/D","G#m7/C#","Gm7/C",null,"F#m7/B",1303,null,{"$f":"CONCATENATE(AE1299,VLOOKUP(AF1305,$AH$1647:$AH$1669,1,0))","v":"m7/B"},null,"B"]
[null,1304,{"$f":"CONCATENATE($C$10,AD1306)","v":"Gm7/C"},"F#m7/B","Fm7/Bb","Em7/A","Ebm7/G#","Dm7/G","C#m7/F#",{"$f":"$C1299","v":"Cm7/F"},{"$f":"$C1310","v":"Bm7/E"},"Bbm7/Eb","Am7/D","G#m7/C#","F#m7/B","Fm7/Bb","Em7/A","Ebm7/G#","Dm7/G","C#m7/F#",{"$f":"$C1299","v":"Cm7/F"},{"$f":"$C1310","v":"Bm7/E"},"Bbm7/Eb","Am7/D","G#m7/C#",null,"Gm7/C",1304,null,{"$f":"CONCATENATE(AE1299,VLOOKUP(AF1306,$AH$1647:$AH$1669,1,0))","v":"m7/C"},null,"C"]
[null,1305,{"$f":"CONCATENATE($C$11,AD1307)","v":"G#m7/C#"},"Gm7/C","F#m7/B","Fm7/Bb","Em7/A","Ebm7/G#","Dm7/G",{"$f":"$C1300","v":"C#m7/F#"},{"$f":"$C1299","v":"Cm7/F"},{"$f":"$C1310","v":"Bm7/E"},"Bbm7/Eb","Am7/D","Gm7/C","F#m7/B","Fm7/Bb","Em7/A","Ebm7/G#","Dm7/G",{"$f":"$C1300","v":"C#m7/F#"},{"$f":"$C1299","v":"Cm7/F"},{"$f":"$C1310","v":"Bm7/E"},"Bbm7/Eb","Am7/D",null,"G#m7/C#",1305,null,{"$f":"CONCATENATE(AE1299,VLOOKUP(AF1307,$AH$1647:$AH$1669,1,0))","v":"m7/C#"},null,"C#"]
[null,1306,{"$f":"CONCATENATE($C$12,AD1308)","v":"Am7/D"},"G#m7/C#","Gm7/C","F#m7/B","Fm7/Bb","Em7/A","Ebm7/G#",{"$f":"$C1301","v":"Dm7/G"},{"$f":"$C1300","v":"C#m7/F#"},{"$f":"$C1299","v":"Cm7/F"},{"$f":"$C1310","v":"Bm7/E"},"Bbm7/Eb","G#m7/C#","Gm7/C","F#m7/B","Fm7/Bb","Em7/A","Ebm7/G#",{"$f":"$C1301","v":"Dm7/G"},{"$f":"$C1300","v":"C#m7/F#"},{"$f":"$C1299","v":"Cm7/F"},{"$f":"$C1310","v":"Bm7/E"},"Bbm7/Eb",null,"Am7/D",1306,null,{"$f":"CONCATENATE(AE1299,VLOOKUP(AF1308,$AH$1647:$AH$1669,1,0))","v":"m7/D"},null,"D"]
[null,1307,{"$f":"CONCATENATE($C$13,AD1309)","v":"Bbm7/Eb"},"Am7/D","G#m7/C#","Gm7/C","F#m7/B","Fm7/Bb","Em7/A",{"$f":"$C1302","v":"Ebm7/G#"},{"$f":"$C1301","v":"Dm7/G"},{"$f":"$C1300","v":"C#m7/F#"},{"$f":"$C1299","v":"Cm7/F"},{"$f":"$C1310","v":"Bm7/E"},"Am7/D","G#m7/C#","Gm7/C","F#m7/B","Fm7/Bb","Em7/A",{"$f":"$C1302","v":"Ebm7/G#"},{"$f":"$C1301","v":"Dm7/G"},{"$f":"$C1300","v":"C#m7/F#"},{"$f":"$C1299","v":"Cm7/F"},{"$f":"$C1310","v":"Bm7/E"},null,"Bbm7/Eb",1307,null,{"$f":"CONCATENATE(AE1299,VLOOKUP(AF1309,$AH$1647:$AH$1669,1,0))","v":"m7/Eb"},null,"Eb"]
[null,1308,{"$f":"CONCATENATE($C$14,AD1310)","v":"Bm7/E"},"Bbm7/Eb","Am7/D","G#m7/C#","Gm7/C","F#m7/B","Fm7/Bb",{"$f":"$C1303","v":"Em7/A"},{"$f":"$C1302","v":"Ebm7/G#"},{"$f":"$C1301","v":"Dm7/G"},{"$f":"$C1300","v":"C#m7/F#"},{"$f":"$C1299","v":"Cm7/F"},"Bbm7/Eb","Am7/D","G#m7/C#","Gm7/C","F#m7/B","Fm7/Bb",{"$f":"$C1303","v":"Em7/A"},{"$f":"$C1302","v":"Ebm7/G#"},{"$f":"$C1301","v":"Dm7/G"},{"$f":"$C1300","v":"C#m7/F#"},{"$f":"$C1299","v":"Cm7/F"},null,"Bm7/E",1308,null,{"$f":"CONCATENATE(AE1299,VLOOKUP(AF1310,$AH$1647:$AH$1669,1,0))","v":"m7/E"},null,"E"]
[null,1309,{"$f":"CONCATENATE($C$3,AD1311)","v":"Cm7/G#"},{"$f":"$C1322","v":"Bm7/G"},{"$f":"$C1321","v":"Bbm7/F#"},{"$f":"$C1320","v":"Am7/F"},{"$f":"$C1319","v":"G#m7/E"},{"$f":"$C1318","v":"Gm7/Eb"},{"$f":"$C1317","v":"F#m7/D"},{"$f":"$C1316","v":"Fm7/C#"},{"$f":"$C1315","v":"Em7/C"},{"$f":"$C1314","v":"Ebm7/B"},{"$f":"$C1313","v":"Dm7/Bb"},{"$f":"$C1312","v":"C#m7/A"},{"$f":"$C1322","v":"Bm7/G"},{"$f":"$C1321","v":"Bbm7/F#"},{"$f":"$C1320","v":"Am7/F"},{"$f":"$C1319","v":"G#m7/E"},{"$f":"$C1318","v":"Gm7/Eb"},{"$f":"$C1317","v":"F#m7/D"},{"$f":"$C1316","v":"Fm7/C#"},{"$f":"$C1315","v":"Em7/C"},{"$f":"$C1314","v":"Ebm7/B"},{"$f":"$C1313","v":"Dm7/Bb"},{"$f":"$C1312","v":"C#m7/A"},null,"Cm7/G#",1309,null,{"$f":"CONCATENATE(AE1311,VLOOKUP(AF1311,$AH$1647:$AH$1669,1,0))","v":"m7/G#"},"m7/",{"$f":"IF(印刷用!$Z$12=1,$AK$1653,$AK$1652)","v":"G#"}]
[null,1310,{"$f":"CONCATENATE($C$4,AD1312)","v":"C#m7/A"},{"$f":"$C1311","v":"Cm7/G#"},{"$f":"$C1322","v":"Bm7/G"},{"$f":"$C1321","v":"Bbm7/F#"},{"$f":"$C1320","v":"Am7/F"},{"$f":"$C1319","v":"G#m7/E"},"Gm7/Eb","F#m7/D","Fm7/C#","Em7/C","Ebm7/B","Dm7/Bb",{"$f":"$C1311","v":"Cm7/G#"},{"$f":"$C1322","v":"Bm7/G"},{"$f":"$C1321","v":"Bbm7/F#"},{"$f":"$C1320","v":"Am7/F"},{"$f":"$C1319","v":"G#m7/E"},"Gm7/Eb","F#m7/D","Fm7/C#","Em7/C","Ebm7/B","Dm7/Bb",null,"C#m7/A",1310,null,{"$f":"CONCATENATE(AE1311,VLOOKUP(AF1312,$AH$1647:$AH$1669,1,0))","v":"m7/A"},null,{"$f":"VLOOKUP(AF1311,$AH$1647:$AI$1658,2,0)","v":"A"}]
[null,1311,{"$f":"CONCATENATE($C$5,AD1313)","v":"Dm7/Bb"},{"$f":"$C1312","v":"C#m7/A"},{"$f":"$C1311","v":"Cm7/G#"},{"$f":"$C1322","v":"Bm7/G"},{"$f":"$C1321","v":"Bbm7/F#"},{"$f":"$C1320","v":"Am7/F"},"G#m7/E","Gm7/Eb","F#m7/D","Fm7/C#","Em7/C","Ebm7/B",{"$f":"$C1312","v":"C#m7/A"},{"$f":"$C1311","v":"Cm7/G#"},{"$f":"$C1322","v":"Bm7/G"},{"$f":"$C1321","v":"Bbm7/F#"},{"$f":"$C1320","v":"Am7/F"},"G#m7/E","Gm7/Eb","F#m7/D","Fm7/C#","Em7/C","Ebm7/B",null,"Dm7/Bb",1311,null,{"$f":"CONCATENATE(AE1311,VLOOKUP(AF1313,$AH$1647:$AH$1669,1,0))","v":"m7/Bb"},null,"Bb"]
[null,1312,{"$f":"CONCATENATE($C$6,AD1314)","v":"Ebm7/B"},"Dm7/Bb",{"$f":"$C1312","v":"C#m7/A"},{"$f":"$C1311","v":"Cm7/G#"},{"$f":"$C1322","v":"Bm7/G"},{"$f":"$C1321","v":"Bbm7/F#"},"Am7/F","G#m7/E","Gm7/Eb","F#m7/D","Fm7/C#","Em7/C","Dm7/Bb",{"$f":"$C1312","v":"C#m7/A"},{"$f":"$C1311","v":"Cm7/G#"},{"$f":"$C1322","v":"Bm7/G"},{"$f":"$C1321","v":"Bbm7/F#"},"Am7/F","G#m7/E","Gm7/Eb","F#m7/D","Fm7/C#","Em7/C",null,"Ebm7/B",1312,null,{"$f":"CONCATENATE(AE1311,VLOOKUP(AF1314,$AH$1647:$AH$1669,1,0))","v":"m7/B"},null,"B"]
[null,1313,{"$f":"CONCATENATE($C$7,AD1315)","v":"Em7/C"},"Ebm7/B","Dm7/Bb",{"$f":"$C1312","v":"C#m7/A"},{"$f":"$C1311","v":"Cm7/G#"},{"$f":"$C1322","v":"Bm7/G"},"Bbm7/F#","Am7/F","G#m7/E","Gm7/Eb","F#m7/D","Fm7/C#","Ebm7/B","Dm7/Bb",{"$f":"$C1312","v":"C#m7/A"},{"$f":"$C1311","v":"Cm7/G#"},{"$f":"$C1322","v":"Bm7/G"},"Bbm7/F#","Am7/F","G#m7/E","Gm7/Eb","F#m7/D","Fm7/C#",null,"Em7/C",1313,null,{"$f":"CONCATENATE(AE1311,VLOOKUP(AF1315,$AH$1647:$AH$1669,1,0))","v":"m7/C"},null,"C"]
[null,1314,{"$f":"CONCATENATE($C$8,AD1316)","v":"Fm7/C#"},"Em7/C","Ebm7/B","Dm7/Bb",{"$f":"$C1312","v":"C#m7/A"},{"$f":"$C1311","v":"Cm7/G#"},"Bm7/G","Bbm7/F#","Am7/F","G#m7/E","Gm7/Eb","F#m7/D","Em7/C","Ebm7/B","Dm7/Bb",{"$f":"$C1312","v":"C#m7/A"},{"$f":"$C1311","v":"Cm7/G#"},"Bm7/G","Bbm7/F#","Am7/F","G#m7/E","Gm7/Eb","F#m7/D",null,"Fm7/C#",1314,null,{"$f":"CONCATENATE(AE1311,VLOOKUP(AF1316,$AH$1647:$AH$1669,1,0))","v":"m7/C#"},null,"C#"]
[null,1315,{"$f":"CONCATENATE($C$9,AD1317)","v":"F#m7/D"},"Fm7/C#","Em7/C","Ebm7/B","Dm7/Bb",{"$f":"$C1312","v":"C#m7/A"},{"$f":"$C1311","v":"Cm7/G#"},{"$f":"$C1322","v":"Bm7/G"},"Bbm7/F#","Am7/F","G#m7/E","Gm7/Eb","Fm7/C#","Em7/C","Ebm7/B","Dm7/Bb",{"$f":"$C1312","v":"C#m7/A"},{"$f":"$C1311","v":"Cm7/G#"},{"$f":"$C1322","v":"Bm7/G"},"Bbm7/F#","Am7/F","G#m7/E","Gm7/Eb",null,"F#m7/D",1315,null,{"$f":"CONCATENATE(AE1311,VLOOKUP(AF1317,$AH$1647:$AH$1669,1,0))","v":"m7/D"},null,"D"]
[null,1316,{"$f":"CONCATENATE($C$10,AD1318)","v":"Gm7/Eb"},"F#m7/D","Fm7/C#","Em7/C","Ebm7/B","Dm7/Bb","C#m7/A",{"$f":"$C1311","v":"Cm7/G#"},{"$f":"$C1322","v":"Bm7/G"},"Bbm7/F#","Am7/F","G#m7/E","F#m7/D","Fm7/C#","Em7/C","Ebm7/B","Dm7/Bb","C#m7/A",{"$f":"$C1311","v":"Cm7/G#"},{"$f":"$C1322","v":"Bm7/G"},"Bbm7/F#","Am7/F","G#m7/E",null,"Gm7/Eb",1316,null,{"$f":"CONCATENATE(AE1311,VLOOKUP(AF1318,$AH$1647:$AH$1669,1,0))","v":"m7/Eb"},null,"Eb"]
[null,1317,{"$f":"CONCATENATE($C$11,AD1319)","v":"G#m7/E"},"Gm7/Eb","F#m7/D","Fm7/C#","Em7/C","Ebm7/B","Dm7/Bb",{"$f":"$C1312","v":"C#m7/A"},{"$f":"$C1311","v":"Cm7/G#"},{"$f":"$C1322","v":"Bm7/G"},"Bbm7/F#","Am7/F","Gm7/Eb","F#m7/D","Fm7/C#","Em7/C","Ebm7/B","Dm7/Bb",{"$f":"$C1312","v":"C#m7/A"},{"$f":"$C1311","v":"Cm7/G#"},{"$f":"$C1322","v":"Bm7/G"},"Bbm7/F#","Am7/F",null,"G#m7/E",1317,null,{"$f":"CONCATENATE(AE1311,VLOOKUP(AF1319,$AH$1647:$AH$1669,1,0))","v":"m7/E"},null,"E"]
[null,1318,{"$f":"CONCATENATE($C$12,AD1320)","v":"Am7/F"},"G#m7/E","Gm7/Eb","F#m7/D","Fm7/C#","Em7/C","Ebm7/B",{"$f":"$C1313","v":"Dm7/Bb"},{"$f":"$C1312","v":"C#m7/A"},{"$f":"$C1311","v":"Cm7/G#"},{"$f":"$C1322","v":"Bm7/G"},"Bbm7/F#","G#m7/E","Gm7/Eb","F#m7/D","Fm7/C#","Em7/C","Ebm7/B",{"$f":"$C1313","v":"Dm7/Bb"},{"$f":"$C1312","v":"C#m7/A"},{"$f":"$C1311","v":"Cm7/G#"},{"$f":"$C1322","v":"Bm7/G"},"Bbm7/F#",null,"Am7/F",1318,null,{"$f":"CONCATENATE(AE1311,VLOOKUP(AF1320,$AH$1647:$AH$1669,1,0))","v":"m7/F"},null,"F"]
[null,1319,{"$f":"CONCATENATE($C$13,AD1321)","v":"Bbm7/F#"},"Am7/F","G#m7/E","Gm7/Eb","F#m7/D","Fm7/C#","Em7/C",{"$f":"$C1314","v":"Ebm7/B"},{"$f":"$C1313","v":"Dm7/Bb"},{"$f":"$C1312","v":"C#m7/A"},{"$f":"$C1311","v":"Cm7/G#"},{"$f":"$C1322","v":"Bm7/G"},"Am7/F","G#m7/E","Gm7/Eb","F#m7/D","Fm7/C#","Em7/C",{"$f":"$C1314","v":"Ebm7/B"},{"$f":"$C1313","v":"Dm7/Bb"},{"$f":"$C1312","v":"C#m7/A"},{"$f":"$C1311","v":"Cm7/G#"},{"$f":"$C1322","v":"Bm7/G"},null,"Bbm7/F#",1319,null,{"$f":"CONCATENATE(AE1311,VLOOKUP(AF1321,$AH$1647:$AH$1669,1,0))","v":"m7/F#"},null,"F#"]
[null,1320,{"$f":"CONCATENATE($C$14,AD1322)","v":"Bm7/G"},"Bbm7/F#","Am7/F","G#m7/E","Gm7/Eb","F#m7/D","Fm7/C#",{"$f":"$C1315","v":"Em7/C"},{"$f":"$C1314","v":"Ebm7/B"},{"$f":"$C1313","v":"Dm7/Bb"},{"$f":"$C1312","v":"C#m7/A"},{"$f":"$C1311","v":"Cm7/G#"},"Bbm7/F#","Am7/F","G#m7/E","Gm7/Eb","F#m7/D","Fm7/C#",{"$f":"$C1315","v":"Em7/C"},{"$f":"$C1314","v":"Ebm7/B"},{"$f":"$C1313","v":"Dm7/Bb"},{"$f":"$C1312","v":"C#m7/A"},{"$f":"$C1311","v":"Cm7/G#"},null,"Bm7/G",1320,null,{"$f":"CONCATENATE(AE1311,VLOOKUP(AF1322,$AH$1647:$AH$1669,1,0))","v":"m7/G"},null,"G"]
[null,1321,{"$f":"CONCATENATE($C$3,AD1323)","v":"Cm7/G"},{"$f":"$C1334","v":"Bm7/F#"},{"$f":"$C1333","v":"Bbm7/F"},{"$f":"$C1332","v":"Am7/E"},{"$f":"$C1331","v":"G#m7/Eb"},{"$f":"$C1330","v":"Gm7/D"},{"$f":"$C1329","v":"F#m7/C#"},{"$f":"$C1328","v":"Fm7/C"},{"$f":"$C1327","v":"Em7/B"},{"$f":"$C1326","v":"Ebm7/Bb"},{"$f":"$C1325","v":"Dm7/A"},{"$f":"$C1324","v":"C#m7/G#"},{"$f":"$C1334","v":"Bm7/F#"},{"$f":"$C1333","v":"Bbm7/F"},{"$f":"$C1332","v":"Am7/E"},{"$f":"$C1331","v":"G#m7/Eb"},{"$f":"$C1330","v":"Gm7/D"},{"$f":"$C1329","v":"F#m7/C#"},{"$f":"$C1328","v":"Fm7/C"},{"$f":"$C1327","v":"Em7/B"},{"$f":"$C1326","v":"Ebm7/Bb"},{"$f":"$C1325","v":"Dm7/A"},{"$f":"$C1324","v":"C#m7/G#"},null,"Cm7/G",1321,null,{"$f":"CONCATENATE(AE1323,VLOOKUP(AF1323,$AH$1647:$AH$1669,1,0))","v":"m7/G"},"m7/","G"]
[null,1322,{"$f":"CONCATENATE($C$4,AD1324)","v":"C#m7/G#"},{"$f":"$C1323","v":"Cm7/G"},{"$f":"$C1334","v":"Bm7/F#"},{"$f":"$C1333","v":"Bbm7/F"},{"$f":"$C1332","v":"Am7/E"},{"$f":"$C1331","v":"G#m7/Eb"},"Gm7/D","F#m7/C#","Fm7/C","Em7/B","Ebm7/Bb","Dm7/A",{"$f":"$C1323","v":"Cm7/G"},{"$f":"$C1334","v":"Bm7/F#"},{"$f":"$C1333","v":"Bbm7/F"},{"$f":"$C1332","v":"Am7/E"},{"$f":"$C1331","v":"G#m7/Eb"},"Gm7/D","F#m7/C#","Fm7/C","Em7/B","Ebm7/Bb","Dm7/A",null,"C#m7/G#",1322,null,{"$f":"CONCATENATE(AE1323,VLOOKUP(AF1324,$AH$1647:$AH$1669,1,0))","v":"m7/G#"},null,{"$f":"VLOOKUP(AF1323,$AH$1647:$AI$1658,2,0)","v":"G#"}]
[null,1323,{"$f":"CONCATENATE($C$5,AD1325)","v":"Dm7/A"},{"$f":"$C1324","v":"C#m7/G#"},{"$f":"$C1323","v":"Cm7/G"},{"$f":"$C1334","v":"Bm7/F#"},{"$f":"$C1333","v":"Bbm7/F"},{"$f":"$C1332","v":"Am7/E"},"G#m7/Eb","Gm7/D","F#m7/C#","Fm7/C","Em7/B","Ebm7/Bb",{"$f":"$C1324","v":"C#m7/G#"},{"$f":"$C1323","v":"Cm7/G"},{"$f":"$C1334","v":"Bm7/F#"},{"$f":"$C1333","v":"Bbm7/F"},{"$f":"$C1332","v":"Am7/E"},"G#m7/Eb","Gm7/D","F#m7/C#","Fm7/C","Em7/B","Ebm7/Bb",null,"Dm7/A",1323,null,{"$f":"CONCATENATE(AE1323,VLOOKUP(AF1325,$AH$1647:$AH$1669,1,0))","v":"m7/A"},null,"A"]
[null,1324,{"$f":"CONCATENATE($C$6,AD1326)","v":"Ebm7/Bb"},"Dm7/A",{"$f":"$C1324","v":"C#m7/G#"},{"$f":"$C1323","v":"Cm7/G"},{"$f":"$C1334","v":"Bm7/F#"},{"$f":"$C1333","v":"Bbm7/F"},"Am7/E","G#m7/Eb","Gm7/D","F#m7/C#","Fm7/C","Em7/B","Dm7/A",{"$f":"$C1324","v":"C#m7/G#"},{"$f":"$C1323","v":"Cm7/G"},{"$f":"$C1334","v":"Bm7/F#"},{"$f":"$C1333","v":"Bbm7/F"},"Am7/E","G#m7/Eb","Gm7/D","F#m7/C#","Fm7/C","Em7/B",null,"Ebm7/Bb",1324,null,{"$f":"CONCATENATE(AE1323,VLOOKUP(AF1326,$AH$1647:$AH$1669,1,0))","v":"m7/Bb"},null,"Bb"]
[null,1325,{"$f":"CONCATENATE($C$7,AD1327)","v":"Em7/B"},"Ebm7/Bb","Dm7/A",{"$f":"$C1324","v":"C#m7/G#"},{"$f":"$C1323","v":"Cm7/G"},{"$f":"$C1334","v":"Bm7/F#"},"Bbm7/F","Am7/E","G#m7/Eb","Gm7/D","F#m7/C#","Fm7/C","Ebm7/Bb","Dm7/A",{"$f":"$C1324","v":"C#m7/G#"},{"$f":"$C1323","v":"Cm7/G"},{"$f":"$C1334","v":"Bm7/F#"},"Bbm7/F","Am7/E","G#m7/Eb","Gm7/D","F#m7/C#","Fm7/C",null,{"$f":"C1327","v":"Em7/B"},1325,null,{"$f":"CONCATENATE(AE1323,VLOOKUP(AF1327,$AH$1647:$AH$1669,1,0))","v":"m7/B"},null,"B"]
[null,1326,{"$f":"CONCATENATE($C$8,AD1328)","v":"Fm7/C"},"Em7/B","Ebm7/Bb","Dm7/A",{"$f":"$C1324","v":"C#m7/G#"},{"$f":"$C1323","v":"Cm7/G"},"Bm7/F#","Bbm7/F","Am7/E","G#m7/Eb","Gm7/D","F#m7/C#","Em7/B","Ebm7/Bb","Dm7/A",{"$f":"$C1324","v":"C#m7/G#"},{"$f":"$C1323","v":"Cm7/G"},"Bm7/F#","Bbm7/F","Am7/E","G#m7/Eb","Gm7/D","F#m7/C#",null,"Fm7/C",1326,null,{"$f":"CONCATENATE(AE1323,VLOOKUP(AF1328,$AH$1647:$AH$1669,1,0))","v":"m7/C"},null,"C"]
[null,1327,{"$f":"CONCATENATE($C$9,AD1329)","v":"F#m7/C#"},"Fm7/C","Em7/B","Ebm7/Bb","Dm7/A",{"$f":"$C1324","v":"C#m7/G#"},{"$f":"$C1323","v":"Cm7/G"},{"$f":"$C1334","v":"Bm7/F#"},"Bbm7/F","Am7/E","G#m7/Eb","Gm7/D","Fm7/C","Em7/B","Ebm7/Bb","Dm7/A",{"$f":"$C1324","v":"C#m7/G#"},{"$f":"$C1323","v":"Cm7/G"},{"$f":"$C1334","v":"Bm7/F#"},"Bbm7/F","Am7/E","G#m7/Eb","Gm7/D",null,"F#m7/C#",1327,null,{"$f":"CONCATENATE(AE1323,VLOOKUP(AF1329,$AH$1647:$AH$1669,1,0))","v":"m7/C#"},null,"C#"]
[null,1328,{"$f":"CONCATENATE($C$10,AD1330)","v":"Gm7/D"},"F#m7/C#","Fm7/C","Em7/B","Ebm7/Bb","Dm7/A","C#m7/G#",{"$f":"$C1323","v":"Cm7/G"},{"$f":"$C1334","v":"Bm7/F#"},"Bbm7/F","Am7/E","G#m7/Eb","F#m7/C#","Fm7/C","Em7/B","Ebm7/Bb","Dm7/A","C#m7/G#",{"$f":"$C1323","v":"Cm7/G"},{"$f":"$C1334","v":"Bm7/F#"},"Bbm7/F","Am7/E","G#m7/Eb",null,"Gm7/D",1328,null,{"$f":"CONCATENATE(AE1323,VLOOKUP(AF1330,$AH$1647:$AH$1669,1,0))","v":"m7/D"},null,"D"]
[null,1329,{"$f":"CONCATENATE($C$11,AD1331)","v":"G#m7/Eb"},"Gm7/D","F#m7/C#","Fm7/C","Em7/B","Ebm7/Bb","Dm7/A",{"$f":"$C1324","v":"C#m7/G#"},{"$f":"$C1323","v":"Cm7/G"},{"$f":"$C1334","v":"Bm7/F#"},"Bbm7/F","Am7/E","Gm7/D","F#m7/C#","Fm7/C","Em7/B","Ebm7/Bb","Dm7/A",{"$f":"$C1324","v":"C#m7/G#"},{"$f":"$C1323","v":"Cm7/G"},{"$f":"$C1334","v":"Bm7/F#"},"Bbm7/F","Am7/E",null,"G#m7/Eb",1329,null,{"$f":"CONCATENATE(AE1323,VLOOKUP(AF1331,$AH$1647:$AH$1669,1,0))","v":"m7/Eb"},null,"Eb"]
[null,1330,{"$f":"CONCATENATE($C$12,AD1332)","v":"Am7/E"},"G#m7/Eb","Gm7/D","F#m7/C#","Fm7/C","Em7/B","Ebm7/Bb",{"$f":"$C1325","v":"Dm7/A"},{"$f":"$C1324","v":"C#m7/G#"},{"$f":"$C1323","v":"Cm7/G"},{"$f":"$C1334","v":"Bm7/F#"},"Bbm7/F","G#m7/Eb","Gm7/D","F#m7/C#","Fm7/C","Em7/B","Ebm7/Bb",{"$f":"$C1325","v":"Dm7/A"},{"$f":"$C1324","v":"C#m7/G#"},{"$f":"$C1323","v":"Cm7/G"},{"$f":"$C1334","v":"Bm7/F#"},"Bbm7/F",null,"Am7/E",1330,null,{"$f":"CONCATENATE(AE1323,VLOOKUP(AF1332,$AH$1647:$AH$1669,1,0))","v":"m7/E"},null,"E"]
[null,1331,{"$f":"CONCATENATE($C$13,AD1333)","v":"Bbm7/F"},"Am7/E","G#m7/Eb","Gm7/D","F#m7/C#","Fm7/C","Em7/B",{"$f":"$C1326","v":"Ebm7/Bb"},{"$f":"$C1325","v":"Dm7/A"},{"$f":"$C1324","v":"C#m7/G#"},{"$f":"$C1323","v":"Cm7/G"},{"$f":"$C1334","v":"Bm7/F#"},"Am7/E","G#m7/Eb","Gm7/D","F#m7/C#","Fm7/C","Em7/B",{"$f":"$C1326","v":"Ebm7/Bb"},{"$f":"$C1325","v":"Dm7/A"},{"$f":"$C1324","v":"C#m7/G#"},{"$f":"$C1323","v":"Cm7/G"},{"$f":"$C1334","v":"Bm7/F#"},null,"Bbm7/F",1331,null,{"$f":"CONCATENATE(AE1323,VLOOKUP(AF1333,$AH$1647:$AH$1669,1,0))","v":"m7/F"},null,"F"]
[null,1332,{"$f":"CONCATENATE($C$14,AD1334)","v":"Bm7/F#"},"Bbm7/F","Am7/E","G#m7/Eb","Gm7/D","F#m7/C#","Fm7/C",{"$f":"$C1327","v":"Em7/B"},{"$f":"$C1326","v":"Ebm7/Bb"},{"$f":"$C1325","v":"Dm7/A"},{"$f":"$C1324","v":"C#m7/G#"},{"$f":"$C1323","v":"Cm7/G"},"Bbm7/F","Am7/E","G#m7/Eb","Gm7/D","F#m7/C#","Fm7/C",{"$f":"$C1327","v":"Em7/B"},{"$f":"$C1326","v":"Ebm7/Bb"},{"$f":"$C1325","v":"Dm7/A"},{"$f":"$C1324","v":"C#m7/G#"},{"$f":"$C1323","v":"Cm7/G"},null,"Bm7/F#",1332,null,{"$f":"CONCATENATE(AE1323,VLOOKUP(AF1334,$AH$1647:$AH$1669,1,0))","v":"m7/F#"},null,"F#"]
[null,1333,{"$f":"CONCATENATE($C$3,AD1335)","v":"Cm7/G#"},{"$f":"$C1346","v":"Bm7/G"},{"$f":"$C1345","v":"Bbm7/F#"},{"$f":"$C1344","v":"Am7/F"},{"$f":"$C1343","v":"G#m7/E"},{"$f":"$C1342","v":"Gm7/Eb"},{"$f":"$C1341","v":"F#m7/D"},{"$f":"$C1340","v":"Fm7/C#"},{"$f":"$C1339","v":"Em7/C"},{"$f":"$C1338","v":"Ebm7/B"},{"$f":"$C1337","v":"Dm7/Bb"},{"$f":"$C1336","v":"C#m7/A"},{"$f":"$C1346","v":"Bm7/G"},{"$f":"$C1345","v":"Bbm7/F#"},{"$f":"$C1344","v":"Am7/F"},{"$f":"$C1343","v":"G#m7/E"},{"$f":"$C1342","v":"Gm7/Eb"},{"$f":"$C1341","v":"F#m7/D"},{"$f":"$C1340","v":"Fm7/C#"},{"$f":"$C1339","v":"Em7/C"},{"$f":"$C1338","v":"Ebm7/B"},{"$f":"$C1337","v":"Dm7/Bb"},{"$f":"$C1336","v":"C#m7/A"},null,"Cm7/G#",1333,null,{"$f":"CONCATENATE(AE1335,VLOOKUP(AF1335,$AH$1647:$AH$1669,1,0))","v":"m7/G#"},"m7/",{"$f":"IF(印刷用!$Z$12=1,$AK$1653,$AK$1654)","v":"G#"}]
[null,1334,{"$f":"CONCATENATE($C$4,AD1336)","v":"C#m7/A"},{"$f":"$C1335","v":"Cm7/G#"},{"$f":"$C1346","v":"Bm7/G"},{"$f":"$C1345","v":"Bbm7/F#"},{"$f":"$C1344","v":"Am7/F"},{"$f":"$C1343","v":"G#m7/E"},"Gm7/Eb","F#m7/D","Fm7/C#","Em7/C","Ebm7/B","Dm7/Bb",{"$f":"$C1335","v":"Cm7/G#"},{"$f":"$C1346","v":"Bm7/G"},{"$f":"$C1345","v":"Bbm7/F#"},{"$f":"$C1344","v":"Am7/F"},{"$f":"$C1343","v":"G#m7/E"},"Gm7/Eb","F#m7/D","Fm7/C#","Em7/C","Ebm7/B","Dm7/Bb",null,"C#m7/A",1334,null,{"$f":"CONCATENATE(AE1335,VLOOKUP(AF1336,$AH$1647:$AH$1669,1,0))","v":"m7/A"},null,{"$f":"VLOOKUP(AF1335,$AH$1647:$AI$1658,2,0)","v":"A"}]
[null,1335,{"$f":"CONCATENATE($C$5,AD1337)","v":"Dm7/Bb"},{"$f":"$C1336","v":"C#m7/A"},{"$f":"$C1335","v":"Cm7/G#"},{"$f":"$C1346","v":"Bm7/G"},{"$f":"$C1345","v":"Bbm7/F#"},{"$f":"$C1344","v":"Am7/F"},"G#m7/E","Gm7/Eb","F#m7/D","Fm7/C#","Em7/C","Ebm7/B",{"$f":"$C1336","v":"C#m7/A"},{"$f":"$C1335","v":"Cm7/G#"},{"$f":"$C1346","v":"Bm7/G"},{"$f":"$C1345","v":"Bbm7/F#"},{"$f":"$C1344","v":"Am7/F"},"G#m7/E","Gm7/Eb","F#m7/D","Fm7/C#","Em7/C","Ebm7/B",null,"Dm7/Bb",1335,null,{"$f":"CONCATENATE(AE1335,VLOOKUP(AF1337,$AH$1647:$AH$1669,1,0))","v":"m7/Bb"},null,"Bb"]
[null,1336,{"$f":"CONCATENATE($C$6,AD1338)","v":"Ebm7/B"},"Dm7/Bb",{"$f":"$C1336","v":"C#m7/A"},{"$f":"$C1335","v":"Cm7/G#"},{"$f":"$C1346","v":"Bm7/G"},{"$f":"$C1345","v":"Bbm7/F#"},"Am7/F","G#m7/E","Gm7/Eb","F#m7/D","Fm7/C#","Em7/C","Dm7/Bb",{"$f":"$C1336","v":"C#m7/A"},{"$f":"$C1335","v":"Cm7/G#"},{"$f":"$C1346","v":"Bm7/G"},{"$f":"$C1345","v":"Bbm7/F#"},"Am7/F","G#m7/E","Gm7/Eb","F#m7/D","Fm7/C#","Em7/C",null,"Ebm7/B",1336,null,{"$f":"CONCATENATE(AE1335,VLOOKUP(AF1338,$AH$1647:$AH$1669,1,0))","v":"m7/B"},null,"B"]
[null,1337,{"$f":"CONCATENATE($C$7,AD1339)","v":"Em7/C"},"Ebm7/B","Dm7/Bb",{"$f":"$C1336","v":"C#m7/A"},{"$f":"$C1335","v":"Cm7/G#"},{"$f":"$C1346","v":"Bm7/G"},"Bbm7/F#","Am7/F","G#m7/E","Gm7/Eb","F#m7/D","Fm7/C#","Ebm7/B","Dm7/Bb",{"$f":"$C1336","v":"C#m7/A"},{"$f":"$C1335","v":"Cm7/G#"},{"$f":"$C1346","v":"Bm7/G"},"Bbm7/F#","Am7/F","G#m7/E","Gm7/Eb","F#m7/D","Fm7/C#",null,"Em7/C",1337,null,{"$f":"CONCATENATE(AE1335,VLOOKUP(AF1339,$AH$1647:$AH$1669,1,0))","v":"m7/C"},null,"C"]
[null,1338,{"$f":"CONCATENATE($C$8,AD1340)","v":"Fm7/C#"},"Em7/C","Ebm7/B","Dm7/Bb",{"$f":"$C1336","v":"C#m7/A"},{"$f":"$C1335","v":"Cm7/G#"},"Bm7/G","Bbm7/F#","Am7/F","G#m7/E","Gm7/Eb","F#m7/D","Em7/C","Ebm7/B","Dm7/Bb",{"$f":"$C1336","v":"C#m7/A"},{"$f":"$C1335","v":"Cm7/G#"},"Bm7/G","Bbm7/F#","Am7/F","G#m7/E","Gm7/Eb","F#m7/D",null,"Fm7/C#",1338,null,{"$f":"CONCATENATE(AE1335,VLOOKUP(AF1340,$AH$1647:$AH$1669,1,0))","v":"m7/C#"},null,"C#"]
[null,1339,{"$f":"CONCATENATE($C$9,AD1341)","v":"F#m7/D"},"Fm7/C#","Em7/C","Ebm7/B","Dm7/Bb",{"$f":"$C1336","v":"C#m7/A"},{"$f":"$C1335","v":"Cm7/G#"},{"$f":"$C1346","v":"Bm7/G"},"Bbm7/F#","Am7/F","G#m7/E","Gm7/Eb","Fm7/C#","Em7/C","Ebm7/B","Dm7/Bb",{"$f":"$C1336","v":"C#m7/A"},{"$f":"$C1335","v":"Cm7/G#"},{"$f":"$C1346","v":"Bm7/G"},"Bbm7/F#","Am7/F","G#m7/E","Gm7/Eb",null,"F#m7/D",1339,null,{"$f":"CONCATENATE(AE1335,VLOOKUP(AF1341,$AH$1647:$AH$1669,1,0))","v":"m7/D"},null,"D"]
[null,1340,{"$f":"CONCATENATE($C$10,AD1342)","v":"Gm7/Eb"},"F#m7/D","Fm7/C#","Em7/C","Ebm7/B","Dm7/Bb","C#m7/A",{"$f":"$C1335","v":"Cm7/G#"},{"$f":"$C1346","v":"Bm7/G"},"Bbm7/F#","Am7/F","G#m7/E","F#m7/D","Fm7/C#","Em7/C","Ebm7/B","Dm7/Bb","C#m7/A",{"$f":"$C1335","v":"Cm7/G#"},{"$f":"$C1346","v":"Bm7/G"},"Bbm7/F#","Am7/F","G#m7/E",null,"Gm7/Eb",1340,null,{"$f":"CONCATENATE(AE1335,VLOOKUP(AF1342,$AH$1647:$AH$1669,1,0))","v":"m7/Eb"},null,"Eb"]
[null,1341,{"$f":"CONCATENATE($C$11,AD1343)","v":"G#m7/E"},"Gm7/Eb","F#m7/D","Fm7/C#","Em7/C","Ebm7/B","Dm7/Bb",{"$f":"$C1336","v":"C#m7/A"},{"$f":"$C1335","v":"Cm7/G#"},{"$f":"$C1346","v":"Bm7/G"},"Bbm7/F#","Am7/F","Gm7/Eb","F#m7/D","Fm7/C#","Em7/C","Ebm7/B","Dm7/Bb",{"$f":"$C1336","v":"C#m7/A"},{"$f":"$C1335","v":"Cm7/G#"},{"$f":"$C1346","v":"Bm7/G"},"Bbm7/F#","Am7/F",null,"G#m7/E",1341,null,{"$f":"CONCATENATE(AE1335,VLOOKUP(AF1343,$AH$1647:$AH$1669,1,0))","v":"m7/E"},null,"E"]
[null,1342,{"$f":"CONCATENATE($C$12,AD1344)","v":"Am7/F"},"G#m7/E","Gm7/Eb","F#m7/D","Fm7/C#","Em7/C","Ebm7/B",{"$f":"$C1337","v":"Dm7/Bb"},{"$f":"$C1336","v":"C#m7/A"},{"$f":"$C1335","v":"Cm7/G#"},{"$f":"$C1346","v":"Bm7/G"},"Bbm7/F#","G#m7/E","Gm7/Eb","F#m7/D","Fm7/C#","Em7/C","Ebm7/B",{"$f":"$C1337","v":"Dm7/Bb"},{"$f":"$C1336","v":"C#m7/A"},{"$f":"$C1335","v":"Cm7/G#"},{"$f":"$C1346","v":"Bm7/G"},"Bbm7/F#",null,"Am7/F",1342,null,{"$f":"CONCATENATE(AE1335,VLOOKUP(AF1344,$AH$1647:$AH$1669,1,0))","v":"m7/F"},null,"F"]
[null,1343,{"$f":"CONCATENATE($C$13,AD1345)","v":"Bbm7/F#"},"Am7/F","G#m7/E","Gm7/Eb","F#m7/D","Fm7/C#","Em7/C",{"$f":"$C1338","v":"Ebm7/B"},{"$f":"$C1337","v":"Dm7/Bb"},{"$f":"$C1336","v":"C#m7/A"},{"$f":"$C1335","v":"Cm7/G#"},{"$f":"$C1346","v":"Bm7/G"},"Am7/F","G#m7/E","Gm7/Eb","F#m7/D","Fm7/C#","Em7/C",{"$f":"$C1338","v":"Ebm7/B"},{"$f":"$C1337","v":"Dm7/Bb"},{"$f":"$C1336","v":"C#m7/A"},{"$f":"$C1335","v":"Cm7/G#"},{"$f":"$C1346","v":"Bm7/G"},null,"Bbm7/F#",1343,null,{"$f":"CONCATENATE(AE1335,VLOOKUP(AF1345,$AH$1647:$AH$1669,1,0))","v":"m7/F#"},null,"F#"]
[null,1344,{"$f":"CONCATENATE($C$14,AD1346)","v":"Bm7/G"},"Bbm7/F#","Am7/F","G#m7/E","Gm7/Eb","F#m7/D","Fm7/C#",{"$f":"$C1339","v":"Em7/C"},{"$f":"$C1338","v":"Ebm7/B"},{"$f":"$C1337","v":"Dm7/Bb"},{"$f":"$C1336","v":"C#m7/A"},{"$f":"$C1335","v":"Cm7/G#"},"Bbm7/F#","Am7/F","G#m7/E","Gm7/Eb","F#m7/D","Fm7/C#",{"$f":"$C1339","v":"Em7/C"},{"$f":"$C1338","v":"Ebm7/B"},{"$f":"$C1337","v":"Dm7/Bb"},{"$f":"$C1336","v":"C#m7/A"},{"$f":"$C1335","v":"Cm7/G#"},null,"Bm7/G",1344,null,{"$f":"CONCATENATE(AE1335,VLOOKUP(AF1346,$AH$1647:$AH$1669,1,0))","v":"m7/G"},null,"G"]
[null,1345,{"$f":"CONCATENATE($C$3,AD1347)","v":"Cm7/A"},{"$f":"$C1358","v":"Bm7/G#"},{"$f":"$C1357","v":"Bbm7/G"},{"$f":"$C1356","v":"Am7/F#"},{"$f":"$C1355","v":"G#m7/F"},{"$f":"$C1354","v":"Gm7/E"},{"$f":"$C1353","v":"F#m7/Eb"},{"$f":"$C1352","v":"Fm7/D"},{"$f":"$C1351","v":"Em7/C#"},{"$f":"$C1350","v":"Ebm7/C"},{"$f":"$C1349","v":"Dm7/B"},{"$f":"$C1348","v":"C#m7/Bb"},{"$f":"$C1358","v":"Bm7/G#"},{"$f":"$C1357","v":"Bbm7/G"},{"$f":"$C1356","v":"Am7/F#"},{"$f":"$C1355","v":"G#m7/F"},{"$f":"$C1354","v":"Gm7/E"},{"$f":"$C1353","v":"F#m7/Eb"},{"$f":"$C1352","v":"Fm7/D"},{"$f":"$C1351","v":"Em7/C#"},{"$f":"$C1350","v":"Ebm7/C"},{"$f":"$C1349","v":"Dm7/B"},{"$f":"$C1348","v":"C#m7/Bb"},null,"Cm7/A",{"$f":"B1347","v":1345},null,{"$f":"CONCATENATE(AE1347,VLOOKUP(AF1347,$AH$1647:$AH$1669,1,0))","v":"m7/A"},"m7/","A"]
[null,1346,{"$f":"CONCATENATE($C$4,AD1348)","v":"C#m7/Bb"},{"$f":"$C1347","v":"Cm7/A"},{"$f":"$C1358","v":"Bm7/G#"},{"$f":"$C1357","v":"Bbm7/G"},{"$f":"$C1356","v":"Am7/F#"},{"$f":"$C1355","v":"G#m7/F"},"Gm7/E","F#m7/Eb","Fm7/D","Em7/C#","Ebm7/C","Dm7/B",{"$f":"$C1347","v":"Cm7/A"},{"$f":"$C1358","v":"Bm7/G#"},{"$f":"$C1357","v":"Bbm7/G"},{"$f":"$C1356","v":"Am7/F#"},{"$f":"$C1355","v":"G#m7/F"},"Gm7/E","F#m7/Eb","Fm7/D","Em7/C#","Ebm7/C","Dm7/B",null,"C#m7/Bb",1346,null,{"$f":"CONCATENATE(AE1347,VLOOKUP(AF1348,$AH$1647:$AH$1669,1,0))","v":"m7/Bb"},null,{"$f":"VLOOKUP(AF1347,$AH$1647:$AI$1658,2,0)","v":"Bb"}]
[null,1347,{"$f":"CONCATENATE($C$5,AD1349)","v":"Dm7/B"},{"$f":"$C1348","v":"C#m7/Bb"},{"$f":"$C1347","v":"Cm7/A"},{"$f":"$C1358","v":"Bm7/G#"},{"$f":"$C1357","v":"Bbm7/G"},{"$f":"$C1356","v":"Am7/F#"},"G#m7/F","Gm7/E","F#m7/Eb","Fm7/D","Em7/C#","Ebm7/C",{"$f":"$C1348","v":"C#m7/Bb"},{"$f":"$C1347","v":"Cm7/A"},{"$f":"$C1358","v":"Bm7/G#"},{"$f":"$C1357","v":"Bbm7/G"},{"$f":"$C1356","v":"Am7/F#"},"G#m7/F","Gm7/E","F#m7/Eb","Fm7/D","Em7/C#","Ebm7/C",null,"Dm7/B",1347,null,{"$f":"CONCATENATE(AE1347,VLOOKUP(AF1349,$AH$1647:$AH$1669,1,0))","v":"m7/B"},null,"B"]
[null,1348,{"$f":"CONCATENATE($C$6,AD1350)","v":"Ebm7/C"},"Dm7/B",{"$f":"$C1348","v":"C#m7/Bb"},{"$f":"$C1347","v":"Cm7/A"},{"$f":"$C1358","v":"Bm7/G#"},{"$f":"$C1357","v":"Bbm7/G"},"Am7/F#","G#m7/F","Gm7/E","F#m7/Eb","Fm7/D","Em7/C#","Dm7/B",{"$f":"$C1348","v":"C#m7/Bb"},{"$f":"$C1347","v":"Cm7/A"},{"$f":"$C1358","v":"Bm7/G#"},{"$f":"$C1357","v":"Bbm7/G"},"Am7/F#","G#m7/F","Gm7/E","F#m7/Eb","Fm7/D","Em7/C#",null,"Ebm7/C",1348,null,{"$f":"CONCATENATE(AE1347,VLOOKUP(AF1350,$AH$1647:$AH$1669,1,0))","v":"m7/C"},null,"C"]
[null,1349,{"$f":"CONCATENATE($C$7,AD1351)","v":"Em7/C#"},"Ebm7/C","Dm7/B",{"$f":"$C1348","v":"C#m7/Bb"},{"$f":"$C1347","v":"Cm7/A"},{"$f":"$C1358","v":"Bm7/G#"},"Bbm7/G","Am7/F#","G#m7/F","Gm7/E","F#m7/Eb","Fm7/D","Ebm7/C","Dm7/B",{"$f":"$C1348","v":"C#m7/Bb"},{"$f":"$C1347","v":"Cm7/A"},{"$f":"$C1358","v":"Bm7/G#"},"Bbm7/G","Am7/F#","G#m7/F","Gm7/E","F#m7/Eb","Fm7/D",null,"Em7/C#",1349,null,{"$f":"CONCATENATE(AE1347,VLOOKUP(AF1351,$AH$1647:$AH$1669,1,0))","v":"m7/C#"},null,"C#"]
[null,1350,{"$f":"CONCATENATE($C$8,AD1352)","v":"Fm7/D"},"Em7/C#","Ebm7/C","Dm7/B",{"$f":"$C1348","v":"C#m7/Bb"},{"$f":"$C1347","v":"Cm7/A"},"Bm7/G#","Bbm7/G","Am7/F#","G#m7/F","Gm7/E","F#m7/Eb","Em7/C#","Ebm7/C","Dm7/B",{"$f":"$C1348","v":"C#m7/Bb"},{"$f":"$C1347","v":"Cm7/A"},"Bm7/G#","Bbm7/G","Am7/F#","G#m7/F","Gm7/E","F#m7/Eb",null,"Fm7/D",1350,null,{"$f":"CONCATENATE(AE1347,VLOOKUP(AF1352,$AH$1647:$AH$1669,1,0))","v":"m7/D"},null,"D"]
[null,1351,{"$f":"CONCATENATE($C$9,AD1353)","v":"F#m7/Eb"},"Fm7/D","Em7/C#","Ebm7/C","Dm7/B",{"$f":"$C1348","v":"C#m7/Bb"},{"$f":"$C1347","v":"Cm7/A"},{"$f":"$C1358","v":"Bm7/G#"},"Bbm7/G","Am7/F#","G#m7/F","Gm7/E","Fm7/D","Em7/C#","Ebm7/C","Dm7/B",{"$f":"$C1348","v":"C#m7/Bb"},{"$f":"$C1347","v":"Cm7/A"},{"$f":"$C1358","v":"Bm7/G#"},"Bbm7/G","Am7/F#","G#m7/F","Gm7/E",null,"F#m7/Eb",1351,null,{"$f":"CONCATENATE(AE1347,VLOOKUP(AF1353,$AH$1647:$AH$1669,1,0))","v":"m7/Eb"},null,"Eb"]
[null,1352,{"$f":"CONCATENATE($C$10,AD1354)","v":"Gm7/E"},"F#m7/Eb","Fm7/D","Em7/C#","Ebm7/C","Dm7/B","C#m7/Bb",{"$f":"$C1347","v":"Cm7/A"},{"$f":"$C1358","v":"Bm7/G#"},"Bbm7/G","Am7/F#","G#m7/F","F#m7/Eb","Fm7/D","Em7/C#","Ebm7/C","Dm7/B","C#m7/Bb",{"$f":"$C1347","v":"Cm7/A"},{"$f":"$C1358","v":"Bm7/G#"},"Bbm7/G","Am7/F#","G#m7/F",null,"Gm7/E",1352,null,{"$f":"CONCATENATE(AE1347,VLOOKUP(AF1354,$AH$1647:$AH$1669,1,0))","v":"m7/E"},null,"E"]
[null,1353,{"$f":"CONCATENATE($C$11,AD1355)","v":"G#m7/F"},"Gm7/E","F#m7/Eb","Fm7/D","Em7/C#","Ebm7/C","Dm7/B",{"$f":"$C1348","v":"C#m7/Bb"},{"$f":"$C1347","v":"Cm7/A"},{"$f":"$C1358","v":"Bm7/G#"},"Bbm7/G","Am7/F#","Gm7/E","F#m7/Eb","Fm7/D","Em7/C#","Ebm7/C","Dm7/B",{"$f":"$C1348","v":"C#m7/Bb"},{"$f":"$C1347","v":"Cm7/A"},{"$f":"$C1358","v":"Bm7/G#"},"Bbm7/G","Am7/F#",null,"G#m7/F",1353,null,{"$f":"CONCATENATE(AE1347,VLOOKUP(AF1355,$AH$1647:$AH$1669,1,0))","v":"m7/F"},null,"F"]
[null,1354,{"$f":"CONCATENATE($C$12,AD1356)","v":"Am7/F#"},"G#m7/F","Gm7/E","F#m7/Eb","Fm7/D","Em7/C#","Ebm7/C",{"$f":"$C1349","v":"Dm7/B"},{"$f":"$C1348","v":"C#m7/Bb"},{"$f":"$C1347","v":"Cm7/A"},{"$f":"$C1358","v":"Bm7/G#"},"Bbm7/G","G#m7/F","Gm7/E","F#m7/Eb","Fm7/D","Em7/C#","Ebm7/C",{"$f":"$C1349","v":"Dm7/B"},{"$f":"$C1348","v":"C#m7/Bb"},{"$f":"$C1347","v":"Cm7/A"},{"$f":"$C1358","v":"Bm7/G#"},"Bbm7/G",null,"Am7/F#",1354,null,{"$f":"CONCATENATE(AE1347,VLOOKUP(AF1356,$AH$1647:$AH$1669,1,0))","v":"m7/F#"},null,"F#"]
[null,1355,{"$f":"CONCATENATE($C$13,AD1357)","v":"Bbm7/G"},"Am7/F#","G#m7/F","Gm7/E","F#m7/Eb","Fm7/D","Em7/C#",{"$f":"$C1350","v":"Ebm7/C"},{"$f":"$C1349","v":"Dm7/B"},{"$f":"$C1348","v":"C#m7/Bb"},{"$f":"$C1347","v":"Cm7/A"},{"$f":"$C1358","v":"Bm7/G#"},"Am7/F#","G#m7/F","Gm7/E","F#m7/Eb","Fm7/D","Em7/C#",{"$f":"$C1350","v":"Ebm7/C"},{"$f":"$C1349","v":"Dm7/B"},{"$f":"$C1348","v":"C#m7/Bb"},{"$f":"$C1347","v":"Cm7/A"},{"$f":"$C1358","v":"Bm7/G#"},null,"Bbm7/G",1355,null,{"$f":"CONCATENATE(AE1347,VLOOKUP(AF1357,$AH$1647:$AH$1669,1,0))","v":"m7/G"},null,"G"]
[null,1356,{"$f":"CONCATENATE($C$14,AD1358)","v":"Bm7/G#"},"Bbm7/G","Am7/F#","G#m7/F","Gm7/E","F#m7/Eb","Fm7/D",{"$f":"$C1351","v":"Em7/C#"},{"$f":"$C1350","v":"Ebm7/C"},{"$f":"$C1349","v":"Dm7/B"},{"$f":"$C1348","v":"C#m7/Bb"},{"$f":"$C1347","v":"Cm7/A"},"Bbm7/G","Am7/F#","G#m7/F","Gm7/E","F#m7/Eb","Fm7/D",{"$f":"$C1351","v":"Em7/C#"},{"$f":"$C1350","v":"Ebm7/C"},{"$f":"$C1349","v":"Dm7/B"},{"$f":"$C1348","v":"C#m7/Bb"},{"$f":"$C1347","v":"Cm7/A"},null,"Bm7/G#",1356,null,{"$f":"CONCATENATE(AE1347,VLOOKUP(AF1358,$AH$1647:$AH$1669,1,0))","v":"m7/G#"},null,"G#"]
[null,1357,{"$f":"CONCATENATE($C$3,AD1359)","v":"Cm7/Bb"},{"$f":"$C1370","v":"Bm7/A"},{"$f":"$C1369","v":"Bbm7/G#"},{"$f":"$C1368","v":"Am7/G"},{"$f":"$C1367","v":"G#m7/F#"},{"$f":"$C1366","v":"Gm7/F"},{"$f":"$C1365","v":"F#m7/E"},{"$f":"$C1364","v":"Fm7/Eb"},{"$f":"$C1363","v":"Em7/D"},{"$f":"$C1362","v":"Ebm7/C#"},{"$f":"$C1361","v":"Dm7/C"},{"$f":"$C1360","v":"C#m7/B"},{"$f":"$C1370","v":"Bm7/A"},{"$f":"$C1369","v":"Bbm7/G#"},{"$f":"$C1368","v":"Am7/G"},{"$f":"$C1367","v":"G#m7/F#"},{"$f":"$C1366","v":"Gm7/F"},{"$f":"$C1365","v":"F#m7/E"},{"$f":"$C1364","v":"Fm7/Eb"},{"$f":"$C1363","v":"Em7/D"},{"$f":"$C1362","v":"Ebm7/C#"},{"$f":"$C1361","v":"Dm7/C"},{"$f":"$C1360","v":"C#m7/B"},null,"Cm7/Bb",1357,null,{"$f":"CONCATENATE(AE1359,VLOOKUP(AF1359,$AH$1647:$AH$1669,1,0))","v":"m7/Bb"},"m7/",{"$f":"IF(印刷用!$AB$12=1,$AK$1655,$AK$1656)","v":"Bb"}]
[null,1358,{"$f":"CONCATENATE($C$4,AD1360)","v":"C#m7/B"},{"$f":"$C1359","v":"Cm7/Bb"},{"$f":"$C1370","v":"Bm7/A"},{"$f":"$C1369","v":"Bbm7/G#"},{"$f":"$C1368","v":"Am7/G"},{"$f":"$C1367","v":"G#m7/F#"},"Gm7/F","F#m7/E","Fm7/Eb","Em7/D","Ebm7/C#","Dm7/C",{"$f":"$C1359","v":"Cm7/Bb"},{"$f":"$C1370","v":"Bm7/A"},{"$f":"$C1369","v":"Bbm7/G#"},{"$f":"$C1368","v":"Am7/G"},{"$f":"$C1367","v":"G#m7/F#"},"Gm7/F","F#m7/E","Fm7/Eb","Em7/D","Ebm7/C#","Dm7/C",null,"C#m7/B",1358,null,{"$f":"CONCATENATE(AE1359,VLOOKUP(AF1360,$AH$1647:$AH$1669,1,0))","v":"m7/B"},null,{"$f":"VLOOKUP(AF1359,$AH$1647:$AI$1658,2,0)","v":"B"}]
[null,1359,{"$f":"CONCATENATE($C$5,AD1361)","v":"Dm7/C"},{"$f":"$C1360","v":"C#m7/B"},{"$f":"$C1359","v":"Cm7/Bb"},{"$f":"$C1370","v":"Bm7/A"},{"$f":"$C1369","v":"Bbm7/G#"},{"$f":"$C1368","v":"Am7/G"},"G#m7/F#","Gm7/F","F#m7/E","Fm7/Eb","Em7/D","Ebm7/C#",{"$f":"$C1360","v":"C#m7/B"},{"$f":"$C1359","v":"Cm7/Bb"},{"$f":"$C1370","v":"Bm7/A"},{"$f":"$C1369","v":"Bbm7/G#"},{"$f":"$C1368","v":"Am7/G"},"G#m7/F#","Gm7/F","F#m7/E","Fm7/Eb","Em7/D","Ebm7/C#",null,"Dm7/C",1359,null,{"$f":"CONCATENATE(AE1359,VLOOKUP(AF1361,$AH$1647:$AH$1669,1,0))","v":"m7/C"},null,"C"]
[null,1360,{"$f":"CONCATENATE($C$6,AD1362)","v":"Ebm7/C#"},"Dm7/C",{"$f":"$C1360","v":"C#m7/B"},{"$f":"$C1359","v":"Cm7/Bb"},{"$f":"$C1370","v":"Bm7/A"},{"$f":"$C1369","v":"Bbm7/G#"},"Am7/G","G#m7/F#","Gm7/F","F#m7/E","Fm7/Eb","Em7/D","Dm7/C",{"$f":"$C1360","v":"C#m7/B"},{"$f":"$C1359","v":"Cm7/Bb"},{"$f":"$C1370","v":"Bm7/A"},{"$f":"$C1369","v":"Bbm7/G#"},"Am7/G","G#m7/F#","Gm7/F","F#m7/E","Fm7/Eb","Em7/D",null,"Ebm7/C#",1360,null,{"$f":"CONCATENATE(AE1359,VLOOKUP(AF1362,$AH$1647:$AH$1669,1,0))","v":"m7/C#"},null,"C#"]
[null,1361,{"$f":"CONCATENATE($C$7,AD1363)","v":"Em7/D"},"Ebm7/C#","Dm7/C",{"$f":"$C1360","v":"C#m7/B"},{"$f":"$C1359","v":"Cm7/Bb"},{"$f":"$C1370","v":"Bm7/A"},"Bbm7/G#","Am7/G","G#m7/F#","Gm7/F","F#m7/E","Fm7/Eb","Ebm7/C#","Dm7/C",{"$f":"$C1360","v":"C#m7/B"},{"$f":"$C1359","v":"Cm7/Bb"},{"$f":"$C1370","v":"Bm7/A"},"Bbm7/G#","Am7/G","G#m7/F#","Gm7/F","F#m7/E","Fm7/Eb",null,"Em7/D",1361,null,{"$f":"CONCATENATE(AE1359,VLOOKUP(AF1363,$AH$1647:$AH$1669,1,0))","v":"m7/D"},null,"D"]
[null,1362,{"$f":"CONCATENATE($C$8,AD1364)","v":"Fm7/Eb"},"Em7/D","Ebm7/C#","Dm7/C",{"$f":"$C1360","v":"C#m7/B"},{"$f":"$C1359","v":"Cm7/Bb"},"Bm7/A","Bbm7/G#","Am7/G","G#m7/F#","Gm7/F","F#m7/E","Em7/D","Ebm7/C#","Dm7/C",{"$f":"$C1360","v":"C#m7/B"},{"$f":"$C1359","v":"Cm7/Bb"},"Bm7/A","Bbm7/G#","Am7/G","G#m7/F#","Gm7/F","F#m7/E",null,"Fm7/Eb",1362,null,{"$f":"CONCATENATE(AE1359,VLOOKUP(AF1364,$AH$1647:$AH$1669,1,0))","v":"m7/Eb"},null,"Eb"]
[null,1363,{"$f":"CONCATENATE($C$9,AD1365)","v":"F#m7/E"},"Fm7/Eb","Em7/D","Ebm7/C#","Dm7/C",{"$f":"$C1360","v":"C#m7/B"},{"$f":"$C1359","v":"Cm7/Bb"},{"$f":"$C1370","v":"Bm7/A"},"Bbm7/G#","Am7/G","G#m7/F#","Gm7/F","Fm7/Eb","Em7/D","Ebm7/C#","Dm7/C",{"$f":"$C1360","v":"C#m7/B"},{"$f":"$C1359","v":"Cm7/Bb"},{"$f":"$C1370","v":"Bm7/A"},"Bbm7/G#","Am7/G","G#m7/F#","Gm7/F",null,"F#m7/E",1363,null,{"$f":"CONCATENATE(AE1359,VLOOKUP(AF1365,$AH$1647:$AH$1669,1,0))","v":"m7/E"},null,"E"]
[null,1364,{"$f":"CONCATENATE($C$10,AD1366)","v":"Gm7/F"},"F#m7/E","Fm7/Eb","Em7/D","Ebm7/C#","Dm7/C","C#m7/B",{"$f":"$C1359","v":"Cm7/Bb"},{"$f":"$C1370","v":"Bm7/A"},"Bbm7/G#","Am7/G","G#m7/F#","F#m7/E","Fm7/Eb","Em7/D","Ebm7/C#","Dm7/C","C#m7/B",{"$f":"$C1359","v":"Cm7/Bb"},{"$f":"$C1370","v":"Bm7/A"},"Bbm7/G#","Am7/G","G#m7/F#",null,"Gm7/F",1364,null,{"$f":"CONCATENATE(AE1359,VLOOKUP(AF1366,$AH$1647:$AH$1669,1,0))","v":"m7/F"},null,"F"]
[null,1365,{"$f":"CONCATENATE($C$11,AD1367)","v":"G#m7/F#"},"Gm7/F","F#m7/E","Fm7/Eb","Em7/D","Ebm7/C#","Dm7/C",{"$f":"$C1360","v":"C#m7/B"},{"$f":"$C1359","v":"Cm7/Bb"},{"$f":"$C1370","v":"Bm7/A"},"Bbm7/G#","Am7/G","Gm7/F","F#m7/E","Fm7/Eb","Em7/D","Ebm7/C#","Dm7/C",{"$f":"$C1360","v":"C#m7/B"},{"$f":"$C1359","v":"Cm7/Bb"},{"$f":"$C1370","v":"Bm7/A"},"Bbm7/G#","Am7/G",null,"G#m7/F#",1365,null,{"$f":"CONCATENATE(AE1359,VLOOKUP(AF1367,$AH$1647:$AH$1669,1,0))","v":"m7/F#"},null,"F#"]
[null,1366,{"$f":"CONCATENATE($C$12,AD1368)","v":"Am7/G"},"G#m7/F#","Gm7/F","F#m7/E","Fm7/Eb","Em7/D","Ebm7/C#",{"$f":"$C1361","v":"Dm7/C"},{"$f":"$C1360","v":"C#m7/B"},{"$f":"$C1359","v":"Cm7/Bb"},{"$f":"$C1370","v":"Bm7/A"},"Bbm7/G#","G#m7/F#","Gm7/F","F#m7/E","Fm7/Eb","Em7/D","Ebm7/C#",{"$f":"$C1361","v":"Dm7/C"},{"$f":"$C1360","v":"C#m7/B"},{"$f":"$C1359","v":"Cm7/Bb"},{"$f":"$C1370","v":"Bm7/A"},"Bbm7/G#",null,"Am7/G",1366,null,{"$f":"CONCATENATE(AE1359,VLOOKUP(AF1368,$AH$1647:$AH$1669,1,0))","v":"m7/G"},null,"G"]
[null,1367,{"$f":"CONCATENATE($C$13,AD1369)","v":"Bbm7/G#"},"Am7/G","G#m7/F#","Gm7/F","F#m7/E","Fm7/Eb","Em7/D",{"$f":"$C1362","v":"Ebm7/C#"},{"$f":"$C1361","v":"Dm7/C"},{"$f":"$C1360","v":"C#m7/B"},{"$f":"$C1359","v":"Cm7/Bb"},{"$f":"$C1370","v":"Bm7/A"},"Am7/G","G#m7/F#","Gm7/F","F#m7/E","Fm7/Eb","Em7/D",{"$f":"$C1362","v":"Ebm7/C#"},{"$f":"$C1361","v":"Dm7/C"},{"$f":"$C1360","v":"C#m7/B"},{"$f":"$C1359","v":"Cm7/Bb"},{"$f":"$C1370","v":"Bm7/A"},null,"Bbm7/G#",1367,null,{"$f":"CONCATENATE(AE1359,VLOOKUP(AF1369,$AH$1647:$AH$1669,1,0))","v":"m7/G#"},null,"G#"]
[null,1368,{"$f":"CONCATENATE($C$14,AD1370)","v":"Bm7/A"},"Bbm7/G#","Am7/G","G#m7/F#","Gm7/F","F#m7/E","Fm7/Eb",{"$f":"$C1363","v":"Em7/D"},{"$f":"$C1362","v":"Ebm7/C#"},{"$f":"$C1361","v":"Dm7/C"},{"$f":"$C1360","v":"C#m7/B"},{"$f":"$C1359","v":"Cm7/Bb"},"Bbm7/G#","Am7/G","G#m7/F#","Gm7/F","F#m7/E","Fm7/Eb",{"$f":"$C1363","v":"Em7/D"},{"$f":"$C1362","v":"Ebm7/C#"},{"$f":"$C1361","v":"Dm7/C"},{"$f":"$C1360","v":"C#m7/B"},{"$f":"$C1359","v":"Cm7/Bb"},null,"Bm7/A",1368,null,{"$f":"CONCATENATE(AE1359,VLOOKUP(AF1370,$AH$1647:$AH$1669,1,0))","v":"m7/A"},null,"A"]
[null,1369,{"$f":"CONCATENATE($C$3,AD1371)","v":"Cm7/B"},{"$f":"$C1382","v":"Bm7/Bb"},{"$f":"$C1381","v":"Bbm7/A"},{"$f":"$C1380","v":"Am7/G#"},{"$f":"$C1379","v":"G#m7/G"},{"$f":"$C1378","v":"Gm7/F#"},{"$f":"$C1377","v":"F#m7/F"},{"$f":"$C1376","v":"Fm7/E"},{"$f":"$C1375","v":"Em7/Eb"},{"$f":"$C1374","v":"Ebm7/D"},{"$f":"$C1373","v":"Dm7/C#"},{"$f":"$C1372","v":"C#m7/C"},{"$f":"$C1382","v":"Bm7/Bb"},{"$f":"$C1381","v":"Bbm7/A"},{"$f":"$C1380","v":"Am7/G#"},{"$f":"$C1379","v":"G#m7/G"},{"$f":"$C1378","v":"Gm7/F#"},{"$f":"$C1377","v":"F#m7/F"},{"$f":"$C1376","v":"Fm7/E"},{"$f":"$C1375","v":"Em7/Eb"},{"$f":"$C1374","v":"Ebm7/D"},{"$f":"$C1373","v":"Dm7/C#"},{"$f":"$C1372","v":"C#m7/C"},null,"Cm7/B",1369,null,{"$f":"CONCATENATE(AE1371,VLOOKUP(AF1371,$AH$1647:$AH$1669,1,0))","v":"m7/B"},"m7/","B"]
[null,1370,{"$f":"CONCATENATE($C$4,AD1372)","v":"C#m7/C"},{"$f":"$C1371","v":"Cm7/B"},{"$f":"$C1382","v":"Bm7/Bb"},{"$f":"$C1381","v":"Bbm7/A"},{"$f":"$C1380","v":"Am7/G#"},{"$f":"$C1379","v":"G#m7/G"},"Gm7/F#","F#m7/F","Fm7/E","Em7/Eb","Ebm7/D","Dm7/C#",{"$f":"$C1371","v":"Cm7/B"},{"$f":"$C1382","v":"Bm7/Bb"},{"$f":"$C1381","v":"Bbm7/A"},{"$f":"$C1380","v":"Am7/G#"},{"$f":"$C1379","v":"G#m7/G"},"Gm7/F#","F#m7/F","Fm7/E","Em7/Eb","Ebm7/D","Dm7/C#",null,"C#m7/C",1370,null,{"$f":"CONCATENATE(AE1371,VLOOKUP(AF1372,$AH$1647:$AH$1669,1,0))","v":"m7/C"},null,{"$f":"VLOOKUP(AF1371,$AH$1647:$AI$1658,2,0)","v":"C"}]
[null,1371,{"$f":"CONCATENATE($C$5,AD1373)","v":"Dm7/C#"},{"$f":"$C1372","v":"C#m7/C"},{"$f":"$C1371","v":"Cm7/B"},{"$f":"$C1382","v":"Bm7/Bb"},{"$f":"$C1381","v":"Bbm7/A"},{"$f":"$C1380","v":"Am7/G#"},"G#m7/G","Gm7/F#","F#m7/F","Fm7/E","Em7/Eb","Ebm7/D",{"$f":"$C1372","v":"C#m7/C"},{"$f":"$C1371","v":"Cm7/B"},{"$f":"$C1382","v":"Bm7/Bb"},{"$f":"$C1381","v":"Bbm7/A"},{"$f":"$C1380","v":"Am7/G#"},"G#m7/G","Gm7/F#","F#m7/F","Fm7/E","Em7/Eb","Ebm7/D",null,"Dm7/C#",1371,null,{"$f":"CONCATENATE(AE1371,VLOOKUP(AF1373,$AH$1647:$AH$1669,1,0))","v":"m7/C#"},null,"C#"]
[null,1372,{"$f":"CONCATENATE($C$6,AD1374)","v":"Ebm7/D"},"Dm7/C#",{"$f":"$C1372","v":"C#m7/C"},{"$f":"$C1371","v":"Cm7/B"},{"$f":"$C1382","v":"Bm7/Bb"},{"$f":"$C1381","v":"Bbm7/A"},"Am7/G#","G#m7/G","Gm7/F#","F#m7/F","Fm7/E","Em7/Eb","Dm7/C#",{"$f":"$C1372","v":"C#m7/C"},{"$f":"$C1371","v":"Cm7/B"},{"$f":"$C1382","v":"Bm7/Bb"},{"$f":"$C1381","v":"Bbm7/A"},"Am7/G#","G#m7/G","Gm7/F#","F#m7/F","Fm7/E","Em7/Eb",null,"Ebm7/D",1372,null,{"$f":"CONCATENATE(AE1371,VLOOKUP(AF1374,$AH$1647:$AH$1669,1,0))","v":"m7/D"},null,"D"]
[null,1373,{"$f":"CONCATENATE($C$7,AD1375)","v":"Em7/Eb"},"Ebm7/D","Dm7/C#",{"$f":"$C1372","v":"C#m7/C"},{"$f":"$C1371","v":"Cm7/B"},{"$f":"$C1382","v":"Bm7/Bb"},"Bbm7/A","Am7/G#","G#m7/G","Gm7/F#","F#m7/F","Fm7/E","Ebm7/D","Dm7/C#",{"$f":"$C1372","v":"C#m7/C"},{"$f":"$C1371","v":"Cm7/B"},{"$f":"$C1382","v":"Bm7/Bb"},"Bbm7/A","Am7/G#","G#m7/G","Gm7/F#","F#m7/F","Fm7/E",null,"Em7/Eb",1373,null,{"$f":"CONCATENATE(AE1371,VLOOKUP(AF1375,$AH$1647:$AH$1669,1,0))","v":"m7/Eb"},null,"Eb"]
[null,1374,{"$f":"CONCATENATE($C$8,AD1376)","v":"Fm7/E"},"Em7/Eb","Ebm7/D","Dm7/C#",{"$f":"$C1372","v":"C#m7/C"},{"$f":"$C1371","v":"Cm7/B"},"Bm7/Bb","Bbm7/A","Am7/G#","G#m7/G","Gm7/F#","F#m7/F","Em7/Eb","Ebm7/D","Dm7/C#",{"$f":"$C1372","v":"C#m7/C"},{"$f":"$C1371","v":"Cm7/B"},"Bm7/Bb","Bbm7/A","Am7/G#","G#m7/G","Gm7/F#","F#m7/F",null,"Fm7/E",1374,null,{"$f":"CONCATENATE(AE1371,VLOOKUP(AF1376,$AH$1647:$AH$1669,1,0))","v":"m7/E"},null,"E"]
[null,1375,{"$f":"CONCATENATE($C$9,AD1377)","v":"F#m7/F"},"Fm7/E","Em7/Eb","Ebm7/D","Dm7/C#",{"$f":"$C1372","v":"C#m7/C"},{"$f":"$C1371","v":"Cm7/B"},{"$f":"$C1382","v":"Bm7/Bb"},"Bbm7/A","Am7/G#","G#m7/G","Gm7/F#","Fm7/E","Em7/Eb","Ebm7/D","Dm7/C#",{"$f":"$C1372","v":"C#m7/C"},{"$f":"$C1371","v":"Cm7/B"},{"$f":"$C1382","v":"Bm7/Bb"},"Bbm7/A","Am7/G#","G#m7/G","Gm7/F#",null,"F#m7/F",1375,null,{"$f":"CONCATENATE(AE1371,VLOOKUP(AF1377,$AH$1647:$AH$1669,1,0))","v":"m7/F"},null,"F"]
[null,1376,{"$f":"CONCATENATE($C$10,AD1378)","v":"Gm7/F#"},"F#m7/F","Fm7/E","Em7/Eb","Ebm7/D","Dm7/C#","C#m7/C",{"$f":"$C1371","v":"Cm7/B"},{"$f":"$C1382","v":"Bm7/Bb"},"Bbm7/A","Am7/G#","G#m7/G","F#m7/F","Fm7/E","Em7/Eb","Ebm7/D","Dm7/C#","C#m7/C",{"$f":"$C1371","v":"Cm7/B"},{"$f":"$C1382","v":"Bm7/Bb"},"Bbm7/A","Am7/G#","G#m7/G",null,"Gm7/F#",1376,null,{"$f":"CONCATENATE(AE1371,VLOOKUP(AF1378,$AH$1647:$AH$1669,1,0))","v":"m7/F#"},null,"F#"]
[null,1377,{"$f":"CONCATENATE($C$11,AD1379)","v":"G#m7/G"},"Gm7/F#","F#m7/F","Fm7/E","Em7/Eb","Ebm7/D","Dm7/C#",{"$f":"$C1372","v":"C#m7/C"},{"$f":"$C1371","v":"Cm7/B"},{"$f":"$C1382","v":"Bm7/Bb"},"Bbm7/A","Am7/G#","Gm7/F#","F#m7/F","Fm7/E","Em7/Eb","Ebm7/D","Dm7/C#",{"$f":"$C1372","v":"C#m7/C"},{"$f":"$C1371","v":"Cm7/B"},{"$f":"$C1382","v":"Bm7/Bb"},"Bbm7/A","Am7/G#",null,"G#m7/G",1377,null,{"$f":"CONCATENATE(AE1371,VLOOKUP(AF1379,$AH$1647:$AH$1669,1,0))","v":"m7/G"},null,"G"]
[null,1378,{"$f":"CONCATENATE($C$12,AD1380)","v":"Am7/G#"},"G#m7/G","Gm7/F#","F#m7/F","Fm7/E","Em7/Eb","Ebm7/D",{"$f":"$C1373","v":"Dm7/C#"},{"$f":"$C1372","v":"C#m7/C"},{"$f":"$C1371","v":"Cm7/B"},{"$f":"$C1382","v":"Bm7/Bb"},"Bbm7/A","G#m7/G","Gm7/F#","F#m7/F","Fm7/E","Em7/Eb","Ebm7/D",{"$f":"$C1373","v":"Dm7/C#"},{"$f":"$C1372","v":"C#m7/C"},{"$f":"$C1371","v":"Cm7/B"},{"$f":"$C1382","v":"Bm7/Bb"},"Bbm7/A",null,"Am7/G#",1378,null,{"$f":"CONCATENATE(AE1371,VLOOKUP(AF1380,$AH$1647:$AH$1669,1,0))","v":"m7/G#"},null,"G#"]
[null,1379,{"$f":"CONCATENATE($C$13,AD1381)","v":"Bbm7/A"},"Am7/G#","G#m7/G","Gm7/F#","F#m7/F","Fm7/E","Em7/Eb",{"$f":"$C1374","v":"Ebm7/D"},{"$f":"$C1373","v":"Dm7/C#"},{"$f":"$C1372","v":"C#m7/C"},{"$f":"$C1371","v":"Cm7/B"},{"$f":"$C1382","v":"Bm7/Bb"},"Am7/G#","G#m7/G","Gm7/F#","F#m7/F","Fm7/E","Em7/Eb",{"$f":"$C1374","v":"Ebm7/D"},{"$f":"$C1373","v":"Dm7/C#"},{"$f":"$C1372","v":"C#m7/C"},{"$f":"$C1371","v":"Cm7/B"},{"$f":"$C1382","v":"Bm7/Bb"},null,"Bbm7/A",1379,null,{"$f":"CONCATENATE(AE1371,VLOOKUP(AF1381,$AH$1647:$AH$1669,1,0))","v":"m7/A"},null,"A"]
[null,1380,{"$f":"CONCATENATE($C$14,AD1382)","v":"Bm7/Bb"},"Bbm7/A","Am7/G#","G#m7/G","Gm7/F#","F#m7/F","Fm7/E",{"$f":"$C1375","v":"Em7/Eb"},{"$f":"$C1374","v":"Ebm7/D"},{"$f":"$C1373","v":"Dm7/C#"},{"$f":"$C1372","v":"C#m7/C"},{"$f":"$C1371","v":"Cm7/B"},"Bbm7/A","Am7/G#","G#m7/G","Gm7/F#","F#m7/F","Fm7/E",{"$f":"$C1375","v":"Em7/Eb"},{"$f":"$C1374","v":"Ebm7/D"},{"$f":"$C1373","v":"Dm7/C#"},{"$f":"$C1372","v":"C#m7/C"},{"$f":"$C1371","v":"Cm7/B"},null,"Bm7/Bb",1380,null,{"$f":"CONCATENATE(AE1371,VLOOKUP(AF1382,$AH$1647:$AH$1669,1,0))","v":"m7/Bb"},null,"Bb"]
[null,1381,{"$f":"CONCATENATE($C$3,AD1383)","v":"C7/C#"},{"$f":"$C1394","v":"B7/C"},{"$f":"$C1393","v":"Bb7/B"},{"$f":"$C1392","v":"A7/Bb"},{"$f":"$C1391","v":"G#7/A"},{"$f":"$C1390","v":"G7/G#"},{"$f":"$C1389","v":"F#7/G"},{"$f":"$C1388","v":"F7/F#"},{"$f":"$C1387","v":"E7/F"},{"$f":"$C1386","v":"Eb7/E"},{"$f":"$C1385","v":"D7/Eb"},{"$f":"$C1384","v":"C#7/D"},{"$f":"$C1394","v":"B7/C"},{"$f":"$C1393","v":"Bb7/B"},{"$f":"$C1392","v":"A7/Bb"},{"$f":"$C1391","v":"G#7/A"},{"$f":"$C1390","v":"G7/G#"},{"$f":"$C1389","v":"F#7/G"},{"$f":"$C1388","v":"F7/F#"},{"$f":"$C1387","v":"E7/F"},{"$f":"$C1386","v":"Eb7/E"},{"$f":"$C1385","v":"D7/Eb"},{"$f":"$C1384","v":"C#7/D"},null,"C7/C#",1381,null,{"$f":"CONCATENATE(AE1383,VLOOKUP(AF1383,$AH$1647:$AH$1669,1,0))","v":"7/C#"},"7/",{"$f":"IF(印刷用!$T$12=1,$AK$1647,$AK$1648)","v":"C#"}]
[null,1382,{"$f":"CONCATENATE($C$4,AD1384)","v":"C#7/D"},{"$f":"$C1383","v":"C7/C#"},{"$f":"$C1394","v":"B7/C"},{"$f":"$C1393","v":"Bb7/B"},{"$f":"$C1392","v":"A7/Bb"},{"$f":"$C1391","v":"G#7/A"},"G7/G#","F#7/G","F7/F#","E7/F","Eb7/E","D7/Eb",{"$f":"$C1383","v":"C7/C#"},{"$f":"$C1394","v":"B7/C"},{"$f":"$C1393","v":"Bb7/B"},{"$f":"$C1392","v":"A7/Bb"},{"$f":"$C1391","v":"G#7/A"},"G7/G#","F#7/G","F7/F#","E7/F","Eb7/E","D7/Eb",null,"C#7/D",1382,null,{"$f":"CONCATENATE(AE1383,VLOOKUP(AF1384,$AH$1647:$AH$1669,1,0))","v":"7/D"},null,{"$f":"VLOOKUP(AF1383,$AH$1647:$AI$1658,2,0)","v":"D"}]
[null,1383,{"$f":"CONCATENATE($C$5,AD1385)","v":"D7/Eb"},{"$f":"$C1384","v":"C#7/D"},{"$f":"$C1383","v":"C7/C#"},{"$f":"$C1394","v":"B7/C"},{"$f":"$C1393","v":"Bb7/B"},{"$f":"$C1392","v":"A7/Bb"},"G#7/A","G7/G#","F#7/G","F7/F#","E7/F","Eb7/E",{"$f":"$C1384","v":"C#7/D"},{"$f":"$C1383","v":"C7/C#"},{"$f":"$C1394","v":"B7/C"},{"$f":"$C1393","v":"Bb7/B"},{"$f":"$C1392","v":"A7/Bb"},"G#7/A","G7/G#","F#7/G","F7/F#","E7/F","Eb7/E",null,"D7/Eb",1383,null,{"$f":"CONCATENATE(AE1383,VLOOKUP(AF1385,$AH$1647:$AH$1669,1,0))","v":"7/Eb"},null,"Eb"]
[null,1384,{"$f":"CONCATENATE($C$6,AD1386)","v":"Eb7/E"},"D7/Eb",{"$f":"$C1384","v":"C#7/D"},{"$f":"$C1383","v":"C7/C#"},{"$f":"$C1394","v":"B7/C"},{"$f":"$C1393","v":"Bb7/B"},"A7/Bb","G#7/A","G7/G#","F#7/G","F7/F#","E7/F","D7/Eb",{"$f":"$C1384","v":"C#7/D"},{"$f":"$C1383","v":"C7/C#"},{"$f":"$C1394","v":"B7/C"},{"$f":"$C1393","v":"Bb7/B"},"A7/Bb","G#7/A","G7/G#","F#7/G","F7/F#","E7/F",null,"Eb7/E",1384,null,{"$f":"CONCATENATE(AE1383,VLOOKUP(AF1386,$AH$1647:$AH$1669,1,0))","v":"7/E"},null,"E"]
[null,1385,{"$f":"CONCATENATE($C$7,AD1387)","v":"E7/F"},"Eb7/E","D7/Eb",{"$f":"$C1384","v":"C#7/D"},{"$f":"$C1383","v":"C7/C#"},{"$f":"$C1394","v":"B7/C"},"Bb7/B","A7/Bb","G#7/A","G7/G#","F#7/G","F7/F#","Eb7/E","D7/Eb",{"$f":"$C1384","v":"C#7/D"},{"$f":"$C1383","v":"C7/C#"},{"$f":"$C1394","v":"B7/C"},"Bb7/B","A7/Bb","G#7/A","G7/G#","F#7/G","F7/F#",null,"E7/F",1385,null,{"$f":"CONCATENATE(AE1383,VLOOKUP(AF1387,$AH$1647:$AH$1669,1,0))","v":"7/F"},null,"F"]
[null,1386,{"$f":"CONCATENATE($C$8,AD1388)","v":"F7/F#"},"E7/F","Eb7/E","D7/Eb",{"$f":"$C1384","v":"C#7/D"},{"$f":"$C1383","v":"C7/C#"},"B7/C","Bb7/B","A7/Bb","G#7/A","G7/G#","F#7/G","E7/F","Eb7/E","D7/Eb",{"$f":"$C1384","v":"C#7/D"},{"$f":"$C1383","v":"C7/C#"},"B7/C","Bb7/B","A7/Bb","G#7/A","G7/G#","F#7/G",null,"F7/F#",1386,null,{"$f":"CONCATENATE(AE1383,VLOOKUP(AF1388,$AH$1647:$AH$1669,1,0))","v":"7/F#"},null,"F#"]
[null,1387,{"$f":"CONCATENATE($C$9,AD1389)","v":"F#7/G"},"F7/F#","E7/F","Eb7/E","D7/Eb",{"$f":"$C1384","v":"C#7/D"},{"$f":"$C1383","v":"C7/C#"},{"$f":"$C1394","v":"B7/C"},"Bb7/B","A7/Bb","G#7/A","G7/G#","F7/F#","E7/F","Eb7/E","D7/Eb",{"$f":"$C1384","v":"C#7/D"},{"$f":"$C1383","v":"C7/C#"},{"$f":"$C1394","v":"B7/C"},"Bb7/B","A7/Bb","G#7/A","G7/G#",null,"F#7/G",1387,null,{"$f":"CONCATENATE(AE1383,VLOOKUP(AF1389,$AH$1647:$AH$1669,1,0))","v":"7/G"},null,"G"]
[null,1388,{"$f":"CONCATENATE($C$10,AD1390)","v":"G7/G#"},"F#7/G","F7/F#","E7/F","Eb7/E","D7/Eb","C#7/D",{"$f":"$C1383","v":"C7/C#"},{"$f":"$C1394","v":"B7/C"},"Bb7/B","A7/Bb","G#7/A","F#7/G","F7/F#","E7/F","Eb7/E","D7/Eb","C#7/D",{"$f":"$C1383","v":"C7/C#"},{"$f":"$C1394","v":"B7/C"},"Bb7/B","A7/Bb","G#7/A",null,"G7/G#",1388,null,{"$f":"CONCATENATE(AE1383,VLOOKUP(AF1390,$AH$1647:$AH$1669,1,0))","v":"7/G#"},null,"G#"]
[null,1389,{"$f":"CONCATENATE($C$11,AD1391)","v":"G#7/A"},"G7/G#","F#7/G","F7/F#","E7/F","Eb7/E","D7/Eb",{"$f":"$C1384","v":"C#7/D"},{"$f":"$C1383","v":"C7/C#"},{"$f":"$C1394","v":"B7/C"},"Bb7/B","A7/Bb","G7/G#","F#7/G","F7/F#","E7/F","Eb7/E","D7/Eb",{"$f":"$C1384","v":"C#7/D"},{"$f":"$C1383","v":"C7/C#"},{"$f":"$C1394","v":"B7/C"},"Bb7/B","A7/Bb",null,{"$f":"C1391","v":"G#7/A"},1389,null,{"$f":"CONCATENATE(AE1383,VLOOKUP(AF1391,$AH$1647:$AH$1669,1,0))","v":"7/A"},null,"A"]
[null,1390,{"$f":"CONCATENATE($C$12,AD1392)","v":"A7/Bb"},"G#7/A","G7/G#","F#7/G","F7/F#","E7/F","Eb7/E",{"$f":"$C1385","v":"D7/Eb"},{"$f":"$C1384","v":"C#7/D"},{"$f":"$C1383","v":"C7/C#"},{"$f":"$C1394","v":"B7/C"},"Bb7/B","G#7/A","G7/G#","F#7/G","F7/F#","E7/F","Eb7/E",{"$f":"$C1385","v":"D7/Eb"},{"$f":"$C1384","v":"C#7/D"},{"$f":"$C1383","v":"C7/C#"},{"$f":"$C1394","v":"B7/C"},"Bb7/B",null,"A7/Bb",1390,null,{"$f":"CONCATENATE(AE1383,VLOOKUP(AF1392,$AH$1647:$AH$1669,1,0))","v":"7/Bb"},null,"Bb"]
[null,1391,{"$f":"CONCATENATE($C$13,AD1393)","v":"Bb7/B"},"A7/Bb","G#7/A","G7/G#","F#7/G","F7/F#","E7/F",{"$f":"$C1386","v":"Eb7/E"},{"$f":"$C1385","v":"D7/Eb"},{"$f":"$C1384","v":"C#7/D"},{"$f":"$C1383","v":"C7/C#"},{"$f":"$C1394","v":"B7/C"},"A7/Bb","G#7/A","G7/G#","F#7/G","F7/F#","E7/F",{"$f":"$C1386","v":"Eb7/E"},{"$f":"$C1385","v":"D7/Eb"},{"$f":"$C1384","v":"C#7/D"},{"$f":"$C1383","v":"C7/C#"},{"$f":"$C1394","v":"B7/C"},null,"Bb7/B",1391,null,{"$f":"CONCATENATE(AE1383,VLOOKUP(AF1393,$AH$1647:$AH$1669,1,0))","v":"7/B"},null,"B"]
[null,1392,{"$f":"CONCATENATE($C$14,AD1394)","v":"B7/C"},"Bb7/B","A7/Bb","G#7/A","G7/G#","F#7/G","F7/F#",{"$f":"$C1387","v":"E7/F"},{"$f":"$C1386","v":"Eb7/E"},{"$f":"$C1385","v":"D7/Eb"},{"$f":"$C1384","v":"C#7/D"},{"$f":"$C1383","v":"C7/C#"},"Bb7/B","A7/Bb","G#7/A","G7/G#","F#7/G","F7/F#",{"$f":"$C1387","v":"E7/F"},{"$f":"$C1386","v":"Eb7/E"},{"$f":"$C1385","v":"D7/Eb"},{"$f":"$C1384","v":"C#7/D"},{"$f":"$C1383","v":"C7/C#"},null,"B7/C",1392,null,{"$f":"CONCATENATE(AE1383,VLOOKUP(AF1394,$AH$1647:$AH$1669,1,0))","v":"7/C"},null,"C"]
[null,1393,{"$f":"CONCATENATE($C$3,AD1395)","v":"C7/D"},{"$f":"$C1406","v":"B7/C#"},{"$f":"$C1405","v":"Bb7/C"},{"$f":"$C1404","v":"A7/B"},{"$f":"$C1403","v":"G#7/Bb"},{"$f":"$C1402","v":"G7/A"},{"$f":"$C1401","v":"F#7/G#"},{"$f":"$C1400","v":"F7/G"},{"$f":"$C1399","v":"E7/F#"},{"$f":"$C1398","v":"Eb7/F"},{"$f":"$C1397","v":"D7/E"},{"$f":"$C1396","v":"C#7/Eb"},{"$f":"$C1406","v":"B7/C#"},{"$f":"$C1405","v":"Bb7/C"},{"$f":"$C1404","v":"A7/B"},{"$f":"$C1403","v":"G#7/Bb"},{"$f":"$C1402","v":"G7/A"},{"$f":"$C1401","v":"F#7/G#"},{"$f":"$C1400","v":"F7/G"},{"$f":"$C1399","v":"E7/F#"},{"$f":"$C1398","v":"Eb7/F"},{"$f":"$C1397","v":"D7/E"},{"$f":"$C1396","v":"C#7/Eb"},null,"C7/D",1393,null,{"$f":"CONCATENATE(AE1395,VLOOKUP(AF1395,$AH$1647:$AH$1669,1,0))","v":"7/D"},"7/","D"]
[null,1394,{"$f":"CONCATENATE($C$4,AD1396)","v":"C#7/Eb"},{"$f":"$C1395","v":"C7/D"},{"$f":"$C1406","v":"B7/C#"},{"$f":"$C1405","v":"Bb7/C"},{"$f":"$C1404","v":"A7/B"},{"$f":"$C1403","v":"G#7/Bb"},"G7/A","F#7/G#","F7/G","E7/F#","Eb7/F","D7/E",{"$f":"$C1395","v":"C7/D"},{"$f":"$C1406","v":"B7/C#"},{"$f":"$C1405","v":"Bb7/C"},{"$f":"$C1404","v":"A7/B"},{"$f":"$C1403","v":"G#7/Bb"},"G7/A","F#7/G#","F7/G","E7/F#","Eb7/F","D7/E",null,"C#7/Eb",1394,null,{"$f":"CONCATENATE(AE1395,VLOOKUP(AF1396,$AH$1647:$AH$1669,1,0))","v":"7/Eb"},null,{"$f":"VLOOKUP(AF1395,$AH$1647:$AI$1658,2,0)","v":"Eb"}]
[null,1395,{"$f":"CONCATENATE($C$5,AD1397)","v":"D7/E"},{"$f":"$C1396","v":"C#7/Eb"},{"$f":"$C1395","v":"C7/D"},{"$f":"$C1406","v":"B7/C#"},{"$f":"$C1405","v":"Bb7/C"},{"$f":"$C1404","v":"A7/B"},"G#7/Bb","G7/A","F#7/G#","F7/G","E7/F#","Eb7/F",{"$f":"$C1396","v":"C#7/Eb"},{"$f":"$C1395","v":"C7/D"},{"$f":"$C1406","v":"B7/C#"},{"$f":"$C1405","v":"Bb7/C"},{"$f":"$C1404","v":"A7/B"},"G#7/Bb","G7/A","F#7/G#","F7/G","E7/F#","Eb7/F",null,"D7/E",1395,null,{"$f":"CONCATENATE(AE1395,VLOOKUP(AF1397,$AH$1647:$AH$1669,1,0))","v":"7/E"},null,"E"]
[null,1396,{"$f":"CONCATENATE($C$6,AD1398)","v":"Eb7/F"},"D7/E",{"$f":"$C1396","v":"C#7/Eb"},{"$f":"$C1395","v":"C7/D"},{"$f":"$C1406","v":"B7/C#"},{"$f":"$C1405","v":"Bb7/C"},"A7/B","G#7/Bb","G7/A","F#7/G#","F7/G","E7/F#","D7/E",{"$f":"$C1396","v":"C#7/Eb"},{"$f":"$C1395","v":"C7/D"},{"$f":"$C1406","v":"B7/C#"},{"$f":"$C1405","v":"Bb7/C"},"A7/B","G#7/Bb","G7/A","F#7/G#","F7/G","E7/F#",null,"Eb7/F",1396,null,{"$f":"CONCATENATE(AE1395,VLOOKUP(AF1398,$AH$1647:$AH$1669,1,0))","v":"7/F"},null,"F"]
[null,1397,{"$f":"CONCATENATE($C$7,AD1399)","v":"E7/F#"},"Eb7/F","D7/E",{"$f":"$C1396","v":"C#7/Eb"},{"$f":"$C1395","v":"C7/D"},{"$f":"$C1406","v":"B7/C#"},"Bb7/C","A7/B","G#7/Bb","G7/A","F#7/G#","F7/G","Eb7/F","D7/E",{"$f":"$C1396","v":"C#7/Eb"},{"$f":"$C1395","v":"C7/D"},{"$f":"$C1406","v":"B7/C#"},"Bb7/C","A7/B","G#7/Bb","G7/A","F#7/G#","F7/G",null,"E7/F#",1397,null,{"$f":"CONCATENATE(AE1395,VLOOKUP(AF1399,$AH$1647:$AH$1669,1,0))","v":"7/F#"},null,"F#"]
[null,1398,{"$f":"CONCATENATE($C$8,AD1400)","v":"F7/G"},"E7/F#","Eb7/F","D7/E",{"$f":"$C1396","v":"C#7/Eb"},{"$f":"$C1395","v":"C7/D"},"B7/C#","Bb7/C","A7/B","G#7/Bb","G7/A","F#7/G#","E7/F#","Eb7/F","D7/E",{"$f":"$C1396","v":"C#7/Eb"},{"$f":"$C1395","v":"C7/D"},"B7/C#","Bb7/C","A7/B","G#7/Bb","G7/A","F#7/G#",null,"F7/G",1398,null,{"$f":"CONCATENATE(AE1395,VLOOKUP(AF1400,$AH$1647:$AH$1669,1,0))","v":"7/G"},null,"G"]
[null,1399,{"$f":"CONCATENATE($C$9,AD1401)","v":"F#7/G#"},"F7/G","E7/F#","Eb7/F","D7/E",{"$f":"$C1396","v":"C#7/Eb"},{"$f":"$C1395","v":"C7/D"},{"$f":"$C1406","v":"B7/C#"},"Bb7/C","A7/B","G#7/Bb","G7/A","F7/G","E7/F#","Eb7/F","D7/E",{"$f":"$C1396","v":"C#7/Eb"},{"$f":"$C1395","v":"C7/D"},{"$f":"$C1406","v":"B7/C#"},"Bb7/C","A7/B","G#7/Bb","G7/A",null,"F#7/G#",1399,null,{"$f":"CONCATENATE(AE1395,VLOOKUP(AF1401,$AH$1647:$AH$1669,1,0))","v":"7/G#"},null,"G#"]
[null,1400,{"$f":"CONCATENATE($C$10,AD1402)","v":"G7/A"},"F#7/G#","F7/G","E7/F#","Eb7/F","D7/E","C#7/Eb",{"$f":"$C1395","v":"C7/D"},{"$f":"$C1406","v":"B7/C#"},"Bb7/C","A7/B","G#7/Bb","F#7/G#","F7/G","E7/F#","Eb7/F","D7/E","C#7/Eb",{"$f":"$C1395","v":"C7/D"},{"$f":"$C1406","v":"B7/C#"},"Bb7/C","A7/B","G#7/Bb",null,"G7/A",1400,null,{"$f":"CONCATENATE(AE1395,VLOOKUP(AF1402,$AH$1647:$AH$1669,1,0))","v":"7/A"},null,"A"]
[null,1401,{"$f":"CONCATENATE($C$11,AD1403)","v":"G#7/Bb"},"G7/A","F#7/G#","F7/G","E7/F#","Eb7/F","D7/E",{"$f":"$C1396","v":"C#7/Eb"},{"$f":"$C1395","v":"C7/D"},{"$f":"$C1406","v":"B7/C#"},"Bb7/C","A7/B","G7/A","F#7/G#","F7/G","E7/F#","Eb7/F","D7/E",{"$f":"$C1396","v":"C#7/Eb"},{"$f":"$C1395","v":"C7/D"},{"$f":"$C1406","v":"B7/C#"},"Bb7/C","A7/B",null,{"$f":"C1403","v":"G#7/Bb"},1401,null,{"$f":"CONCATENATE(AE1395,VLOOKUP(AF1403,$AH$1647:$AH$1669,1,0))","v":"7/Bb"},null,"Bb"]
[null,1402,{"$f":"CONCATENATE($C$12,AD1404)","v":"A7/B"},"G#7/Bb","G7/A","F#7/G#","F7/G","E7/F#","Eb7/F",{"$f":"$C1397","v":"D7/E"},{"$f":"$C1396","v":"C#7/Eb"},{"$f":"$C1395","v":"C7/D"},{"$f":"$C1406","v":"B7/C#"},"Bb7/C","G#7/Bb","G7/A","F#7/G#","F7/G","E7/F#","Eb7/F",{"$f":"$C1397","v":"D7/E"},{"$f":"$C1396","v":"C#7/Eb"},{"$f":"$C1395","v":"C7/D"},{"$f":"$C1406","v":"B7/C#"},"Bb7/C",null,"A7/B",1402,null,{"$f":"CONCATENATE(AE1395,VLOOKUP(AF1404,$AH$1647:$AH$1669,1,0))","v":"7/B"},null,"B"]
[null,1403,{"$f":"CONCATENATE($C$13,AD1405)","v":"Bb7/C"},"A7/B","G#7/Bb","G7/A","F#7/G#","F7/G","E7/F#",{"$f":"$C1398","v":"Eb7/F"},{"$f":"$C1397","v":"D7/E"},{"$f":"$C1396","v":"C#7/Eb"},{"$f":"$C1395","v":"C7/D"},{"$f":"$C1406","v":"B7/C#"},"A7/B","G#7/Bb","G7/A","F#7/G#","F7/G","E7/F#",{"$f":"$C1398","v":"Eb7/F"},{"$f":"$C1397","v":"D7/E"},{"$f":"$C1396","v":"C#7/Eb"},{"$f":"$C1395","v":"C7/D"},{"$f":"$C1406","v":"B7/C#"},null,"Bb7/C",1403,null,{"$f":"CONCATENATE(AE1395,VLOOKUP(AF1405,$AH$1647:$AH$1669,1,0))","v":"7/C"},null,"C"]
[null,1404,{"$f":"CONCATENATE($C$14,AD1406)","v":"B7/C#"},"Bb7/C","A7/B","G#7/Bb","G7/A","F#7/G#","F7/G",{"$f":"$C1399","v":"E7/F#"},{"$f":"$C1398","v":"Eb7/F"},{"$f":"$C1397","v":"D7/E"},{"$f":"$C1396","v":"C#7/Eb"},{"$f":"$C1395","v":"C7/D"},"Bb7/C","A7/B","G#7/Bb","G7/A","F#7/G#","F7/G",{"$f":"$C1399","v":"E7/F#"},{"$f":"$C1398","v":"Eb7/F"},{"$f":"$C1397","v":"D7/E"},{"$f":"$C1396","v":"C#7/Eb"},{"$f":"$C1395","v":"C7/D"},null,"B7/C#",1404,null,{"$f":"CONCATENATE(AE1395,VLOOKUP(AF1406,$AH$1647:$AH$1669,1,0))","v":"7/C#"},null,"C#"]
[null,1405,{"$f":"CONCATENATE($C$3,AD1407)","v":"C7/Eb"},{"$f":"$C1418","v":"B7/D"},{"$f":"$C1417","v":"Bb7/C#"},{"$f":"$C1416","v":"A7/C"},{"$f":"$C1415","v":"G#7/B"},{"$f":"$C1414","v":"G7/Bb"},{"$f":"$C1413","v":"F#7/A"},{"$f":"$C1412","v":"F7/G#"},{"$f":"$C1411","v":"E7/G"},{"$f":"$C1410","v":"Eb7/F#"},{"$f":"$C1409","v":"D7/F"},{"$f":"$C1408","v":"C#7/E"},{"$f":"$C1418","v":"B7/D"},{"$f":"$C1417","v":"Bb7/C#"},{"$f":"$C1416","v":"A7/C"},{"$f":"$C1415","v":"G#7/B"},{"$f":"$C1414","v":"G7/Bb"},{"$f":"$C1413","v":"F#7/A"},{"$f":"$C1412","v":"F7/G#"},{"$f":"$C1411","v":"E7/G"},{"$f":"$C1410","v":"Eb7/F#"},{"$f":"$C1409","v":"D7/F"},{"$f":"$C1408","v":"C#7/E"},null,"C7/Eb",1405,null,{"$f":"CONCATENATE(AE1407,VLOOKUP(AF1407,$AH$1647:$AH$1669,1,0))","v":"7/Eb"},"7/",{"$f":"IF(印刷用!$V$12=1,$AK$1649,$AK$1650)","v":"Eb"}]
[null,1406,{"$f":"CONCATENATE($C$4,AD1408)","v":"C#7/E"},{"$f":"$C1407","v":"C7/Eb"},{"$f":"$C1418","v":"B7/D"},{"$f":"$C1417","v":"Bb7/C#"},{"$f":"$C1416","v":"A7/C"},{"$f":"$C1415","v":"G#7/B"},"G7/Bb","F#7/A","F7/G#","E7/G","Eb7/F#","D7/F",{"$f":"$C1407","v":"C7/Eb"},{"$f":"$C1418","v":"B7/D"},{"$f":"$C1417","v":"Bb7/C#"},{"$f":"$C1416","v":"A7/C"},{"$f":"$C1415","v":"G#7/B"},"G7/Bb","F#7/A","F7/G#","E7/G","Eb7/F#","D7/F",null,"C#7/E",1406,null,{"$f":"CONCATENATE(AE1407,VLOOKUP(AF1408,$AH$1647:$AH$1669,1,0))","v":"7/E"},null,{"$f":"VLOOKUP(AF1407,$AH$1647:$AI$1658,2,0)","v":"E"}]
[null,1407,{"$f":"CONCATENATE($C$5,AD1409)","v":"D7/F"},{"$f":"$C1408","v":"C#7/E"},{"$f":"$C1407","v":"C7/Eb"},{"$f":"$C1418","v":"B7/D"},{"$f":"$C1417","v":"Bb7/C#"},{"$f":"$C1416","v":"A7/C"},"G#7/B","G7/Bb","F#7/A","F7/G#","E7/G","Eb7/F#",{"$f":"$C1408","v":"C#7/E"},{"$f":"$C1407","v":"C7/Eb"},{"$f":"$C1418","v":"B7/D"},{"$f":"$C1417","v":"Bb7/C#"},{"$f":"$C1416","v":"A7/C"},"G#7/B","G7/Bb","F#7/A","F7/G#","E7/G","Eb7/F#",null,"D7/F",1407,null,{"$f":"CONCATENATE(AE1407,VLOOKUP(AF1409,$AH$1647:$AH$1669,1,0))","v":"7/F"},null,"F"]
[null,1408,{"$f":"CONCATENATE($C$6,AD1410)","v":"Eb7/F#"},"D7/F",{"$f":"$C1408","v":"C#7/E"},{"$f":"$C1407","v":"C7/Eb"},{"$f":"$C1418","v":"B7/D"},{"$f":"$C1417","v":"Bb7/C#"},"A7/C","G#7/B","G7/Bb","F#7/A","F7/G#","E7/G","D7/F",{"$f":"$C1408","v":"C#7/E"},{"$f":"$C1407","v":"C7/Eb"},{"$f":"$C1418","v":"B7/D"},{"$f":"$C1417","v":"Bb7/C#"},"A7/C","G#7/B","G7/Bb","F#7/A","F7/G#","E7/G",null,"Eb7/F#",1408,null,{"$f":"CONCATENATE(AE1407,VLOOKUP(AF1410,$AH$1647:$AH$1669,1,0))","v":"7/F#"},null,"F#"]
[null,1409,{"$f":"CONCATENATE($C$7,AD1411)","v":"E7/G"},"Eb7/F#","D7/F",{"$f":"$C1408","v":"C#7/E"},{"$f":"$C1407","v":"C7/Eb"},{"$f":"$C1418","v":"B7/D"},"Bb7/C#","A7/C","G#7/B","G7/Bb","F#7/A","F7/G#","Eb7/F#","D7/F",{"$f":"$C1408","v":"C#7/E"},{"$f":"$C1407","v":"C7/Eb"},{"$f":"$C1418","v":"B7/D"},"Bb7/C#","A7/C","G#7/B","G7/Bb","F#7/A","F7/G#",null,"E7/G",{"$f":"B1411","v":1409},null,{"$f":"CONCATENATE(AE1407,VLOOKUP(AF1411,$AH$1647:$AH$1669,1,0))","v":"7/G"},null,"G"]
[null,1410,{"$f":"CONCATENATE($C$8,AD1412)","v":"F7/G#"},"E7/G","Eb7/F#","D7/F",{"$f":"$C1408","v":"C#7/E"},{"$f":"$C1407","v":"C7/Eb"},"B7/D","Bb7/C#","A7/C","G#7/B","G7/Bb","F#7/A","E7/G","Eb7/F#","D7/F",{"$f":"$C1408","v":"C#7/E"},{"$f":"$C1407","v":"C7/Eb"},"B7/D","Bb7/C#","A7/C","G#7/B","G7/Bb","F#7/A",null,"F7/G#",1410,null,{"$f":"CONCATENATE(AE1407,VLOOKUP(AF1412,$AH$1647:$AH$1669,1,0))","v":"7/G#"},null,"G#"]
[null,1411,{"$f":"CONCATENATE($C$9,AD1413)","v":"F#7/A"},"F7/G#","E7/G","Eb7/F#","D7/F",{"$f":"$C1408","v":"C#7/E"},{"$f":"$C1407","v":"C7/Eb"},{"$f":"$C1418","v":"B7/D"},"Bb7/C#","A7/C","G#7/B","G7/Bb","F7/G#","E7/G","Eb7/F#","D7/F",{"$f":"$C1408","v":"C#7/E"},{"$f":"$C1407","v":"C7/Eb"},{"$f":"$C1418","v":"B7/D"},"Bb7/C#","A7/C","G#7/B","G7/Bb",null,"F#7/A",1411,null,{"$f":"CONCATENATE(AE1407,VLOOKUP(AF1413,$AH$1647:$AH$1669,1,0))","v":"7/A"},null,"A"]
[null,1412,{"$f":"CONCATENATE($C$10,AD1414)","v":"G7/Bb"},"F#7/A","F7/G#","E7/G","Eb7/F#","D7/F","C#7/E",{"$f":"$C1407","v":"C7/Eb"},{"$f":"$C1418","v":"B7/D"},"Bb7/C#","A7/C","G#7/B","F#7/A","F7/G#","E7/G","Eb7/F#","D7/F","C#7/E",{"$f":"$C1407","v":"C7/Eb"},{"$f":"$C1418","v":"B7/D"},"Bb7/C#","A7/C","G#7/B",null,"G7/Bb",1412,null,{"$f":"CONCATENATE(AE1407,VLOOKUP(AF1414,$AH$1647:$AH$1669,1,0))","v":"7/Bb"},null,"Bb"]
[null,1413,{"$f":"CONCATENATE($C$11,AD1415)","v":"G#7/B"},"G7/Bb","F#7/A","F7/G#","E7/G","Eb7/F#","D7/F",{"$f":"$C1408","v":"C#7/E"},{"$f":"$C1407","v":"C7/Eb"},{"$f":"$C1418","v":"B7/D"},"Bb7/C#","A7/C","G7/Bb","F#7/A","F7/G#","E7/G","Eb7/F#","D7/F",{"$f":"$C1408","v":"C#7/E"},{"$f":"$C1407","v":"C7/Eb"},{"$f":"$C1418","v":"B7/D"},"Bb7/C#","A7/C",null,"G#7/B",1413,null,{"$f":"CONCATENATE(AE1407,VLOOKUP(AF1415,$AH$1647:$AH$1669,1,0))","v":"7/B"},null,"B"]
[null,1414,{"$f":"CONCATENATE($C$12,AD1416)","v":"A7/C"},"G#7/B","G7/Bb","F#7/A","F7/G#","E7/G","Eb7/F#",{"$f":"$C1409","v":"D7/F"},{"$f":"$C1408","v":"C#7/E"},{"$f":"$C1407","v":"C7/Eb"},{"$f":"$C1418","v":"B7/D"},"Bb7/C#","G#7/B","G7/Bb","F#7/A","F7/G#","E7/G","Eb7/F#",{"$f":"$C1409","v":"D7/F"},{"$f":"$C1408","v":"C#7/E"},{"$f":"$C1407","v":"C7/Eb"},{"$f":"$C1418","v":"B7/D"},"Bb7/C#",null,"A7/C",1414,null,{"$f":"CONCATENATE(AE1407,VLOOKUP(AF1416,$AH$1647:$AH$1669,1,0))","v":"7/C"},null,"C"]
[null,1415,{"$f":"CONCATENATE($C$13,AD1417)","v":"Bb7/C#"},"A7/C","G#7/B","G7/Bb","F#7/A","F7/G#","E7/G",{"$f":"$C1410","v":"Eb7/F#"},{"$f":"$C1409","v":"D7/F"},{"$f":"$C1408","v":"C#7/E"},{"$f":"$C1407","v":"C7/Eb"},{"$f":"$C1418","v":"B7/D"},"A7/C","G#7/B","G7/Bb","F#7/A","F7/G#","E7/G",{"$f":"$C1410","v":"Eb7/F#"},{"$f":"$C1409","v":"D7/F"},{"$f":"$C1408","v":"C#7/E"},{"$f":"$C1407","v":"C7/Eb"},{"$f":"$C1418","v":"B7/D"},null,"Bb7/C#",1415,null,{"$f":"CONCATENATE(AE1407,VLOOKUP(AF1417,$AH$1647:$AH$1669,1,0))","v":"7/C#"},null,"C#"]
[null,1416,{"$f":"CONCATENATE($C$14,AD1418)","v":"B7/D"},"Bb7/C#","A7/C","G#7/B","G7/Bb","F#7/A","F7/G#",{"$f":"$C1411","v":"E7/G"},{"$f":"$C1410","v":"Eb7/F#"},{"$f":"$C1409","v":"D7/F"},{"$f":"$C1408","v":"C#7/E"},{"$f":"$C1407","v":"C7/Eb"},"Bb7/C#","A7/C","G#7/B","G7/Bb","F#7/A","F7/G#",{"$f":"$C1411","v":"E7/G"},{"$f":"$C1410","v":"Eb7/F#"},{"$f":"$C1409","v":"D7/F"},{"$f":"$C1408","v":"C#7/E"},{"$f":"$C1407","v":"C7/Eb"},null,"B7/D",1416,null,{"$f":"CONCATENATE(AE1407,VLOOKUP(AF1418,$AH$1647:$AH$1669,1,0))","v":"7/D"},null,"D"]
[null,1417,{"$f":"CONCATENATE($C$3,AD1419)","v":"C7/E"},{"$f":"$C1430","v":"B7/Eb"},{"$f":"$C1429","v":"Bb7/D"},{"$f":"$C1428","v":"A7/C#"},{"$f":"$C1427","v":"G#7/C"},{"$f":"$C1426","v":"G7/B"},{"$f":"$C1425","v":"F#7/Bb"},{"$f":"$C1424","v":"F7/A"},{"$f":"$C1423","v":"E7/G#"},{"$f":"$C1422","v":"Eb7/G"},{"$f":"$C1421","v":"D7/F#"},{"$f":"$C1420","v":"C#7/F"},{"$f":"$C1430","v":"B7/Eb"},{"$f":"$C1429","v":"Bb7/D"},{"$f":"$C1428","v":"A7/C#"},{"$f":"$C1427","v":"G#7/C"},{"$f":"$C1426","v":"G7/B"},{"$f":"$C1425","v":"F#7/Bb"},{"$f":"$C1424","v":"F7/A"},{"$f":"$C1423","v":"E7/G#"},{"$f":"$C1422","v":"Eb7/G"},{"$f":"$C1421","v":"D7/F#"},{"$f":"$C1420","v":"C#7/F"},null,"C7/E",1417,null,{"$f":"CONCATENATE(AE1419,VLOOKUP(AF1419,$AH$1647:$AH$1669,1,0))","v":"7/E"},"7/","E"]
[null,1418,{"$f":"CONCATENATE($C$4,AD1420)","v":"C#7/F"},{"$f":"$C1419","v":"C7/E"},{"$f":"$C1430","v":"B7/Eb"},{"$f":"$C1429","v":"Bb7/D"},{"$f":"$C1428","v":"A7/C#"},{"$f":"$C1427","v":"G#7/C"},"G7/B","F#7/Bb","F7/A","E7/G#","Eb7/G","D7/F#",{"$f":"$C1419","v":"C7/E"},{"$f":"$C1430","v":"B7/Eb"},{"$f":"$C1429","v":"Bb7/D"},{"$f":"$C1428","v":"A7/C#"},{"$f":"$C1427","v":"G#7/C"},"G7/B","F#7/Bb","F7/A","E7/G#","Eb7/G","D7/F#",null,"C#7/F",1418,null,{"$f":"CONCATENATE(AE1419,VLOOKUP(AF1420,$AH$1647:$AH$1669,1,0))","v":"7/F"},null,{"$f":"VLOOKUP(AF1419,$AH$1647:$AI$1658,2,0)","v":"F"}]
[null,1419,{"$f":"CONCATENATE($C$5,AD1421)","v":"D7/F#"},{"$f":"$C1420","v":"C#7/F"},{"$f":"$C1419","v":"C7/E"},{"$f":"$C1430","v":"B7/Eb"},{"$f":"$C1429","v":"Bb7/D"},{"$f":"$C1428","v":"A7/C#"},"G#7/C","G7/B","F#7/Bb","F7/A","E7/G#","Eb7/G",{"$f":"$C1420","v":"C#7/F"},{"$f":"$C1419","v":"C7/E"},{"$f":"$C1430","v":"B7/Eb"},{"$f":"$C1429","v":"Bb7/D"},{"$f":"$C1428","v":"A7/C#"},"G#7/C","G7/B","F#7/Bb","F7/A","E7/G#","Eb7/G",null,"D7/F#",1419,null,{"$f":"CONCATENATE(AE1419,VLOOKUP(AF1421,$AH$1647:$AH$1669,1,0))","v":"7/F#"},null,"F#"]
[null,1420,{"$f":"CONCATENATE($C$6,AD1422)","v":"Eb7/G"},"D7/F#",{"$f":"$C1420","v":"C#7/F"},{"$f":"$C1419","v":"C7/E"},{"$f":"$C1430","v":"B7/Eb"},{"$f":"$C1429","v":"Bb7/D"},"A7/C#","G#7/C","G7/B","F#7/Bb","F7/A","E7/G#","D7/F#",{"$f":"$C1420","v":"C#7/F"},{"$f":"$C1419","v":"C7/E"},{"$f":"$C1430","v":"B7/Eb"},{"$f":"$C1429","v":"Bb7/D"},"A7/C#","G#7/C","G7/B","F#7/Bb","F7/A","E7/G#",null,"Eb7/G",1420,null,{"$f":"CONCATENATE(AE1419,VLOOKUP(AF1422,$AH$1647:$AH$1669,1,0))","v":"7/G"},null,"G"]
[null,1421,{"$f":"CONCATENATE($C$7,AD1423)","v":"E7/G#"},"Eb7/G","D7/F#",{"$f":"$C1420","v":"C#7/F"},{"$f":"$C1419","v":"C7/E"},{"$f":"$C1430","v":"B7/Eb"},"Bb7/D","A7/C#","G#7/C","G7/B","F#7/Bb","F7/A","Eb7/G","D7/F#",{"$f":"$C1420","v":"C#7/F"},{"$f":"$C1419","v":"C7/E"},{"$f":"$C1430","v":"B7/Eb"},"Bb7/D","A7/C#","G#7/C","G7/B","F#7/Bb","F7/A",null,"E7/G#",1421,null,{"$f":"CONCATENATE(AE1419,VLOOKUP(AF1423,$AH$1647:$AH$1669,1,0))","v":"7/G#"},null,"G#"]
[null,1422,{"$f":"CONCATENATE($C$8,AD1424)","v":"F7/A"},"E7/G#","Eb7/G","D7/F#",{"$f":"$C1420","v":"C#7/F"},{"$f":"$C1419","v":"C7/E"},"B7/Eb","Bb7/D","A7/C#","G#7/C","G7/B","F#7/Bb","E7/G#","Eb7/G","D7/F#",{"$f":"$C1420","v":"C#7/F"},{"$f":"$C1419","v":"C7/E"},"B7/Eb","Bb7/D","A7/C#","G#7/C","G7/B","F#7/Bb",null,"F7/A",1422,null,{"$f":"CONCATENATE(AE1419,VLOOKUP(AF1424,$AH$1647:$AH$1669,1,0))","v":"7/A"},null,"A"]
[null,1423,{"$f":"CONCATENATE($C$9,AD1425)","v":"F#7/Bb"},"F7/A","E7/G#","Eb7/G","D7/F#",{"$f":"$C1420","v":"C#7/F"},{"$f":"$C1419","v":"C7/E"},{"$f":"$C1430","v":"B7/Eb"},"Bb7/D","A7/C#","G#7/C","G7/B","F7/A","E7/G#","Eb7/G","D7/F#",{"$f":"$C1420","v":"C#7/F"},{"$f":"$C1419","v":"C7/E"},{"$f":"$C1430","v":"B7/Eb"},"Bb7/D","A7/C#","G#7/C","G7/B",null,"F#7/Bb",1423,null,{"$f":"CONCATENATE(AE1419,VLOOKUP(AF1425,$AH$1647:$AH$1669,1,0))","v":"7/Bb"},null,"Bb"]
[null,1424,{"$f":"CONCATENATE($C$10,AD1426)","v":"G7/B"},"F#7/Bb","F7/A","E7/G#","Eb7/G","D7/F#","C#7/F",{"$f":"$C1419","v":"C7/E"},{"$f":"$C1430","v":"B7/Eb"},"Bb7/D","A7/C#","G#7/C","F#7/Bb","F7/A","E7/G#","Eb7/G","D7/F#","C#7/F",{"$f":"$C1419","v":"C7/E"},{"$f":"$C1430","v":"B7/Eb"},"Bb7/D","A7/C#","G#7/C",null,"G7/B",1424,null,{"$f":"CONCATENATE(AE1419,VLOOKUP(AF1426,$AH$1647:$AH$1669,1,0))","v":"7/B"},null,"B"]
[null,1425,{"$f":"CONCATENATE($C$11,AD1427)","v":"G#7/C"},"G7/B","F#7/Bb","F7/A","E7/G#","Eb7/G","D7/F#",{"$f":"$C1420","v":"C#7/F"},{"$f":"$C1419","v":"C7/E"},{"$f":"$C1430","v":"B7/Eb"},"Bb7/D","A7/C#","G7/B","F#7/Bb","F7/A","E7/G#","Eb7/G","D7/F#",{"$f":"$C1420","v":"C#7/F"},{"$f":"$C1419","v":"C7/E"},{"$f":"$C1430","v":"B7/Eb"},"Bb7/D","A7/C#",null,"G#7/C",1425,null,{"$f":"CONCATENATE(AE1419,VLOOKUP(AF1427,$AH$1647:$AH$1669,1,0))","v":"7/C"},null,"C"]
[null,1426,{"$f":"CONCATENATE($C$12,AD1428)","v":"A7/C#"},"G#7/C","G7/B","F#7/Bb","F7/A","E7/G#","Eb7/G",{"$f":"$C1421","v":"D7/F#"},{"$f":"$C1420","v":"C#7/F"},{"$f":"$C1419","v":"C7/E"},{"$f":"$C1430","v":"B7/Eb"},"Bb7/D","G#7/C","G7/B","F#7/Bb","F7/A","E7/G#","Eb7/G",{"$f":"$C1421","v":"D7/F#"},{"$f":"$C1420","v":"C#7/F"},{"$f":"$C1419","v":"C7/E"},{"$f":"$C1430","v":"B7/Eb"},"Bb7/D",null,"A7/C#",1426,null,{"$f":"CONCATENATE(AE1419,VLOOKUP(AF1428,$AH$1647:$AH$1669,1,0))","v":"7/C#"},null,"C#"]
[null,1427,{"$f":"CONCATENATE($C$13,AD1429)","v":"Bb7/D"},"A7/C#","G#7/C","G7/B","F#7/Bb","F7/A","E7/G#",{"$f":"$C1422","v":"Eb7/G"},{"$f":"$C1421","v":"D7/F#"},{"$f":"$C1420","v":"C#7/F"},{"$f":"$C1419","v":"C7/E"},{"$f":"$C1430","v":"B7/Eb"},"A7/C#","G#7/C","G7/B","F#7/Bb","F7/A","E7/G#",{"$f":"$C1422","v":"Eb7/G"},{"$f":"$C1421","v":"D7/F#"},{"$f":"$C1420","v":"C#7/F"},{"$f":"$C1419","v":"C7/E"},{"$f":"$C1430","v":"B7/Eb"},null,"Bb7/D",1427,null,{"$f":"CONCATENATE(AE1419,VLOOKUP(AF1429,$AH$1647:$AH$1669,1,0))","v":"7/D"},null,"D"]
[null,1428,{"$f":"CONCATENATE($C$14,AD1430)","v":"B7/Eb"},"Bb7/D","A7/C#","G#7/C","G7/B","F#7/Bb","F7/A",{"$f":"$C1423","v":"E7/G#"},{"$f":"$C1422","v":"Eb7/G"},{"$f":"$C1421","v":"D7/F#"},{"$f":"$C1420","v":"C#7/F"},{"$f":"$C1419","v":"C7/E"},"Bb7/D","A7/C#","G#7/C","G7/B","F#7/Bb","F7/A",{"$f":"$C1423","v":"E7/G#"},{"$f":"$C1422","v":"Eb7/G"},{"$f":"$C1421","v":"D7/F#"},{"$f":"$C1420","v":"C#7/F"},{"$f":"$C1419","v":"C7/E"},null,"B7/Eb",1428,null,{"$f":"CONCATENATE(AE1419,VLOOKUP(AF1430,$AH$1647:$AH$1669,1,0))","v":"7/Eb"},null,"Eb"]
[null,1429,{"$f":"CONCATENATE($C$3,AD1431)","v":"C7/F"},{"$f":"$C1442","v":"B7/E"},{"$f":"$C1441","v":"Bb7/Eb"},{"$f":"$C1440","v":"A7/D"},{"$f":"$C1439","v":"G#7/C#"},{"$f":"$C1438","v":"G7/C"},{"$f":"$C1437","v":"F#7/B"},{"$f":"$C1436","v":"F7/Bb"},{"$f":"$C1435","v":"E7/A"},{"$f":"$C1434","v":"Eb7/G#"},{"$f":"$C1433","v":"D7/G"},{"$f":"$C1432","v":"C#7/F#"},{"$f":"$C1442","v":"B7/E"},{"$f":"$C1441","v":"Bb7/Eb"},{"$f":"$C1440","v":"A7/D"},{"$f":"$C1439","v":"G#7/C#"},{"$f":"$C1438","v":"G7/C"},{"$f":"$C1437","v":"F#7/B"},{"$f":"$C1436","v":"F7/Bb"},{"$f":"$C1435","v":"E7/A"},{"$f":"$C1434","v":"Eb7/G#"},{"$f":"$C1433","v":"D7/G"},{"$f":"$C1432","v":"C#7/F#"},null,"C7/F",1429,null,{"$f":"CONCATENATE(AE1431,VLOOKUP(AF1431,$AH$1647:$AH$1669,1,0))","v":"7/F"},"7/","F"]
[null,1430,{"$f":"CONCATENATE($C$4,AD1432)","v":"C#7/F#"},{"$f":"$C1431","v":"C7/F"},{"$f":"$C1442","v":"B7/E"},{"$f":"$C1441","v":"Bb7/Eb"},{"$f":"$C1440","v":"A7/D"},{"$f":"$C1439","v":"G#7/C#"},"G7/C","F#7/B","F7/Bb","E7/A","Eb7/G#","D7/G",{"$f":"$C1431","v":"C7/F"},{"$f":"$C1442","v":"B7/E"},{"$f":"$C1441","v":"Bb7/Eb"},{"$f":"$C1440","v":"A7/D"},{"$f":"$C1439","v":"G#7/C#"},"G7/C","F#7/B","F7/Bb","E7/A","Eb7/G#","D7/G",null,"C#7/F#",1430,null,{"$f":"CONCATENATE(AE1431,VLOOKUP(AF1432,$AH$1647:$AH$1669,1,0))","v":"7/F#"},null,{"$f":"VLOOKUP(AF1431,$AH$1647:$AI$1658,2,0)","v":"F#"}]
[null,1431,{"$f":"CONCATENATE($C$5,AD1433)","v":"D7/G"},{"$f":"$C1432","v":"C#7/F#"},{"$f":"$C1431","v":"C7/F"},{"$f":"$C1442","v":"B7/E"},{"$f":"$C1441","v":"Bb7/Eb"},{"$f":"$C1440","v":"A7/D"},"G#7/C#","G7/C","F#7/B","F7/Bb","E7/A","Eb7/G#",{"$f":"$C1432","v":"C#7/F#"},{"$f":"$C1431","v":"C7/F"},{"$f":"$C1442","v":"B7/E"},{"$f":"$C1441","v":"Bb7/Eb"},{"$f":"$C1440","v":"A7/D"},"G#7/C#","G7/C","F#7/B","F7/Bb","E7/A","Eb7/G#",null,"D7/G",1431,null,{"$f":"CONCATENATE(AE1431,VLOOKUP(AF1433,$AH$1647:$AH$1669,1,0))","v":"7/G"},null,"G"]
[null,1432,{"$f":"CONCATENATE($C$6,AD1434)","v":"Eb7/G#"},"D7/G",{"$f":"$C1432","v":"C#7/F#"},{"$f":"$C1431","v":"C7/F"},{"$f":"$C1442","v":"B7/E"},{"$f":"$C1441","v":"Bb7/Eb"},"A7/D","G#7/C#","G7/C","F#7/B","F7/Bb","E7/A","D7/G",{"$f":"$C1432","v":"C#7/F#"},{"$f":"$C1431","v":"C7/F"},{"$f":"$C1442","v":"B7/E"},{"$f":"$C1441","v":"Bb7/Eb"},"A7/D","G#7/C#","G7/C","F#7/B","F7/Bb","E7/A",null,"Eb7/G#",1432,null,{"$f":"CONCATENATE(AE1431,VLOOKUP(AF1434,$AH$1647:$AH$1669,1,0))","v":"7/G#"},null,"G#"]
[null,1433,{"$f":"CONCATENATE($C$7,AD1435)","v":"E7/A"},"Eb7/G#","D7/G",{"$f":"$C1432","v":"C#7/F#"},{"$f":"$C1431","v":"C7/F"},{"$f":"$C1442","v":"B7/E"},"Bb7/Eb","A7/D","G#7/C#","G7/C","F#7/B","F7/Bb","Eb7/G#","D7/G",{"$f":"$C1432","v":"C#7/F#"},{"$f":"$C1431","v":"C7/F"},{"$f":"$C1442","v":"B7/E"},"Bb7/Eb","A7/D","G#7/C#","G7/C","F#7/B","F7/Bb",null,"E7/A",1433,null,{"$f":"CONCATENATE(AE1431,VLOOKUP(AF1435,$AH$1647:$AH$1669,1,0))","v":"7/A"},null,"A"]
[null,1434,{"$f":"CONCATENATE($C$8,AD1436)","v":"F7/Bb"},"E7/A","Eb7/G#","D7/G",{"$f":"$C1432","v":"C#7/F#"},{"$f":"$C1431","v":"C7/F"},"B7/E","Bb7/Eb","A7/D","G#7/C#","G7/C","F#7/B","E7/A","Eb7/G#","D7/G",{"$f":"$C1432","v":"C#7/F#"},{"$f":"$C1431","v":"C7/F"},"B7/E","Bb7/Eb","A7/D","G#7/C#","G7/C","F#7/B",null,"F7/Bb",1434,null,{"$f":"CONCATENATE(AE1431,VLOOKUP(AF1436,$AH$1647:$AH$1669,1,0))","v":"7/Bb"},null,"Bb"]
[null,1435,{"$f":"CONCATENATE($C$9,AD1437)","v":"F#7/B"},"F7/Bb","E7/A","Eb7/G#","D7/G",{"$f":"$C1432","v":"C#7/F#"},{"$f":"$C1431","v":"C7/F"},{"$f":"$C1442","v":"B7/E"},"Bb7/Eb","A7/D","G#7/C#","G7/C","F7/Bb","E7/A","Eb7/G#","D7/G",{"$f":"$C1432","v":"C#7/F#"},{"$f":"$C1431","v":"C7/F"},{"$f":"$C1442","v":"B7/E"},"Bb7/Eb","A7/D","G#7/C#","G7/C",null,"F#7/B",1435,null,{"$f":"CONCATENATE(AE1431,VLOOKUP(AF1437,$AH$1647:$AH$1669,1,0))","v":"7/B"},null,"B"]
[null,1436,{"$f":"CONCATENATE($C$10,AD1438)","v":"G7/C"},"F#7/B","F7/Bb","E7/A","Eb7/G#","D7/G","C#7/F#",{"$f":"$C1431","v":"C7/F"},{"$f":"$C1442","v":"B7/E"},"Bb7/Eb","A7/D","G#7/C#","F#7/B","F7/Bb","E7/A","Eb7/G#","D7/G","C#7/F#",{"$f":"$C1431","v":"C7/F"},{"$f":"$C1442","v":"B7/E"},"Bb7/Eb","A7/D","G#7/C#",null,"G7/C",1436,null,{"$f":"CONCATENATE(AE1431,VLOOKUP(AF1438,$AH$1647:$AH$1669,1,0))","v":"7/C"},null,"C"]
[null,1437,{"$f":"CONCATENATE($C$11,AD1439)","v":"G#7/C#"},"G7/C","F#7/B","F7/Bb","E7/A","Eb7/G#","D7/G",{"$f":"$C1432","v":"C#7/F#"},{"$f":"$C1431","v":"C7/F"},{"$f":"$C1442","v":"B7/E"},"Bb7/Eb","A7/D","G7/C","F#7/B","F7/Bb","E7/A","Eb7/G#","D7/G",{"$f":"$C1432","v":"C#7/F#"},{"$f":"$C1431","v":"C7/F"},{"$f":"$C1442","v":"B7/E"},"Bb7/Eb","A7/D",null,"G#7/C#",1437,null,{"$f":"CONCATENATE(AE1431,VLOOKUP(AF1439,$AH$1647:$AH$1669,1,0))","v":"7/C#"},null,"C#"]
[null,1438,{"$f":"CONCATENATE($C$12,AD1440)","v":"A7/D"},"G#7/C#","G7/C","F#7/B","F7/Bb","E7/A","Eb7/G#",{"$f":"$C1433","v":"D7/G"},{"$f":"$C1432","v":"C#7/F#"},{"$f":"$C1431","v":"C7/F"},{"$f":"$C1442","v":"B7/E"},"Bb7/Eb","G#7/C#","G7/C","F#7/B","F7/Bb","E7/A","Eb7/G#",{"$f":"$C1433","v":"D7/G"},{"$f":"$C1432","v":"C#7/F#"},{"$f":"$C1431","v":"C7/F"},{"$f":"$C1442","v":"B7/E"},"Bb7/Eb",null,"A7/D",1438,null,{"$f":"CONCATENATE(AE1431,VLOOKUP(AF1440,$AH$1647:$AH$1669,1,0))","v":"7/D"},null,"D"]
[null,1439,{"$f":"CONCATENATE($C$13,AD1441)","v":"Bb7/Eb"},"A7/D","G#7/C#","G7/C","F#7/B","F7/Bb","E7/A",{"$f":"$C1434","v":"Eb7/G#"},{"$f":"$C1433","v":"D7/G"},{"$f":"$C1432","v":"C#7/F#"},{"$f":"$C1431","v":"C7/F"},{"$f":"$C1442","v":"B7/E"},"A7/D","G#7/C#","G7/C","F#7/B","F7/Bb","E7/A",{"$f":"$C1434","v":"Eb7/G#"},{"$f":"$C1433","v":"D7/G"},{"$f":"$C1432","v":"C#7/F#"},{"$f":"$C1431","v":"C7/F"},{"$f":"$C1442","v":"B7/E"},null,"Bb7/Eb",1439,null,{"$f":"CONCATENATE(AE1431,VLOOKUP(AF1441,$AH$1647:$AH$1669,1,0))","v":"7/Eb"},null,"Eb"]
[null,1440,{"$f":"CONCATENATE($C$14,AD1442)","v":"B7/E"},"Bb7/Eb","A7/D","G#7/C#","G7/C","F#7/B","F7/Bb",{"$f":"$C1435","v":"E7/A"},{"$f":"$C1434","v":"Eb7/G#"},{"$f":"$C1433","v":"D7/G"},{"$f":"$C1432","v":"C#7/F#"},{"$f":"$C1431","v":"C7/F"},"Bb7/Eb","A7/D","G#7/C#","G7/C","F#7/B","F7/Bb",{"$f":"$C1435","v":"E7/A"},{"$f":"$C1434","v":"Eb7/G#"},{"$f":"$C1433","v":"D7/G"},{"$f":"$C1432","v":"C#7/F#"},{"$f":"$C1431","v":"C7/F"},null,"B7/E",1440,null,{"$f":"CONCATENATE(AE1431,VLOOKUP(AF1442,$AH$1647:$AH$1669,1,0))","v":"7/E"},null,"E"]
[null,1441,{"$f":"CONCATENATE($C$3,AD1443)","v":"C7/G#"},{"$f":"$C1454","v":"B7/G"},{"$f":"$C1453","v":"Bb7/F#"},{"$f":"$C1452","v":"A7/F"},{"$f":"$C1451","v":"G#7/E"},{"$f":"$C1450","v":"G7/Eb"},{"$f":"$C1449","v":"F#7/D"},{"$f":"$C1448","v":"F7/C#"},{"$f":"$C1447","v":"E7/C"},{"$f":"$C1446","v":"Eb7/B"},{"$f":"$C1445","v":"D7/Bb"},{"$f":"$C1444","v":"C#7/A"},{"$f":"$C1454","v":"B7/G"},{"$f":"$C1453","v":"Bb7/F#"},{"$f":"$C1452","v":"A7/F"},{"$f":"$C1451","v":"G#7/E"},{"$f":"$C1450","v":"G7/Eb"},{"$f":"$C1449","v":"F#7/D"},{"$f":"$C1448","v":"F7/C#"},{"$f":"$C1447","v":"E7/C"},{"$f":"$C1446","v":"Eb7/B"},{"$f":"$C1445","v":"D7/Bb"},{"$f":"$C1444","v":"C#7/A"},null,"C7/G#",1441,null,{"$f":"CONCATENATE(AE1443,VLOOKUP(AF1443,$AH$1647:$AH$1669,1,0))","v":"7/G#"},"7/",{"$f":"IF(印刷用!$Z$12=1,$AK$1653,$AK$1652)","v":"G#"}]
[null,1442,{"$f":"CONCATENATE($C$4,AD1444)","v":"C#7/A"},{"$f":"$C1443","v":"C7/G#"},{"$f":"$C1454","v":"B7/G"},{"$f":"$C1453","v":"Bb7/F#"},{"$f":"$C1452","v":"A7/F"},{"$f":"$C1451","v":"G#7/E"},"G7/Eb","F#7/D","F7/C#","E7/C","Eb7/B","D7/Bb",{"$f":"$C1443","v":"C7/G#"},{"$f":"$C1454","v":"B7/G"},{"$f":"$C1453","v":"Bb7/F#"},{"$f":"$C1452","v":"A7/F"},{"$f":"$C1451","v":"G#7/E"},"G7/Eb","F#7/D","F7/C#","E7/C","Eb7/B","D7/Bb",null,"C#7/A",1442,null,{"$f":"CONCATENATE(AE1443,VLOOKUP(AF1444,$AH$1647:$AH$1669,1,0))","v":"7/A"},null,{"$f":"VLOOKUP(AF1443,$AH$1647:$AI$1658,2,0)","v":"A"}]
[null,1443,{"$f":"CONCATENATE($C$5,AD1445)","v":"D7/Bb"},{"$f":"$C1444","v":"C#7/A"},{"$f":"$C1443","v":"C7/G#"},{"$f":"$C1454","v":"B7/G"},{"$f":"$C1453","v":"Bb7/F#"},{"$f":"$C1452","v":"A7/F"},"G#7/E","G7/Eb","F#7/D","F7/C#","E7/C","Eb7/B",{"$f":"$C1444","v":"C#7/A"},{"$f":"$C1443","v":"C7/G#"},{"$f":"$C1454","v":"B7/G"},{"$f":"$C1453","v":"Bb7/F#"},{"$f":"$C1452","v":"A7/F"},"G#7/E","G7/Eb","F#7/D","F7/C#","E7/C","Eb7/B",null,"D7/Bb",1443,null,{"$f":"CONCATENATE(AE1443,VLOOKUP(AF1445,$AH$1647:$AH$1669,1,0))","v":"7/Bb"},null,"Bb"]
[null,1444,{"$f":"CONCATENATE($C$6,AD1446)","v":"Eb7/B"},"D7/Bb",{"$f":"$C1444","v":"C#7/A"},{"$f":"$C1443","v":"C7/G#"},{"$f":"$C1454","v":"B7/G"},{"$f":"$C1453","v":"Bb7/F#"},"A7/F","G#7/E","G7/Eb","F#7/D","F7/C#","E7/C","D7/Bb",{"$f":"$C1444","v":"C#7/A"},{"$f":"$C1443","v":"C7/G#"},{"$f":"$C1454","v":"B7/G"},{"$f":"$C1453","v":"Bb7/F#"},"A7/F","G#7/E","G7/Eb","F#7/D","F7/C#","E7/C",null,"Eb7/B",1444,null,{"$f":"CONCATENATE(AE1443,VLOOKUP(AF1446,$AH$1647:$AH$1669,1,0))","v":"7/B"},null,"B"]
[null,1445,{"$f":"CONCATENATE($C$7,AD1447)","v":"E7/C"},"Eb7/B","D7/Bb",{"$f":"$C1444","v":"C#7/A"},{"$f":"$C1443","v":"C7/G#"},{"$f":"$C1454","v":"B7/G"},"Bb7/F#","A7/F","G#7/E","G7/Eb","F#7/D","F7/C#","Eb7/B","D7/Bb",{"$f":"$C1444","v":"C#7/A"},{"$f":"$C1443","v":"C7/G#"},{"$f":"$C1454","v":"B7/G"},"Bb7/F#","A7/F","G#7/E","G7/Eb","F#7/D","F7/C#",null,"E7/C",1445,null,{"$f":"CONCATENATE(AE1443,VLOOKUP(AF1447,$AH$1647:$AH$1669,1,0))","v":"7/C"},null,"C"]
[null,1446,{"$f":"CONCATENATE($C$8,AD1448)","v":"F7/C#"},"E7/C","Eb7/B","D7/Bb",{"$f":"$C1444","v":"C#7/A"},{"$f":"$C1443","v":"C7/G#"},"B7/G","Bb7/F#","A7/F","G#7/E","G7/Eb","F#7/D","E7/C","Eb7/B","D7/Bb",{"$f":"$C1444","v":"C#7/A"},{"$f":"$C1443","v":"C7/G#"},"B7/G","Bb7/F#","A7/F","G#7/E","G7/Eb","F#7/D",null,"F7/C#",1446,null,{"$f":"CONCATENATE(AE1443,VLOOKUP(AF1448,$AH$1647:$AH$1669,1,0))","v":"7/C#"},null,"C#"]
[null,1447,{"$f":"CONCATENATE($C$9,AD1449)","v":"F#7/D"},"F7/C#","E7/C","Eb7/B","D7/Bb",{"$f":"$C1444","v":"C#7/A"},{"$f":"$C1443","v":"C7/G#"},{"$f":"$C1454","v":"B7/G"},"Bb7/F#","A7/F","G#7/E","G7/Eb","F7/C#","E7/C","Eb7/B","D7/Bb",{"$f":"$C1444","v":"C#7/A"},{"$f":"$C1443","v":"C7/G#"},{"$f":"$C1454","v":"B7/G"},"Bb7/F#","A7/F","G#7/E","G7/Eb",null,"F#7/D",1447,null,{"$f":"CONCATENATE(AE1443,VLOOKUP(AF1449,$AH$1647:$AH$1669,1,0))","v":"7/D"},null,"D"]
[null,1448,{"$f":"CONCATENATE($C$10,AD1450)","v":"G7/Eb"},"F#7/D","F7/C#","E7/C","Eb7/B","D7/Bb","C#7/A",{"$f":"$C1443","v":"C7/G#"},{"$f":"$C1454","v":"B7/G"},"Bb7/F#","A7/F","G#7/E","F#7/D","F7/C#","E7/C","Eb7/B","D7/Bb","C#7/A",{"$f":"$C1443","v":"C7/G#"},{"$f":"$C1454","v":"B7/G"},"Bb7/F#","A7/F","G#7/E",null,"G7/Eb",1448,null,{"$f":"CONCATENATE(AE1443,VLOOKUP(AF1450,$AH$1647:$AH$1669,1,0))","v":"7/Eb"},null,"Eb"]
[null,1449,{"$f":"CONCATENATE($C$11,AD1451)","v":"G#7/E"},"G7/Eb","F#7/D","F7/C#","E7/C","Eb7/B","D7/Bb",{"$f":"$C1444","v":"C#7/A"},{"$f":"$C1443","v":"C7/G#"},{"$f":"$C1454","v":"B7/G"},"Bb7/F#","A7/F","G7/Eb","F#7/D","F7/C#","E7/C","Eb7/B","D7/Bb",{"$f":"$C1444","v":"C#7/A"},{"$f":"$C1443","v":"C7/G#"},{"$f":"$C1454","v":"B7/G"},"Bb7/F#","A7/F",null,"G#7/E",1449,null,{"$f":"CONCATENATE(AE1443,VLOOKUP(AF1451,$AH$1647:$AH$1669,1,0))","v":"7/E"},null,"E"]
[null,1450,{"$f":"CONCATENATE($C$12,AD1452)","v":"A7/F"},"G#7/E","G7/Eb","F#7/D","F7/C#","E7/C","Eb7/B",{"$f":"$C1445","v":"D7/Bb"},{"$f":"$C1444","v":"C#7/A"},{"$f":"$C1443","v":"C7/G#"},{"$f":"$C1454","v":"B7/G"},"Bb7/F#","G#7/E","G7/Eb","F#7/D","F7/C#","E7/C","Eb7/B",{"$f":"$C1445","v":"D7/Bb"},{"$f":"$C1444","v":"C#7/A"},{"$f":"$C1443","v":"C7/G#"},{"$f":"$C1454","v":"B7/G"},"Bb7/F#",null,"A7/F",1450,null,{"$f":"CONCATENATE(AE1443,VLOOKUP(AF1452,$AH$1647:$AH$1669,1,0))","v":"7/F"},null,"F"]
[null,1451,{"$f":"CONCATENATE($C$13,AD1453)","v":"Bb7/F#"},"A7/F","G#7/E","G7/Eb","F#7/D","F7/C#","E7/C",{"$f":"$C1446","v":"Eb7/B"},{"$f":"$C1445","v":"D7/Bb"},{"$f":"$C1444","v":"C#7/A"},{"$f":"$C1443","v":"C7/G#"},{"$f":"$C1454","v":"B7/G"},"A7/F","G#7/E","G7/Eb","F#7/D","F7/C#","E7/C",{"$f":"$C1446","v":"Eb7/B"},{"$f":"$C1445","v":"D7/Bb"},{"$f":"$C1444","v":"C#7/A"},{"$f":"$C1443","v":"C7/G#"},{"$f":"$C1454","v":"B7/G"},null,"Bb7/F#",1451,null,{"$f":"CONCATENATE(AE1443,VLOOKUP(AF1453,$AH$1647:$AH$1669,1,0))","v":"7/F#"},null,"F#"]
[null,1452,{"$f":"CONCATENATE($C$14,AD1454)","v":"B7/G"},"Bb7/F#","A7/F","G#7/E","G7/Eb","F#7/D","F7/C#",{"$f":"$C1447","v":"E7/C"},{"$f":"$C1446","v":"Eb7/B"},{"$f":"$C1445","v":"D7/Bb"},{"$f":"$C1444","v":"C#7/A"},{"$f":"$C1443","v":"C7/G#"},"Bb7/F#","A7/F","G#7/E","G7/Eb","F#7/D","F7/C#",{"$f":"$C1447","v":"E7/C"},{"$f":"$C1446","v":"Eb7/B"},{"$f":"$C1445","v":"D7/Bb"},{"$f":"$C1444","v":"C#7/A"},{"$f":"$C1443","v":"C7/G#"},null,"B7/G",1452,null,{"$f":"CONCATENATE(AE1443,VLOOKUP(AF1454,$AH$1647:$AH$1669,1,0))","v":"7/G"},null,"G"]
[null,1453,{"$f":"CONCATENATE($C$3,AD1455)","v":"C7/G"},{"$f":"$C1466","v":"B7/F#"},{"$f":"$C1465","v":"Bb7/F"},{"$f":"$C1464","v":"A7/E"},{"$f":"$C1463","v":"G#7/Eb"},{"$f":"$C1462","v":"G7/D"},{"$f":"$C1461","v":"F#7/C#"},{"$f":"$C1460","v":"F7/C"},{"$f":"$C1459","v":"E7/B"},{"$f":"$C1458","v":"Eb7/Bb"},{"$f":"$C1457","v":"D7/A"},{"$f":"$C1456","v":"C#7/G#"},{"$f":"$C1466","v":"B7/F#"},{"$f":"$C1465","v":"Bb7/F"},{"$f":"$C1464","v":"A7/E"},{"$f":"$C1463","v":"G#7/Eb"},{"$f":"$C1462","v":"G7/D"},{"$f":"$C1461","v":"F#7/C#"},{"$f":"$C1460","v":"F7/C"},{"$f":"$C1459","v":"E7/B"},{"$f":"$C1458","v":"Eb7/Bb"},{"$f":"$C1457","v":"D7/A"},{"$f":"$C1456","v":"C#7/G#"},null,"C7/G",1453,null,{"$f":"CONCATENATE(AE1455,VLOOKUP(AF1455,$AH$1647:$AH$1669,1,0))","v":"7/G"},"7/","G"]
[null,1454,{"$f":"CONCATENATE($C$4,AD1456)","v":"C#7/G#"},{"$f":"$C1455","v":"C7/G"},{"$f":"$C1466","v":"B7/F#"},{"$f":"$C1465","v":"Bb7/F"},{"$f":"$C1464","v":"A7/E"},{"$f":"$C1463","v":"G#7/Eb"},"G7/D","F#7/C#","F7/C","E7/B","Eb7/Bb","D7/A",{"$f":"$C1455","v":"C7/G"},{"$f":"$C1466","v":"B7/F#"},{"$f":"$C1465","v":"Bb7/F"},{"$f":"$C1464","v":"A7/E"},{"$f":"$C1463","v":"G#7/Eb"},"G7/D","F#7/C#","F7/C","E7/B","Eb7/Bb","D7/A",null,"C#7/G#",1454,null,{"$f":"CONCATENATE(AE1455,VLOOKUP(AF1456,$AH$1647:$AH$1669,1,0))","v":"7/G#"},null,{"$f":"VLOOKUP(AF1455,$AH$1647:$AI$1658,2,0)","v":"G#"}]
[null,1455,{"$f":"CONCATENATE($C$5,AD1457)","v":"D7/A"},{"$f":"$C1456","v":"C#7/G#"},{"$f":"$C1455","v":"C7/G"},{"$f":"$C1466","v":"B7/F#"},{"$f":"$C1465","v":"Bb7/F"},{"$f":"$C1464","v":"A7/E"},"G#7/Eb","G7/D","F#7/C#","F7/C","E7/B","Eb7/Bb",{"$f":"$C1456","v":"C#7/G#"},{"$f":"$C1455","v":"C7/G"},{"$f":"$C1466","v":"B7/F#"},{"$f":"$C1465","v":"Bb7/F"},{"$f":"$C1464","v":"A7/E"},"G#7/Eb","G7/D","F#7/C#","F7/C","E7/B","Eb7/Bb",null,"D7/A",1455,null,{"$f":"CONCATENATE(AE1455,VLOOKUP(AF1457,$AH$1647:$AH$1669,1,0))","v":"7/A"},null,"A"]
[null,1456,{"$f":"CONCATENATE($C$6,AD1458)","v":"Eb7/Bb"},"D7/A",{"$f":"$C1456","v":"C#7/G#"},{"$f":"$C1455","v":"C7/G"},{"$f":"$C1466","v":"B7/F#"},{"$f":"$C1465","v":"Bb7/F"},"A7/E","G#7/Eb","G7/D","F#7/C#","F7/C","E7/B","D7/A",{"$f":"$C1456","v":"C#7/G#"},{"$f":"$C1455","v":"C7/G"},{"$f":"$C1466","v":"B7/F#"},{"$f":"$C1465","v":"Bb7/F"},"A7/E","G#7/Eb","G7/D","F#7/C#","F7/C","E7/B",null,"Eb7/Bb",1456,null,{"$f":"CONCATENATE(AE1455,VLOOKUP(AF1458,$AH$1647:$AH$1669,1,0))","v":"7/Bb"},null,"Bb"]
[null,1457,{"$f":"CONCATENATE($C$7,AD1459)","v":"E7/B"},"Eb7/Bb","D7/A",{"$f":"$C1456","v":"C#7/G#"},{"$f":"$C1455","v":"C7/G"},{"$f":"$C1466","v":"B7/F#"},"Bb7/F","A7/E","G#7/Eb","G7/D","F#7/C#","F7/C","Eb7/Bb","D7/A",{"$f":"$C1456","v":"C#7/G#"},{"$f":"$C1455","v":"C7/G"},{"$f":"$C1466","v":"B7/F#"},"Bb7/F","A7/E","G#7/Eb","G7/D","F#7/C#","F7/C",null,"E7/B",1457,null,{"$f":"CONCATENATE(AE1455,VLOOKUP(AF1459,$AH$1647:$AH$1669,1,0))","v":"7/B"},null,"B"]
[null,1458,{"$f":"CONCATENATE($C$8,AD1460)","v":"F7/C"},"E7/B","Eb7/Bb","D7/A",{"$f":"$C1456","v":"C#7/G#"},{"$f":"$C1455","v":"C7/G"},"B7/F#","Bb7/F","A7/E","G#7/Eb","G7/D","F#7/C#","E7/B","Eb7/Bb","D7/A",{"$f":"$C1456","v":"C#7/G#"},{"$f":"$C1455","v":"C7/G"},"B7/F#","Bb7/F","A7/E","G#7/Eb","G7/D","F#7/C#",null,"F7/C",1458,null,{"$f":"CONCATENATE(AE1455,VLOOKUP(AF1460,$AH$1647:$AH$1669,1,0))","v":"7/C"},null,"C"]
[null,1459,{"$f":"CONCATENATE($C$9,AD1461)","v":"F#7/C#"},"F7/C","E7/B","Eb7/Bb","D7/A",{"$f":"$C1456","v":"C#7/G#"},{"$f":"$C1455","v":"C7/G"},{"$f":"$C1466","v":"B7/F#"},"Bb7/F","A7/E","G#7/Eb","G7/D","F7/C","E7/B","Eb7/Bb","D7/A",{"$f":"$C1456","v":"C#7/G#"},{"$f":"$C1455","v":"C7/G"},{"$f":"$C1466","v":"B7/F#"},"Bb7/F","A7/E","G#7/Eb","G7/D",null,"F#7/C#",1459,null,{"$f":"CONCATENATE(AE1455,VLOOKUP(AF1461,$AH$1647:$AH$1669,1,0))","v":"7/C#"},null,"C#"]
[null,1460,{"$f":"CONCATENATE($C$10,AD1462)","v":"G7/D"},"F#7/C#","F7/C","E7/B","Eb7/Bb","D7/A","C#7/G#",{"$f":"$C1455","v":"C7/G"},{"$f":"$C1466","v":"B7/F#"},"Bb7/F","A7/E","G#7/Eb","F#7/C#","F7/C","E7/B","Eb7/Bb","D7/A","C#7/G#",{"$f":"$C1455","v":"C7/G"},{"$f":"$C1466","v":"B7/F#"},"Bb7/F","A7/E","G#7/Eb",null,"G7/D",1460,null,{"$f":"CONCATENATE(AE1455,VLOOKUP(AF1462,$AH$1647:$AH$1669,1,0))","v":"7/D"},null,"D"]
[null,1461,{"$f":"CONCATENATE($C$11,AD1463)","v":"G#7/Eb"},"G7/D","F#7/C#","F7/C","E7/B","Eb7/Bb","D7/A",{"$f":"$C1456","v":"C#7/G#"},{"$f":"$C1455","v":"C7/G"},{"$f":"$C1466","v":"B7/F#"},"Bb7/F","A7/E","G7/D","F#7/C#","F7/C","E7/B","Eb7/Bb","D7/A",{"$f":"$C1456","v":"C#7/G#"},{"$f":"$C1455","v":"C7/G"},{"$f":"$C1466","v":"B7/F#"},"Bb7/F","A7/E",null,"G#7/Eb",1461,null,{"$f":"CONCATENATE(AE1455,VLOOKUP(AF1463,$AH$1647:$AH$1669,1,0))","v":"7/Eb"},null,"Eb"]
[null,1462,{"$f":"CONCATENATE($C$12,AD1464)","v":"A7/E"},"G#7/Eb","G7/D","F#7/C#","F7/C","E7/B","Eb7/Bb",{"$f":"$C1457","v":"D7/A"},{"$f":"$C1456","v":"C#7/G#"},{"$f":"$C1455","v":"C7/G"},{"$f":"$C1466","v":"B7/F#"},"Bb7/F","G#7/Eb","G7/D","F#7/C#","F7/C","E7/B","Eb7/Bb",{"$f":"$C1457","v":"D7/A"},{"$f":"$C1456","v":"C#7/G#"},{"$f":"$C1455","v":"C7/G"},{"$f":"$C1466","v":"B7/F#"},"Bb7/F",null,"A7/E",1462,null,{"$f":"CONCATENATE(AE1455,VLOOKUP(AF1464,$AH$1647:$AH$1669,1,0))","v":"7/E"},null,"E"]
[null,1463,{"$f":"CONCATENATE($C$13,AD1465)","v":"Bb7/F"},"A7/E","G#7/Eb","G7/D","F#7/C#","F7/C","E7/B",{"$f":"$C1458","v":"Eb7/Bb"},{"$f":"$C1457","v":"D7/A"},{"$f":"$C1456","v":"C#7/G#"},{"$f":"$C1455","v":"C7/G"},{"$f":"$C1466","v":"B7/F#"},"A7/E","G#7/Eb","G7/D","F#7/C#","F7/C","E7/B",{"$f":"$C1458","v":"Eb7/Bb"},{"$f":"$C1457","v":"D7/A"},{"$f":"$C1456","v":"C#7/G#"},{"$f":"$C1455","v":"C7/G"},{"$f":"$C1466","v":"B7/F#"},null,"Bb7/F",1463,null,{"$f":"CONCATENATE(AE1455,VLOOKUP(AF1465,$AH$1647:$AH$1669,1,0))","v":"7/F"},null,"F"]
[null,1464,{"$f":"CONCATENATE($C$14,AD1466)","v":"B7/F#"},"Bb7/F","A7/E","G#7/Eb","G7/D","F#7/C#","F7/C",{"$f":"$C1459","v":"E7/B"},{"$f":"$C1458","v":"Eb7/Bb"},{"$f":"$C1457","v":"D7/A"},{"$f":"$C1456","v":"C#7/G#"},{"$f":"$C1455","v":"C7/G"},"Bb7/F","A7/E","G#7/Eb","G7/D","F#7/C#","F7/C",{"$f":"$C1459","v":"E7/B"},{"$f":"$C1458","v":"Eb7/Bb"},{"$f":"$C1457","v":"D7/A"},{"$f":"$C1456","v":"C#7/G#"},{"$f":"$C1455","v":"C7/G"},null,"B7/F#",1464,null,{"$f":"CONCATENATE(AE1455,VLOOKUP(AF1466,$AH$1647:$AH$1669,1,0))","v":"7/F#"},null,"F#"]
[null,1465,{"$f":"CONCATENATE($C$3,AD1467)","v":"C7/G#"},{"$f":"$C1478","v":"B7/G"},{"$f":"$C1477","v":"Bb7/F#"},{"$f":"$C1476","v":"A7/F"},{"$f":"$C1475","v":"G#7/E"},{"$f":"$C1474","v":"G7/Eb"},{"$f":"$C1473","v":"F#7/D"},{"$f":"$C1472","v":"F7/C#"},{"$f":"$C1471","v":"E7/C"},{"$f":"$C1470","v":"Eb7/B"},{"$f":"$C1469","v":"D7/Bb"},{"$f":"$C1468","v":"C#7/A"},{"$f":"$C1478","v":"B7/G"},{"$f":"$C1477","v":"Bb7/F#"},{"$f":"$C1476","v":"A7/F"},{"$f":"$C1475","v":"G#7/E"},{"$f":"$C1474","v":"G7/Eb"},{"$f":"$C1473","v":"F#7/D"},{"$f":"$C1472","v":"F7/C#"},{"$f":"$C1471","v":"E7/C"},{"$f":"$C1470","v":"Eb7/B"},{"$f":"$C1469","v":"D7/Bb"},{"$f":"$C1468","v":"C#7/A"},null,{"$f":"C1467","v":"C7/G#"},1465,null,{"$f":"CONCATENATE(AE1467,VLOOKUP(AF1467,$AH$1647:$AH$1669,1,0))","v":"7/G#"},"7/",{"$f":"IF(印刷用!$Z$12=1,$AK$1653,$AK$1654)","v":"G#"}]
[null,1466,{"$f":"CONCATENATE($C$4,AD1468)","v":"C#7/A"},{"$f":"$C1467","v":"C7/G#"},{"$f":"$C1478","v":"B7/G"},{"$f":"$C1477","v":"Bb7/F#"},{"$f":"$C1476","v":"A7/F"},{"$f":"$C1475","v":"G#7/E"},"G7/Eb","F#7/D","F7/C#","E7/C","Eb7/B","D7/Bb",{"$f":"$C1467","v":"C7/G#"},{"$f":"$C1478","v":"B7/G"},{"$f":"$C1477","v":"Bb7/F#"},{"$f":"$C1476","v":"A7/F"},{"$f":"$C1475","v":"G#7/E"},"G7/Eb","F#7/D","F7/C#","E7/C","Eb7/B","D7/Bb",null,"C#7/A",1466,null,{"$f":"CONCATENATE(AE1467,VLOOKUP(AF1468,$AH$1647:$AH$1669,1,0))","v":"7/A"},null,{"$f":"VLOOKUP(AF1467,$AH$1647:$AI$1658,2,0)","v":"A"}]
[null,1467,{"$f":"CONCATENATE($C$5,AD1469)","v":"D7/Bb"},{"$f":"$C1468","v":"C#7/A"},{"$f":"$C1467","v":"C7/G#"},{"$f":"$C1478","v":"B7/G"},{"$f":"$C1477","v":"Bb7/F#"},{"$f":"$C1476","v":"A7/F"},"G#7/E","G7/Eb","F#7/D","F7/C#","E7/C","Eb7/B",{"$f":"$C1468","v":"C#7/A"},{"$f":"$C1467","v":"C7/G#"},{"$f":"$C1478","v":"B7/G"},{"$f":"$C1477","v":"Bb7/F#"},{"$f":"$C1476","v":"A7/F"},"G#7/E","G7/Eb","F#7/D","F7/C#","E7/C","Eb7/B",null,"D7/Bb",1467,null,{"$f":"CONCATENATE(AE1467,VLOOKUP(AF1469,$AH$1647:$AH$1669,1,0))","v":"7/Bb"},null,"Bb"]
[null,1468,{"$f":"CONCATENATE($C$6,AD1470)","v":"Eb7/B"},"D7/Bb",{"$f":"$C1468","v":"C#7/A"},{"$f":"$C1467","v":"C7/G#"},{"$f":"$C1478","v":"B7/G"},{"$f":"$C1477","v":"Bb7/F#"},"A7/F","G#7/E","G7/Eb","F#7/D","F7/C#","E7/C","D7/Bb",{"$f":"$C1468","v":"C#7/A"},{"$f":"$C1467","v":"C7/G#"},{"$f":"$C1478","v":"B7/G"},{"$f":"$C1477","v":"Bb7/F#"},"A7/F","G#7/E","G7/Eb","F#7/D","F7/C#","E7/C",null,"Eb7/B",1468,null,{"$f":"CONCATENATE(AE1467,VLOOKUP(AF1470,$AH$1647:$AH$1669,1,0))","v":"7/B"},null,"B"]
[null,1469,{"$f":"CONCATENATE($C$7,AD1471)","v":"E7/C"},"Eb7/B","D7/Bb",{"$f":"$C1468","v":"C#7/A"},{"$f":"$C1467","v":"C7/G#"},{"$f":"$C1478","v":"B7/G"},"Bb7/F#","A7/F","G#7/E","G7/Eb","F#7/D","F7/C#","Eb7/B","D7/Bb",{"$f":"$C1468","v":"C#7/A"},{"$f":"$C1467","v":"C7/G#"},{"$f":"$C1478","v":"B7/G"},"Bb7/F#","A7/F","G#7/E","G7/Eb","F#7/D","F7/C#",null,"E7/C",1469,null,{"$f":"CONCATENATE(AE1467,VLOOKUP(AF1471,$AH$1647:$AH$1669,1,0))","v":"7/C"},null,"C"]
[null,1470,{"$f":"CONCATENATE($C$8,AD1472)","v":"F7/C#"},"E7/C","Eb7/B","D7/Bb",{"$f":"$C1468","v":"C#7/A"},{"$f":"$C1467","v":"C7/G#"},"B7/G","Bb7/F#","A7/F","G#7/E","G7/Eb","F#7/D","E7/C","Eb7/B","D7/Bb",{"$f":"$C1468","v":"C#7/A"},{"$f":"$C1467","v":"C7/G#"},"B7/G","Bb7/F#","A7/F","G#7/E","G7/Eb","F#7/D",null,"F7/C#",1470,null,{"$f":"CONCATENATE(AE1467,VLOOKUP(AF1472,$AH$1647:$AH$1669,1,0))","v":"7/C#"},null,"C#"]
[null,1471,{"$f":"CONCATENATE($C$9,AD1473)","v":"F#7/D"},"F7/C#","E7/C","Eb7/B","D7/Bb",{"$f":"$C1468","v":"C#7/A"},{"$f":"$C1467","v":"C7/G#"},{"$f":"$C1478","v":"B7/G"},"Bb7/F#","A7/F","G#7/E","G7/Eb","F7/C#","E7/C","Eb7/B","D7/Bb",{"$f":"$C1468","v":"C#7/A"},{"$f":"$C1467","v":"C7/G#"},{"$f":"$C1478","v":"B7/G"},"Bb7/F#","A7/F","G#7/E","G7/Eb",null,"F#7/D",1471,null,{"$f":"CONCATENATE(AE1467,VLOOKUP(AF1473,$AH$1647:$AH$1669,1,0))","v":"7/D"},null,"D"]
[null,1472,{"$f":"CONCATENATE($C$10,AD1474)","v":"G7/Eb"},"F#7/D","F7/C#","E7/C","Eb7/B","D7/Bb","C#7/A",{"$f":"$C1467","v":"C7/G#"},{"$f":"$C1478","v":"B7/G"},"Bb7/F#","A7/F","G#7/E","F#7/D","F7/C#","E7/C","Eb7/B","D7/Bb","C#7/A",{"$f":"$C1467","v":"C7/G#"},{"$f":"$C1478","v":"B7/G"},"Bb7/F#","A7/F","G#7/E",null,"G7/Eb",1472,null,{"$f":"CONCATENATE(AE1467,VLOOKUP(AF1474,$AH$1647:$AH$1669,1,0))","v":"7/Eb"},null,"Eb"]
[null,1473,{"$f":"CONCATENATE($C$11,AD1475)","v":"G#7/E"},"G7/Eb","F#7/D","F7/C#","E7/C","Eb7/B","D7/Bb",{"$f":"$C1468","v":"C#7/A"},{"$f":"$C1467","v":"C7/G#"},{"$f":"$C1478","v":"B7/G"},"Bb7/F#","A7/F","G7/Eb","F#7/D","F7/C#","E7/C","Eb7/B","D7/Bb",{"$f":"$C1468","v":"C#7/A"},{"$f":"$C1467","v":"C7/G#"},{"$f":"$C1478","v":"B7/G"},"Bb7/F#","A7/F",null,"G#7/E",{"$f":"B1475","v":1473},null,{"$f":"CONCATENATE(AE1467,VLOOKUP(AF1475,$AH$1647:$AH$1669,1,0))","v":"7/E"},null,"E"]
[null,1474,{"$f":"CONCATENATE($C$12,AD1476)","v":"A7/F"},"G#7/E","G7/Eb","F#7/D","F7/C#","E7/C","Eb7/B",{"$f":"$C1469","v":"D7/Bb"},{"$f":"$C1468","v":"C#7/A"},{"$f":"$C1467","v":"C7/G#"},{"$f":"$C1478","v":"B7/G"},"Bb7/F#","G#7/E","G7/Eb","F#7/D","F7/C#","E7/C","Eb7/B",{"$f":"$C1469","v":"D7/Bb"},{"$f":"$C1468","v":"C#7/A"},{"$f":"$C1467","v":"C7/G#"},{"$f":"$C1478","v":"B7/G"},"Bb7/F#",null,"A7/F",1474,null,{"$f":"CONCATENATE(AE1467,VLOOKUP(AF1476,$AH$1647:$AH$1669,1,0))","v":"7/F"},null,"F"]
[null,1475,{"$f":"CONCATENATE($C$13,AD1477)","v":"Bb7/F#"},"A7/F","G#7/E","G7/Eb","F#7/D","F7/C#","E7/C",{"$f":"$C1470","v":"Eb7/B"},{"$f":"$C1469","v":"D7/Bb"},{"$f":"$C1468","v":"C#7/A"},{"$f":"$C1467","v":"C7/G#"},{"$f":"$C1478","v":"B7/G"},"A7/F","G#7/E","G7/Eb","F#7/D","F7/C#","E7/C",{"$f":"$C1470","v":"Eb7/B"},{"$f":"$C1469","v":"D7/Bb"},{"$f":"$C1468","v":"C#7/A"},{"$f":"$C1467","v":"C7/G#"},{"$f":"$C1478","v":"B7/G"},null,"Bb7/F#",1475,null,{"$f":"CONCATENATE(AE1467,VLOOKUP(AF1477,$AH$1647:$AH$1669,1,0))","v":"7/F#"},null,"F#"]
[null,1476,{"$f":"CONCATENATE($C$14,AD1478)","v":"B7/G"},"Bb7/F#","A7/F","G#7/E","G7/Eb","F#7/D","F7/C#",{"$f":"$C1471","v":"E7/C"},{"$f":"$C1470","v":"Eb7/B"},{"$f":"$C1469","v":"D7/Bb"},{"$f":"$C1468","v":"C#7/A"},{"$f":"$C1467","v":"C7/G#"},"Bb7/F#","A7/F","G#7/E","G7/Eb","F#7/D","F7/C#",{"$f":"$C1471","v":"E7/C"},{"$f":"$C1470","v":"Eb7/B"},{"$f":"$C1469","v":"D7/Bb"},{"$f":"$C1468","v":"C#7/A"},{"$f":"$C1467","v":"C7/G#"},null,"B7/G",1476,null,{"$f":"CONCATENATE(AE1467,VLOOKUP(AF1478,$AH$1647:$AH$1669,1,0))","v":"7/G"},null,"G"]
[null,1477,{"$f":"CONCATENATE($C$3,AD1479)","v":"C7/A"},{"$f":"$C1490","v":"B7/G#"},{"$f":"$C1489","v":"Bb7/G"},{"$f":"$C1488","v":"A7/F#"},{"$f":"$C1487","v":"G#7/F"},{"$f":"$C1486","v":"G7/E"},{"$f":"$C1485","v":"F#7/Eb"},{"$f":"$C1484","v":"F7/D"},{"$f":"$C1483","v":"E7/C#"},{"$f":"$C1482","v":"Eb7/C"},{"$f":"$C1481","v":"D7/B"},{"$f":"$C1480","v":"C#7/Bb"},{"$f":"$C1490","v":"B7/G#"},{"$f":"$C1489","v":"Bb7/G"},{"$f":"$C1488","v":"A7/F#"},{"$f":"$C1487","v":"G#7/F"},{"$f":"$C1486","v":"G7/E"},{"$f":"$C1485","v":"F#7/Eb"},{"$f":"$C1484","v":"F7/D"},{"$f":"$C1483","v":"E7/C#"},{"$f":"$C1482","v":"Eb7/C"},{"$f":"$C1481","v":"D7/B"},{"$f":"$C1480","v":"C#7/Bb"},null,"C7/A",1477,null,{"$f":"CONCATENATE(AE1479,VLOOKUP(AF1479,$AH$1647:$AH$1669,1,0))","v":"7/A"},"7/","A"]
[null,1478,{"$f":"CONCATENATE($C$4,AD1480)","v":"C#7/Bb"},{"$f":"$C1479","v":"C7/A"},{"$f":"$C1490","v":"B7/G#"},{"$f":"$C1489","v":"Bb7/G"},{"$f":"$C1488","v":"A7/F#"},{"$f":"$C1487","v":"G#7/F"},"G7/E","F#7/Eb","F7/D","E7/C#","Eb7/C","D7/B",{"$f":"$C1479","v":"C7/A"},{"$f":"$C1490","v":"B7/G#"},{"$f":"$C1489","v":"Bb7/G"},{"$f":"$C1488","v":"A7/F#"},{"$f":"$C1487","v":"G#7/F"},"G7/E","F#7/Eb","F7/D","E7/C#","Eb7/C","D7/B",null,"C#7/Bb",1478,null,{"$f":"CONCATENATE(AE1479,VLOOKUP(AF1480,$AH$1647:$AH$1669,1,0))","v":"7/Bb"},null,{"$f":"VLOOKUP(AF1479,$AH$1647:$AI$1658,2,0)","v":"Bb"}]
[null,1479,{"$f":"CONCATENATE($C$5,AD1481)","v":"D7/B"},{"$f":"$C1480","v":"C#7/Bb"},{"$f":"$C1479","v":"C7/A"},{"$f":"$C1490","v":"B7/G#"},{"$f":"$C1489","v":"Bb7/G"},{"$f":"$C1488","v":"A7/F#"},"G#7/F","G7/E","F#7/Eb","F7/D","E7/C#","Eb7/C",{"$f":"$C1480","v":"C#7/Bb"},{"$f":"$C1479","v":"C7/A"},{"$f":"$C1490","v":"B7/G#"},{"$f":"$C1489","v":"Bb7/G"},{"$f":"$C1488","v":"A7/F#"},"G#7/F","G7/E","F#7/Eb","F7/D","E7/C#","Eb7/C",null,"D7/B",1479,null,{"$f":"CONCATENATE(AE1479,VLOOKUP(AF1481,$AH$1647:$AH$1669,1,0))","v":"7/B"},null,"B"]
[null,1480,{"$f":"CONCATENATE($C$6,AD1482)","v":"Eb7/C"},"D7/B",{"$f":"$C1480","v":"C#7/Bb"},{"$f":"$C1479","v":"C7/A"},{"$f":"$C1490","v":"B7/G#"},{"$f":"$C1489","v":"Bb7/G"},"A7/F#","G#7/F","G7/E","F#7/Eb","F7/D","E7/C#","D7/B",{"$f":"$C1480","v":"C#7/Bb"},{"$f":"$C1479","v":"C7/A"},{"$f":"$C1490","v":"B7/G#"},{"$f":"$C1489","v":"Bb7/G"},"A7/F#","G#7/F","G7/E","F#7/Eb","F7/D","E7/C#",null,"Eb7/C",1480,null,{"$f":"CONCATENATE(AE1479,VLOOKUP(AF1482,$AH$1647:$AH$1669,1,0))","v":"7/C"},null,"C"]
[null,1481,{"$f":"CONCATENATE($C$7,AD1483)","v":"E7/C#"},"Eb7/C","D7/B",{"$f":"$C1480","v":"C#7/Bb"},{"$f":"$C1479","v":"C7/A"},{"$f":"$C1490","v":"B7/G#"},"Bb7/G","A7/F#","G#7/F","G7/E","F#7/Eb","F7/D","Eb7/C","D7/B",{"$f":"$C1480","v":"C#7/Bb"},{"$f":"$C1479","v":"C7/A"},{"$f":"$C1490","v":"B7/G#"},"Bb7/G","A7/F#","G#7/F","G7/E","F#7/Eb","F7/D",null,"E7/C#",1481,null,{"$f":"CONCATENATE(AE1479,VLOOKUP(AF1483,$AH$1647:$AH$1669,1,0))","v":"7/C#"},null,"C#"]
[null,1482,{"$f":"CONCATENATE($C$8,AD1484)","v":"F7/D"},"E7/C#","Eb7/C","D7/B",{"$f":"$C1480","v":"C#7/Bb"},{"$f":"$C1479","v":"C7/A"},"B7/G#","Bb7/G","A7/F#","G#7/F","G7/E","F#7/Eb","E7/C#","Eb7/C","D7/B",{"$f":"$C1480","v":"C#7/Bb"},{"$f":"$C1479","v":"C7/A"},"B7/G#","Bb7/G","A7/F#","G#7/F","G7/E","F#7/Eb",null,"F7/D",1482,null,{"$f":"CONCATENATE(AE1479,VLOOKUP(AF1484,$AH$1647:$AH$1669,1,0))","v":"7/D"},null,"D"]
[null,1483,{"$f":"CONCATENATE($C$9,AD1485)","v":"F#7/Eb"},"F7/D","E7/C#","Eb7/C","D7/B",{"$f":"$C1480","v":"C#7/Bb"},{"$f":"$C1479","v":"C7/A"},{"$f":"$C1490","v":"B7/G#"},"Bb7/G","A7/F#","G#7/F","G7/E","F7/D","E7/C#","Eb7/C","D7/B",{"$f":"$C1480","v":"C#7/Bb"},{"$f":"$C1479","v":"C7/A"},{"$f":"$C1490","v":"B7/G#"},"Bb7/G","A7/F#","G#7/F","G7/E",null,"F#7/Eb",1483,null,{"$f":"CONCATENATE(AE1479,VLOOKUP(AF1485,$AH$1647:$AH$1669,1,0))","v":"7/Eb"},null,"Eb"]
[null,1484,{"$f":"CONCATENATE($C$10,AD1486)","v":"G7/E"},"F#7/Eb","F7/D","E7/C#","Eb7/C","D7/B","C#7/Bb",{"$f":"$C1479","v":"C7/A"},{"$f":"$C1490","v":"B7/G#"},"Bb7/G","A7/F#","G#7/F","F#7/Eb","F7/D","E7/C#","Eb7/C","D7/B","C#7/Bb",{"$f":"$C1479","v":"C7/A"},{"$f":"$C1490","v":"B7/G#"},"Bb7/G","A7/F#","G#7/F",null,"G7/E",1484,null,{"$f":"CONCATENATE(AE1479,VLOOKUP(AF1486,$AH$1647:$AH$1669,1,0))","v":"7/E"},null,"E"]
[null,1485,{"$f":"CONCATENATE($C$11,AD1487)","v":"G#7/F"},"G7/E","F#7/Eb","F7/D","E7/C#","Eb7/C","D7/B",{"$f":"$C1480","v":"C#7/Bb"},{"$f":"$C1479","v":"C7/A"},{"$f":"$C1490","v":"B7/G#"},"Bb7/G","A7/F#","G7/E","F#7/Eb","F7/D","E7/C#","Eb7/C","D7/B",{"$f":"$C1480","v":"C#7/Bb"},{"$f":"$C1479","v":"C7/A"},{"$f":"$C1490","v":"B7/G#"},"Bb7/G","A7/F#",null,"G#7/F",1485,null,{"$f":"CONCATENATE(AE1479,VLOOKUP(AF1487,$AH$1647:$AH$1669,1,0))","v":"7/F"},null,"F"]
[null,1486,{"$f":"CONCATENATE($C$12,AD1488)","v":"A7/F#"},"G#7/F","G7/E","F#7/Eb","F7/D","E7/C#","Eb7/C",{"$f":"$C1481","v":"D7/B"},{"$f":"$C1480","v":"C#7/Bb"},{"$f":"$C1479","v":"C7/A"},{"$f":"$C1490","v":"B7/G#"},"Bb7/G","G#7/F","G7/E","F#7/Eb","F7/D","E7/C#","Eb7/C",{"$f":"$C1481","v":"D7/B"},{"$f":"$C1480","v":"C#7/Bb"},{"$f":"$C1479","v":"C7/A"},{"$f":"$C1490","v":"B7/G#"},"Bb7/G",null,"A7/F#",1486,null,{"$f":"CONCATENATE(AE1479,VLOOKUP(AF1488,$AH$1647:$AH$1669,1,0))","v":"7/F#"},null,"F#"]
[null,1487,{"$f":"CONCATENATE($C$13,AD1489)","v":"Bb7/G"},"A7/F#","G#7/F","G7/E","F#7/Eb","F7/D","E7/C#",{"$f":"$C1482","v":"Eb7/C"},{"$f":"$C1481","v":"D7/B"},{"$f":"$C1480","v":"C#7/Bb"},{"$f":"$C1479","v":"C7/A"},{"$f":"$C1490","v":"B7/G#"},"A7/F#","G#7/F","G7/E","F#7/Eb","F7/D","E7/C#",{"$f":"$C1482","v":"Eb7/C"},{"$f":"$C1481","v":"D7/B"},{"$f":"$C1480","v":"C#7/Bb"},{"$f":"$C1479","v":"C7/A"},{"$f":"$C1490","v":"B7/G#"},null,"Bb7/G",1487,null,{"$f":"CONCATENATE(AE1479,VLOOKUP(AF1489,$AH$1647:$AH$1669,1,0))","v":"7/G"},null,"G"]
[null,1488,{"$f":"CONCATENATE($C$14,AD1490)","v":"B7/G#"},"Bb7/G","A7/F#","G#7/F","G7/E","F#7/Eb","F7/D",{"$f":"$C1483","v":"E7/C#"},{"$f":"$C1482","v":"Eb7/C"},{"$f":"$C1481","v":"D7/B"},{"$f":"$C1480","v":"C#7/Bb"},{"$f":"$C1479","v":"C7/A"},"Bb7/G","A7/F#","G#7/F","G7/E","F#7/Eb","F7/D",{"$f":"$C1483","v":"E7/C#"},{"$f":"$C1482","v":"Eb7/C"},{"$f":"$C1481","v":"D7/B"},{"$f":"$C1480","v":"C#7/Bb"},{"$f":"$C1479","v":"C7/A"},null,"B7/G#",1488,null,{"$f":"CONCATENATE(AE1479,VLOOKUP(AF1490,$AH$1647:$AH$1669,1,0))","v":"7/G#"},null,"G#"]
[null,1489,{"$f":"CONCATENATE($C$3,AD1491)","v":"C7/Bb"},{"$f":"$C1502","v":"B7/A"},{"$f":"$C1501","v":"Bb7/G#"},{"$f":"$C1500","v":"A7/G"},{"$f":"$C1499","v":"G#7/F#"},{"$f":"$C1498","v":"G7/F"},{"$f":"$C1497","v":"F#7/E"},{"$f":"$C1496","v":"F7/Eb"},{"$f":"$C1495","v":"E7/D"},{"$f":"$C1494","v":"Eb7/C#"},{"$f":"$C1493","v":"D7/C"},{"$f":"$C1492","v":"C#7/B"},{"$f":"$C1502","v":"B7/A"},{"$f":"$C1501","v":"Bb7/G#"},{"$f":"$C1500","v":"A7/G"},{"$f":"$C1499","v":"G#7/F#"},{"$f":"$C1498","v":"G7/F"},{"$f":"$C1497","v":"F#7/E"},{"$f":"$C1496","v":"F7/Eb"},{"$f":"$C1495","v":"E7/D"},{"$f":"$C1494","v":"Eb7/C#"},{"$f":"$C1493","v":"D7/C"},{"$f":"$C1492","v":"C#7/B"},null,"C7/Bb",1489,null,{"$f":"CONCATENATE(AE1491,VLOOKUP(AF1491,$AH$1647:$AH$1669,1,0))","v":"7/Bb"},"7/",{"$f":"IF(印刷用!$AB$12=1,$AK$1655,$AK$1656)","v":"Bb"}]
[null,1490,{"$f":"CONCATENATE($C$4,AD1492)","v":"C#7/B"},{"$f":"$C1491","v":"C7/Bb"},{"$f":"$C1502","v":"B7/A"},{"$f":"$C1501","v":"Bb7/G#"},{"$f":"$C1500","v":"A7/G"},{"$f":"$C1499","v":"G#7/F#"},"G7/F","F#7/E","F7/Eb","E7/D","Eb7/C#","D7/C",{"$f":"$C1491","v":"C7/Bb"},{"$f":"$C1502","v":"B7/A"},{"$f":"$C1501","v":"Bb7/G#"},{"$f":"$C1500","v":"A7/G"},{"$f":"$C1499","v":"G#7/F#"},"G7/F","F#7/E","F7/Eb","E7/D","Eb7/C#","D7/C",null,"C#7/B",1490,null,{"$f":"CONCATENATE(AE1491,VLOOKUP(AF1492,$AH$1647:$AH$1669,1,0))","v":"7/B"},null,{"$f":"VLOOKUP(AF1491,$AH$1647:$AI$1658,2,0)","v":"B"}]
[null,1491,{"$f":"CONCATENATE($C$5,AD1493)","v":"D7/C"},{"$f":"$C1492","v":"C#7/B"},{"$f":"$C1491","v":"C7/Bb"},{"$f":"$C1502","v":"B7/A"},{"$f":"$C1501","v":"Bb7/G#"},{"$f":"$C1500","v":"A7/G"},"G#7/F#","G7/F","F#7/E","F7/Eb","E7/D","Eb7/C#",{"$f":"$C1492","v":"C#7/B"},{"$f":"$C1491","v":"C7/Bb"},{"$f":"$C1502","v":"B7/A"},{"$f":"$C1501","v":"Bb7/G#"},{"$f":"$C1500","v":"A7/G"},"G#7/F#","G7/F","F#7/E","F7/Eb","E7/D","Eb7/C#",null,"D7/C",1491,null,{"$f":"CONCATENATE(AE1491,VLOOKUP(AF1493,$AH$1647:$AH$1669,1,0))","v":"7/C"},null,"C"]
[null,1492,{"$f":"CONCATENATE($C$6,AD1494)","v":"Eb7/C#"},"D7/C",{"$f":"$C1492","v":"C#7/B"},{"$f":"$C1491","v":"C7/Bb"},{"$f":"$C1502","v":"B7/A"},{"$f":"$C1501","v":"Bb7/G#"},"A7/G","G#7/F#","G7/F","F#7/E","F7/Eb","E7/D","D7/C",{"$f":"$C1492","v":"C#7/B"},{"$f":"$C1491","v":"C7/Bb"},{"$f":"$C1502","v":"B7/A"},{"$f":"$C1501","v":"Bb7/G#"},"A7/G","G#7/F#","G7/F","F#7/E","F7/Eb","E7/D",null,"Eb7/C#",1492,null,{"$f":"CONCATENATE(AE1491,VLOOKUP(AF1494,$AH$1647:$AH$1669,1,0))","v":"7/C#"},null,"C#"]
[null,1493,{"$f":"CONCATENATE($C$7,AD1495)","v":"E7/D"},"Eb7/C#","D7/C",{"$f":"$C1492","v":"C#7/B"},{"$f":"$C1491","v":"C7/Bb"},{"$f":"$C1502","v":"B7/A"},"Bb7/G#","A7/G","G#7/F#","G7/F","F#7/E","F7/Eb","Eb7/C#","D7/C",{"$f":"$C1492","v":"C#7/B"},{"$f":"$C1491","v":"C7/Bb"},{"$f":"$C1502","v":"B7/A"},"Bb7/G#","A7/G","G#7/F#","G7/F","F#7/E","F7/Eb",null,"E7/D",1493,null,{"$f":"CONCATENATE(AE1491,VLOOKUP(AF1495,$AH$1647:$AH$1669,1,0))","v":"7/D"},null,"D"]
[null,1494,{"$f":"CONCATENATE($C$8,AD1496)","v":"F7/Eb"},"E7/D","Eb7/C#","D7/C",{"$f":"$C1492","v":"C#7/B"},{"$f":"$C1491","v":"C7/Bb"},"B7/A","Bb7/G#","A7/G","G#7/F#","G7/F","F#7/E","E7/D","Eb7/C#","D7/C",{"$f":"$C1492","v":"C#7/B"},{"$f":"$C1491","v":"C7/Bb"},"B7/A","Bb7/G#","A7/G","G#7/F#","G7/F","F#7/E",null,"F7/Eb",1494,null,{"$f":"CONCATENATE(AE1491,VLOOKUP(AF1496,$AH$1647:$AH$1669,1,0))","v":"7/Eb"},null,"Eb"]
[null,1495,{"$f":"CONCATENATE($C$9,AD1497)","v":"F#7/E"},"F7/Eb","E7/D","Eb7/C#","D7/C",{"$f":"$C1492","v":"C#7/B"},{"$f":"$C1491","v":"C7/Bb"},{"$f":"$C1502","v":"B7/A"},"Bb7/G#","A7/G","G#7/F#","G7/F","F7/Eb","E7/D","Eb7/C#","D7/C",{"$f":"$C1492","v":"C#7/B"},{"$f":"$C1491","v":"C7/Bb"},{"$f":"$C1502","v":"B7/A"},"Bb7/G#","A7/G","G#7/F#","G7/F",null,"F#7/E",1495,null,{"$f":"CONCATENATE(AE1491,VLOOKUP(AF1497,$AH$1647:$AH$1669,1,0))","v":"7/E"},null,"E"]
[null,1496,{"$f":"CONCATENATE($C$10,AD1498)","v":"G7/F"},"F#7/E","F7/Eb","E7/D","Eb7/C#","D7/C","C#7/B",{"$f":"$C1491","v":"C7/Bb"},{"$f":"$C1502","v":"B7/A"},"Bb7/G#","A7/G","G#7/F#","F#7/E","F7/Eb","E7/D","Eb7/C#","D7/C","C#7/B",{"$f":"$C1491","v":"C7/Bb"},{"$f":"$C1502","v":"B7/A"},"Bb7/G#","A7/G","G#7/F#",null,"G7/F",1496,null,{"$f":"CONCATENATE(AE1491,VLOOKUP(AF1498,$AH$1647:$AH$1669,1,0))","v":"7/F"},null,"F"]
[null,1497,{"$f":"CONCATENATE($C$11,AD1499)","v":"G#7/F#"},"G7/F","F#7/E","F7/Eb","E7/D","Eb7/C#","D7/C",{"$f":"$C1492","v":"C#7/B"},{"$f":"$C1491","v":"C7/Bb"},{"$f":"$C1502","v":"B7/A"},"Bb7/G#","A7/G","G7/F","F#7/E","F7/Eb","E7/D","Eb7/C#","D7/C",{"$f":"$C1492","v":"C#7/B"},{"$f":"$C1491","v":"C7/Bb"},{"$f":"$C1502","v":"B7/A"},"Bb7/G#","A7/G",null,"G#7/F#",1497,null,{"$f":"CONCATENATE(AE1491,VLOOKUP(AF1499,$AH$1647:$AH$1669,1,0))","v":"7/F#"},null,"F#"]
[null,1498,{"$f":"CONCATENATE($C$12,AD1500)","v":"A7/G"},"G#7/F#","G7/F","F#7/E","F7/Eb","E7/D","Eb7/C#",{"$f":"$C1493","v":"D7/C"},{"$f":"$C1492","v":"C#7/B"},{"$f":"$C1491","v":"C7/Bb"},{"$f":"$C1502","v":"B7/A"},"Bb7/G#","G#7/F#","G7/F","F#7/E","F7/Eb","E7/D","Eb7/C#",{"$f":"$C1493","v":"D7/C"},{"$f":"$C1492","v":"C#7/B"},{"$f":"$C1491","v":"C7/Bb"},{"$f":"$C1502","v":"B7/A"},"Bb7/G#",null,"A7/G",1498,null,{"$f":"CONCATENATE(AE1491,VLOOKUP(AF1500,$AH$1647:$AH$1669,1,0))","v":"7/G"},null,"G"]
[null,1499,{"$f":"CONCATENATE($C$13,AD1501)","v":"Bb7/G#"},"A7/G","G#7/F#","G7/F","F#7/E","F7/Eb","E7/D",{"$f":"$C1494","v":"Eb7/C#"},{"$f":"$C1493","v":"D7/C"},{"$f":"$C1492","v":"C#7/B"},{"$f":"$C1491","v":"C7/Bb"},{"$f":"$C1502","v":"B7/A"},"A7/G","G#7/F#","G7/F","F#7/E","F7/Eb","E7/D",{"$f":"$C1494","v":"Eb7/C#"},{"$f":"$C1493","v":"D7/C"},{"$f":"$C1492","v":"C#7/B"},{"$f":"$C1491","v":"C7/Bb"},{"$f":"$C1502","v":"B7/A"},null,"Bb7/G#",1499,null,{"$f":"CONCATENATE(AE1491,VLOOKUP(AF1501,$AH$1647:$AH$1669,1,0))","v":"7/G#"},null,"G#"]
[null,1500,{"$f":"CONCATENATE($C$14,AD1502)","v":"B7/A"},"Bb7/G#","A7/G","G#7/F#","G7/F","F#7/E","F7/Eb",{"$f":"$C1495","v":"E7/D"},{"$f":"$C1494","v":"Eb7/C#"},{"$f":"$C1493","v":"D7/C"},{"$f":"$C1492","v":"C#7/B"},{"$f":"$C1491","v":"C7/Bb"},"Bb7/G#","A7/G","G#7/F#","G7/F","F#7/E","F7/Eb",{"$f":"$C1495","v":"E7/D"},{"$f":"$C1494","v":"Eb7/C#"},{"$f":"$C1493","v":"D7/C"},{"$f":"$C1492","v":"C#7/B"},{"$f":"$C1491","v":"C7/Bb"},null,"B7/A",1500,null,{"$f":"CONCATENATE(AE1491,VLOOKUP(AF1502,$AH$1647:$AH$1669,1,0))","v":"7/A"},null,"A"]
[null,1501,{"$f":"CONCATENATE($C$3,AD1503)","v":"C7/B"},{"$f":"$C1514","v":"B7/Bb"},{"$f":"$C1513","v":"Bb7/A"},{"$f":"$C1512","v":"A7/G#"},{"$f":"$C1511","v":"G#7/G"},{"$f":"$C1510","v":"G7/F#"},{"$f":"$C1509","v":"F#7/F"},{"$f":"$C1508","v":"F7/E"},{"$f":"$C1507","v":"E7/Eb"},{"$f":"$C1506","v":"Eb7/D"},{"$f":"$C1505","v":"D7/C#"},{"$f":"$C1504","v":"C#7/C"},{"$f":"$C1514","v":"B7/Bb"},{"$f":"$C1513","v":"Bb7/A"},{"$f":"$C1512","v":"A7/G#"},{"$f":"$C1511","v":"G#7/G"},{"$f":"$C1510","v":"G7/F#"},{"$f":"$C1509","v":"F#7/F"},{"$f":"$C1508","v":"F7/E"},{"$f":"$C1507","v":"E7/Eb"},{"$f":"$C1506","v":"Eb7/D"},{"$f":"$C1505","v":"D7/C#"},{"$f":"$C1504","v":"C#7/C"},null,"C7/B",1501,null,{"$f":"CONCATENATE(AE1503,VLOOKUP(AF1503,$AH$1647:$AH$1669,1,0))","v":"7/B"},"7/","B"]
[null,1502,{"$f":"CONCATENATE($C$4,AD1504)","v":"C#7/C"},{"$f":"$C1503","v":"C7/B"},{"$f":"$C1514","v":"B7/Bb"},{"$f":"$C1513","v":"Bb7/A"},{"$f":"$C1512","v":"A7/G#"},{"$f":"$C1511","v":"G#7/G"},"G7/F#","F#7/F","F7/E","E7/Eb","Eb7/D","D7/C#",{"$f":"$C1503","v":"C7/B"},{"$f":"$C1514","v":"B7/Bb"},{"$f":"$C1513","v":"Bb7/A"},{"$f":"$C1512","v":"A7/G#"},{"$f":"$C1511","v":"G#7/G"},"G7/F#","F#7/F","F7/E","E7/Eb","Eb7/D","D7/C#",null,"C#7/C",1502,null,{"$f":"CONCATENATE(AE1503,VLOOKUP(AF1504,$AH$1647:$AH$1669,1,0))","v":"7/C"},null,{"$f":"VLOOKUP(AF1503,$AH$1647:$AI$1658,2,0)","v":"C"}]
[null,1503,{"$f":"CONCATENATE($C$5,AD1505)","v":"D7/C#"},{"$f":"$C1504","v":"C#7/C"},{"$f":"$C1503","v":"C7/B"},{"$f":"$C1514","v":"B7/Bb"},{"$f":"$C1513","v":"Bb7/A"},{"$f":"$C1512","v":"A7/G#"},"G#7/G","G7/F#","F#7/F","F7/E","E7/Eb","Eb7/D",{"$f":"$C1504","v":"C#7/C"},{"$f":"$C1503","v":"C7/B"},{"$f":"$C1514","v":"B7/Bb"},{"$f":"$C1513","v":"Bb7/A"},{"$f":"$C1512","v":"A7/G#"},"G#7/G","G7/F#","F#7/F","F7/E","E7/Eb","Eb7/D",null,"D7/C#",1503,null,{"$f":"CONCATENATE(AE1503,VLOOKUP(AF1505,$AH$1647:$AH$1669,1,0))","v":"7/C#"},null,"C#"]
[null,1504,{"$f":"CONCATENATE($C$6,AD1506)","v":"Eb7/D"},"D7/C#",{"$f":"$C1504","v":"C#7/C"},{"$f":"$C1503","v":"C7/B"},{"$f":"$C1514","v":"B7/Bb"},{"$f":"$C1513","v":"Bb7/A"},"A7/G#","G#7/G","G7/F#","F#7/F","F7/E","E7/Eb","D7/C#",{"$f":"$C1504","v":"C#7/C"},{"$f":"$C1503","v":"C7/B"},{"$f":"$C1514","v":"B7/Bb"},{"$f":"$C1513","v":"Bb7/A"},"A7/G#","G#7/G","G7/F#","F#7/F","F7/E","E7/Eb",null,"Eb7/D",1504,null,{"$f":"CONCATENATE(AE1503,VLOOKUP(AF1506,$AH$1647:$AH$1669,1,0))","v":"7/D"},null,"D"]
[null,1505,{"$f":"CONCATENATE($C$7,AD1507)","v":"E7/Eb"},"Eb7/D","D7/C#",{"$f":"$C1504","v":"C#7/C"},{"$f":"$C1503","v":"C7/B"},{"$f":"$C1514","v":"B7/Bb"},"Bb7/A","A7/G#","G#7/G","G7/F#","F#7/F","F7/E","Eb7/D","D7/C#",{"$f":"$C1504","v":"C#7/C"},{"$f":"$C1503","v":"C7/B"},{"$f":"$C1514","v":"B7/Bb"},"Bb7/A","A7/G#","G#7/G","G7/F#","F#7/F","F7/E",null,"E7/Eb",1505,null,{"$f":"CONCATENATE(AE1503,VLOOKUP(AF1507,$AH$1647:$AH$1669,1,0))","v":"7/Eb"},null,"Eb"]
[null,1506,{"$f":"CONCATENATE($C$8,AD1508)","v":"F7/E"},"E7/Eb","Eb7/D","D7/C#",{"$f":"$C1504","v":"C#7/C"},{"$f":"$C1503","v":"C7/B"},"B7/Bb","Bb7/A","A7/G#","G#7/G","G7/F#","F#7/F","E7/Eb","Eb7/D","D7/C#",{"$f":"$C1504","v":"C#7/C"},{"$f":"$C1503","v":"C7/B"},"B7/Bb","Bb7/A","A7/G#","G#7/G","G7/F#","F#7/F",null,"F7/E",1506,null,{"$f":"CONCATENATE(AE1503,VLOOKUP(AF1508,$AH$1647:$AH$1669,1,0))","v":"7/E"},null,"E"]
[null,1507,{"$f":"CONCATENATE($C$9,AD1509)","v":"F#7/F"},"F7/E","E7/Eb","Eb7/D","D7/C#",{"$f":"$C1504","v":"C#7/C"},{"$f":"$C1503","v":"C7/B"},{"$f":"$C1514","v":"B7/Bb"},"Bb7/A","A7/G#","G#7/G","G7/F#","F7/E","E7/Eb","Eb7/D","D7/C#",{"$f":"$C1504","v":"C#7/C"},{"$f":"$C1503","v":"C7/B"},{"$f":"$C1514","v":"B7/Bb"},"Bb7/A","A7/G#","G#7/G","G7/F#",null,"F#7/F",1507,null,{"$f":"CONCATENATE(AE1503,VLOOKUP(AF1509,$AH$1647:$AH$1669,1,0))","v":"7/F"},null,"F"]
[null,1508,{"$f":"CONCATENATE($C$10,AD1510)","v":"G7/F#"},"F#7/F","F7/E","E7/Eb","Eb7/D","D7/C#","C#7/C",{"$f":"$C1503","v":"C7/B"},{"$f":"$C1514","v":"B7/Bb"},"Bb7/A","A7/G#","G#7/G","F#7/F","F7/E","E7/Eb","Eb7/D","D7/C#","C#7/C",{"$f":"$C1503","v":"C7/B"},{"$f":"$C1514","v":"B7/Bb"},"Bb7/A","A7/G#","G#7/G",null,"G7/F#",1508,null,{"$f":"CONCATENATE(AE1503,VLOOKUP(AF1510,$AH$1647:$AH$1669,1,0))","v":"7/F#"},null,"F#"]
[null,1509,{"$f":"CONCATENATE($C$11,AD1511)","v":"G#7/G"},"G7/F#","F#7/F","F7/E","E7/Eb","Eb7/D","D7/C#",{"$f":"$C1504","v":"C#7/C"},{"$f":"$C1503","v":"C7/B"},{"$f":"$C1514","v":"B7/Bb"},"Bb7/A","A7/G#","G7/F#","F#7/F","F7/E","E7/Eb","Eb7/D","D7/C#",{"$f":"$C1504","v":"C#7/C"},{"$f":"$C1503","v":"C7/B"},{"$f":"$C1514","v":"B7/Bb"},"Bb7/A","A7/G#",null,"G#7/G",1509,null,{"$f":"CONCATENATE(AE1503,VLOOKUP(AF1511,$AH$1647:$AH$1669,1,0))","v":"7/G"},null,"G"]
[null,1510,{"$f":"CONCATENATE($C$12,AD1512)","v":"A7/G#"},"G#7/G","G7/F#","F#7/F","F7/E","E7/Eb","Eb7/D",{"$f":"$C1505","v":"D7/C#"},{"$f":"$C1504","v":"C#7/C"},{"$f":"$C1503","v":"C7/B"},{"$f":"$C1514","v":"B7/Bb"},"Bb7/A","G#7/G","G7/F#","F#7/F","F7/E","E7/Eb","Eb7/D",{"$f":"$C1505","v":"D7/C#"},{"$f":"$C1504","v":"C#7/C"},{"$f":"$C1503","v":"C7/B"},{"$f":"$C1514","v":"B7/Bb"},"Bb7/A",null,"A7/G#",1510,null,{"$f":"CONCATENATE(AE1503,VLOOKUP(AF1512,$AH$1647:$AH$1669,1,0))","v":"7/G#"},null,"G#"]
[null,1511,{"$f":"CONCATENATE($C$13,AD1513)","v":"Bb7/A"},"A7/G#","G#7/G","G7/F#","F#7/F","F7/E","E7/Eb",{"$f":"$C1506","v":"Eb7/D"},{"$f":"$C1505","v":"D7/C#"},{"$f":"$C1504","v":"C#7/C"},{"$f":"$C1503","v":"C7/B"},{"$f":"$C1514","v":"B7/Bb"},"A7/G#","G#7/G","G7/F#","F#7/F","F7/E","E7/Eb",{"$f":"$C1506","v":"Eb7/D"},{"$f":"$C1505","v":"D7/C#"},{"$f":"$C1504","v":"C#7/C"},{"$f":"$C1503","v":"C7/B"},{"$f":"$C1514","v":"B7/Bb"},null,"Bb7/A",1511,null,{"$f":"CONCATENATE(AE1503,VLOOKUP(AF1513,$AH$1647:$AH$1669,1,0))","v":"7/A"},null,"A"]
[null,1512,{"$f":"CONCATENATE($C$14,AD1514)","v":"B7/Bb"},"Bb7/A","A7/G#","G#7/G","G7/F#","F#7/F","F7/E",{"$f":"$C1507","v":"E7/Eb"},{"$f":"$C1506","v":"Eb7/D"},{"$f":"$C1505","v":"D7/C#"},{"$f":"$C1504","v":"C#7/C"},{"$f":"$C1503","v":"C7/B"},"Bb7/A","A7/G#","G#7/G","G7/F#","F#7/F","F7/E",{"$f":"$C1507","v":"E7/Eb"},{"$f":"$C1506","v":"Eb7/D"},{"$f":"$C1505","v":"D7/C#"},{"$f":"$C1504","v":"C#7/C"},{"$f":"$C1503","v":"C7/B"},null,"B7/Bb",1512,null,{"$f":"CONCATENATE(AE1503,VLOOKUP(AF1514,$AH$1647:$AH$1669,1,0))","v":"7/Bb"},null,"Bb"]
[null,1513,{"$f":"CONCATENATE($AD$1515,C3)","v":"/C"},{"$f":"$C1526","v":"/B"},{"$f":"$C1525","v":"/Bb"},{"$f":"$C1524","v":"/A"},{"$f":"$C1523","v":"/G#"},{"$f":"$C1522","v":"/G"},{"$f":"$C1521","v":"/F#"},{"$f":"$C1520","v":"/F"},{"$f":"$C1519","v":"/E"},{"$f":"$C1518","v":"/Eb"},{"$f":"$C1517","v":"/D"},{"$f":"$C1516","v":"/C#"},{"$f":"$C1526","v":"/B"},{"$f":"$C1525","v":"/Bb"},{"$f":"$C1524","v":"/A"},{"$f":"$C1523","v":"/G#"},{"$f":"$C1522","v":"/G"},{"$f":"$C1521","v":"/F#"},{"$f":"$C1520","v":"/F"},{"$f":"$C1519","v":"/E"},{"$f":"$C1518","v":"/Eb"},{"$f":"$C1517","v":"/D"},{"$f":"$C1516","v":"/C#"},null,{"$f":"C1515","v":"/C"},1513,null,"/"]
[null,1514,"/C#",{"$f":"$C1515","v":"/C"},{"$f":"$C1526","v":"/B"},{"$f":"$C1525","v":"/Bb"},{"$f":"$C1524","v":"/A"},{"$f":"$C1523","v":"/G#"},"/G","/F#","/F","/E","/Eb","/D",{"$f":"$C1515","v":"/C"},{"$f":"$C1526","v":"/B"},{"$f":"$C1525","v":"/Bb"},{"$f":"$C1524","v":"/A"},{"$f":"$C1523","v":"/G#"},"/G","/F#","/F","/E","/Eb","/D",null,"/C#",1514]
[null,1515,"/D",{"$f":"$C1516","v":"/C#"},{"$f":"$C1515","v":"/C"},{"$f":"$C1526","v":"/B"},{"$f":"$C1525","v":"/Bb"},{"$f":"$C1524","v":"/A"},"/G#","/G","/F#","/F","/E","/Eb",{"$f":"$C1516","v":"/C#"},{"$f":"$C1515","v":"/C"},{"$f":"$C1526","v":"/B"},{"$f":"$C1525","v":"/Bb"},{"$f":"$C1524","v":"/A"},"/G#","/G","/F#","/F","/E","/Eb",null,"/D",1515]
[null,1516,"/Eb","/D",{"$f":"$C1516","v":"/C#"},{"$f":"$C1515","v":"/C"},{"$f":"$C1526","v":"/B"},{"$f":"$C1525","v":"/Bb"},"/A","/G#","/G","/F#","/F","/E","/D",{"$f":"$C1516","v":"/C#"},{"$f":"$C1515","v":"/C"},{"$f":"$C1526","v":"/B"},{"$f":"$C1525","v":"/Bb"},"/A","/G#","/G","/F#","/F","/E",null,"/Eb",1516]
[null,1517,"/E","/Eb","/D",{"$f":"$C1516","v":"/C#"},{"$f":"$C1515","v":"/C"},{"$f":"$C1526","v":"/B"},"/Bb","/A","/G#","/G","/F#","/F","/Eb","/D",{"$f":"$C1516","v":"/C#"},{"$f":"$C1515","v":"/C"},{"$f":"$C1526","v":"/B"},"/Bb","/A","/G#","/G","/F#","/F",null,"/E",1517]
[null,1518,"/F","/E","/Eb","/D",{"$f":"$C1516","v":"/C#"},{"$f":"$C1515","v":"/C"},"/B","/Bb","/A","/G#","/G","/F#","/E","/Eb","/D",{"$f":"$C1516","v":"/C#"},{"$f":"$C1515","v":"/C"},"/B","/Bb","/A","/G#","/G","/F#",null,"/F",1518]
[null,1519,"/F#","/F","/E","/Eb","/D",{"$f":"$C1516","v":"/C#"},{"$f":"$C1515","v":"/C"},{"$f":"$C1526","v":"/B"},"/Bb","/A","/G#","/G","/F","/E","/Eb","/D",{"$f":"$C1516","v":"/C#"},{"$f":"$C1515","v":"/C"},{"$f":"$C1526","v":"/B"},"/Bb","/A","/G#","/G",null,"/F#",1519]
[null,1520,"/G","/F#","/F","/E","/Eb","/D","/C#",{"$f":"$C1515","v":"/C"},{"$f":"$C1526","v":"/B"},"/Bb","/A","/G#","/F#","/F","/E","/Eb","/D","/C#",{"$f":"$C1515","v":"/C"},{"$f":"$C1526","v":"/B"},"/Bb","/A","/G#",null,"/G",1520]
[null,1521,"/G#","/G","/F#","/F","/E","/Eb","/D",{"$f":"$C1516","v":"/C#"},{"$f":"$C1515","v":"/C"},{"$f":"$C1526","v":"/B"},"/Bb","/A","/G","/F#","/F","/E","/Eb","/D",{"$f":"$C1516","v":"/C#"},{"$f":"$C1515","v":"/C"},{"$f":"$C1526","v":"/B"},"/Bb","/A",null,"/G#",1521]
[null,1522,"/A","/G#","/G","/F#","/F","/E","/Eb",{"$f":"$C1517","v":"/D"},{"$f":"$C1516","v":"/C#"},{"$f":"$C1515","v":"/C"},{"$f":"$C1526","v":"/B"},"/Bb","/G#","/G","/F#","/F","/E","/Eb",{"$f":"$C1517","v":"/D"},{"$f":"$C1516","v":"/C#"},{"$f":"$C1515","v":"/C"},{"$f":"$C1526","v":"/B"},"/Bb",null,"/A",1522]
[null,1523,"/Bb","/A","/G#","/G","/F#","/F","/E",{"$f":"$C1518","v":"/Eb"},{"$f":"$C1517","v":"/D"},{"$f":"$C1516","v":"/C#"},{"$f":"$C1515","v":"/C"},{"$f":"$C1526","v":"/B"},"/A","/G#","/G","/F#","/F","/E",{"$f":"$C1518","v":"/Eb"},{"$f":"$C1517","v":"/D"},{"$f":"$C1516","v":"/C#"},{"$f":"$C1515","v":"/C"},{"$f":"$C1526","v":"/B"},null,"/Bb",1523]
[null,1524,"/B","/Bb","/A","/G#","/G","/F#","/F",{"$f":"$C1519","v":"/E"},{"$f":"$C1518","v":"/Eb"},{"$f":"$C1517","v":"/D"},{"$f":"$C1516","v":"/C#"},{"$f":"$C1515","v":"/C"},"/Bb","/A","/G#","/G","/F#","/F",{"$f":"$C1519","v":"/E"},{"$f":"$C1518","v":"/Eb"},{"$f":"$C1517","v":"/D"},{"$f":"$C1516","v":"/C#"},{"$f":"$C1515","v":"/C"},null,"/B",1524]
[null,1525,{"$f":"CONCATENATE($C$3,AD1527)","v":"C○"},{"$f":"$C1538","v":"B○"},{"$f":"$C1537","v":"Bb○"},{"$f":"$C1536","v":"A○"},{"$f":"$C1535","v":"G#○"},{"$f":"$C1534","v":"G○"},{"$f":"$C1533","v":"F#○"},{"$f":"$C1532","v":"F○"},{"$f":"$C1531","v":"E○"},{"$f":"$C1530","v":"Eb○"},{"$f":"$C1529","v":"D○"},{"$f":"$C1528","v":"C#○"},{"$f":"$C1538","v":"B○"},{"$f":"$C1537","v":"Bb○"},{"$f":"$C1536","v":"A○"},{"$f":"$C1535","v":"G#○"},{"$f":"$C1534","v":"G○"},{"$f":"$C1533","v":"F#○"},{"$f":"$C1532","v":"F○"},{"$f":"$C1531","v":"E○"},{"$f":"$C1530","v":"Eb○"},{"$f":"$C1529","v":"D○"},{"$f":"$C1528","v":"C#○"},null,"C○",1525,"※上に無いコードは□ここに入力→","○","←例：Cm　の場合mだけを小文字で入力"]
[null,1526,{"$f":"CONCATENATE($C$4,AD1527)","v":"C#○"},{"$f":"$C1527","v":"C○"},{"$f":"$C1538","v":"B○"},{"$f":"$C1537","v":"Bb○"},{"$f":"$C1536","v":"A○"},{"$f":"$C1535","v":"G#○"},"G○","F#○","F○","E○","Eb○","D○",{"$f":"$C1527","v":"C○"},{"$f":"$C1538","v":"B○"},{"$f":"$C1537","v":"Bb○"},{"$f":"$C1536","v":"A○"},{"$f":"$C1535","v":"G#○"},"G○","F#○","F○","E○","Eb○","D○",null,"C#○",1526]
[null,1527,{"$f":"CONCATENATE($C$5,AD1527)","v":"D○"},{"$f":"$C1528","v":"C#○"},{"$f":"$C1527","v":"C○"},{"$f":"$C1538","v":"B○"},{"$f":"$C1537","v":"Bb○"},{"$f":"$C1536","v":"A○"},"G#○","G○","F#○","F○","E○","Eb○",{"$f":"$C1528","v":"C#○"},{"$f":"$C1527","v":"C○"},{"$f":"$C1538","v":"B○"},{"$f":"$C1537","v":"Bb○"},{"$f":"$C1536","v":"A○"},"G#○","G○","F#○","F○","E○","Eb○",null,"D○",1527]
[null,1528,{"$f":"CONCATENATE($C$6,AD1527)","v":"Eb○"},"D○",{"$f":"$C1528","v":"C#○"},{"$f":"$C1527","v":"C○"},{"$f":"$C1538","v":"B○"},{"$f":"$C1537","v":"Bb○"},"A○","G#○","G○","F#○","F○","E○","D○",{"$f":"$C1528","v":"C#○"},{"$f":"$C1527","v":"C○"},{"$f":"$C1538","v":"B○"},{"$f":"$C1537","v":"Bb○"},"A○","G#○","G○","F#○","F○","E○",null,"Eb○",1528]
[null,1529,{"$f":"CONCATENATE($C$7,AD1527)","v":"E○"},"Eb○","D○",{"$f":"$C1528","v":"C#○"},{"$f":"$C1527","v":"C○"},{"$f":"$C1538","v":"B○"},"Bb○","A○","G#○","G○","F#○","F○","Eb○","D○",{"$f":"$C1528","v":"C#○"},{"$f":"$C1527","v":"C○"},{"$f":"$C1538","v":"B○"},"Bb○","A○","G#○","G○","F#○","F○",null,"E○",1529]
[null,1530,{"$f":"CONCATENATE($C$8,AD1527)","v":"F○"},"E○","Eb○","D○",{"$f":"$C1528","v":"C#○"},{"$f":"$C1527","v":"C○"},"B○","Bb○","A○","G#○","G○","F#○","E○","Eb○","D○",{"$f":"$C1528","v":"C#○"},{"$f":"$C1527","v":"C○"},"B○","Bb○","A○","G#○","G○","F#○",null,"F○",1530]
[null,1531,{"$f":"CONCATENATE($C$9,AD1527)","v":"F#○"},"F○","E○","Eb○","D○",{"$f":"$C1528","v":"C#○"},{"$f":"$C1527","v":"C○"},{"$f":"$C1538","v":"B○"},"Bb○","A○","G#○","G○","F○","E○","Eb○","D○",{"$f":"$C1528","v":"C#○"},{"$f":"$C1527","v":"C○"},{"$f":"$C1538","v":"B○"},"Bb○","A○","G#○","G○",null,"F#○",1531]
[null,1532,{"$f":"CONCATENATE($C$10,AD1527)","v":"G○"},"F#○","F○","E○","Eb○","D○","C#○",{"$f":"$C1527","v":"C○"},{"$f":"$C1538","v":"B○"},"Bb○","A○","G#○","F#○","F○","E○","Eb○","D○","C#○",{"$f":"$C1527","v":"C○"},{"$f":"$C1538","v":"B○"},"Bb○","A○","G#○",null,"G○",1532]
[null,1533,{"$f":"CONCATENATE($C$11,AD1527)","v":"G#○"},"G○","F#○","F○","E○","Eb○","D○",{"$f":"$C1528","v":"C#○"},{"$f":"$C1527","v":"C○"},{"$f":"$C1538","v":"B○"},"Bb○","A○","G○","F#○","F○","E○","Eb○","D○",{"$f":"$C1528","v":"C#○"},{"$f":"$C1527","v":"C○"},{"$f":"$C1538","v":"B○"},"Bb○","A○",null,"G#○",1533]
[null,1534,{"$f":"CONCATENATE($C$12,AD1527)","v":"A○"},"G#○","G○","F#○","F○","E○","Eb○",{"$f":"$C1529","v":"D○"},{"$f":"$C1528","v":"C#○"},{"$f":"$C1527","v":"C○"},{"$f":"$C1538","v":"B○"},"Bb○","G#○","G○","F#○","F○","E○","Eb○",{"$f":"$C1529","v":"D○"},{"$f":"$C1528","v":"C#○"},{"$f":"$C1527","v":"C○"},{"$f":"$C1538","v":"B○"},"Bb○",null,"A○",1534]
[null,1535,{"$f":"CONCATENATE($C$13,AD1527)","v":"Bb○"},"A○","G#○","G○","F#○","F○","E○",{"$f":"$C1530","v":"Eb○"},{"$f":"$C1529","v":"D○"},{"$f":"$C1528","v":"C#○"},{"$f":"$C1527","v":"C○"},{"$f":"$C1538","v":"B○"},"A○","G#○","G○","F#○","F○","E○",{"$f":"$C1530","v":"Eb○"},{"$f":"$C1529","v":"D○"},{"$f":"$C1528","v":"C#○"},{"$f":"$C1527","v":"C○"},{"$f":"$C1538","v":"B○"},null,"Bb○",1535]
[null,1536,{"$f":"CONCATENATE($C$14,AD1527)","v":"B○"},"Bb○","A○","G#○","G○","F#○","F○",{"$f":"$C1531","v":"E○"},{"$f":"$C1530","v":"Eb○"},{"$f":"$C1529","v":"D○"},{"$f":"$C1528","v":"C#○"},{"$f":"$C1527","v":"C○"},"Bb○","A○","G#○","G○","F#○","F○",{"$f":"$C1531","v":"E○"},{"$f":"$C1530","v":"Eb○"},{"$f":"$C1529","v":"D○"},{"$f":"$C1528","v":"C#○"},{"$f":"$C1527","v":"C○"},null,"B○",1536]
[null,1537,{"$f":"CONCATENATE($C$3,AD1539)","v":"C○"},{"$f":"$C1550","v":"B○"},{"$f":"$C1549","v":"Bb○"},{"$f":"$C1548","v":"A○"},{"$f":"$C1547","v":"G#○"},{"$f":"$C1546","v":"G○"},{"$f":"$C1545","v":"F#○"},{"$f":"$C1544","v":"F○"},{"$f":"$C1543","v":"E○"},{"$f":"$C1542","v":"Eb○"},{"$f":"$C1541","v":"D○"},{"$f":"$C1540","v":"C#○"},{"$f":"$C1550","v":"B○"},{"$f":"$C1549","v":"Bb○"},{"$f":"$C1548","v":"A○"},{"$f":"$C1547","v":"G#○"},{"$f":"$C1546","v":"G○"},{"$f":"$C1545","v":"F#○"},{"$f":"$C1544","v":"F○"},{"$f":"$C1543","v":"E○"},{"$f":"$C1542","v":"Eb○"},{"$f":"$C1541","v":"D○"},{"$f":"$C1540","v":"C#○"},null,{"$f":"C1539","v":"C○"},{"$f":"B1539","v":1537},null,"○"]
[null,1538,{"$f":"CONCATENATE($C$4,AD1539)","v":"C#○"},{"$f":"$C1539","v":"C○"},{"$f":"$C1550","v":"B○"},{"$f":"$C1549","v":"Bb○"},{"$f":"$C1548","v":"A○"},{"$f":"$C1547","v":"G#○"},"G○","F#○","F○","E○","Eb○","D○",{"$f":"$C1539","v":"C○"},{"$f":"$C1550","v":"B○"},{"$f":"$C1549","v":"Bb○"},{"$f":"$C1548","v":"A○"},{"$f":"$C1547","v":"G#○"},"G○","F#○","F○","E○","Eb○","D○",null,"C#○",1538]
[null,1539,{"$f":"CONCATENATE($C$5,AD1539)","v":"D○"},{"$f":"$C1540","v":"C#○"},{"$f":"$C1539","v":"C○"},{"$f":"$C1550","v":"B○"},{"$f":"$C1549","v":"Bb○"},{"$f":"$C1548","v":"A○"},"G#○","G○","F#○","F○","E○","Eb○",{"$f":"$C1540","v":"C#○"},{"$f":"$C1539","v":"C○"},{"$f":"$C1550","v":"B○"},{"$f":"$C1549","v":"Bb○"},{"$f":"$C1548","v":"A○"},"G#○","G○","F#○","F○","E○","Eb○",null,"D○",1539]
[null,1540,{"$f":"CONCATENATE($C$6,AD1539)","v":"Eb○"},"D○",{"$f":"$C1540","v":"C#○"},{"$f":"$C1539","v":"C○"},{"$f":"$C1550","v":"B○"},{"$f":"$C1549","v":"Bb○"},"A○","G#○","G○","F#○","F○","E○","D○",{"$f":"$C1540","v":"C#○"},{"$f":"$C1539","v":"C○"},{"$f":"$C1550","v":"B○"},{"$f":"$C1549","v":"Bb○"},"A○","G#○","G○","F#○","F○","E○",null,"Eb○",1540]
[null,1541,{"$f":"CONCATENATE($C$7,AD1539)","v":"E○"},"Eb○","D○",{"$f":"$C1540","v":"C#○"},{"$f":"$C1539","v":"C○"},{"$f":"$C1550","v":"B○"},"Bb○","A○","G#○","G○","F#○","F○","Eb○","D○",{"$f":"$C1540","v":"C#○"},{"$f":"$C1539","v":"C○"},{"$f":"$C1550","v":"B○"},"Bb○","A○","G#○","G○","F#○","F○",null,"E○",1541]
[null,1542,{"$f":"CONCATENATE($C$8,AD1539)","v":"F○"},"E○","Eb○","D○",{"$f":"$C1540","v":"C#○"},{"$f":"$C1539","v":"C○"},"B○","Bb○","A○","G#○","G○","F#○","E○","Eb○","D○",{"$f":"$C1540","v":"C#○"},{"$f":"$C1539","v":"C○"},"B○","Bb○","A○","G#○","G○","F#○",null,"F○",1542]
[null,1543,{"$f":"CONCATENATE($C$9,AD1539)","v":"F#○"},"F○","E○","Eb○","D○",{"$f":"$C1540","v":"C#○"},{"$f":"$C1539","v":"C○"},{"$f":"$C1550","v":"B○"},"Bb○","A○","G#○","G○","F○","E○","Eb○","D○",{"$f":"$C1540","v":"C#○"},{"$f":"$C1539","v":"C○"},{"$f":"$C1550","v":"B○"},"Bb○","A○","G#○","G○",null,"F#○",1543]
[null,1544,{"$f":"CONCATENATE($C$10,AD1539)","v":"G○"},"F#○","F○","E○","Eb○","D○","C#○",{"$f":"$C1539","v":"C○"},{"$f":"$C1550","v":"B○"},"Bb○","A○","G#○","F#○","F○","E○","Eb○","D○","C#○",{"$f":"$C1539","v":"C○"},{"$f":"$C1550","v":"B○"},"Bb○","A○","G#○",null,"G○",1544]
[null,1545,{"$f":"CONCATENATE($C$11,AD1539)","v":"G#○"},"G○","F#○","F○","E○","Eb○","D○",{"$f":"$C1540","v":"C#○"},{"$f":"$C1539","v":"C○"},{"$f":"$C1550","v":"B○"},"Bb○","A○","G○","F#○","F○","E○","Eb○","D○",{"$f":"$C1540","v":"C#○"},{"$f":"$C1539","v":"C○"},{"$f":"$C1550","v":"B○"},"Bb○","A○",null,"G#○",1545]
[null,1546,{"$f":"CONCATENATE($C$12,AD1539)","v":"A○"},"G#○","G○","F#○","F○","E○","Eb○",{"$f":"$C1541","v":"D○"},{"$f":"$C1540","v":"C#○"},{"$f":"$C1539","v":"C○"},{"$f":"$C1550","v":"B○"},"Bb○","G#○","G○","F#○","F○","E○","Eb○",{"$f":"$C1541","v":"D○"},{"$f":"$C1540","v":"C#○"},{"$f":"$C1539","v":"C○"},{"$f":"$C1550","v":"B○"},"Bb○",null,"A○",1546]
[null,1547,{"$f":"CONCATENATE($C$13,AD1539)","v":"Bb○"},"A○","G#○","G○","F#○","F○","E○",{"$f":"$C1542","v":"Eb○"},{"$f":"$C1541","v":"D○"},{"$f":"$C1540","v":"C#○"},{"$f":"$C1539","v":"C○"},{"$f":"$C1550","v":"B○"},"A○","G#○","G○","F#○","F○","E○",{"$f":"$C1542","v":"Eb○"},{"$f":"$C1541","v":"D○"},{"$f":"$C1540","v":"C#○"},{"$f":"$C1539","v":"C○"},{"$f":"$C1550","v":"B○"},null,"Bb○",1547]
[null,1548,{"$f":"CONCATENATE($C$14,AD1539)","v":"B○"},"Bb○","A○","G#○","G○","F#○","F○",{"$f":"$C1543","v":"E○"},{"$f":"$C1542","v":"Eb○"},{"$f":"$C1541","v":"D○"},{"$f":"$C1540","v":"C#○"},{"$f":"$C1539","v":"C○"},"Bb○","A○","G#○","G○","F#○","F○",{"$f":"$C1543","v":"E○"},{"$f":"$C1542","v":"Eb○"},{"$f":"$C1541","v":"D○"},{"$f":"$C1540","v":"C#○"},{"$f":"$C1539","v":"C○"},null,"B○",1548]
[null,1549,{"$f":"CONCATENATE($C$3,AD1551)","v":"C○"},{"$f":"$C1562","v":"B○"},{"$f":"$C1561","v":"Bb○"},{"$f":"$C1560","v":"A○"},{"$f":"$C1559","v":"G#○"},{"$f":"$C1558","v":"G○"},{"$f":"$C1557","v":"F#○"},{"$f":"$C1556","v":"F○"},{"$f":"$C1555","v":"E○"},{"$f":"$C1554","v":"Eb○"},{"$f":"$C1553","v":"D○"},{"$f":"$C1552","v":"C#○"},{"$f":"$C1562","v":"B○"},{"$f":"$C1561","v":"Bb○"},{"$f":"$C1560","v":"A○"},{"$f":"$C1559","v":"G#○"},{"$f":"$C1558","v":"G○"},{"$f":"$C1557","v":"F#○"},{"$f":"$C1556","v":"F○"},{"$f":"$C1555","v":"E○"},{"$f":"$C1554","v":"Eb○"},{"$f":"$C1553","v":"D○"},{"$f":"$C1552","v":"C#○"},null,"C○",1549,null,"○"]
[null,1550,{"$f":"CONCATENATE($C$4,AD1551)","v":"C#○"},{"$f":"$C1551","v":"C○"},{"$f":"$C1562","v":"B○"},{"$f":"$C1561","v":"Bb○"},{"$f":"$C1560","v":"A○"},{"$f":"$C1559","v":"G#○"},"G○","F#○","F○","E○","Eb○","D○",{"$f":"$C1551","v":"C○"},{"$f":"$C1562","v":"B○"},{"$f":"$C1561","v":"Bb○"},{"$f":"$C1560","v":"A○"},{"$f":"$C1559","v":"G#○"},"G○","F#○","F○","E○","Eb○","D○",null,"C#○",1550]
[null,1551,{"$f":"CONCATENATE($C$5,AD1551)","v":"D○"},{"$f":"$C1552","v":"C#○"},{"$f":"$C1551","v":"C○"},{"$f":"$C1562","v":"B○"},{"$f":"$C1561","v":"Bb○"},{"$f":"$C1560","v":"A○"},"G#○","G○","F#○","F○","E○","Eb○",{"$f":"$C1552","v":"C#○"},{"$f":"$C1551","v":"C○"},{"$f":"$C1562","v":"B○"},{"$f":"$C1561","v":"Bb○"},{"$f":"$C1560","v":"A○"},"G#○","G○","F#○","F○","E○","Eb○",null,"D○",1551]
[null,1552,{"$f":"CONCATENATE($C$6,AD1551)","v":"Eb○"},"D○",{"$f":"$C1552","v":"C#○"},{"$f":"$C1551","v":"C○"},{"$f":"$C1562","v":"B○"},{"$f":"$C1561","v":"Bb○"},"A○","G#○","G○","F#○","F○","E○","D○",{"$f":"$C1552","v":"C#○"},{"$f":"$C1551","v":"C○"},{"$f":"$C1562","v":"B○"},{"$f":"$C1561","v":"Bb○"},"A○","G#○","G○","F#○","F○","E○",null,"Eb○",1552]
[null,1553,{"$f":"CONCATENATE($C$7,AD1551)","v":"E○"},"Eb○","D○",{"$f":"$C1552","v":"C#○"},{"$f":"$C1551","v":"C○"},{"$f":"$C1562","v":"B○"},"Bb○","A○","G#○","G○","F#○","F○","Eb○","D○",{"$f":"$C1552","v":"C#○"},{"$f":"$C1551","v":"C○"},{"$f":"$C1562","v":"B○"},"Bb○","A○","G#○","G○","F#○","F○",null,"E○",1553]
[null,1554,{"$f":"CONCATENATE($C$8,AD1551)","v":"F○"},"E○","Eb○","D○",{"$f":"$C1552","v":"C#○"},{"$f":"$C1551","v":"C○"},"B○","Bb○","A○","G#○","G○","F#○","E○","Eb○","D○",{"$f":"$C1552","v":"C#○"},{"$f":"$C1551","v":"C○"},"B○","Bb○","A○","G#○","G○","F#○",null,"F○",1554]
[null,1555,{"$f":"CONCATENATE($C$9,AD1551)","v":"F#○"},"F○","E○","Eb○","D○",{"$f":"$C1552","v":"C#○"},{"$f":"$C1551","v":"C○"},{"$f":"$C1562","v":"B○"},"Bb○","A○","G#○","G○","F○","E○","Eb○","D○",{"$f":"$C1552","v":"C#○"},{"$f":"$C1551","v":"C○"},{"$f":"$C1562","v":"B○"},"Bb○","A○","G#○","G○",null,"F#○",1555]
[null,1556,{"$f":"CONCATENATE($C$10,AD1551)","v":"G○"},"F#○","F○","E○","Eb○","D○","C#○",{"$f":"$C1551","v":"C○"},{"$f":"$C1562","v":"B○"},"Bb○","A○","G#○","F#○","F○","E○","Eb○","D○","C#○",{"$f":"$C1551","v":"C○"},{"$f":"$C1562","v":"B○"},"Bb○","A○","G#○",null,"G○",1556]
[null,1557,{"$f":"CONCATENATE($C$11,AD1551)","v":"G#○"},"G○","F#○","F○","E○","Eb○","D○",{"$f":"$C1552","v":"C#○"},{"$f":"$C1551","v":"C○"},{"$f":"$C1562","v":"B○"},"Bb○","A○","G○","F#○","F○","E○","Eb○","D○",{"$f":"$C1552","v":"C#○"},{"$f":"$C1551","v":"C○"},{"$f":"$C1562","v":"B○"},"Bb○","A○",null,"G#○",1557]
[null,1558,{"$f":"CONCATENATE($C$12,AD1551)","v":"A○"},"G#○","G○","F#○","F○","E○","Eb○",{"$f":"$C1553","v":"D○"},{"$f":"$C1552","v":"C#○"},{"$f":"$C1551","v":"C○"},{"$f":"$C1562","v":"B○"},"Bb○","G#○","G○","F#○","F○","E○","Eb○",{"$f":"$C1553","v":"D○"},{"$f":"$C1552","v":"C#○"},{"$f":"$C1551","v":"C○"},{"$f":"$C1562","v":"B○"},"Bb○",null,"A○",1558]
[null,1559,{"$f":"CONCATENATE($C$13,AD1551)","v":"Bb○"},"A○","G#○","G○","F#○","F○","E○",{"$f":"$C1554","v":"Eb○"},{"$f":"$C1553","v":"D○"},{"$f":"$C1552","v":"C#○"},{"$f":"$C1551","v":"C○"},{"$f":"$C1562","v":"B○"},"A○","G#○","G○","F#○","F○","E○",{"$f":"$C1554","v":"Eb○"},{"$f":"$C1553","v":"D○"},{"$f":"$C1552","v":"C#○"},{"$f":"$C1551","v":"C○"},{"$f":"$C1562","v":"B○"},null,"Bb○",1559]
[null,1560,{"$f":"CONCATENATE($C$14,AD1551)","v":"B○"},"Bb○","A○","G#○","G○","F#○","F○",{"$f":"$C1555","v":"E○"},{"$f":"$C1554","v":"Eb○"},{"$f":"$C1553","v":"D○"},{"$f":"$C1552","v":"C#○"},{"$f":"$C1551","v":"C○"},"Bb○","A○","G#○","G○","F#○","F○",{"$f":"$C1555","v":"E○"},{"$f":"$C1554","v":"Eb○"},{"$f":"$C1553","v":"D○"},{"$f":"$C1552","v":"C#○"},{"$f":"$C1551","v":"C○"},null,"B○",1560]
[null,1561,{"$f":"CONCATENATE($C$3,AD1563)","v":"C○"},{"$f":"$C1574","v":"B○"},{"$f":"$C1573","v":"Bb○"},{"$f":"$C1572","v":"A○"},{"$f":"$C1571","v":"G#○"},{"$f":"$C1570","v":"G○"},{"$f":"$C1569","v":"F#○"},{"$f":"$C1568","v":"F○"},{"$f":"$C1567","v":"E○"},{"$f":"$C1566","v":"Eb○"},{"$f":"$C1565","v":"D○"},{"$f":"$C1564","v":"C#○"},{"$f":"$C1574","v":"B○"},{"$f":"$C1573","v":"Bb○"},{"$f":"$C1572","v":"A○"},{"$f":"$C1571","v":"G#○"},{"$f":"$C1570","v":"G○"},{"$f":"$C1569","v":"F#○"},{"$f":"$C1568","v":"F○"},{"$f":"$C1567","v":"E○"},{"$f":"$C1566","v":"Eb○"},{"$f":"$C1565","v":"D○"},{"$f":"$C1564","v":"C#○"},null,{"$f":"C1563","v":"C○"},1561,null,"○"]
[null,1562,{"$f":"CONCATENATE($C$4,AD1563)","v":"C#○"},{"$f":"$C1563","v":"C○"},{"$f":"$C1574","v":"B○"},{"$f":"$C1573","v":"Bb○"},{"$f":"$C1572","v":"A○"},{"$f":"$C1571","v":"G#○"},"G○","F#○","F○","E○","Eb○","D○",{"$f":"$C1563","v":"C○"},{"$f":"$C1574","v":"B○"},{"$f":"$C1573","v":"Bb○"},{"$f":"$C1572","v":"A○"},{"$f":"$C1571","v":"G#○"},"G○","F#○","F○","E○","Eb○","D○",null,"C#○",1562]
[null,1563,{"$f":"CONCATENATE($C$5,AD1563)","v":"D○"},{"$f":"$C1564","v":"C#○"},{"$f":"$C1563","v":"C○"},{"$f":"$C1574","v":"B○"},{"$f":"$C1573","v":"Bb○"},{"$f":"$C1572","v":"A○"},"G#○","G○","F#○","F○","E○","Eb○",{"$f":"$C1564","v":"C#○"},{"$f":"$C1563","v":"C○"},{"$f":"$C1574","v":"B○"},{"$f":"$C1573","v":"Bb○"},{"$f":"$C1572","v":"A○"},"G#○","G○","F#○","F○","E○","Eb○",null,"D○",1563]
[null,1564,{"$f":"CONCATENATE($C$6,AD1563)","v":"Eb○"},"D○",{"$f":"$C1564","v":"C#○"},{"$f":"$C1563","v":"C○"},{"$f":"$C1574","v":"B○"},{"$f":"$C1573","v":"Bb○"},"A○","G#○","G○","F#○","F○","E○","D○",{"$f":"$C1564","v":"C#○"},{"$f":"$C1563","v":"C○"},{"$f":"$C1574","v":"B○"},{"$f":"$C1573","v":"Bb○"},"A○","G#○","G○","F#○","F○","E○",null,"Eb○",1564]
[null,1565,{"$f":"CONCATENATE($C$7,AD1563)","v":"E○"},"Eb○","D○",{"$f":"$C1564","v":"C#○"},{"$f":"$C1563","v":"C○"},{"$f":"$C1574","v":"B○"},"Bb○","A○","G#○","G○","F#○","F○","Eb○","D○",{"$f":"$C1564","v":"C#○"},{"$f":"$C1563","v":"C○"},{"$f":"$C1574","v":"B○"},"Bb○","A○","G#○","G○","F#○","F○",null,"E○",1565]
[null,1566,{"$f":"CONCATENATE($C$8,AD1563)","v":"F○"},"E○","Eb○","D○",{"$f":"$C1564","v":"C#○"},{"$f":"$C1563","v":"C○"},"B○","Bb○","A○","G#○","G○","F#○","E○","Eb○","D○",{"$f":"$C1564","v":"C#○"},{"$f":"$C1563","v":"C○"},"B○","Bb○","A○","G#○","G○","F#○",null,"F○",1566]
[null,1567,{"$f":"CONCATENATE($C$9,AD1563)","v":"F#○"},"F○","E○","Eb○","D○",{"$f":"$C1564","v":"C#○"},{"$f":"$C1563","v":"C○"},{"$f":"$C1574","v":"B○"},"Bb○","A○","G#○","G○","F○","E○","Eb○","D○",{"$f":"$C1564","v":"C#○"},{"$f":"$C1563","v":"C○"},{"$f":"$C1574","v":"B○"},"Bb○","A○","G#○","G○",null,"F#○",1567]
[null,1568,{"$f":"CONCATENATE($C$10,AD1563)","v":"G○"},"F#○","F○","E○","Eb○","D○","C#○",{"$f":"$C1563","v":"C○"},{"$f":"$C1574","v":"B○"},"Bb○","A○","G#○","F#○","F○","E○","Eb○","D○","C#○",{"$f":"$C1563","v":"C○"},{"$f":"$C1574","v":"B○"},"Bb○","A○","G#○",null,"G○",1568]
[null,1569,{"$f":"CONCATENATE($C$11,AD1563)","v":"G#○"},"G○","F#○","F○","E○","Eb○","D○",{"$f":"$C1564","v":"C#○"},{"$f":"$C1563","v":"C○"},{"$f":"$C1574","v":"B○"},"Bb○","A○","G○","F#○","F○","E○","Eb○","D○",{"$f":"$C1564","v":"C#○"},{"$f":"$C1563","v":"C○"},{"$f":"$C1574","v":"B○"},"Bb○","A○",null,"G#○",1569]
[null,1570,{"$f":"CONCATENATE($C$12,AD1563)","v":"A○"},"G#○","G○","F#○","F○","E○","Eb○",{"$f":"$C1565","v":"D○"},{"$f":"$C1564","v":"C#○"},{"$f":"$C1563","v":"C○"},{"$f":"$C1574","v":"B○"},"Bb○","G#○","G○","F#○","F○","E○","Eb○",{"$f":"$C1565","v":"D○"},{"$f":"$C1564","v":"C#○"},{"$f":"$C1563","v":"C○"},{"$f":"$C1574","v":"B○"},"Bb○",null,"A○",1570]
[null,1571,{"$f":"CONCATENATE($C$13,AD1563)","v":"Bb○"},"A○","G#○","G○","F#○","F○","E○",{"$f":"$C1566","v":"Eb○"},{"$f":"$C1565","v":"D○"},{"$f":"$C1564","v":"C#○"},{"$f":"$C1563","v":"C○"},{"$f":"$C1574","v":"B○"},"A○","G#○","G○","F#○","F○","E○",{"$f":"$C1566","v":"Eb○"},{"$f":"$C1565","v":"D○"},{"$f":"$C1564","v":"C#○"},{"$f":"$C1563","v":"C○"},{"$f":"$C1574","v":"B○"},null,"Bb○",1571]
[null,1572,{"$f":"CONCATENATE($C$14,AD1563)","v":"B○"},"Bb○","A○","G#○","G○","F#○","F○",{"$f":"$C1567","v":"E○"},{"$f":"$C1566","v":"Eb○"},{"$f":"$C1565","v":"D○"},{"$f":"$C1564","v":"C#○"},{"$f":"$C1563","v":"C○"},"Bb○","A○","G#○","G○","F#○","F○",{"$f":"$C1567","v":"E○"},{"$f":"$C1566","v":"Eb○"},{"$f":"$C1565","v":"D○"},{"$f":"$C1564","v":"C#○"},{"$f":"$C1563","v":"C○"},null,"B○",1572]
[null,1573,{"$f":"CONCATENATE($C$3,AD1575)","v":"C○"},{"$f":"$C1586","v":"B○"},{"$f":"$C1585","v":"Bb○"},{"$f":"$C1584","v":"A○"},{"$f":"$C1583","v":"G#○"},{"$f":"$C1582","v":"G○"},{"$f":"$C1581","v":"F#○"},{"$f":"$C1580","v":"F○"},{"$f":"$C1579","v":"E○"},{"$f":"$C1578","v":"Eb○"},{"$f":"$C1577","v":"D○"},{"$f":"$C1576","v":"C#○"},{"$f":"$C1586","v":"B○"},{"$f":"$C1585","v":"Bb○"},{"$f":"$C1584","v":"A○"},{"$f":"$C1583","v":"G#○"},{"$f":"$C1582","v":"G○"},{"$f":"$C1581","v":"F#○"},{"$f":"$C1580","v":"F○"},{"$f":"$C1579","v":"E○"},{"$f":"$C1578","v":"Eb○"},{"$f":"$C1577","v":"D○"},{"$f":"$C1576","v":"C#○"},null,"C○",1573,null,"○"]
[null,1574,{"$f":"CONCATENATE($C$4,AD1575)","v":"C#○"},{"$f":"$C1575","v":"C○"},{"$f":"$C1586","v":"B○"},{"$f":"$C1585","v":"Bb○"},{"$f":"$C1584","v":"A○"},{"$f":"$C1583","v":"G#○"},"G○","F#○","F○","E○","Eb○","D○",{"$f":"$C1575","v":"C○"},{"$f":"$C1586","v":"B○"},{"$f":"$C1585","v":"Bb○"},{"$f":"$C1584","v":"A○"},{"$f":"$C1583","v":"G#○"},"G○","F#○","F○","E○","Eb○","D○",null,"C#○",1574]
[null,1575,{"$f":"CONCATENATE($C$5,AD1575)","v":"D○"},{"$f":"$C1576","v":"C#○"},{"$f":"$C1575","v":"C○"},{"$f":"$C1586","v":"B○"},{"$f":"$C1585","v":"Bb○"},{"$f":"$C1584","v":"A○"},"G#○","G○","F#○","F○","E○","Eb○",{"$f":"$C1576","v":"C#○"},{"$f":"$C1575","v":"C○"},{"$f":"$C1586","v":"B○"},{"$f":"$C1585","v":"Bb○"},{"$f":"$C1584","v":"A○"},"G#○","G○","F#○","F○","E○","Eb○",null,"D○",1575]
[null,1576,{"$f":"CONCATENATE($C$6,AD1575)","v":"Eb○"},"D○",{"$f":"$C1576","v":"C#○"},{"$f":"$C1575","v":"C○"},{"$f":"$C1586","v":"B○"},{"$f":"$C1585","v":"Bb○"},"A○","G#○","G○","F#○","F○","E○","D○",{"$f":"$C1576","v":"C#○"},{"$f":"$C1575","v":"C○"},{"$f":"$C1586","v":"B○"},{"$f":"$C1585","v":"Bb○"},"A○","G#○","G○","F#○","F○","E○",null,"Eb○",1576]
[null,1577,{"$f":"CONCATENATE($C$7,AD1575)","v":"E○"},"Eb○","D○",{"$f":"$C1576","v":"C#○"},{"$f":"$C1575","v":"C○"},{"$f":"$C1586","v":"B○"},"Bb○","A○","G#○","G○","F#○","F○","Eb○","D○",{"$f":"$C1576","v":"C#○"},{"$f":"$C1575","v":"C○"},{"$f":"$C1586","v":"B○"},"Bb○","A○","G#○","G○","F#○","F○",null,"E○",1577]
[null,1578,{"$f":"CONCATENATE($C$8,AD1575)","v":"F○"},"E○","Eb○","D○",{"$f":"$C1576","v":"C#○"},{"$f":"$C1575","v":"C○"},"B○","Bb○","A○","G#○","G○","F#○","E○","Eb○","D○",{"$f":"$C1576","v":"C#○"},{"$f":"$C1575","v":"C○"},"B○","Bb○","A○","G#○","G○","F#○",null,"F○",1578]
[null,1579,{"$f":"CONCATENATE($C$9,AD1575)","v":"F#○"},"F○","E○","Eb○","D○",{"$f":"$C1576","v":"C#○"},{"$f":"$C1575","v":"C○"},{"$f":"$C1586","v":"B○"},"Bb○","A○","G#○","G○","F○","E○","Eb○","D○",{"$f":"$C1576","v":"C#○"},{"$f":"$C1575","v":"C○"},{"$f":"$C1586","v":"B○"},"Bb○","A○","G#○","G○",null,"F#○",1579]
[null,1580,{"$f":"CONCATENATE($C$10,AD1575)","v":"G○"},"F#○","F○","E○","Eb○","D○","C#○",{"$f":"$C1575","v":"C○"},{"$f":"$C1586","v":"B○"},"Bb○","A○","G#○","F#○","F○","E○","Eb○","D○","C#○",{"$f":"$C1575","v":"C○"},{"$f":"$C1586","v":"B○"},"Bb○","A○","G#○",null,"G○",1580]
[null,1581,{"$f":"CONCATENATE($C$11,AD1575)","v":"G#○"},"G○","F#○","F○","E○","Eb○","D○",{"$f":"$C1576","v":"C#○"},{"$f":"$C1575","v":"C○"},{"$f":"$C1586","v":"B○"},"Bb○","A○","G○","F#○","F○","E○","Eb○","D○",{"$f":"$C1576","v":"C#○"},{"$f":"$C1575","v":"C○"},{"$f":"$C1586","v":"B○"},"Bb○","A○",null,"G#○",1581]
[null,1582,{"$f":"CONCATENATE($C$12,AD1575)","v":"A○"},"G#○","G○","F#○","F○","E○","Eb○",{"$f":"$C1577","v":"D○"},{"$f":"$C1576","v":"C#○"},{"$f":"$C1575","v":"C○"},{"$f":"$C1586","v":"B○"},"Bb○","G#○","G○","F#○","F○","E○","Eb○",{"$f":"$C1577","v":"D○"},{"$f":"$C1576","v":"C#○"},{"$f":"$C1575","v":"C○"},{"$f":"$C1586","v":"B○"},"Bb○",null,"A○",1582]
[null,1583,{"$f":"CONCATENATE($C$13,AD1575)","v":"Bb○"},"A○","G#○","G○","F#○","F○","E○",{"$f":"$C1578","v":"Eb○"},{"$f":"$C1577","v":"D○"},{"$f":"$C1576","v":"C#○"},{"$f":"$C1575","v":"C○"},{"$f":"$C1586","v":"B○"},"A○","G#○","G○","F#○","F○","E○",{"$f":"$C1578","v":"Eb○"},{"$f":"$C1577","v":"D○"},{"$f":"$C1576","v":"C#○"},{"$f":"$C1575","v":"C○"},{"$f":"$C1586","v":"B○"},null,"Bb○",1583]
[null,1584,{"$f":"CONCATENATE($C$14,AD1575)","v":"B○"},"Bb○","A○","G#○","G○","F#○","F○",{"$f":"$C1579","v":"E○"},{"$f":"$C1578","v":"Eb○"},{"$f":"$C1577","v":"D○"},{"$f":"$C1576","v":"C#○"},{"$f":"$C1575","v":"C○"},"Bb○","A○","G#○","G○","F#○","F○",{"$f":"$C1579","v":"E○"},{"$f":"$C1578","v":"Eb○"},{"$f":"$C1577","v":"D○"},{"$f":"$C1576","v":"C#○"},{"$f":"$C1575","v":"C○"},null,"B○",1584]
[null,1585,{"$f":"CONCATENATE($C$3,AD1587)","v":"C○"},{"$f":"$C1598","v":"B○"},{"$f":"$C1597","v":"Bb○"},{"$f":"$C1596","v":"A○"},{"$f":"$C1595","v":"G#○"},{"$f":"$C1594","v":"G○"},{"$f":"$C1593","v":"F#○"},{"$f":"$C1592","v":"F○"},{"$f":"$C1591","v":"E○"},{"$f":"$C1590","v":"Eb○"},{"$f":"$C1589","v":"D○"},{"$f":"$C1588","v":"C#○"},{"$f":"$C1598","v":"B○"},{"$f":"$C1597","v":"Bb○"},{"$f":"$C1596","v":"A○"},{"$f":"$C1595","v":"G#○"},{"$f":"$C1594","v":"G○"},{"$f":"$C1593","v":"F#○"},{"$f":"$C1592","v":"F○"},{"$f":"$C1591","v":"E○"},{"$f":"$C1590","v":"Eb○"},{"$f":"$C1589","v":"D○"},{"$f":"$C1588","v":"C#○"},null,"C○",1585,null,"○"]
[null,1586,{"$f":"CONCATENATE($C$4,AD1587)","v":"C#○"},{"$f":"$C1587","v":"C○"},{"$f":"$C1598","v":"B○"},{"$f":"$C1597","v":"Bb○"},{"$f":"$C1596","v":"A○"},{"$f":"$C1595","v":"G#○"},"G○","F#○","F○","E○","Eb○","D○",{"$f":"$C1587","v":"C○"},{"$f":"$C1598","v":"B○"},{"$f":"$C1597","v":"Bb○"},{"$f":"$C1596","v":"A○"},{"$f":"$C1595","v":"G#○"},"G○","F#○","F○","E○","Eb○","D○",null,"C#○",1586]
[null,1587,{"$f":"CONCATENATE($C$5,AD1587)","v":"D○"},{"$f":"$C1588","v":"C#○"},{"$f":"$C1587","v":"C○"},{"$f":"$C1598","v":"B○"},{"$f":"$C1597","v":"Bb○"},{"$f":"$C1596","v":"A○"},"G#○","G○","F#○","F○","E○","Eb○",{"$f":"$C1588","v":"C#○"},{"$f":"$C1587","v":"C○"},{"$f":"$C1598","v":"B○"},{"$f":"$C1597","v":"Bb○"},{"$f":"$C1596","v":"A○"},"G#○","G○","F#○","F○","E○","Eb○",null,"D○",1587]
[null,1588,{"$f":"CONCATENATE($C$6,AD1587)","v":"Eb○"},"D○",{"$f":"$C1588","v":"C#○"},{"$f":"$C1587","v":"C○"},{"$f":"$C1598","v":"B○"},{"$f":"$C1597","v":"Bb○"},"A○","G#○","G○","F#○","F○","E○","D○",{"$f":"$C1588","v":"C#○"},{"$f":"$C1587","v":"C○"},{"$f":"$C1598","v":"B○"},{"$f":"$C1597","v":"Bb○"},"A○","G#○","G○","F#○","F○","E○",null,"Eb○",1588]
[null,1589,{"$f":"CONCATENATE($C$7,AD1587)","v":"E○"},"Eb○","D○",{"$f":"$C1588","v":"C#○"},{"$f":"$C1587","v":"C○"},{"$f":"$C1598","v":"B○"},"Bb○","A○","G#○","G○","F#○","F○","Eb○","D○",{"$f":"$C1588","v":"C#○"},{"$f":"$C1587","v":"C○"},{"$f":"$C1598","v":"B○"},"Bb○","A○","G#○","G○","F#○","F○",null,"E○",1589]
[null,1590,{"$f":"CONCATENATE($C$8,AD1587)","v":"F○"},"E○","Eb○","D○",{"$f":"$C1588","v":"C#○"},{"$f":"$C1587","v":"C○"},"B○","Bb○","A○","G#○","G○","F#○","E○","Eb○","D○",{"$f":"$C1588","v":"C#○"},{"$f":"$C1587","v":"C○"},"B○","Bb○","A○","G#○","G○","F#○",null,"F○",1590]
[null,1591,{"$f":"CONCATENATE($C$9,AD1587)","v":"F#○"},"F○","E○","Eb○","D○",{"$f":"$C1588","v":"C#○"},{"$f":"$C1587","v":"C○"},{"$f":"$C1598","v":"B○"},"Bb○","A○","G#○","G○","F○","E○","Eb○","D○",{"$f":"$C1588","v":"C#○"},{"$f":"$C1587","v":"C○"},{"$f":"$C1598","v":"B○"},"Bb○","A○","G#○","G○",null,"F#○",1591]
[null,1592,{"$f":"CONCATENATE($C$10,AD1587)","v":"G○"},"F#○","F○","E○","Eb○","D○","C#○",{"$f":"$C1587","v":"C○"},{"$f":"$C1598","v":"B○"},"Bb○","A○","G#○","F#○","F○","E○","Eb○","D○","C#○",{"$f":"$C1587","v":"C○"},{"$f":"$C1598","v":"B○"},"Bb○","A○","G#○",null,"G○",1592]
[null,1593,{"$f":"CONCATENATE($C$11,AD1587)","v":"G#○"},"G○","F#○","F○","E○","Eb○","D○",{"$f":"$C1588","v":"C#○"},{"$f":"$C1587","v":"C○"},{"$f":"$C1598","v":"B○"},"Bb○","A○","G○","F#○","F○","E○","Eb○","D○",{"$f":"$C1588","v":"C#○"},{"$f":"$C1587","v":"C○"},{"$f":"$C1598","v":"B○"},"Bb○","A○",null,"G#○",1593]
[null,1594,{"$f":"CONCATENATE($C$12,AD1587)","v":"A○"},"G#○","G○","F#○","F○","E○","Eb○",{"$f":"$C1589","v":"D○"},{"$f":"$C1588","v":"C#○"},{"$f":"$C1587","v":"C○"},{"$f":"$C1598","v":"B○"},"Bb○","G#○","G○","F#○","F○","E○","Eb○",{"$f":"$C1589","v":"D○"},{"$f":"$C1588","v":"C#○"},{"$f":"$C1587","v":"C○"},{"$f":"$C1598","v":"B○"},"Bb○",null,"A○",1594]
[null,1595,{"$f":"CONCATENATE($C$13,AD1587)","v":"Bb○"},"A○","G#○","G○","F#○","F○","E○",{"$f":"$C1590","v":"Eb○"},{"$f":"$C1589","v":"D○"},{"$f":"$C1588","v":"C#○"},{"$f":"$C1587","v":"C○"},{"$f":"$C1598","v":"B○"},"A○","G#○","G○","F#○","F○","E○",{"$f":"$C1590","v":"Eb○"},{"$f":"$C1589","v":"D○"},{"$f":"$C1588","v":"C#○"},{"$f":"$C1587","v":"C○"},{"$f":"$C1598","v":"B○"},null,"Bb○",1595]
[null,1596,{"$f":"CONCATENATE($C$14,AD1587)","v":"B○"},"Bb○","A○","G#○","G○","F#○","F○",{"$f":"$C1591","v":"E○"},{"$f":"$C1590","v":"Eb○"},{"$f":"$C1589","v":"D○"},{"$f":"$C1588","v":"C#○"},{"$f":"$C1587","v":"C○"},"Bb○","A○","G#○","G○","F#○","F○",{"$f":"$C1591","v":"E○"},{"$f":"$C1590","v":"Eb○"},{"$f":"$C1589","v":"D○"},{"$f":"$C1588","v":"C#○"},{"$f":"$C1587","v":"C○"},null,"B○",1596]
[null,1597,{"$f":"CONCATENATE($C$3,AD1599)","v":"C○"},{"$f":"$C1610","v":"B○"},{"$f":"$C1609","v":"Bb○"},{"$f":"$C1608","v":"A○"},{"$f":"$C1607","v":"G#○"},{"$f":"$C1606","v":"G○"},{"$f":"$C1605","v":"F#○"},{"$f":"$C1604","v":"F○"},{"$f":"$C1603","v":"E○"},{"$f":"$C1602","v":"Eb○"},{"$f":"$C1601","v":"D○"},{"$f":"$C1600","v":"C#○"},{"$f":"$C1610","v":"B○"},{"$f":"$C1609","v":"Bb○"},{"$f":"$C1608","v":"A○"},{"$f":"$C1607","v":"G#○"},{"$f":"$C1606","v":"G○"},{"$f":"$C1605","v":"F#○"},{"$f":"$C1604","v":"F○"},{"$f":"$C1603","v":"E○"},{"$f":"$C1602","v":"Eb○"},{"$f":"$C1601","v":"D○"},{"$f":"$C1600","v":"C#○"},null,"C○",1597,null,"○"]
[null,1598,{"$f":"CONCATENATE($C$4,AD1599)","v":"C#○"},{"$f":"$C1599","v":"C○"},{"$f":"$C1610","v":"B○"},{"$f":"$C1609","v":"Bb○"},{"$f":"$C1608","v":"A○"},{"$f":"$C1607","v":"G#○"},"G○","F#○","F○","E○","Eb○","D○",{"$f":"$C1599","v":"C○"},{"$f":"$C1610","v":"B○"},{"$f":"$C1609","v":"Bb○"},{"$f":"$C1608","v":"A○"},{"$f":"$C1607","v":"G#○"},"G○","F#○","F○","E○","Eb○","D○",null,"C#○",1598]
[null,1599,{"$f":"CONCATENATE($C$5,AD1599)","v":"D○"},{"$f":"$C1600","v":"C#○"},{"$f":"$C1599","v":"C○"},{"$f":"$C1610","v":"B○"},{"$f":"$C1609","v":"Bb○"},{"$f":"$C1608","v":"A○"},"G#○","G○","F#○","F○","E○","Eb○",{"$f":"$C1600","v":"C#○"},{"$f":"$C1599","v":"C○"},{"$f":"$C1610","v":"B○"},{"$f":"$C1609","v":"Bb○"},{"$f":"$C1608","v":"A○"},"G#○","G○","F#○","F○","E○","Eb○",null,"D○",1599]
[null,1600,{"$f":"CONCATENATE($C$6,AD1599)","v":"Eb○"},"D○",{"$f":"$C1600","v":"C#○"},{"$f":"$C1599","v":"C○"},{"$f":"$C1610","v":"B○"},{"$f":"$C1609","v":"Bb○"},"A○","G#○","G○","F#○","F○","E○","D○",{"$f":"$C1600","v":"C#○"},{"$f":"$C1599","v":"C○"},{"$f":"$C1610","v":"B○"},{"$f":"$C1609","v":"Bb○"},"A○","G#○","G○","F#○","F○","E○",null,"Eb○",1600]
[null,1601,{"$f":"CONCATENATE($C$7,AD1599)","v":"E○"},"Eb○","D○",{"$f":"$C1600","v":"C#○"},{"$f":"$C1599","v":"C○"},{"$f":"$C1610","v":"B○"},"Bb○","A○","G#○","G○","F#○","F○","Eb○","D○",{"$f":"$C1600","v":"C#○"},{"$f":"$C1599","v":"C○"},{"$f":"$C1610","v":"B○"},"Bb○","A○","G#○","G○","F#○","F○",null,"E○",{"$f":"B1603","v":1601}]
[null,1602,{"$f":"CONCATENATE($C$8,AD1599)","v":"F○"},"E○","Eb○","D○",{"$f":"$C1600","v":"C#○"},{"$f":"$C1599","v":"C○"},"B○","Bb○","A○","G#○","G○","F#○","E○","Eb○","D○",{"$f":"$C1600","v":"C#○"},{"$f":"$C1599","v":"C○"},"B○","Bb○","A○","G#○","G○","F#○",null,"F○",1602]
[null,1603,{"$f":"CONCATENATE($C$9,AD1599)","v":"F#○"},"F○","E○","Eb○","D○",{"$f":"$C1600","v":"C#○"},{"$f":"$C1599","v":"C○"},{"$f":"$C1610","v":"B○"},"Bb○","A○","G#○","G○","F○","E○","Eb○","D○",{"$f":"$C1600","v":"C#○"},{"$f":"$C1599","v":"C○"},{"$f":"$C1610","v":"B○"},"Bb○","A○","G#○","G○",null,"F#○",1603]
[null,1604,{"$f":"CONCATENATE($C$10,AD1599)","v":"G○"},"F#○","F○","E○","Eb○","D○","C#○",{"$f":"$C1599","v":"C○"},{"$f":"$C1610","v":"B○"},"Bb○","A○","G#○","F#○","F○","E○","Eb○","D○","C#○",{"$f":"$C1599","v":"C○"},{"$f":"$C1610","v":"B○"},"Bb○","A○","G#○",null,"G○",1604]
[null,1605,{"$f":"CONCATENATE($C$11,AD1599)","v":"G#○"},"G○","F#○","F○","E○","Eb○","D○",{"$f":"$C1600","v":"C#○"},{"$f":"$C1599","v":"C○"},{"$f":"$C1610","v":"B○"},"Bb○","A○","G○","F#○","F○","E○","Eb○","D○",{"$f":"$C1600","v":"C#○"},{"$f":"$C1599","v":"C○"},{"$f":"$C1610","v":"B○"},"Bb○","A○",null,"G#○",1605]
[null,1606,{"$f":"CONCATENATE($C$12,AD1599)","v":"A○"},"G#○","G○","F#○","F○","E○","Eb○",{"$f":"$C1601","v":"D○"},{"$f":"$C1600","v":"C#○"},{"$f":"$C1599","v":"C○"},{"$f":"$C1610","v":"B○"},"Bb○","G#○","G○","F#○","F○","E○","Eb○",{"$f":"$C1601","v":"D○"},{"$f":"$C1600","v":"C#○"},{"$f":"$C1599","v":"C○"},{"$f":"$C1610","v":"B○"},"Bb○",null,"A○",1606]
[null,1607,{"$f":"CONCATENATE($C$13,AD1599)","v":"Bb○"},"A○","G#○","G○","F#○","F○","E○",{"$f":"$C1602","v":"Eb○"},{"$f":"$C1601","v":"D○"},{"$f":"$C1600","v":"C#○"},{"$f":"$C1599","v":"C○"},{"$f":"$C1610","v":"B○"},"A○","G#○","G○","F#○","F○","E○",{"$f":"$C1602","v":"Eb○"},{"$f":"$C1601","v":"D○"},{"$f":"$C1600","v":"C#○"},{"$f":"$C1599","v":"C○"},{"$f":"$C1610","v":"B○"},null,"Bb○",1607]
[null,1608,{"$f":"CONCATENATE($C$14,AD1599)","v":"B○"},"Bb○","A○","G#○","G○","F#○","F○",{"$f":"$C1603","v":"E○"},{"$f":"$C1602","v":"Eb○"},{"$f":"$C1601","v":"D○"},{"$f":"$C1600","v":"C#○"},{"$f":"$C1599","v":"C○"},"Bb○","A○","G#○","G○","F#○","F○",{"$f":"$C1603","v":"E○"},{"$f":"$C1602","v":"Eb○"},{"$f":"$C1601","v":"D○"},{"$f":"$C1600","v":"C#○"},{"$f":"$C1599","v":"C○"},null,"B○",1608]
[null,1609,{"$f":"CONCATENATE($C$3,AD1611)","v":"C○"},{"$f":"$C1622","v":"B○"},{"$f":"$C1621","v":"Bb○"},{"$f":"$C1620","v":"A○"},{"$f":"$C1619","v":"G#○"},{"$f":"$C1618","v":"G○"},{"$f":"$C1617","v":"F#○"},{"$f":"$C1616","v":"F○"},{"$f":"$C1615","v":"E○"},{"$f":"$C1614","v":"Eb○"},{"$f":"$C1613","v":"D○"},{"$f":"$C1612","v":"C#○"},{"$f":"$C1622","v":"B○"},{"$f":"$C1621","v":"Bb○"},{"$f":"$C1620","v":"A○"},{"$f":"$C1619","v":"G#○"},{"$f":"$C1618","v":"G○"},{"$f":"$C1617","v":"F#○"},{"$f":"$C1616","v":"F○"},{"$f":"$C1615","v":"E○"},{"$f":"$C1614","v":"Eb○"},{"$f":"$C1613","v":"D○"},{"$f":"$C1612","v":"C#○"},null,"C○",1609,null,"○"]
[null,1610,{"$f":"CONCATENATE($C$4,AD1611)","v":"C#○"},{"$f":"$C1611","v":"C○"},{"$f":"$C1622","v":"B○"},{"$f":"$C1621","v":"Bb○"},{"$f":"$C1620","v":"A○"},{"$f":"$C1619","v":"G#○"},"G○","F#○","F○","E○","Eb○","D○",{"$f":"$C1611","v":"C○"},{"$f":"$C1622","v":"B○"},{"$f":"$C1621","v":"Bb○"},{"$f":"$C1620","v":"A○"},{"$f":"$C1619","v":"G#○"},"G○","F#○","F○","E○","Eb○","D○",null,"C#○",1610]
[null,1611,{"$f":"CONCATENATE($C$5,AD1611)","v":"D○"},{"$f":"$C1612","v":"C#○"},{"$f":"$C1611","v":"C○"},{"$f":"$C1622","v":"B○"},{"$f":"$C1621","v":"Bb○"},{"$f":"$C1620","v":"A○"},"G#○","G○","F#○","F○","E○","Eb○",{"$f":"$C1612","v":"C#○"},{"$f":"$C1611","v":"C○"},{"$f":"$C1622","v":"B○"},{"$f":"$C1621","v":"Bb○"},{"$f":"$C1620","v":"A○"},"G#○","G○","F#○","F○","E○","Eb○",null,"D○",1611]
[null,1612,{"$f":"CONCATENATE($C$6,AD1611)","v":"Eb○"},"D○",{"$f":"$C1612","v":"C#○"},{"$f":"$C1611","v":"C○"},{"$f":"$C1622","v":"B○"},{"$f":"$C1621","v":"Bb○"},"A○","G#○","G○","F#○","F○","E○","D○",{"$f":"$C1612","v":"C#○"},{"$f":"$C1611","v":"C○"},{"$f":"$C1622","v":"B○"},{"$f":"$C1621","v":"Bb○"},"A○","G#○","G○","F#○","F○","E○",null,"Eb○",1612]
[null,1613,{"$f":"CONCATENATE($C$7,AD1611)","v":"E○"},"Eb○","D○",{"$f":"$C1612","v":"C#○"},{"$f":"$C1611","v":"C○"},{"$f":"$C1622","v":"B○"},"Bb○","A○","G#○","G○","F#○","F○","Eb○","D○",{"$f":"$C1612","v":"C#○"},{"$f":"$C1611","v":"C○"},{"$f":"$C1622","v":"B○"},"Bb○","A○","G#○","G○","F#○","F○",null,"E○",1613]
[null,1614,{"$f":"CONCATENATE($C$8,AD1611)","v":"F○"},"E○","Eb○","D○",{"$f":"$C1612","v":"C#○"},{"$f":"$C1611","v":"C○"},"B○","Bb○","A○","G#○","G○","F#○","E○","Eb○","D○",{"$f":"$C1612","v":"C#○"},{"$f":"$C1611","v":"C○"},"B○","Bb○","A○","G#○","G○","F#○",null,"F○",1614]
[null,1615,{"$f":"CONCATENATE($C$9,AD1611)","v":"F#○"},"F○","E○","Eb○","D○",{"$f":"$C1612","v":"C#○"},{"$f":"$C1611","v":"C○"},{"$f":"$C1622","v":"B○"},"Bb○","A○","G#○","G○","F○","E○","Eb○","D○",{"$f":"$C1612","v":"C#○"},{"$f":"$C1611","v":"C○"},{"$f":"$C1622","v":"B○"},"Bb○","A○","G#○","G○",null,"F#○",1615]
[null,1616,{"$f":"CONCATENATE($C$10,AD1611)","v":"G○"},"F#○","F○","E○","Eb○","D○","C#○",{"$f":"$C1611","v":"C○"},{"$f":"$C1622","v":"B○"},"Bb○","A○","G#○","F#○","F○","E○","Eb○","D○","C#○",{"$f":"$C1611","v":"C○"},{"$f":"$C1622","v":"B○"},"Bb○","A○","G#○",null,"G○",1616]
[null,1617,{"$f":"CONCATENATE($C$11,AD1611)","v":"G#○"},"G○","F#○","F○","E○","Eb○","D○",{"$f":"$C1612","v":"C#○"},{"$f":"$C1611","v":"C○"},{"$f":"$C1622","v":"B○"},"Bb○","A○","G○","F#○","F○","E○","Eb○","D○",{"$f":"$C1612","v":"C#○"},{"$f":"$C1611","v":"C○"},{"$f":"$C1622","v":"B○"},"Bb○","A○",null,"G#○",1617]
[null,1618,{"$f":"CONCATENATE($C$12,AD1611)","v":"A○"},"G#○","G○","F#○","F○","E○","Eb○",{"$f":"$C1613","v":"D○"},{"$f":"$C1612","v":"C#○"},{"$f":"$C1611","v":"C○"},{"$f":"$C1622","v":"B○"},"Bb○","G#○","G○","F#○","F○","E○","Eb○",{"$f":"$C1613","v":"D○"},{"$f":"$C1612","v":"C#○"},{"$f":"$C1611","v":"C○"},{"$f":"$C1622","v":"B○"},"Bb○",null,"A○",1618]
[null,1619,{"$f":"CONCATENATE($C$13,AD1611)","v":"Bb○"},"A○","G#○","G○","F#○","F○","E○",{"$f":"$C1614","v":"Eb○"},{"$f":"$C1613","v":"D○"},{"$f":"$C1612","v":"C#○"},{"$f":"$C1611","v":"C○"},{"$f":"$C1622","v":"B○"},"A○","G#○","G○","F#○","F○","E○",{"$f":"$C1614","v":"Eb○"},{"$f":"$C1613","v":"D○"},{"$f":"$C1612","v":"C#○"},{"$f":"$C1611","v":"C○"},{"$f":"$C1622","v":"B○"},null,"Bb○",1619]
[null,1620,{"$f":"CONCATENATE($C$14,AD1611)","v":"B○"},"Bb○","A○","G#○","G○","F#○","F○",{"$f":"$C1615","v":"E○"},{"$f":"$C1614","v":"Eb○"},{"$f":"$C1613","v":"D○"},{"$f":"$C1612","v":"C#○"},{"$f":"$C1611","v":"C○"},"Bb○","A○","G#○","G○","F#○","F○",{"$f":"$C1615","v":"E○"},{"$f":"$C1614","v":"Eb○"},{"$f":"$C1613","v":"D○"},{"$f":"$C1612","v":"C#○"},{"$f":"$C1611","v":"C○"},null,"B○",1620]
[null,1621,{"$f":"CONCATENATE($C$3,AD1623)","v":"C○"},{"$f":"$C1634","v":"B○"},{"$f":"$C1633","v":"Bb○"},{"$f":"$C1632","v":"A○"},{"$f":"$C1631","v":"G#○"},{"$f":"$C1630","v":"G○"},{"$f":"$C1629","v":"F#○"},{"$f":"$C1628","v":"F○"},{"$f":"$C1627","v":"E○"},{"$f":"$C1626","v":"Eb○"},{"$f":"$C1625","v":"D○"},{"$f":"$C1624","v":"C#○"},{"$f":"$C1634","v":"B○"},{"$f":"$C1633","v":"Bb○"},{"$f":"$C1632","v":"A○"},{"$f":"$C1631","v":"G#○"},{"$f":"$C1630","v":"G○"},{"$f":"$C1629","v":"F#○"},{"$f":"$C1628","v":"F○"},{"$f":"$C1627","v":"E○"},{"$f":"$C1626","v":"Eb○"},{"$f":"$C1625","v":"D○"},{"$f":"$C1624","v":"C#○"},null,"C○",1621,null,"○"]
[null,1622,{"$f":"CONCATENATE($C$4,AD1623)","v":"C#○"},{"$f":"$C1623","v":"C○"},{"$f":"$C1634","v":"B○"},{"$f":"$C1633","v":"Bb○"},{"$f":"$C1632","v":"A○"},{"$f":"$C1631","v":"G#○"},"G○","F#○","F○","E○","Eb○","D○",{"$f":"$C1623","v":"C○"},{"$f":"$C1634","v":"B○"},{"$f":"$C1633","v":"Bb○"},{"$f":"$C1632","v":"A○"},{"$f":"$C1631","v":"G#○"},"G○","F#○","F○","E○","Eb○","D○",null,"C#○",1622]
[null,1623,{"$f":"CONCATENATE($C$5,AD1623)","v":"D○"},{"$f":"$C1624","v":"C#○"},{"$f":"$C1623","v":"C○"},{"$f":"$C1634","v":"B○"},{"$f":"$C1633","v":"Bb○"},{"$f":"$C1632","v":"A○"},"G#○","G○","F#○","F○","E○","Eb○",{"$f":"$C1624","v":"C#○"},{"$f":"$C1623","v":"C○"},{"$f":"$C1634","v":"B○"},{"$f":"$C1633","v":"Bb○"},{"$f":"$C1632","v":"A○"},"G#○","G○","F#○","F○","E○","Eb○",null,"D○",1623]
[null,1624,{"$f":"CONCATENATE($C$6,AD1623)","v":"Eb○"},"D○",{"$f":"$C1624","v":"C#○"},{"$f":"$C1623","v":"C○"},{"$f":"$C1634","v":"B○"},{"$f":"$C1633","v":"Bb○"},"A○","G#○","G○","F#○","F○","E○","D○",{"$f":"$C1624","v":"C#○"},{"$f":"$C1623","v":"C○"},{"$f":"$C1634","v":"B○"},{"$f":"$C1633","v":"Bb○"},"A○","G#○","G○","F#○","F○","E○",null,"Eb○",1624]
[null,1625,{"$f":"CONCATENATE($C$7,AD1623)","v":"E○"},"Eb○","D○",{"$f":"$C1624","v":"C#○"},{"$f":"$C1623","v":"C○"},{"$f":"$C1634","v":"B○"},"Bb○","A○","G#○","G○","F#○","F○","Eb○","D○",{"$f":"$C1624","v":"C#○"},{"$f":"$C1623","v":"C○"},{"$f":"$C1634","v":"B○"},"Bb○","A○","G#○","G○","F#○","F○",null,{"$f":"C1627","v":"E○"},1625]
[null,1626,{"$f":"CONCATENATE($C$8,AD1623)","v":"F○"},"E○","Eb○","D○",{"$f":"$C1624","v":"C#○"},{"$f":"$C1623","v":"C○"},"B○","Bb○","A○","G#○","G○","F#○","E○","Eb○","D○",{"$f":"$C1624","v":"C#○"},{"$f":"$C1623","v":"C○"},"B○","Bb○","A○","G#○","G○","F#○",null,"F○",1626]
[null,1627,{"$f":"CONCATENATE($C$9,AD1623)","v":"F#○"},"F○","E○","Eb○","D○",{"$f":"$C1624","v":"C#○"},{"$f":"$C1623","v":"C○"},{"$f":"$C1634","v":"B○"},"Bb○","A○","G#○","G○","F○","E○","Eb○","D○",{"$f":"$C1624","v":"C#○"},{"$f":"$C1623","v":"C○"},{"$f":"$C1634","v":"B○"},"Bb○","A○","G#○","G○",null,"F#○",1627]
[null,1628,{"$f":"CONCATENATE($C$10,AD1623)","v":"G○"},"F#○","F○","E○","Eb○","D○","C#○",{"$f":"$C1623","v":"C○"},{"$f":"$C1634","v":"B○"},"Bb○","A○","G#○","F#○","F○","E○","Eb○","D○","C#○",{"$f":"$C1623","v":"C○"},{"$f":"$C1634","v":"B○"},"Bb○","A○","G#○",null,"G○",1628]
[null,1629,{"$f":"CONCATENATE($C$11,AD1623)","v":"G#○"},"G○","F#○","F○","E○","Eb○","D○",{"$f":"$C1624","v":"C#○"},{"$f":"$C1623","v":"C○"},{"$f":"$C1634","v":"B○"},"Bb○","A○","G○","F#○","F○","E○","Eb○","D○",{"$f":"$C1624","v":"C#○"},{"$f":"$C1623","v":"C○"},{"$f":"$C1634","v":"B○"},"Bb○","A○",null,"G#○",1629]
[null,1630,{"$f":"CONCATENATE($C$12,AD1623)","v":"A○"},"G#○","G○","F#○","F○","E○","Eb○",{"$f":"$C1625","v":"D○"},{"$f":"$C1624","v":"C#○"},{"$f":"$C1623","v":"C○"},{"$f":"$C1634","v":"B○"},"Bb○","G#○","G○","F#○","F○","E○","Eb○",{"$f":"$C1625","v":"D○"},{"$f":"$C1624","v":"C#○"},{"$f":"$C1623","v":"C○"},{"$f":"$C1634","v":"B○"},"Bb○",null,"A○",1630]
[null,1631,{"$f":"CONCATENATE($C$13,AD1623)","v":"Bb○"},"A○","G#○","G○","F#○","F○","E○",{"$f":"$C1626","v":"Eb○"},{"$f":"$C1625","v":"D○"},{"$f":"$C1624","v":"C#○"},{"$f":"$C1623","v":"C○"},{"$f":"$C1634","v":"B○"},"A○","G#○","G○","F#○","F○","E○",{"$f":"$C1626","v":"Eb○"},{"$f":"$C1625","v":"D○"},{"$f":"$C1624","v":"C#○"},{"$f":"$C1623","v":"C○"},{"$f":"$C1634","v":"B○"},null,"Bb○",1631]
[null,1632,{"$f":"CONCATENATE($C$14,AD1623)","v":"B○"},"Bb○","A○","G#○","G○","F#○","F○",{"$f":"$C1627","v":"E○"},{"$f":"$C1626","v":"Eb○"},{"$f":"$C1625","v":"D○"},{"$f":"$C1624","v":"C#○"},{"$f":"$C1623","v":"C○"},"Bb○","A○","G#○","G○","F#○","F○",{"$f":"$C1627","v":"E○"},{"$f":"$C1626","v":"Eb○"},{"$f":"$C1625","v":"D○"},{"$f":"$C1624","v":"C#○"},{"$f":"$C1623","v":"C○"},null,"B○",1632]
[null,1633,{"$f":"CONCATENATE($C$3,AD1635)","v":"C○"},{"$f":"$C1646","v":"B○"},{"$f":"$C1645","v":"Bb○"},{"$f":"$C1644","v":"A○"},{"$f":"$C1643","v":"G#○"},{"$f":"$C1642","v":"G○"},{"$f":"$C1641","v":"F#○"},{"$f":"$C1640","v":"F○"},{"$f":"$C1639","v":"E○"},{"$f":"$C1638","v":"Eb○"},{"$f":"$C1637","v":"D○"},{"$f":"$C1636","v":"C#○"},{"$f":"$C1646","v":"B○"},{"$f":"$C1645","v":"Bb○"},{"$f":"$C1644","v":"A○"},{"$f":"$C1643","v":"G#○"},{"$f":"$C1642","v":"G○"},{"$f":"$C1641","v":"F#○"},{"$f":"$C1640","v":"F○"},{"$f":"$C1639","v":"E○"},{"$f":"$C1638","v":"Eb○"},{"$f":"$C1637","v":"D○"},{"$f":"$C1636","v":"C#○"},null,"C○",1633,null,"○"]
[null,1634,{"$f":"CONCATENATE($C$4,AD1635)","v":"C#○"},{"$f":"$C1635","v":"C○"},{"$f":"$C1646","v":"B○"},{"$f":"$C1645","v":"Bb○"},{"$f":"$C1644","v":"A○"},{"$f":"$C1643","v":"G#○"},"G○","F#○","F○","E○","Eb○","D○",{"$f":"$C1635","v":"C○"},{"$f":"$C1646","v":"B○"},{"$f":"$C1645","v":"Bb○"},{"$f":"$C1644","v":"A○"},{"$f":"$C1643","v":"G#○"},"G○","F#○","F○","E○","Eb○","D○",null,"C#○",1634]
[null,1635,{"$f":"CONCATENATE($C$5,AD1635)","v":"D○"},{"$f":"$C1636","v":"C#○"},{"$f":"$C1635","v":"C○"},{"$f":"$C1646","v":"B○"},{"$f":"$C1645","v":"Bb○"},{"$f":"$C1644","v":"A○"},"G#○","G○","F#○","F○","E○","Eb○",{"$f":"$C1636","v":"C#○"},{"$f":"$C1635","v":"C○"},{"$f":"$C1646","v":"B○"},{"$f":"$C1645","v":"Bb○"},{"$f":"$C1644","v":"A○"},"G#○","G○","F#○","F○","E○","Eb○",null,"D○",1635]
[null,1636,{"$f":"CONCATENATE($C$6,AD1635)","v":"Eb○"},"D○",{"$f":"$C1636","v":"C#○"},{"$f":"$C1635","v":"C○"},{"$f":"$C1646","v":"B○"},{"$f":"$C1645","v":"Bb○"},"A○","G#○","G○","F#○","F○","E○","D○",{"$f":"$C1636","v":"C#○"},{"$f":"$C1635","v":"C○"},{"$f":"$C1646","v":"B○"},{"$f":"$C1645","v":"Bb○"},"A○","G#○","G○","F#○","F○","E○",null,"Eb○",1636]
[null,1637,{"$f":"CONCATENATE($C$7,AD1635)","v":"E○"},"Eb○","D○",{"$f":"$C1636","v":"C#○"},{"$f":"$C1635","v":"C○"},{"$f":"$C1646","v":"B○"},"Bb○","A○","G#○","G○","F#○","F○","Eb○","D○",{"$f":"$C1636","v":"C#○"},{"$f":"$C1635","v":"C○"},{"$f":"$C1646","v":"B○"},"Bb○","A○","G#○","G○","F#○","F○",null,"E○",1637]
[null,1638,{"$f":"CONCATENATE($C$8,AD1635)","v":"F○"},"E○","Eb○","D○",{"$f":"$C1636","v":"C#○"},{"$f":"$C1635","v":"C○"},"B○","Bb○","A○","G#○","G○","F#○","E○","Eb○","D○",{"$f":"$C1636","v":"C#○"},{"$f":"$C1635","v":"C○"},"B○","Bb○","A○","G#○","G○","F#○",null,"F○",1638]
[null,1639,{"$f":"CONCATENATE($C$9,AD1635)","v":"F#○"},"F○","E○","Eb○","D○",{"$f":"$C1636","v":"C#○"},{"$f":"$C1635","v":"C○"},{"$f":"$C1646","v":"B○"},"Bb○","A○","G#○","G○","F○","E○","Eb○","D○",{"$f":"$C1636","v":"C#○"},{"$f":"$C1635","v":"C○"},{"$f":"$C1646","v":"B○"},"Bb○","A○","G#○","G○",null,"F#○",1639]
[null,1640,{"$f":"CONCATENATE($C$10,AD1635)","v":"G○"},"F#○","F○","E○","Eb○","D○","C#○",{"$f":"$C1635","v":"C○"},{"$f":"$C1646","v":"B○"},"Bb○","A○","G#○","F#○","F○","E○","Eb○","D○","C#○",{"$f":"$C1635","v":"C○"},{"$f":"$C1646","v":"B○"},"Bb○","A○","G#○",null,"G○",1640]
[null,1641,{"$f":"CONCATENATE($C$11,AD1635)","v":"G#○"},"G○","F#○","F○","E○","Eb○","D○",{"$f":"$C1636","v":"C#○"},{"$f":"$C1635","v":"C○"},{"$f":"$C1646","v":"B○"},"Bb○","A○","G○","F#○","F○","E○","Eb○","D○",{"$f":"$C1636","v":"C#○"},{"$f":"$C1635","v":"C○"},{"$f":"$C1646","v":"B○"},"Bb○","A○",null,"G#○",1641]
[null,1642,{"$f":"CONCATENATE($C$12,AD1635)","v":"A○"},"G#○","G○","F#○","F○","E○","Eb○",{"$f":"$C1637","v":"D○"},{"$f":"$C1636","v":"C#○"},{"$f":"$C1635","v":"C○"},{"$f":"$C1646","v":"B○"},"Bb○","G#○","G○","F#○","F○","E○","Eb○",{"$f":"$C1637","v":"D○"},{"$f":"$C1636","v":"C#○"},{"$f":"$C1635","v":"C○"},{"$f":"$C1646","v":"B○"},"Bb○",null,"A○",1642]
[null,1643,{"$f":"CONCATENATE($C$13,AD1635)","v":"Bb○"},"A○","G#○","G○","F#○","F○","E○",{"$f":"$C1638","v":"Eb○"},{"$f":"$C1637","v":"D○"},{"$f":"$C1636","v":"C#○"},{"$f":"$C1635","v":"C○"},{"$f":"$C1646","v":"B○"},"A○","G#○","G○","F#○","F○","E○",{"$f":"$C1638","v":"Eb○"},{"$f":"$C1637","v":"D○"},{"$f":"$C1636","v":"C#○"},{"$f":"$C1635","v":"C○"},{"$f":"$C1646","v":"B○"},null,"Bb○",1643]
[null,1644,{"$f":"CONCATENATE($C$14,AD1635)","v":"B○"},"Bb○","A○","G#○","G○","F#○","F○",{"$f":"$C1639","v":"E○"},{"$f":"$C1638","v":"Eb○"},{"$f":"$C1637","v":"D○"},{"$f":"$C1636","v":"C#○"},{"$f":"$C1635","v":"C○"},"Bb○","A○","G#○","G○","F#○","F○",{"$f":"$C1639","v":"E○"},{"$f":"$C1638","v":"Eb○"},{"$f":"$C1637","v":"D○"},{"$f":"$C1636","v":"C#○"},{"$f":"$C1635","v":"C○"},null,"B○",1644]
[null,1645,{"$f":"CONCATENATE($C$3,AD1647)","v":"C○/C"},{"$f":"$C1658","v":"B○/B"},{"$f":"$C1657","v":"Bb○/Bb"},{"$f":"$C1656","v":"A○/A"},{"$f":"$C1655","v":"G#○/G#"},{"$f":"$C1654","v":"G○/G"},{"$f":"$C1653","v":"F#○/F#"},{"$f":"$C1652","v":"F○/F"},{"$f":"$C1651","v":"E○/E"},{"$f":"$C1650","v":"Eb○/Eb"},{"$f":"$C1649","v":"D○/D"},{"$f":"$C1648","v":"C#○/C#"},{"$f":"$C1658","v":"B○/B"},{"$f":"$C1657","v":"Bb○/Bb"},{"$f":"$C1656","v":"A○/A"},{"$f":"$C1655","v":"G#○/G#"},{"$f":"$C1654","v":"G○/G"},{"$f":"$C1653","v":"F#○/F#"},{"$f":"$C1652","v":"F○/F"},{"$f":"$C1651","v":"E○/E"},{"$f":"$C1650","v":"Eb○/Eb"},{"$f":"$C1649","v":"D○/D"},{"$f":"$C1648","v":"C#○/C#"},null,{"$f":"C1647","v":"C○/C"},1645,"※上に無いonコードは□ここに入力→",{"$f":"CONCATENATE(AE1647,VLOOKUP(AF1647,$AH$1647:$AH$1669,1,0))","v":"○/C"},"○/","C","←例：Dm/E　の場合Cに置き換えると","C",{"$f":"IF(印刷用!$T$12=1,$AK$1647,$AK$1648)","v":"C#"},null,"C#"]
[null,1646,{"$f":"CONCATENATE($C$4,AD1648)","v":"C#○/C#"},{"$f":"$C1647","v":"C○/C"},{"$f":"$C1658","v":"B○/B"},{"$f":"$C1657","v":"Bb○/Bb"},{"$f":"$C1656","v":"A○/A"},{"$f":"$C1655","v":"G#○/G#"},"G○/G","F#○/F#","F○/F","E○/E","Eb○/Eb","D○/D",{"$f":"$C1647","v":"C○/C"},{"$f":"$C1658","v":"B○/B"},{"$f":"$C1657","v":"Bb○/Bb"},{"$f":"$C1656","v":"A○/A"},{"$f":"$C1655","v":"G#○/G#"},"G○/G","F#○/F#","F○/F","E○/E","Eb○/Eb","D○/D",null,"C#○/C#",1646,null,{"$f":"CONCATENATE(AE1647,VLOOKUP(AF1648,$AH$1647:$AH$1669,1,0))","v":"○/C#"},null,{"$f":"VLOOKUP(AF1647,$AH$1647:$AI$1658,2,0)","v":"C#"},null,{"$f":"IF(印刷用!$T$12=1,$AK$1647,$AK$1648)","v":"C#"},"D",null,"Db"]
[null,1647,{"$f":"CONCATENATE($C$5,AD1649)","v":"D○/D"},{"$f":"$C1648","v":"C#○/C#"},{"$f":"$C1647","v":"C○/C"},{"$f":"$C1658","v":"B○/B"},{"$f":"$C1657","v":"Bb○/Bb"},{"$f":"$C1656","v":"A○/A"},"G#○/G#","G○/G","F#○/F#","F○/F","E○/E","Eb○/Eb",{"$f":"$C1648","v":"C#○/C#"},{"$f":"$C1647","v":"C○/C"},{"$f":"$C1658","v":"B○/B"},{"$f":"$C1657","v":"Bb○/Bb"},{"$f":"$C1656","v":"A○/A"},"G#○/G#","G○/G","F#○/F#","F○/F","E○/E","Eb○/Eb",null,"D○/D",1647,null,{"$f":"CONCATENATE(AE1647,VLOOKUP(AF1649,$AH$1647:$AH$1669,1,0))","v":"○/D"},null,"D",null,"D",{"$f":"IF(印刷用!$V$12=1,$AK$1649,$AK$1650)","v":"Eb"},null,"D#"]
[null,1648,{"$f":"CONCATENATE($C$6,AD1650)","v":"Eb○/Eb"},"D○/D",{"$f":"$C1648","v":"C#○/C#"},{"$f":"$C1647","v":"C○/C"},{"$f":"$C1658","v":"B○/B"},{"$f":"$C1657","v":"Bb○/Bb"},"A○/A","G#○/G#","G○/G","F#○/F#","F○/F","E○/E","D○/D",{"$f":"$C1648","v":"C#○/C#"},{"$f":"$C1647","v":"C○/C"},{"$f":"$C1658","v":"B○/B"},{"$f":"$C1657","v":"Bb○/Bb"},"A○/A","G#○/G#","G○/G","F#○/F#","F○/F","E○/E",null,"Eb○/Eb",1648,null,{"$f":"CONCATENATE(AE1647,VLOOKUP(AF1650,$AH$1647:$AH$1669,1,0))","v":"○/Eb"},null,"Eb",null,{"$f":"IF(印刷用!$V$12=1,$AK$1649,$AK$1650)","v":"Eb"},"E",null,"Eb"]
[null,1649,{"$f":"CONCATENATE($C$7,AD1651)","v":"E○/E"},"Eb○/Eb","D○/D",{"$f":"$C1648","v":"C#○/C#"},{"$f":"$C1647","v":"C○/C"},{"$f":"$C1658","v":"B○/B"},"Bb○/Bb","A○/A","G#○/G#","G○/G","F#○/F#","F○/F","Eb○/Eb","D○/D",{"$f":"$C1648","v":"C#○/C#"},{"$f":"$C1647","v":"C○/C"},{"$f":"$C1658","v":"B○/B"},"Bb○/Bb","A○/A","G#○/G#","G○/G","F#○/F#","F○/F",null,"E○/E",1649,null,{"$f":"CONCATENATE(AE1647,VLOOKUP(AF1651,$AH$1647:$AH$1669,1,0))","v":"○/E"},null,"E",null,"E","F",null,"F#"]
[null,1650,{"$f":"CONCATENATE($C$8,AD1652)","v":"F○/F"},"E○/E","Eb○/Eb","D○/D",{"$f":"$C1648","v":"C#○/C#"},{"$f":"$C1647","v":"C○/C"},"B○/B","Bb○/Bb","A○/A","G#○/G#","G○/G","F#○/F#","E○/E","Eb○/Eb","D○/D",{"$f":"$C1648","v":"C#○/C#"},{"$f":"$C1647","v":"C○/C"},"B○/B","Bb○/Bb","A○/A","G#○/G#","G○/G","F#○/F#",null,"F○/F",1650,null,{"$f":"CONCATENATE(AE1647,VLOOKUP(AF1652,$AH$1647:$AH$1669,1,0))","v":"○/F"},null,"F",null,"F",{"$f":"IF(印刷用!$X$12=1,$AK$1651,$AK$1652)","v":"F#"},null,"Gb"]
[null,1651,{"$f":"CONCATENATE($C$9,AD1653)","v":"F#○/F#"},"F○/F","E○/E","Eb○/Eb","D○/D",{"$f":"$C1648","v":"C#○/C#"},{"$f":"$C1647","v":"C○/C"},{"$f":"$C1658","v":"B○/B"},"Bb○/Bb","A○/A","G#○/G#","G○/G","F○/F","E○/E","Eb○/Eb","D○/D",{"$f":"$C1648","v":"C#○/C#"},{"$f":"$C1647","v":"C○/C"},{"$f":"$C1658","v":"B○/B"},"Bb○/Bb","A○/A","G#○/G#","G○/G",null,"F#○/F#",1651,null,{"$f":"CONCATENATE(AE1647,VLOOKUP(AF1653,$AH$1647:$AH$1669,1,0))","v":"○/F#"},null,"F#",null,{"$f":"IF(印刷用!$X$12=1,$AK$1651,$AK$1652)","v":"F#"},"G",null,"G#"]
[null,1652,{"$f":"CONCATENATE($C$10,AD1654)","v":"G○/G"},"F#○/F#","F○/F","E○/E","Eb○/Eb","D○/D","C#○/C#",{"$f":"$C1647","v":"C○/C"},{"$f":"$C1658","v":"B○/B"},"Bb○/Bb","A○/A","G#○/G#","F#○/F#","F○/F","E○/E","Eb○/Eb","D○/D","C#○/C#",{"$f":"$C1647","v":"C○/C"},{"$f":"$C1658","v":"B○/B"},"Bb○/Bb","A○/A","G#○/G#",null,"G○/G",1652,null,{"$f":"CONCATENATE(AE1647,VLOOKUP(AF1654,$AH$1647:$AH$1669,1,0))","v":"○/G"},null,"G",null,"G",{"$f":"IF(印刷用!$Z$12=1,$AK$1653,$AK$1654)","v":"G#"},null,"Ab"]
[null,1653,{"$f":"CONCATENATE($C$11,AD1655)","v":"G#○/G#"},"G○/G","F#○/F#","F○/F","E○/E","Eb○/Eb","D○/D",{"$f":"$C1648","v":"C#○/C#"},{"$f":"$C1647","v":"C○/C"},{"$f":"$C1658","v":"B○/B"},"Bb○/Bb","A○/A","G○/G","F#○/F#","F○/F","E○/E","Eb○/Eb","D○/D",{"$f":"$C1648","v":"C#○/C#"},{"$f":"$C1647","v":"C○/C"},{"$f":"$C1658","v":"B○/B"},"Bb○/Bb","A○/A",null,"G#○/G#",1653,null,{"$f":"CONCATENATE(AE1647,VLOOKUP(AF1655,$AH$1647:$AH$1669,1,0))","v":"○/G#"},null,"G#",null,{"$f":"IF(印刷用!$Z$12=1,$AK$1653,$AK$1654)","v":"G#"},"A",null,"A#"]
[null,1654,{"$f":"CONCATENATE($C$12,AD1656)","v":"A○/A"},"G#○/G#","G○/G","F#○/F#","F○/F","E○/E","Eb○/Eb",{"$f":"$C1649","v":"D○/D"},{"$f":"$C1648","v":"C#○/C#"},{"$f":"$C1647","v":"C○/C"},{"$f":"$C1658","v":"B○/B"},"Bb○/Bb","G#○/G#","G○/G","F#○/F#","F○/F","E○/E","Eb○/Eb",{"$f":"$C1649","v":"D○/D"},{"$f":"$C1648","v":"C#○/C#"},{"$f":"$C1647","v":"C○/C"},{"$f":"$C1658","v":"B○/B"},"Bb○/Bb",null,"A○/A",1654,null,{"$f":"CONCATENATE(AE1647,VLOOKUP(AF1656,$AH$1647:$AH$1669,1,0))","v":"○/A"},null,"A",null,"A",{"$f":"IF(印刷用!$AB$12=1,$AK$1655,$AK$1656)","v":"Bb"},null,"Bb"]
[null,1655,{"$f":"CONCATENATE($C$13,AD1657)","v":"Bb○/Bb"},"A○/A","G#○/G#","G○/G","F#○/F#","F○/F","E○/E",{"$f":"$C1650","v":"Eb○/Eb"},{"$f":"$C1649","v":"D○/D"},{"$f":"$C1648","v":"C#○/C#"},{"$f":"$C1647","v":"C○/C"},{"$f":"$C1658","v":"B○/B"},"A○/A","G#○/G#","G○/G","F#○/F#","F○/F","E○/E",{"$f":"$C1650","v":"Eb○/Eb"},{"$f":"$C1649","v":"D○/D"},{"$f":"$C1648","v":"C#○/C#"},{"$f":"$C1647","v":"C○/C"},{"$f":"$C1658","v":"B○/B"},null,"Bb○/Bb",1655,null,{"$f":"CONCATENATE(AE1647,VLOOKUP(AF1657,$AH$1647:$AH$1669,1,0))","v":"○/Bb"},null,"Bb",null,{"$f":"IF(印刷用!$AB$12=1,$AK$1655,$AK$1656)","v":"Bb"},"B"]
[null,1656,{"$f":"CONCATENATE($C$14,AD1658)","v":"B○/B"},"Bb○/Bb","A○/A","G#○/G#","G○/G","F#○/F#","F○/F",{"$f":"$C1651","v":"E○/E"},{"$f":"$C1650","v":"Eb○/Eb"},{"$f":"$C1649","v":"D○/D"},{"$f":"$C1648","v":"C#○/C#"},{"$f":"$C1647","v":"C○/C"},"Bb○/Bb","A○/A","G#○/G#","G○/G","F#○/F#","F○/F",{"$f":"$C1651","v":"E○/E"},{"$f":"$C1650","v":"Eb○/Eb"},{"$f":"$C1649","v":"D○/D"},{"$f":"$C1648","v":"C#○/C#"},{"$f":"$C1647","v":"C○/C"},null,"B○/B",1656,null,{"$f":"CONCATENATE(AE1647,VLOOKUP(AF1658,$AH$1647:$AH$1669,1,0))","v":"○/B"},null,"B",null,"B","C"]
[null,1657,{"$f":"CONCATENATE($C$3,AD1659)","v":"C○/C"},{"$f":"$C1670","v":"B○/B"},{"$f":"$C1669","v":"Bb○/Bb"},{"$f":"$C1668","v":"A○/A"},{"$f":"$C1667","v":"G#○/G#"},{"$f":"$C1666","v":"G○/G"},{"$f":"$C1665","v":"F#○/F#"},{"$f":"$C1664","v":"F○/F"},{"$f":"$C1663","v":"E○/E"},{"$f":"$C1662","v":"Eb○/Eb"},{"$f":"$C1661","v":"D○/D"},{"$f":"$C1660","v":"C#○/C#"},{"$f":"$C1670","v":"B○/B"},{"$f":"$C1669","v":"Bb○/Bb"},{"$f":"$C1668","v":"A○/A"},{"$f":"$C1667","v":"G#○/G#"},{"$f":"$C1666","v":"G○/G"},{"$f":"$C1665","v":"F#○/F#"},{"$f":"$C1664","v":"F○/F"},{"$f":"$C1663","v":"E○/E"},{"$f":"$C1662","v":"Eb○/Eb"},{"$f":"$C1661","v":"D○/D"},{"$f":"$C1660","v":"C#○/C#"},null,{"$f":"C1659","v":"C○/C"},1657,null,{"$f":"CONCATENATE(AE1659,VLOOKUP(AF1659,$AH$1647:$AH$1669,1,0))","v":"○/C"},"○/","C","　Cm/D　なので　最初の□にm/","C"]
[null,1658,{"$f":"CONCATENATE($C$4,AD1660)","v":"C#○/C#"},{"$f":"$C1659","v":"C○/C"},{"$f":"$C1670","v":"B○/B"},{"$f":"$C1669","v":"Bb○/Bb"},{"$f":"$C1668","v":"A○/A"},{"$f":"$C1667","v":"G#○/G#"},"G○/G","F#○/F#","F○/F","E○/E","Eb○/Eb","D○/D",{"$f":"$C1659","v":"C○/C"},{"$f":"$C1670","v":"B○/B"},{"$f":"$C1669","v":"Bb○/Bb"},{"$f":"$C1668","v":"A○/A"},{"$f":"$C1667","v":"G#○/G#"},"G○/G","F#○/F#","F○/F","E○/E","Eb○/Eb","D○/D",null,"C#○/C#",1658,null,{"$f":"CONCATENATE(AE1659,VLOOKUP(AF1660,$AH$1647:$AH$1669,1,0))","v":"○/C#"},null,{"$f":"VLOOKUP(AF1659,$AH$1647:$AI$1658,2,0)","v":"C#"},null,{"$f":"IF(印刷用!$T$12=1,$AK$1647,$AK$1648)","v":"C#"}]
[null,1659,{"$f":"CONCATENATE($C$5,AD1661)","v":"D○/D"},{"$f":"$C1660","v":"C#○/C#"},{"$f":"$C1659","v":"C○/C"},{"$f":"$C1670","v":"B○/B"},{"$f":"$C1669","v":"Bb○/Bb"},{"$f":"$C1668","v":"A○/A"},"G#○/G#","G○/G","F#○/F#","F○/F","E○/E","Eb○/Eb",{"$f":"$C1660","v":"C#○/C#"},{"$f":"$C1659","v":"C○/C"},{"$f":"$C1670","v":"B○/B"},{"$f":"$C1669","v":"Bb○/Bb"},{"$f":"$C1668","v":"A○/A"},"G#○/G#","G○/G","F#○/F#","F○/F","E○/E","Eb○/Eb",null,"D○/D",1659,null,{"$f":"CONCATENATE(AE1659,VLOOKUP(AF1661,$AH$1647:$AH$1669,1,0))","v":"○/D"},null,"D",null,"D"]
[null,1660,{"$f":"CONCATENATE($C$6,AD1662)","v":"Eb○/Eb"},"D○/D",{"$f":"$C1660","v":"C#○/C#"},{"$f":"$C1659","v":"C○/C"},{"$f":"$C1670","v":"B○/B"},{"$f":"$C1669","v":"Bb○/Bb"},"A○/A","G#○/G#","G○/G","F#○/F#","F○/F","E○/E","D○/D",{"$f":"$C1660","v":"C#○/C#"},{"$f":"$C1659","v":"C○/C"},{"$f":"$C1670","v":"B○/B"},{"$f":"$C1669","v":"Bb○/Bb"},"A○/A","G#○/G#","G○/G","F#○/F#","F○/F","E○/E",null,"Eb○/Eb",1660,null,{"$f":"CONCATENATE(AE1659,VLOOKUP(AF1662,$AH$1647:$AH$1669,1,0))","v":"○/Eb"},null,"Eb",null,{"$f":"IF(印刷用!$V$12=1,$AK$1649,$AK$1650)","v":"Eb"}]
[null,1661,{"$f":"CONCATENATE($C$7,AD1663)","v":"E○/E"},"Eb○/Eb","D○/D",{"$f":"$C1660","v":"C#○/C#"},{"$f":"$C1659","v":"C○/C"},{"$f":"$C1670","v":"B○/B"},"Bb○/Bb","A○/A","G#○/G#","G○/G","F#○/F#","F○/F","Eb○/Eb","D○/D",{"$f":"$C1660","v":"C#○/C#"},{"$f":"$C1659","v":"C○/C"},{"$f":"$C1670","v":"B○/B"},"Bb○/Bb","A○/A","G#○/G#","G○/G","F#○/F#","F○/F",null,"E○/E",1661,null,{"$f":"CONCATENATE(AE1659,VLOOKUP(AF1663,$AH$1647:$AH$1669,1,0))","v":"○/E"},null,"E",null,"E"]
[null,1662,{"$f":"CONCATENATE($C$8,AD1664)","v":"F○/F"},"E○/E","Eb○/Eb","D○/D",{"$f":"$C1660","v":"C#○/C#"},{"$f":"$C1659","v":"C○/C"},"B○/B","Bb○/Bb","A○/A","G#○/G#","G○/G","F#○/F#","E○/E","Eb○/Eb","D○/D",{"$f":"$C1660","v":"C#○/C#"},{"$f":"$C1659","v":"C○/C"},"B○/B","Bb○/Bb","A○/A","G#○/G#","G○/G","F#○/F#",null,"F○/F",1662,null,{"$f":"CONCATENATE(AE1659,VLOOKUP(AF1664,$AH$1647:$AH$1669,1,0))","v":"○/F"},null,"F",null,"F"]
[null,1663,{"$f":"CONCATENATE($C$9,AD1665)","v":"F#○/F#"},"F○/F","E○/E","Eb○/Eb","D○/D",{"$f":"$C1660","v":"C#○/C#"},{"$f":"$C1659","v":"C○/C"},{"$f":"$C1670","v":"B○/B"},"Bb○/Bb","A○/A","G#○/G#","G○/G","F○/F","E○/E","Eb○/Eb","D○/D",{"$f":"$C1660","v":"C#○/C#"},{"$f":"$C1659","v":"C○/C"},{"$f":"$C1670","v":"B○/B"},"Bb○/Bb","A○/A","G#○/G#","G○/G",null,"F#○/F#",1663,null,{"$f":"CONCATENATE(AE1659,VLOOKUP(AF1665,$AH$1647:$AH$1669,1,0))","v":"○/F#"},null,"F#",null,{"$f":"IF(印刷用!$X$12=1,$AK$1651,$AK$1652)","v":"F#"}]
[null,1664,{"$f":"CONCATENATE($C$10,AD1666)","v":"G○/G"},"F#○/F#","F○/F","E○/E","Eb○/Eb","D○/D","C#○/C#",{"$f":"$C1659","v":"C○/C"},{"$f":"$C1670","v":"B○/B"},"Bb○/Bb","A○/A","G#○/G#","F#○/F#","F○/F","E○/E","Eb○/Eb","D○/D","C#○/C#",{"$f":"$C1659","v":"C○/C"},{"$f":"$C1670","v":"B○/B"},"Bb○/Bb","A○/A","G#○/G#",null,"G○/G",1664,null,{"$f":"CONCATENATE(AE1659,VLOOKUP(AF1666,$AH$1647:$AH$1669,1,0))","v":"○/G"},null,"G",null,"G"]
[null,1665,{"$f":"CONCATENATE($C$11,AD1667)","v":"G#○/G#"},"G○/G","F#○/F#","F○/F","E○/E","Eb○/Eb","D○/D",{"$f":"$C1660","v":"C#○/C#"},{"$f":"$C1659","v":"C○/C"},{"$f":"$C1670","v":"B○/B"},"Bb○/Bb","A○/A","G○/G","F#○/F#","F○/F","E○/E","Eb○/Eb","D○/D",{"$f":"$C1660","v":"C#○/C#"},{"$f":"$C1659","v":"C○/C"},{"$f":"$C1670","v":"B○/B"},"Bb○/Bb","A○/A",null,"G#○/G#",{"$f":"B1667","v":1665},null,{"$f":"CONCATENATE(AE1659,VLOOKUP(AF1667,$AH$1647:$AH$1669,1,0))","v":"○/G#"},null,"G#",null,{"$f":"IF(印刷用!$Z$12=1,$AK$1653,$AK$1654)","v":"G#"}]
[null,1666,{"$f":"CONCATENATE($C$12,AD1668)","v":"A○/A"},"G#○/G#","G○/G","F#○/F#","F○/F","E○/E","Eb○/Eb",{"$f":"$C1661","v":"D○/D"},{"$f":"$C1660","v":"C#○/C#"},{"$f":"$C1659","v":"C○/C"},{"$f":"$C1670","v":"B○/B"},"Bb○/Bb","G#○/G#","G○/G","F#○/F#","F○/F","E○/E","Eb○/Eb",{"$f":"$C1661","v":"D○/D"},{"$f":"$C1660","v":"C#○/C#"},{"$f":"$C1659","v":"C○/C"},{"$f":"$C1670","v":"B○/B"},"Bb○/Bb",null,"A○/A",1666,null,{"$f":"CONCATENATE(AE1659,VLOOKUP(AF1668,$AH$1647:$AH$1669,1,0))","v":"○/A"},null,"A",null,"A"]
[null,1667,{"$f":"CONCATENATE($C$13,AD1669)","v":"Bb○/Bb"},"A○/A","G#○/G#","G○/G","F#○/F#","F○/F","E○/E",{"$f":"$C1662","v":"Eb○/Eb"},{"$f":"$C1661","v":"D○/D"},{"$f":"$C1660","v":"C#○/C#"},{"$f":"$C1659","v":"C○/C"},{"$f":"$C1670","v":"B○/B"},"A○/A","G#○/G#","G○/G","F#○/F#","F○/F","E○/E",{"$f":"$C1662","v":"Eb○/Eb"},{"$f":"$C1661","v":"D○/D"},{"$f":"$C1660","v":"C#○/C#"},{"$f":"$C1659","v":"C○/C"},{"$f":"$C1670","v":"B○/B"},null,"Bb○/Bb",1667,null,{"$f":"CONCATENATE(AE1659,VLOOKUP(AF1669,$AH$1647:$AH$1669,1,0))","v":"○/Bb"},null,"Bb",null,{"$f":"IF(印刷用!$AB$12=1,$AK$1655,$AK$1656)","v":"Bb"}]
[null,1668,{"$f":"CONCATENATE($C$14,AD1670)","v":"B○/B"},"Bb○/Bb","A○/A","G#○/G#","G○/G","F#○/F#","F○/F",{"$f":"$C1663","v":"E○/E"},{"$f":"$C1662","v":"Eb○/Eb"},{"$f":"$C1661","v":"D○/D"},{"$f":"$C1660","v":"C#○/C#"},{"$f":"$C1659","v":"C○/C"},"Bb○/Bb","A○/A","G#○/G#","G○/G","F#○/F#","F○/F",{"$f":"$C1663","v":"E○/E"},{"$f":"$C1662","v":"Eb○/Eb"},{"$f":"$C1661","v":"D○/D"},{"$f":"$C1660","v":"C#○/C#"},{"$f":"$C1659","v":"C○/C"},null,"B○/B",1668,null,{"$f":"CONCATENATE(AE1659,VLOOKUP(AF1670,$AH$1647:$AH$1669,1,0))","v":"○/B"},null,"B"]
[null,1669,{"$f":"CONCATENATE($C$3,AD1671)","v":"C○/C"},{"$f":"$C1682","v":"B○/B"},{"$f":"$C1681","v":"Bb○/Bb"},{"$f":"$C1680","v":"A○/A"},{"$f":"$C1679","v":"G#○/G#"},{"$f":"$C1678","v":"G○/G"},{"$f":"$C1677","v":"F#○/F#"},{"$f":"$C1676","v":"F○/F"},{"$f":"$C1675","v":"E○/E"},{"$f":"$C1674","v":"Eb○/Eb"},{"$f":"$C1673","v":"D○/D"},{"$f":"$C1672","v":"C#○/C#"},{"$f":"$C1682","v":"B○/B"},{"$f":"$C1681","v":"Bb○/Bb"},{"$f":"$C1680","v":"A○/A"},{"$f":"$C1679","v":"G#○/G#"},{"$f":"$C1678","v":"G○/G"},{"$f":"$C1677","v":"F#○/F#"},{"$f":"$C1676","v":"F○/F"},{"$f":"$C1675","v":"E○/E"},{"$f":"$C1674","v":"Eb○/Eb"},{"$f":"$C1673","v":"D○/D"},{"$f":"$C1672","v":"C#○/C#"},null,{"$f":"C1671","v":"C○/C"},1669,null,{"$f":"CONCATENATE(AE1671,VLOOKUP(AF1671,$AH$1647:$AH$1669,1,0))","v":"○/C"},"○/","C","　次の□に　D　を小文字で入力"]
[null,1670,{"$f":"CONCATENATE($C$4,AD1672)","v":"C#○/C#"},{"$f":"$C1671","v":"C○/C"},{"$f":"$C1682","v":"B○/B"},{"$f":"$C1681","v":"Bb○/Bb"},{"$f":"$C1680","v":"A○/A"},{"$f":"$C1679","v":"G#○/G#"},"G○/G","F#○/F#","F○/F","E○/E","Eb○/Eb","D○/D",{"$f":"$C1671","v":"C○/C"},{"$f":"$C1682","v":"B○/B"},{"$f":"$C1681","v":"Bb○/Bb"},{"$f":"$C1680","v":"A○/A"},{"$f":"$C1679","v":"G#○/G#"},"G○/G","F#○/F#","F○/F","E○/E","Eb○/Eb","D○/D",null,{"$f":"C1672","v":"C#○/C#"},1670,null,{"$f":"CONCATENATE(AE1671,VLOOKUP(AF1672,$AH$1647:$AH$1669,1,0))","v":"○/C#"},null,{"$f":"VLOOKUP(AF1671,$AH$1647:$AI$1658,2,0)","v":"C#"}]
[null,1671,{"$f":"CONCATENATE($C$5,AD1673)","v":"D○/D"},{"$f":"$C1672","v":"C#○/C#"},{"$f":"$C1671","v":"C○/C"},{"$f":"$C1682","v":"B○/B"},{"$f":"$C1681","v":"Bb○/Bb"},{"$f":"$C1680","v":"A○/A"},"G#○/G#","G○/G","F#○/F#","F○/F","E○/E","Eb○/Eb",{"$f":"$C1672","v":"C#○/C#"},{"$f":"$C1671","v":"C○/C"},{"$f":"$C1682","v":"B○/B"},{"$f":"$C1681","v":"Bb○/Bb"},{"$f":"$C1680","v":"A○/A"},"G#○/G#","G○/G","F#○/F#","F○/F","E○/E","Eb○/Eb",null,{"$f":"C1673","v":"D○/D"},1671,null,{"$f":"CONCATENATE(AE1671,VLOOKUP(AF1673,$AH$1647:$AH$1669,1,0))","v":"○/D"},null,"D"]
[null,1672,{"$f":"CONCATENATE($C$6,AD1674)","v":"Eb○/Eb"},"D○/D",{"$f":"$C1672","v":"C#○/C#"},{"$f":"$C1671","v":"C○/C"},{"$f":"$C1682","v":"B○/B"},{"$f":"$C1681","v":"Bb○/Bb"},"A○/A","G#○/G#","G○/G","F#○/F#","F○/F","E○/E","D○/D",{"$f":"$C1672","v":"C#○/C#"},{"$f":"$C1671","v":"C○/C"},{"$f":"$C1682","v":"B○/B"},{"$f":"$C1681","v":"Bb○/Bb"},"A○/A","G#○/G#","G○/G","F#○/F#","F○/F","E○/E",null,{"$f":"C1674","v":"Eb○/Eb"},1672,null,{"$f":"CONCATENATE(AE1671,VLOOKUP(AF1674,$AH$1647:$AH$1669,1,0))","v":"○/Eb"},null,"Eb"]
[null,1673,{"$f":"CONCATENATE($C$7,AD1675)","v":"E○/E"},"Eb○/Eb","D○/D",{"$f":"$C1672","v":"C#○/C#"},{"$f":"$C1671","v":"C○/C"},{"$f":"$C1682","v":"B○/B"},"Bb○/Bb","A○/A","G#○/G#","G○/G","F#○/F#","F○/F","Eb○/Eb","D○/D",{"$f":"$C1672","v":"C#○/C#"},{"$f":"$C1671","v":"C○/C"},{"$f":"$C1682","v":"B○/B"},"Bb○/Bb","A○/A","G#○/G#","G○/G","F#○/F#","F○/F",null,"E○/E",1673,null,{"$f":"CONCATENATE(AE1671,VLOOKUP(AF1675,$AH$1647:$AH$1669,1,0))","v":"○/E"},null,"E"]
[null,1674,{"$f":"CONCATENATE($C$8,AD1676)","v":"F○/F"},"E○/E","Eb○/Eb","D○/D",{"$f":"$C1672","v":"C#○/C#"},{"$f":"$C1671","v":"C○/C"},"B○/B","Bb○/Bb","A○/A","G#○/G#","G○/G","F#○/F#","E○/E","Eb○/Eb","D○/D",{"$f":"$C1672","v":"C#○/C#"},{"$f":"$C1671","v":"C○/C"},"B○/B","Bb○/Bb","A○/A","G#○/G#","G○/G","F#○/F#",null,"F○/F",1674,null,{"$f":"CONCATENATE(AE1671,VLOOKUP(AF1676,$AH$1647:$AH$1669,1,0))","v":"○/F"},null,"F"]
[null,1675,{"$f":"CONCATENATE($C$9,AD1677)","v":"F#○/F#"},"F○/F","E○/E","Eb○/Eb","D○/D",{"$f":"$C1672","v":"C#○/C#"},{"$f":"$C1671","v":"C○/C"},{"$f":"$C1682","v":"B○/B"},"Bb○/Bb","A○/A","G#○/G#","G○/G","F○/F","E○/E","Eb○/Eb","D○/D",{"$f":"$C1672","v":"C#○/C#"},{"$f":"$C1671","v":"C○/C"},{"$f":"$C1682","v":"B○/B"},"Bb○/Bb","A○/A","G#○/G#","G○/G",null,"F#○/F#",1675,null,{"$f":"CONCATENATE(AE1671,VLOOKUP(AF1677,$AH$1647:$AH$1669,1,0))","v":"○/F#"},null,"F#"]
[null,1676,{"$f":"CONCATENATE($C$10,AD1678)","v":"G○/G"},"F#○/F#","F○/F","E○/E","Eb○/Eb","D○/D","C#○/C#",{"$f":"$C1671","v":"C○/C"},{"$f":"$C1682","v":"B○/B"},"Bb○/Bb","A○/A","G#○/G#","F#○/F#","F○/F","E○/E","Eb○/Eb","D○/D","C#○/C#",{"$f":"$C1671","v":"C○/C"},{"$f":"$C1682","v":"B○/B"},"Bb○/Bb","A○/A","G#○/G#",null,"G○/G",1676,null,{"$f":"CONCATENATE(AE1671,VLOOKUP(AF1678,$AH$1647:$AH$1669,1,0))","v":"○/G"},null,"G"]
[null,1677,{"$f":"CONCATENATE($C$11,AD1679)","v":"G#○/G#"},"G○/G","F#○/F#","F○/F","E○/E","Eb○/Eb","D○/D",{"$f":"$C1672","v":"C#○/C#"},{"$f":"$C1671","v":"C○/C"},{"$f":"$C1682","v":"B○/B"},"Bb○/Bb","A○/A","G○/G","F#○/F#","F○/F","E○/E","Eb○/Eb","D○/D",{"$f":"$C1672","v":"C#○/C#"},{"$f":"$C1671","v":"C○/C"},{"$f":"$C1682","v":"B○/B"},"Bb○/Bb","A○/A",null,"G#○/G#",1677,null,{"$f":"CONCATENATE(AE1671,VLOOKUP(AF1679,$AH$1647:$AH$1669,1,0))","v":"○/G#"},null,"G#"]
[null,1678,{"$f":"CONCATENATE($C$12,AD1680)","v":"A○/A"},"G#○/G#","G○/G","F#○/F#","F○/F","E○/E","Eb○/Eb",{"$f":"$C1673","v":"D○/D"},{"$f":"$C1672","v":"C#○/C#"},{"$f":"$C1671","v":"C○/C"},{"$f":"$C1682","v":"B○/B"},"Bb○/Bb","G#○/G#","G○/G","F#○/F#","F○/F","E○/E","Eb○/Eb",{"$f":"$C1673","v":"D○/D"},{"$f":"$C1672","v":"C#○/C#"},{"$f":"$C1671","v":"C○/C"},{"$f":"$C1682","v":"B○/B"},"Bb○/Bb",null,"A○/A",1678,null,{"$f":"CONCATENATE(AE1671,VLOOKUP(AF1680,$AH$1647:$AH$1669,1,0))","v":"○/A"},null,"A"]
[null,1679,{"$f":"CONCATENATE($C$13,AD1681)","v":"Bb○/Bb"},"A○/A","G#○/G#","G○/G","F#○/F#","F○/F","E○/E",{"$f":"$C1674","v":"Eb○/Eb"},{"$f":"$C1673","v":"D○/D"},{"$f":"$C1672","v":"C#○/C#"},{"$f":"$C1671","v":"C○/C"},{"$f":"$C1682","v":"B○/B"},"A○/A","G#○/G#","G○/G","F#○/F#","F○/F","E○/E",{"$f":"$C1674","v":"Eb○/Eb"},{"$f":"$C1673","v":"D○/D"},{"$f":"$C1672","v":"C#○/C#"},{"$f":"$C1671","v":"C○/C"},{"$f":"$C1682","v":"B○/B"},null,"Bb○/Bb",1679,null,{"$f":"CONCATENATE(AE1671,VLOOKUP(AF1681,$AH$1647:$AH$1669,1,0))","v":"○/Bb"},null,"Bb"]
[null,1680,{"$f":"CONCATENATE($C$14,AD1682)","v":"B○/B"},"Bb○/Bb","A○/A","G#○/G#","G○/G","F#○/F#","F○/F",{"$f":"$C1675","v":"E○/E"},{"$f":"$C1674","v":"Eb○/Eb"},{"$f":"$C1673","v":"D○/D"},{"$f":"$C1672","v":"C#○/C#"},{"$f":"$C1671","v":"C○/C"},"Bb○/Bb","A○/A","G#○/G#","G○/G","F#○/F#","F○/F",{"$f":"$C1675","v":"E○/E"},{"$f":"$C1674","v":"Eb○/Eb"},{"$f":"$C1673","v":"D○/D"},{"$f":"$C1672","v":"C#○/C#"},{"$f":"$C1671","v":"C○/C"},null,"B○/B",1680,null,{"$f":"CONCATENATE(AE1671,VLOOKUP(AF1682,$AH$1647:$AH$1669,1,0))","v":"○/B"},null,"B"]
[null,1681,{"$f":"CONCATENATE($C$3,AD1683)","v":"C○/C"},{"$f":"$C1694","v":"B○/B"},{"$f":"$C1693","v":"Bb○/Bb"},{"$f":"$C1692","v":"A○/A"},{"$f":"$C1691","v":"G#○/G#"},{"$f":"$C1690","v":"G○/G"},{"$f":"$C1689","v":"F#○/F#"},{"$f":"$C1688","v":"F○/F"},{"$f":"$C1687","v":"E○/E"},{"$f":"$C1686","v":"Eb○/Eb"},{"$f":"$C1685","v":"D○/D"},{"$f":"$C1684","v":"C#○/C#"},{"$f":"$C1694","v":"B○/B"},{"$f":"$C1693","v":"Bb○/Bb"},{"$f":"$C1692","v":"A○/A"},{"$f":"$C1691","v":"G#○/G#"},{"$f":"$C1690","v":"G○/G"},{"$f":"$C1689","v":"F#○/F#"},{"$f":"$C1688","v":"F○/F"},{"$f":"$C1687","v":"E○/E"},{"$f":"$C1686","v":"Eb○/Eb"},{"$f":"$C1685","v":"D○/D"},{"$f":"$C1684","v":"C#○/C#"},null,{"$f":"C1683","v":"C○/C"},1681,null,{"$f":"CONCATENATE(AE1683,VLOOKUP(AF1683,$AH$1647:$AH$1669,1,0))","v":"○/C"},"○/","C"]
[null,1682,{"$f":"CONCATENATE($C$4,AD1684)","v":"C#○/C#"},{"$f":"$C1683","v":"C○/C"},{"$f":"$C1694","v":"B○/B"},{"$f":"$C1693","v":"Bb○/Bb"},{"$f":"$C1692","v":"A○/A"},{"$f":"$C1691","v":"G#○/G#"},"G○/G","F#○/F#","F○/F","E○/E","Eb○/Eb","D○/D",{"$f":"$C1683","v":"C○/C"},{"$f":"$C1694","v":"B○/B"},{"$f":"$C1693","v":"Bb○/Bb"},{"$f":"$C1692","v":"A○/A"},{"$f":"$C1691","v":"G#○/G#"},"G○/G","F#○/F#","F○/F","E○/E","Eb○/Eb","D○/D",null,{"$f":"C1684","v":"C#○/C#"},1682,null,{"$f":"CONCATENATE(AE1683,VLOOKUP(AF1684,$AH$1647:$AH$1669,1,0))","v":"○/C#"},null,{"$f":"VLOOKUP(AF1683,$AH$1647:$AI$1658,2,0)","v":"C#"}]
[null,1683,{"$f":"CONCATENATE($C$5,AD1685)","v":"D○/D"},{"$f":"$C1684","v":"C#○/C#"},{"$f":"$C1683","v":"C○/C"},{"$f":"$C1694","v":"B○/B"},{"$f":"$C1693","v":"Bb○/Bb"},{"$f":"$C1692","v":"A○/A"},"G#○/G#","G○/G","F#○/F#","F○/F","E○/E","Eb○/Eb",{"$f":"$C1684","v":"C#○/C#"},{"$f":"$C1683","v":"C○/C"},{"$f":"$C1694","v":"B○/B"},{"$f":"$C1693","v":"Bb○/Bb"},{"$f":"$C1692","v":"A○/A"},"G#○/G#","G○/G","F#○/F#","F○/F","E○/E","Eb○/Eb",null,{"$f":"C1685","v":"D○/D"},1683,null,{"$f":"CONCATENATE(AE1683,VLOOKUP(AF1685,$AH$1647:$AH$1669,1,0))","v":"○/D"},null,"D"]
[null,1684,{"$f":"CONCATENATE($C$6,AD1686)","v":"Eb○/Eb"},"D○/D",{"$f":"$C1684","v":"C#○/C#"},{"$f":"$C1683","v":"C○/C"},{"$f":"$C1694","v":"B○/B"},{"$f":"$C1693","v":"Bb○/Bb"},"A○/A","G#○/G#","G○/G","F#○/F#","F○/F","E○/E","D○/D",{"$f":"$C1684","v":"C#○/C#"},{"$f":"$C1683","v":"C○/C"},{"$f":"$C1694","v":"B○/B"},{"$f":"$C1693","v":"Bb○/Bb"},"A○/A","G#○/G#","G○/G","F#○/F#","F○/F","E○/E",null,{"$f":"C1686","v":"Eb○/Eb"},1684,null,{"$f":"CONCATENATE(AE1683,VLOOKUP(AF1686,$AH$1647:$AH$1669,1,0))","v":"○/Eb"},null,"Eb"]
[null,1685,{"$f":"CONCATENATE($C$7,AD1687)","v":"E○/E"},"Eb○/Eb","D○/D",{"$f":"$C1684","v":"C#○/C#"},{"$f":"$C1683","v":"C○/C"},{"$f":"$C1694","v":"B○/B"},"Bb○/Bb","A○/A","G#○/G#","G○/G","F#○/F#","F○/F","Eb○/Eb","D○/D",{"$f":"$C1684","v":"C#○/C#"},{"$f":"$C1683","v":"C○/C"},{"$f":"$C1694","v":"B○/B"},"Bb○/Bb","A○/A","G#○/G#","G○/G","F#○/F#","F○/F",null,"E○/E",1685,null,{"$f":"CONCATENATE(AE1683,VLOOKUP(AF1687,$AH$1647:$AH$1669,1,0))","v":"○/E"},null,"E"]
[null,1686,{"$f":"CONCATENATE($C$8,AD1688)","v":"F○/F"},"E○/E","Eb○/Eb","D○/D",{"$f":"$C1684","v":"C#○/C#"},{"$f":"$C1683","v":"C○/C"},"B○/B","Bb○/Bb","A○/A","G#○/G#","G○/G","F#○/F#","E○/E","Eb○/Eb","D○/D",{"$f":"$C1684","v":"C#○/C#"},{"$f":"$C1683","v":"C○/C"},"B○/B","Bb○/Bb","A○/A","G#○/G#","G○/G","F#○/F#",null,"F○/F",1686,null,{"$f":"CONCATENATE(AE1683,VLOOKUP(AF1688,$AH$1647:$AH$1669,1,0))","v":"○/F"},null,"F"]
[null,1687,{"$f":"CONCATENATE($C$9,AD1689)","v":"F#○/F#"},"F○/F","E○/E","Eb○/Eb","D○/D",{"$f":"$C1684","v":"C#○/C#"},{"$f":"$C1683","v":"C○/C"},{"$f":"$C1694","v":"B○/B"},"Bb○/Bb","A○/A","G#○/G#","G○/G","F○/F","E○/E","Eb○/Eb","D○/D",{"$f":"$C1684","v":"C#○/C#"},{"$f":"$C1683","v":"C○/C"},{"$f":"$C1694","v":"B○/B"},"Bb○/Bb","A○/A","G#○/G#","G○/G",null,"F#○/F#",1687,null,{"$f":"CONCATENATE(AE1683,VLOOKUP(AF1689,$AH$1647:$AH$1669,1,0))","v":"○/F#"},null,"F#"]
[null,1688,{"$f":"CONCATENATE($C$10,AD1690)","v":"G○/G"},"F#○/F#","F○/F","E○/E","Eb○/Eb","D○/D","C#○/C#",{"$f":"$C1683","v":"C○/C"},{"$f":"$C1694","v":"B○/B"},"Bb○/Bb","A○/A","G#○/G#","F#○/F#","F○/F","E○/E","Eb○/Eb","D○/D","C#○/C#",{"$f":"$C1683","v":"C○/C"},{"$f":"$C1694","v":"B○/B"},"Bb○/Bb","A○/A","G#○/G#",null,"G○/G",1688,null,{"$f":"CONCATENATE(AE1683,VLOOKUP(AF1690,$AH$1647:$AH$1669,1,0))","v":"○/G"},null,"G"]
[null,1689,{"$f":"CONCATENATE($C$11,AD1691)","v":"G#○/G#"},"G○/G","F#○/F#","F○/F","E○/E","Eb○/Eb","D○/D",{"$f":"$C1684","v":"C#○/C#"},{"$f":"$C1683","v":"C○/C"},{"$f":"$C1694","v":"B○/B"},"Bb○/Bb","A○/A","G○/G","F#○/F#","F○/F","E○/E","Eb○/Eb","D○/D",{"$f":"$C1684","v":"C#○/C#"},{"$f":"$C1683","v":"C○/C"},{"$f":"$C1694","v":"B○/B"},"Bb○/Bb","A○/A",null,"G#○/G#",1689,null,{"$f":"CONCATENATE(AE1683,VLOOKUP(AF1691,$AH$1647:$AH$1669,1,0))","v":"○/G#"},null,"G#"]
[null,1690,{"$f":"CONCATENATE($C$12,AD1692)","v":"A○/A"},"G#○/G#","G○/G","F#○/F#","F○/F","E○/E","Eb○/Eb",{"$f":"$C1685","v":"D○/D"},{"$f":"$C1684","v":"C#○/C#"},{"$f":"$C1683","v":"C○/C"},{"$f":"$C1694","v":"B○/B"},"Bb○/Bb","G#○/G#","G○/G","F#○/F#","F○/F","E○/E","Eb○/Eb",{"$f":"$C1685","v":"D○/D"},{"$f":"$C1684","v":"C#○/C#"},{"$f":"$C1683","v":"C○/C"},{"$f":"$C1694","v":"B○/B"},"Bb○/Bb",null,"A○/A",1690,null,{"$f":"CONCATENATE(AE1683,VLOOKUP(AF1692,$AH$1647:$AH$1669,1,0))","v":"○/A"},null,"A"]
[null,1691,{"$f":"CONCATENATE($C$13,AD1693)","v":"Bb○/Bb"},"A○/A","G#○/G#","G○/G","F#○/F#","F○/F","E○/E",{"$f":"$C1686","v":"Eb○/Eb"},{"$f":"$C1685","v":"D○/D"},{"$f":"$C1684","v":"C#○/C#"},{"$f":"$C1683","v":"C○/C"},{"$f":"$C1694","v":"B○/B"},"A○/A","G#○/G#","G○/G","F#○/F#","F○/F","E○/E",{"$f":"$C1686","v":"Eb○/Eb"},{"$f":"$C1685","v":"D○/D"},{"$f":"$C1684","v":"C#○/C#"},{"$f":"$C1683","v":"C○/C"},{"$f":"$C1694","v":"B○/B"},null,"Bb○/Bb",1691,null,{"$f":"CONCATENATE(AE1683,VLOOKUP(AF1693,$AH$1647:$AH$1669,1,0))","v":"○/Bb"},null,"Bb"]
[null,1692,{"$f":"CONCATENATE($C$14,AD1694)","v":"B○/B"},"Bb○/Bb","A○/A","G#○/G#","G○/G","F#○/F#","F○/F",{"$f":"$C1687","v":"E○/E"},{"$f":"$C1686","v":"Eb○/Eb"},{"$f":"$C1685","v":"D○/D"},{"$f":"$C1684","v":"C#○/C#"},{"$f":"$C1683","v":"C○/C"},"Bb○/Bb","A○/A","G#○/G#","G○/G","F#○/F#","F○/F",{"$f":"$C1687","v":"E○/E"},{"$f":"$C1686","v":"Eb○/Eb"},{"$f":"$C1685","v":"D○/D"},{"$f":"$C1684","v":"C#○/C#"},{"$f":"$C1683","v":"C○/C"},null,"B○/B",1692,null,{"$f":"CONCATENATE(AE1683,VLOOKUP(AF1694,$AH$1647:$AH$1669,1,0))","v":"○/B"},null,"B"]
[null,1693,{"$f":"CONCATENATE($C$3,AD1695)","v":"C○/C"},{"$f":"$C1706","v":"B○/B"},{"$f":"$C1705","v":"Bb○/Bb"},{"$f":"$C1704","v":"A○/A"},{"$f":"$C1703","v":"G#○/G#"},{"$f":"$C1702","v":"G○/G"},{"$f":"$C1701","v":"F#○/F#"},{"$f":"$C1700","v":"F○/F"},{"$f":"$C1699","v":"E○/E"},{"$f":"$C1698","v":"Eb○/Eb"},{"$f":"$C1697","v":"D○/D"},{"$f":"$C1696","v":"C#○/C#"},{"$f":"$C1706","v":"B○/B"},{"$f":"$C1705","v":"Bb○/Bb"},{"$f":"$C1704","v":"A○/A"},{"$f":"$C1703","v":"G#○/G#"},{"$f":"$C1702","v":"G○/G"},{"$f":"$C1701","v":"F#○/F#"},{"$f":"$C1700","v":"F○/F"},{"$f":"$C1699","v":"E○/E"},{"$f":"$C1698","v":"Eb○/Eb"},{"$f":"$C1697","v":"D○/D"},{"$f":"$C1696","v":"C#○/C#"},null,{"$f":"C1695","v":"C○/C"},1693,null,{"$f":"CONCATENATE(AE1695,VLOOKUP(AF1695,$AH$1647:$AH$1669,1,0))","v":"○/C"},"○/","C"]
[null,1694,{"$f":"CONCATENATE($C$4,AD1696)","v":"C#○/C#"},{"$f":"$C1695","v":"C○/C"},{"$f":"$C1706","v":"B○/B"},{"$f":"$C1705","v":"Bb○/Bb"},{"$f":"$C1704","v":"A○/A"},{"$f":"$C1703","v":"G#○/G#"},"G○/G","F#○/F#","F○/F","E○/E","Eb○/Eb","D○/D",{"$f":"$C1695","v":"C○/C"},{"$f":"$C1706","v":"B○/B"},{"$f":"$C1705","v":"Bb○/Bb"},{"$f":"$C1704","v":"A○/A"},{"$f":"$C1703","v":"G#○/G#"},"G○/G","F#○/F#","F○/F","E○/E","Eb○/Eb","D○/D",null,{"$f":"C1696","v":"C#○/C#"},1694,null,{"$f":"CONCATENATE(AE1695,VLOOKUP(AF1696,$AH$1647:$AH$1669,1,0))","v":"○/C#"},null,{"$f":"VLOOKUP(AF1695,$AH$1647:$AI$1658,2,0)","v":"C#"}]
[null,1695,{"$f":"CONCATENATE($C$5,AD1697)","v":"D○/D"},{"$f":"$C1696","v":"C#○/C#"},{"$f":"$C1695","v":"C○/C"},{"$f":"$C1706","v":"B○/B"},{"$f":"$C1705","v":"Bb○/Bb"},{"$f":"$C1704","v":"A○/A"},"G#○/G#","G○/G","F#○/F#","F○/F","E○/E","Eb○/Eb",{"$f":"$C1696","v":"C#○/C#"},{"$f":"$C1695","v":"C○/C"},{"$f":"$C1706","v":"B○/B"},{"$f":"$C1705","v":"Bb○/Bb"},{"$f":"$C1704","v":"A○/A"},"G#○/G#","G○/G","F#○/F#","F○/F","E○/E","Eb○/Eb",null,{"$f":"C1697","v":"D○/D"},1695,null,{"$f":"CONCATENATE(AE1695,VLOOKUP(AF1697,$AH$1647:$AH$1669,1,0))","v":"○/D"},null,"D"]
[null,1696,{"$f":"CONCATENATE($C$6,AD1698)","v":"Eb○/Eb"},"D○/D",{"$f":"$C1696","v":"C#○/C#"},{"$f":"$C1695","v":"C○/C"},{"$f":"$C1706","v":"B○/B"},{"$f":"$C1705","v":"Bb○/Bb"},"A○/A","G#○/G#","G○/G","F#○/F#","F○/F","E○/E","D○/D",{"$f":"$C1696","v":"C#○/C#"},{"$f":"$C1695","v":"C○/C"},{"$f":"$C1706","v":"B○/B"},{"$f":"$C1705","v":"Bb○/Bb"},"A○/A","G#○/G#","G○/G","F#○/F#","F○/F","E○/E",null,{"$f":"C1698","v":"Eb○/Eb"},1696,null,{"$f":"CONCATENATE(AE1695,VLOOKUP(AF1698,$AH$1647:$AH$1669,1,0))","v":"○/Eb"},null,"Eb"]
[null,1697,{"$f":"CONCATENATE($C$7,AD1699)","v":"E○/E"},"Eb○/Eb","D○/D",{"$f":"$C1696","v":"C#○/C#"},{"$f":"$C1695","v":"C○/C"},{"$f":"$C1706","v":"B○/B"},"Bb○/Bb","A○/A","G#○/G#","G○/G","F#○/F#","F○/F","Eb○/Eb","D○/D",{"$f":"$C1696","v":"C#○/C#"},{"$f":"$C1695","v":"C○/C"},{"$f":"$C1706","v":"B○/B"},"Bb○/Bb","A○/A","G#○/G#","G○/G","F#○/F#","F○/F",null,"E○/E",1697,null,{"$f":"CONCATENATE(AE1695,VLOOKUP(AF1699,$AH$1647:$AH$1669,1,0))","v":"○/E"},null,"E"]
[null,1698,{"$f":"CONCATENATE($C$8,AD1700)","v":"F○/F"},"E○/E","Eb○/Eb","D○/D",{"$f":"$C1696","v":"C#○/C#"},{"$f":"$C1695","v":"C○/C"},"B○/B","Bb○/Bb","A○/A","G#○/G#","G○/G","F#○/F#","E○/E","Eb○/Eb","D○/D",{"$f":"$C1696","v":"C#○/C#"},{"$f":"$C1695","v":"C○/C"},"B○/B","Bb○/Bb","A○/A","G#○/G#","G○/G","F#○/F#",null,"F○/F",1698,null,{"$f":"CONCATENATE(AE1695,VLOOKUP(AF1700,$AH$1647:$AH$1669,1,0))","v":"○/F"},null,"F"]
[null,1699,{"$f":"CONCATENATE($C$9,AD1701)","v":"F#○/F#"},"F○/F","E○/E","Eb○/Eb","D○/D",{"$f":"$C1696","v":"C#○/C#"},{"$f":"$C1695","v":"C○/C"},{"$f":"$C1706","v":"B○/B"},"Bb○/Bb","A○/A","G#○/G#","G○/G","F○/F","E○/E","Eb○/Eb","D○/D",{"$f":"$C1696","v":"C#○/C#"},{"$f":"$C1695","v":"C○/C"},{"$f":"$C1706","v":"B○/B"},"Bb○/Bb","A○/A","G#○/G#","G○/G",null,"F#○/F#",1699,null,{"$f":"CONCATENATE(AE1695,VLOOKUP(AF1701,$AH$1647:$AH$1669,1,0))","v":"○/F#"},null,"F#"]
[null,1700,{"$f":"CONCATENATE($C$10,AD1702)","v":"G○/G"},"F#○/F#","F○/F","E○/E","Eb○/Eb","D○/D","C#○/C#",{"$f":"$C1695","v":"C○/C"},{"$f":"$C1706","v":"B○/B"},"Bb○/Bb","A○/A","G#○/G#","F#○/F#","F○/F","E○/E","Eb○/Eb","D○/D","C#○/C#",{"$f":"$C1695","v":"C○/C"},{"$f":"$C1706","v":"B○/B"},"Bb○/Bb","A○/A","G#○/G#",null,"G○/G",1700,null,{"$f":"CONCATENATE(AE1695,VLOOKUP(AF1702,$AH$1647:$AH$1669,1,0))","v":"○/G"},null,"G"]
[null,1701,{"$f":"CONCATENATE($C$11,AD1703)","v":"G#○/G#"},"G○/G","F#○/F#","F○/F","E○/E","Eb○/Eb","D○/D",{"$f":"$C1696","v":"C#○/C#"},{"$f":"$C1695","v":"C○/C"},{"$f":"$C1706","v":"B○/B"},"Bb○/Bb","A○/A","G○/G","F#○/F#","F○/F","E○/E","Eb○/Eb","D○/D",{"$f":"$C1696","v":"C#○/C#"},{"$f":"$C1695","v":"C○/C"},{"$f":"$C1706","v":"B○/B"},"Bb○/Bb","A○/A",null,"G#○/G#",1701,null,{"$f":"CONCATENATE(AE1695,VLOOKUP(AF1703,$AH$1647:$AH$1669,1,0))","v":"○/G#"},null,"G#"]
[null,1702,{"$f":"CONCATENATE($C$12,AD1704)","v":"A○/A"},"G#○/G#","G○/G","F#○/F#","F○/F","E○/E","Eb○/Eb",{"$f":"$C1697","v":"D○/D"},{"$f":"$C1696","v":"C#○/C#"},{"$f":"$C1695","v":"C○/C"},{"$f":"$C1706","v":"B○/B"},"Bb○/Bb","G#○/G#","G○/G","F#○/F#","F○/F","E○/E","Eb○/Eb",{"$f":"$C1697","v":"D○/D"},{"$f":"$C1696","v":"C#○/C#"},{"$f":"$C1695","v":"C○/C"},{"$f":"$C1706","v":"B○/B"},"Bb○/Bb",null,"A○/A",1702,null,{"$f":"CONCATENATE(AE1695,VLOOKUP(AF1704,$AH$1647:$AH$1669,1,0))","v":"○/A"},null,"A"]
[null,1703,{"$f":"CONCATENATE($C$13,AD1705)","v":"Bb○/Bb"},"A○/A","G#○/G#","G○/G","F#○/F#","F○/F","E○/E",{"$f":"$C1698","v":"Eb○/Eb"},{"$f":"$C1697","v":"D○/D"},{"$f":"$C1696","v":"C#○/C#"},{"$f":"$C1695","v":"C○/C"},{"$f":"$C1706","v":"B○/B"},"A○/A","G#○/G#","G○/G","F#○/F#","F○/F","E○/E",{"$f":"$C1698","v":"Eb○/Eb"},{"$f":"$C1697","v":"D○/D"},{"$f":"$C1696","v":"C#○/C#"},{"$f":"$C1695","v":"C○/C"},{"$f":"$C1706","v":"B○/B"},null,"Bb○/Bb",1703,null,{"$f":"CONCATENATE(AE1695,VLOOKUP(AF1705,$AH$1647:$AH$1669,1,0))","v":"○/Bb"},null,"Bb"]
[null,1704,{"$f":"CONCATENATE($C$14,AD1706)","v":"B○/B"},"Bb○/Bb","A○/A","G#○/G#","G○/G","F#○/F#","F○/F",{"$f":"$C1699","v":"E○/E"},{"$f":"$C1698","v":"Eb○/Eb"},{"$f":"$C1697","v":"D○/D"},{"$f":"$C1696","v":"C#○/C#"},{"$f":"$C1695","v":"C○/C"},"Bb○/Bb","A○/A","G#○/G#","G○/G","F#○/F#","F○/F",{"$f":"$C1699","v":"E○/E"},{"$f":"$C1698","v":"Eb○/Eb"},{"$f":"$C1697","v":"D○/D"},{"$f":"$C1696","v":"C#○/C#"},{"$f":"$C1695","v":"C○/C"},null,"B○/B",1704,null,{"$f":"CONCATENATE(AE1695,VLOOKUP(AF1706,$AH$1647:$AH$1669,1,0))","v":"○/B"},null,"B"]
[null,1705,{"$f":"CONCATENATE($C$3,AD1707)","v":"C○/C"},{"$f":"$C1718","v":"B○/B"},{"$f":"$C1717","v":"Bb○/Bb"},{"$f":"$C1716","v":"A○/A"},{"$f":"$C1715","v":"G#○/G#"},{"$f":"$C1714","v":"G○/G"},{"$f":"$C1713","v":"F#○/F#"},{"$f":"$C1712","v":"F○/F"},{"$f":"$C1711","v":"E○/E"},{"$f":"$C1710","v":"Eb○/Eb"},{"$f":"$C1709","v":"D○/D"},{"$f":"$C1708","v":"C#○/C#"},{"$f":"$C1718","v":"B○/B"},{"$f":"$C1717","v":"Bb○/Bb"},{"$f":"$C1716","v":"A○/A"},{"$f":"$C1715","v":"G#○/G#"},{"$f":"$C1714","v":"G○/G"},{"$f":"$C1713","v":"F#○/F#"},{"$f":"$C1712","v":"F○/F"},{"$f":"$C1711","v":"E○/E"},{"$f":"$C1710","v":"Eb○/Eb"},{"$f":"$C1709","v":"D○/D"},{"$f":"$C1708","v":"C#○/C#"},null,{"$f":"C1707","v":"C○/C"},1705,null,{"$f":"CONCATENATE(AE1707,VLOOKUP(AF1707,$AH$1647:$AH$1669,1,0))","v":"○/C"},"○/","C"]
[null,1706,{"$f":"CONCATENATE($C$4,AD1708)","v":"C#○/C#"},{"$f":"$C1707","v":"C○/C"},{"$f":"$C1718","v":"B○/B"},{"$f":"$C1717","v":"Bb○/Bb"},{"$f":"$C1716","v":"A○/A"},{"$f":"$C1715","v":"G#○/G#"},"G○/G","F#○/F#","F○/F","E○/E","Eb○/Eb","D○/D",{"$f":"$C1707","v":"C○/C"},{"$f":"$C1718","v":"B○/B"},{"$f":"$C1717","v":"Bb○/Bb"},{"$f":"$C1716","v":"A○/A"},{"$f":"$C1715","v":"G#○/G#"},"G○/G","F#○/F#","F○/F","E○/E","Eb○/Eb","D○/D",null,{"$f":"C1708","v":"C#○/C#"},1706,null,{"$f":"CONCATENATE(AE1707,VLOOKUP(AF1708,$AH$1647:$AH$1669,1,0))","v":"○/C#"},null,{"$f":"VLOOKUP(AF1707,$AH$1647:$AI$1658,2,0)","v":"C#"}]
[null,1707,{"$f":"CONCATENATE($C$5,AD1709)","v":"D○/D"},{"$f":"$C1708","v":"C#○/C#"},{"$f":"$C1707","v":"C○/C"},{"$f":"$C1718","v":"B○/B"},{"$f":"$C1717","v":"Bb○/Bb"},{"$f":"$C1716","v":"A○/A"},"G#○/G#","G○/G","F#○/F#","F○/F","E○/E","Eb○/Eb",{"$f":"$C1708","v":"C#○/C#"},{"$f":"$C1707","v":"C○/C"},{"$f":"$C1718","v":"B○/B"},{"$f":"$C1717","v":"Bb○/Bb"},{"$f":"$C1716","v":"A○/A"},"G#○/G#","G○/G","F#○/F#","F○/F","E○/E","Eb○/Eb",null,{"$f":"C1709","v":"D○/D"},1707,null,{"$f":"CONCATENATE(AE1707,VLOOKUP(AF1709,$AH$1647:$AH$1669,1,0))","v":"○/D"},null,"D"]
[null,1708,{"$f":"CONCATENATE($C$6,AD1710)","v":"Eb○/Eb"},"D○/D",{"$f":"$C1708","v":"C#○/C#"},{"$f":"$C1707","v":"C○/C"},{"$f":"$C1718","v":"B○/B"},{"$f":"$C1717","v":"Bb○/Bb"},"A○/A","G#○/G#","G○/G","F#○/F#","F○/F","E○/E","D○/D",{"$f":"$C1708","v":"C#○/C#"},{"$f":"$C1707","v":"C○/C"},{"$f":"$C1718","v":"B○/B"},{"$f":"$C1717","v":"Bb○/Bb"},"A○/A","G#○/G#","G○/G","F#○/F#","F○/F","E○/E",null,{"$f":"C1710","v":"Eb○/Eb"},1708,null,{"$f":"CONCATENATE(AE1707,VLOOKUP(AF1710,$AH$1647:$AH$1669,1,0))","v":"○/Eb"},null,"Eb"]
[null,1709,{"$f":"CONCATENATE($C$7,AD1711)","v":"E○/E"},"Eb○/Eb","D○/D",{"$f":"$C1708","v":"C#○/C#"},{"$f":"$C1707","v":"C○/C"},{"$f":"$C1718","v":"B○/B"},"Bb○/Bb","A○/A","G#○/G#","G○/G","F#○/F#","F○/F","Eb○/Eb","D○/D",{"$f":"$C1708","v":"C#○/C#"},{"$f":"$C1707","v":"C○/C"},{"$f":"$C1718","v":"B○/B"},"Bb○/Bb","A○/A","G#○/G#","G○/G","F#○/F#","F○/F",null,"E○/E",1709,null,{"$f":"CONCATENATE(AE1707,VLOOKUP(AF1711,$AH$1647:$AH$1669,1,0))","v":"○/E"},null,"E"]
[null,1710,{"$f":"CONCATENATE($C$8,AD1712)","v":"F○/F"},"E○/E","Eb○/Eb","D○/D",{"$f":"$C1708","v":"C#○/C#"},{"$f":"$C1707","v":"C○/C"},"B○/B","Bb○/Bb","A○/A","G#○/G#","G○/G","F#○/F#","E○/E","Eb○/Eb","D○/D",{"$f":"$C1708","v":"C#○/C#"},{"$f":"$C1707","v":"C○/C"},"B○/B","Bb○/Bb","A○/A","G#○/G#","G○/G","F#○/F#",null,"F○/F",1710,null,{"$f":"CONCATENATE(AE1707,VLOOKUP(AF1712,$AH$1647:$AH$1669,1,0))","v":"○/F"},null,"F"]
[null,1711,{"$f":"CONCATENATE($C$9,AD1713)","v":"F#○/F#"},"F○/F","E○/E","Eb○/Eb","D○/D",{"$f":"$C1708","v":"C#○/C#"},{"$f":"$C1707","v":"C○/C"},{"$f":"$C1718","v":"B○/B"},"Bb○/Bb","A○/A","G#○/G#","G○/G","F○/F","E○/E","Eb○/Eb","D○/D",{"$f":"$C1708","v":"C#○/C#"},{"$f":"$C1707","v":"C○/C"},{"$f":"$C1718","v":"B○/B"},"Bb○/Bb","A○/A","G#○/G#","G○/G",null,"F#○/F#",1711,null,{"$f":"CONCATENATE(AE1707,VLOOKUP(AF1713,$AH$1647:$AH$1669,1,0))","v":"○/F#"},null,"F#"]
[null,1712,{"$f":"CONCATENATE($C$10,AD1714)","v":"G○/G"},"F#○/F#","F○/F","E○/E","Eb○/Eb","D○/D","C#○/C#",{"$f":"$C1707","v":"C○/C"},{"$f":"$C1718","v":"B○/B"},"Bb○/Bb","A○/A","G#○/G#","F#○/F#","F○/F","E○/E","Eb○/Eb","D○/D","C#○/C#",{"$f":"$C1707","v":"C○/C"},{"$f":"$C1718","v":"B○/B"},"Bb○/Bb","A○/A","G#○/G#",null,"G○/G",1712,null,{"$f":"CONCATENATE(AE1707,VLOOKUP(AF1714,$AH$1647:$AH$1669,1,0))","v":"○/G"},null,"G"]
[null,1713,{"$f":"CONCATENATE($C$11,AD1715)","v":"G#○/G#"},"G○/G","F#○/F#","F○/F","E○/E","Eb○/Eb","D○/D",{"$f":"$C1708","v":"C#○/C#"},{"$f":"$C1707","v":"C○/C"},{"$f":"$C1718","v":"B○/B"},"Bb○/Bb","A○/A","G○/G","F#○/F#","F○/F","E○/E","Eb○/Eb","D○/D",{"$f":"$C1708","v":"C#○/C#"},{"$f":"$C1707","v":"C○/C"},{"$f":"$C1718","v":"B○/B"},"Bb○/Bb","A○/A",null,"G#○/G#",1713,null,{"$f":"CONCATENATE(AE1707,VLOOKUP(AF1715,$AH$1647:$AH$1669,1,0))","v":"○/G#"},null,"G#"]
[null,1714,{"$f":"CONCATENATE($C$12,AD1716)","v":"A○/A"},"G#○/G#","G○/G","F#○/F#","F○/F","E○/E","Eb○/Eb",{"$f":"$C1709","v":"D○/D"},{"$f":"$C1708","v":"C#○/C#"},{"$f":"$C1707","v":"C○/C"},{"$f":"$C1718","v":"B○/B"},"Bb○/Bb","G#○/G#","G○/G","F#○/F#","F○/F","E○/E","Eb○/Eb",{"$f":"$C1709","v":"D○/D"},{"$f":"$C1708","v":"C#○/C#"},{"$f":"$C1707","v":"C○/C"},{"$f":"$C1718","v":"B○/B"},"Bb○/Bb",null,"A○/A",1714,null,{"$f":"CONCATENATE(AE1707,VLOOKUP(AF1716,$AH$1647:$AH$1669,1,0))","v":"○/A"},null,"A"]
[null,1715,{"$f":"CONCATENATE($C$13,AD1717)","v":"Bb○/Bb"},"A○/A","G#○/G#","G○/G","F#○/F#","F○/F","E○/E",{"$f":"$C1710","v":"Eb○/Eb"},{"$f":"$C1709","v":"D○/D"},{"$f":"$C1708","v":"C#○/C#"},{"$f":"$C1707","v":"C○/C"},{"$f":"$C1718","v":"B○/B"},"A○/A","G#○/G#","G○/G","F#○/F#","F○/F","E○/E",{"$f":"$C1710","v":"Eb○/Eb"},{"$f":"$C1709","v":"D○/D"},{"$f":"$C1708","v":"C#○/C#"},{"$f":"$C1707","v":"C○/C"},{"$f":"$C1718","v":"B○/B"},null,"Bb○/Bb",1715,null,{"$f":"CONCATENATE(AE1707,VLOOKUP(AF1717,$AH$1647:$AH$1669,1,0))","v":"○/Bb"},null,"Bb"]
[null,1716,{"$f":"CONCATENATE($C$14,AD1718)","v":"B○/B"},"Bb○/Bb","A○/A","G#○/G#","G○/G","F#○/F#","F○/F",{"$f":"$C1711","v":"E○/E"},{"$f":"$C1710","v":"Eb○/Eb"},{"$f":"$C1709","v":"D○/D"},{"$f":"$C1708","v":"C#○/C#"},{"$f":"$C1707","v":"C○/C"},"Bb○/Bb","A○/A","G#○/G#","G○/G","F#○/F#","F○/F",{"$f":"$C1711","v":"E○/E"},{"$f":"$C1710","v":"Eb○/Eb"},{"$f":"$C1709","v":"D○/D"},{"$f":"$C1708","v":"C#○/C#"},{"$f":"$C1707","v":"C○/C"},null,"B○/B",1716,null,{"$f":"CONCATENATE(AE1707,VLOOKUP(AF1718,$AH$1647:$AH$1669,1,0))","v":"○/B"},null,"B"]
[null,1717,{"$f":"CONCATENATE($C$3,AD1719)","v":"C○/C"},{"$f":"$C1730","v":"B○/B"},{"$f":"$C1729","v":"Bb○/Bb"},{"$f":"$C1728","v":"A○/A"},{"$f":"$C1727","v":"G#○/G#"},{"$f":"$C1726","v":"G○/G"},{"$f":"$C1725","v":"F#○/F#"},{"$f":"$C1724","v":"F○/F"},{"$f":"$C1723","v":"E○/E"},{"$f":"$C1722","v":"Eb○/Eb"},{"$f":"$C1721","v":"D○/D"},{"$f":"$C1720","v":"C#○/C#"},{"$f":"$C1730","v":"B○/B"},{"$f":"$C1729","v":"Bb○/Bb"},{"$f":"$C1728","v":"A○/A"},{"$f":"$C1727","v":"G#○/G#"},{"$f":"$C1726","v":"G○/G"},{"$f":"$C1725","v":"F#○/F#"},{"$f":"$C1724","v":"F○/F"},{"$f":"$C1723","v":"E○/E"},{"$f":"$C1722","v":"Eb○/Eb"},{"$f":"$C1721","v":"D○/D"},{"$f":"$C1720","v":"C#○/C#"},null,{"$f":"C1719","v":"C○/C"},1717,null,{"$f":"CONCATENATE(AE1719,VLOOKUP(AF1719,$AH$1647:$AH$1669,1,0))","v":"○/C"},"○/","C"]
[null,1718,{"$f":"CONCATENATE($C$4,AD1720)","v":"C#○/C#"},{"$f":"$C1719","v":"C○/C"},{"$f":"$C1730","v":"B○/B"},{"$f":"$C1729","v":"Bb○/Bb"},{"$f":"$C1728","v":"A○/A"},{"$f":"$C1727","v":"G#○/G#"},"G○/G","F#○/F#","F○/F","E○/E","Eb○/Eb","D○/D",{"$f":"$C1719","v":"C○/C"},{"$f":"$C1730","v":"B○/B"},{"$f":"$C1729","v":"Bb○/Bb"},{"$f":"$C1728","v":"A○/A"},{"$f":"$C1727","v":"G#○/G#"},"G○/G","F#○/F#","F○/F","E○/E","Eb○/Eb","D○/D",null,{"$f":"C1720","v":"C#○/C#"},1718,null,{"$f":"CONCATENATE(AE1719,VLOOKUP(AF1720,$AH$1647:$AH$1669,1,0))","v":"○/C#"},null,{"$f":"VLOOKUP(AF1719,$AH$1647:$AI$1658,2,0)","v":"C#"}]
[null,1719,{"$f":"CONCATENATE($C$5,AD1721)","v":"D○/D"},{"$f":"$C1720","v":"C#○/C#"},{"$f":"$C1719","v":"C○/C"},{"$f":"$C1730","v":"B○/B"},{"$f":"$C1729","v":"Bb○/Bb"},{"$f":"$C1728","v":"A○/A"},"G#○/G#","G○/G","F#○/F#","F○/F","E○/E","Eb○/Eb",{"$f":"$C1720","v":"C#○/C#"},{"$f":"$C1719","v":"C○/C"},{"$f":"$C1730","v":"B○/B"},{"$f":"$C1729","v":"Bb○/Bb"},{"$f":"$C1728","v":"A○/A"},"G#○/G#","G○/G","F#○/F#","F○/F","E○/E","Eb○/Eb",null,{"$f":"C1721","v":"D○/D"},1719,null,{"$f":"CONCATENATE(AE1719,VLOOKUP(AF1721,$AH$1647:$AH$1669,1,0))","v":"○/D"},null,"D"]
[null,1720,{"$f":"CONCATENATE($C$6,AD1722)","v":"Eb○/Eb"},"D○/D",{"$f":"$C1720","v":"C#○/C#"},{"$f":"$C1719","v":"C○/C"},{"$f":"$C1730","v":"B○/B"},{"$f":"$C1729","v":"Bb○/Bb"},"A○/A","G#○/G#","G○/G","F#○/F#","F○/F","E○/E","D○/D",{"$f":"$C1720","v":"C#○/C#"},{"$f":"$C1719","v":"C○/C"},{"$f":"$C1730","v":"B○/B"},{"$f":"$C1729","v":"Bb○/Bb"},"A○/A","G#○/G#","G○/G","F#○/F#","F○/F","E○/E",null,{"$f":"C1722","v":"Eb○/Eb"},1720,null,{"$f":"CONCATENATE(AE1719,VLOOKUP(AF1722,$AH$1647:$AH$1669,1,0))","v":"○/Eb"},null,"Eb"]
[null,1721,{"$f":"CONCATENATE($C$7,AD1723)","v":"E○/E"},"Eb○/Eb","D○/D",{"$f":"$C1720","v":"C#○/C#"},{"$f":"$C1719","v":"C○/C"},{"$f":"$C1730","v":"B○/B"},"Bb○/Bb","A○/A","G#○/G#","G○/G","F#○/F#","F○/F","Eb○/Eb","D○/D",{"$f":"$C1720","v":"C#○/C#"},{"$f":"$C1719","v":"C○/C"},{"$f":"$C1730","v":"B○/B"},"Bb○/Bb","A○/A","G#○/G#","G○/G","F#○/F#","F○/F",null,"E○/E",1721,null,{"$f":"CONCATENATE(AE1719,VLOOKUP(AF1723,$AH$1647:$AH$1669,1,0))","v":"○/E"},null,"E"]
[null,1722,{"$f":"CONCATENATE($C$8,AD1724)","v":"F○/F"},"E○/E","Eb○/Eb","D○/D",{"$f":"$C1720","v":"C#○/C#"},{"$f":"$C1719","v":"C○/C"},"B○/B","Bb○/Bb","A○/A","G#○/G#","G○/G","F#○/F#","E○/E","Eb○/Eb","D○/D",{"$f":"$C1720","v":"C#○/C#"},{"$f":"$C1719","v":"C○/C"},"B○/B","Bb○/Bb","A○/A","G#○/G#","G○/G","F#○/F#",null,"F○/F",1722,null,{"$f":"CONCATENATE(AE1719,VLOOKUP(AF1724,$AH$1647:$AH$1669,1,0))","v":"○/F"},null,"F"]
[null,1723,{"$f":"CONCATENATE($C$9,AD1725)","v":"F#○/F#"},"F○/F","E○/E","Eb○/Eb","D○/D",{"$f":"$C1720","v":"C#○/C#"},{"$f":"$C1719","v":"C○/C"},{"$f":"$C1730","v":"B○/B"},"Bb○/Bb","A○/A","G#○/G#","G○/G","F○/F","E○/E","Eb○/Eb","D○/D",{"$f":"$C1720","v":"C#○/C#"},{"$f":"$C1719","v":"C○/C"},{"$f":"$C1730","v":"B○/B"},"Bb○/Bb","A○/A","G#○/G#","G○/G",null,"F#○/F#",1723,null,{"$f":"CONCATENATE(AE1719,VLOOKUP(AF1725,$AH$1647:$AH$1669,1,0))","v":"○/F#"},null,"F#"]
[null,1724,{"$f":"CONCATENATE($C$10,AD1726)","v":"G○/G"},"F#○/F#","F○/F","E○/E","Eb○/Eb","D○/D","C#○/C#",{"$f":"$C1719","v":"C○/C"},{"$f":"$C1730","v":"B○/B"},"Bb○/Bb","A○/A","G#○/G#","F#○/F#","F○/F","E○/E","Eb○/Eb","D○/D","C#○/C#",{"$f":"$C1719","v":"C○/C"},{"$f":"$C1730","v":"B○/B"},"Bb○/Bb","A○/A","G#○/G#",null,"G○/G",1724,null,{"$f":"CONCATENATE(AE1719,VLOOKUP(AF1726,$AH$1647:$AH$1669,1,0))","v":"○/G"},null,"G"]
[null,1725,{"$f":"CONCATENATE($C$11,AD1727)","v":"G#○/G#"},"G○/G","F#○/F#","F○/F","E○/E","Eb○/Eb","D○/D",{"$f":"$C1720","v":"C#○/C#"},{"$f":"$C1719","v":"C○/C"},{"$f":"$C1730","v":"B○/B"},"Bb○/Bb","A○/A","G○/G","F#○/F#","F○/F","E○/E","Eb○/Eb","D○/D",{"$f":"$C1720","v":"C#○/C#"},{"$f":"$C1719","v":"C○/C"},{"$f":"$C1730","v":"B○/B"},"Bb○/Bb","A○/A",null,"G#○/G#",1725,null,{"$f":"CONCATENATE(AE1719,VLOOKUP(AF1727,$AH$1647:$AH$1669,1,0))","v":"○/G#"},null,"G#"]
[null,1726,{"$f":"CONCATENATE($C$12,AD1728)","v":"A○/A"},"G#○/G#","G○/G","F#○/F#","F○/F","E○/E","Eb○/Eb",{"$f":"$C1721","v":"D○/D"},{"$f":"$C1720","v":"C#○/C#"},{"$f":"$C1719","v":"C○/C"},{"$f":"$C1730","v":"B○/B"},"Bb○/Bb","G#○/G#","G○/G","F#○/F#","F○/F","E○/E","Eb○/Eb",{"$f":"$C1721","v":"D○/D"},{"$f":"$C1720","v":"C#○/C#"},{"$f":"$C1719","v":"C○/C"},{"$f":"$C1730","v":"B○/B"},"Bb○/Bb",null,"A○/A",1726,null,{"$f":"CONCATENATE(AE1719,VLOOKUP(AF1728,$AH$1647:$AH$1669,1,0))","v":"○/A"},null,"A"]
[null,1727,{"$f":"CONCATENATE($C$13,AD1729)","v":"Bb○/Bb"},"A○/A","G#○/G#","G○/G","F#○/F#","F○/F","E○/E",{"$f":"$C1722","v":"Eb○/Eb"},{"$f":"$C1721","v":"D○/D"},{"$f":"$C1720","v":"C#○/C#"},{"$f":"$C1719","v":"C○/C"},{"$f":"$C1730","v":"B○/B"},"A○/A","G#○/G#","G○/G","F#○/F#","F○/F","E○/E",{"$f":"$C1722","v":"Eb○/Eb"},{"$f":"$C1721","v":"D○/D"},{"$f":"$C1720","v":"C#○/C#"},{"$f":"$C1719","v":"C○/C"},{"$f":"$C1730","v":"B○/B"},null,"Bb○/Bb",1727,null,{"$f":"CONCATENATE(AE1719,VLOOKUP(AF1729,$AH$1647:$AH$1669,1,0))","v":"○/Bb"},null,"Bb"]
[null,1728,{"$f":"CONCATENATE($C$14,AD1730)","v":"B○/B"},"Bb○/Bb","A○/A","G#○/G#","G○/G","F#○/F#","F○/F",{"$f":"$C1723","v":"E○/E"},{"$f":"$C1722","v":"Eb○/Eb"},{"$f":"$C1721","v":"D○/D"},{"$f":"$C1720","v":"C#○/C#"},{"$f":"$C1719","v":"C○/C"},"Bb○/Bb","A○/A","G#○/G#","G○/G","F#○/F#","F○/F",{"$f":"$C1723","v":"E○/E"},{"$f":"$C1722","v":"Eb○/Eb"},{"$f":"$C1721","v":"D○/D"},{"$f":"$C1720","v":"C#○/C#"},{"$f":"$C1719","v":"C○/C"},null,"B○/B",1728,null,{"$f":"CONCATENATE(AE1719,VLOOKUP(AF1730,$AH$1647:$AH$1669,1,0))","v":"○/B"},null,"B"]
[null,1729,{"$f":"CONCATENATE($C$3,AD1731)","v":"C○/C"},{"$f":"$C1742","v":"B○/B"},{"$f":"$C1741","v":"Bb○/Bb"},{"$f":"$C1740","v":"A○/A"},{"$f":"$C1739","v":"G#○/G#"},{"$f":"$C1738","v":"G○/G"},{"$f":"$C1737","v":"F#○/F#"},{"$f":"$C1736","v":"F○/F"},{"$f":"$C1735","v":"E○/E"},{"$f":"$C1734","v":"Eb○/Eb"},{"$f":"$C1733","v":"D○/D"},{"$f":"$C1732","v":"C#○/C#"},{"$f":"$C1742","v":"B○/B"},{"$f":"$C1741","v":"Bb○/Bb"},{"$f":"$C1740","v":"A○/A"},{"$f":"$C1739","v":"G#○/G#"},{"$f":"$C1738","v":"G○/G"},{"$f":"$C1737","v":"F#○/F#"},{"$f":"$C1736","v":"F○/F"},{"$f":"$C1735","v":"E○/E"},{"$f":"$C1734","v":"Eb○/Eb"},{"$f":"$C1733","v":"D○/D"},{"$f":"$C1732","v":"C#○/C#"},null,{"$f":"C1731","v":"C○/C"},{"$f":"B1731","v":1729},null,{"$f":"CONCATENATE(AE1731,VLOOKUP(AF1731,$AH$1647:$AH$1669,1,0))","v":"○/C"},"○/","C"]
[null,1730,{"$f":"CONCATENATE($C$4,AD1732)","v":"C#○/C#"},{"$f":"$C1731","v":"C○/C"},{"$f":"$C1742","v":"B○/B"},{"$f":"$C1741","v":"Bb○/Bb"},{"$f":"$C1740","v":"A○/A"},{"$f":"$C1739","v":"G#○/G#"},"G○/G","F#○/F#","F○/F","E○/E","Eb○/Eb","D○/D",{"$f":"$C1731","v":"C○/C"},{"$f":"$C1742","v":"B○/B"},{"$f":"$C1741","v":"Bb○/Bb"},{"$f":"$C1740","v":"A○/A"},{"$f":"$C1739","v":"G#○/G#"},"G○/G","F#○/F#","F○/F","E○/E","Eb○/Eb","D○/D",null,{"$f":"C1732","v":"C#○/C#"},1730,null,{"$f":"CONCATENATE(AE1731,VLOOKUP(AF1732,$AH$1647:$AH$1669,1,0))","v":"○/C#"},null,{"$f":"VLOOKUP(AF1731,$AH$1647:$AI$1658,2,0)","v":"C#"}]
[null,1731,{"$f":"CONCATENATE($C$5,AD1733)","v":"D○/D"},{"$f":"$C1732","v":"C#○/C#"},{"$f":"$C1731","v":"C○/C"},{"$f":"$C1742","v":"B○/B"},{"$f":"$C1741","v":"Bb○/Bb"},{"$f":"$C1740","v":"A○/A"},"G#○/G#","G○/G","F#○/F#","F○/F","E○/E","Eb○/Eb",{"$f":"$C1732","v":"C#○/C#"},{"$f":"$C1731","v":"C○/C"},{"$f":"$C1742","v":"B○/B"},{"$f":"$C1741","v":"Bb○/Bb"},{"$f":"$C1740","v":"A○/A"},"G#○/G#","G○/G","F#○/F#","F○/F","E○/E","Eb○/Eb",null,{"$f":"C1733","v":"D○/D"},1731,null,{"$f":"CONCATENATE(AE1731,VLOOKUP(AF1733,$AH$1647:$AH$1669,1,0))","v":"○/D"},null,"D"]
[null,1732,{"$f":"CONCATENATE($C$6,AD1734)","v":"Eb○/Eb"},"D○/D",{"$f":"$C1732","v":"C#○/C#"},{"$f":"$C1731","v":"C○/C"},{"$f":"$C1742","v":"B○/B"},{"$f":"$C1741","v":"Bb○/Bb"},"A○/A","G#○/G#","G○/G","F#○/F#","F○/F","E○/E","D○/D",{"$f":"$C1732","v":"C#○/C#"},{"$f":"$C1731","v":"C○/C"},{"$f":"$C1742","v":"B○/B"},{"$f":"$C1741","v":"Bb○/Bb"},"A○/A","G#○/G#","G○/G","F#○/F#","F○/F","E○/E",null,{"$f":"C1734","v":"Eb○/Eb"},1732,null,{"$f":"CONCATENATE(AE1731,VLOOKUP(AF1734,$AH$1647:$AH$1669,1,0))","v":"○/Eb"},null,"Eb"]
[null,1733,{"$f":"CONCATENATE($C$7,AD1735)","v":"E○/E"},"Eb○/Eb","D○/D",{"$f":"$C1732","v":"C#○/C#"},{"$f":"$C1731","v":"C○/C"},{"$f":"$C1742","v":"B○/B"},"Bb○/Bb","A○/A","G#○/G#","G○/G","F#○/F#","F○/F","Eb○/Eb","D○/D",{"$f":"$C1732","v":"C#○/C#"},{"$f":"$C1731","v":"C○/C"},{"$f":"$C1742","v":"B○/B"},"Bb○/Bb","A○/A","G#○/G#","G○/G","F#○/F#","F○/F",null,"E○/E",1733,null,{"$f":"CONCATENATE(AE1731,VLOOKUP(AF1735,$AH$1647:$AH$1669,1,0))","v":"○/E"},null,"E"]
[null,1734,{"$f":"CONCATENATE($C$8,AD1736)","v":"F○/F"},"E○/E","Eb○/Eb","D○/D",{"$f":"$C1732","v":"C#○/C#"},{"$f":"$C1731","v":"C○/C"},"B○/B","Bb○/Bb","A○/A","G#○/G#","G○/G","F#○/F#","E○/E","Eb○/Eb","D○/D",{"$f":"$C1732","v":"C#○/C#"},{"$f":"$C1731","v":"C○/C"},"B○/B","Bb○/Bb","A○/A","G#○/G#","G○/G","F#○/F#",null,"F○/F",1734,null,{"$f":"CONCATENATE(AE1731,VLOOKUP(AF1736,$AH$1647:$AH$1669,1,0))","v":"○/F"},null,"F"]
[null,1735,{"$f":"CONCATENATE($C$9,AD1737)","v":"F#○/F#"},"F○/F","E○/E","Eb○/Eb","D○/D",{"$f":"$C1732","v":"C#○/C#"},{"$f":"$C1731","v":"C○/C"},{"$f":"$C1742","v":"B○/B"},"Bb○/Bb","A○/A","G#○/G#","G○/G","F○/F","E○/E","Eb○/Eb","D○/D",{"$f":"$C1732","v":"C#○/C#"},{"$f":"$C1731","v":"C○/C"},{"$f":"$C1742","v":"B○/B"},"Bb○/Bb","A○/A","G#○/G#","G○/G",null,"F#○/F#",1735,null,{"$f":"CONCATENATE(AE1731,VLOOKUP(AF1737,$AH$1647:$AH$1669,1,0))","v":"○/F#"},null,"F#"]
[null,1736,{"$f":"CONCATENATE($C$10,AD1738)","v":"G○/G"},"F#○/F#","F○/F","E○/E","Eb○/Eb","D○/D","C#○/C#",{"$f":"$C1731","v":"C○/C"},{"$f":"$C1742","v":"B○/B"},"Bb○/Bb","A○/A","G#○/G#","F#○/F#","F○/F","E○/E","Eb○/Eb","D○/D","C#○/C#",{"$f":"$C1731","v":"C○/C"},{"$f":"$C1742","v":"B○/B"},"Bb○/Bb","A○/A","G#○/G#",null,"G○/G",1736,null,{"$f":"CONCATENATE(AE1731,VLOOKUP(AF1738,$AH$1647:$AH$1669,1,0))","v":"○/G"},null,"G"]
[null,1737,{"$f":"CONCATENATE($C$11,AD1739)","v":"G#○/G#"},"G○/G","F#○/F#","F○/F","E○/E","Eb○/Eb","D○/D",{"$f":"$C1732","v":"C#○/C#"},{"$f":"$C1731","v":"C○/C"},{"$f":"$C1742","v":"B○/B"},"Bb○/Bb","A○/A","G○/G","F#○/F#","F○/F","E○/E","Eb○/Eb","D○/D",{"$f":"$C1732","v":"C#○/C#"},{"$f":"$C1731","v":"C○/C"},{"$f":"$C1742","v":"B○/B"},"Bb○/Bb","A○/A",null,"G#○/G#",1737,null,{"$f":"CONCATENATE(AE1731,VLOOKUP(AF1739,$AH$1647:$AH$1669,1,0))","v":"○/G#"},null,"G#"]
[null,1738,{"$f":"CONCATENATE($C$12,AD1740)","v":"A○/A"},"G#○/G#","G○/G","F#○/F#","F○/F","E○/E","Eb○/Eb",{"$f":"$C1733","v":"D○/D"},{"$f":"$C1732","v":"C#○/C#"},{"$f":"$C1731","v":"C○/C"},{"$f":"$C1742","v":"B○/B"},"Bb○/Bb","G#○/G#","G○/G","F#○/F#","F○/F","E○/E","Eb○/Eb",{"$f":"$C1733","v":"D○/D"},{"$f":"$C1732","v":"C#○/C#"},{"$f":"$C1731","v":"C○/C"},{"$f":"$C1742","v":"B○/B"},"Bb○/Bb",null,"A○/A",1738,null,{"$f":"CONCATENATE(AE1731,VLOOKUP(AF1740,$AH$1647:$AH$1669,1,0))","v":"○/A"},null,"A"]
[null,1739,{"$f":"CONCATENATE($C$13,AD1741)","v":"Bb○/Bb"},"A○/A","G#○/G#","G○/G","F#○/F#","F○/F","E○/E",{"$f":"$C1734","v":"Eb○/Eb"},{"$f":"$C1733","v":"D○/D"},{"$f":"$C1732","v":"C#○/C#"},{"$f":"$C1731","v":"C○/C"},{"$f":"$C1742","v":"B○/B"},"A○/A","G#○/G#","G○/G","F#○/F#","F○/F","E○/E",{"$f":"$C1734","v":"Eb○/Eb"},{"$f":"$C1733","v":"D○/D"},{"$f":"$C1732","v":"C#○/C#"},{"$f":"$C1731","v":"C○/C"},{"$f":"$C1742","v":"B○/B"},null,"Bb○/Bb",1739,null,{"$f":"CONCATENATE(AE1731,VLOOKUP(AF1741,$AH$1647:$AH$1669,1,0))","v":"○/Bb"},null,"Bb"]
[null,1740,{"$f":"CONCATENATE($C$14,AD1742)","v":"B○/B"},"Bb○/Bb","A○/A","G#○/G#","G○/G","F#○/F#","F○/F",{"$f":"$C1735","v":"E○/E"},{"$f":"$C1734","v":"Eb○/Eb"},{"$f":"$C1733","v":"D○/D"},{"$f":"$C1732","v":"C#○/C#"},{"$f":"$C1731","v":"C○/C"},"Bb○/Bb","A○/A","G#○/G#","G○/G","F#○/F#","F○/F",{"$f":"$C1735","v":"E○/E"},{"$f":"$C1734","v":"Eb○/Eb"},{"$f":"$C1733","v":"D○/D"},{"$f":"$C1732","v":"C#○/C#"},{"$f":"$C1731","v":"C○/C"},null,"B○/B",1740,null,{"$f":"CONCATENATE(AE1731,VLOOKUP(AF1742,$AH$1647:$AH$1669,1,0))","v":"○/B"},null,"B"]
[null,1741,{"$f":"CONCATENATE($C$3,AD1743)","v":"C○/C"},{"$f":"$C1754","v":"B○/B"},{"$f":"$C1753","v":"Bb○/Bb"},{"$f":"$C1752","v":"A○/A"},{"$f":"$C1751","v":"G#○/G#"},{"$f":"$C1750","v":"G○/G"},{"$f":"$C1749","v":"F#○/F#"},{"$f":"$C1748","v":"F○/F"},{"$f":"$C1747","v":"E○/E"},{"$f":"$C1746","v":"Eb○/Eb"},{"$f":"$C1745","v":"D○/D"},{"$f":"$C1744","v":"C#○/C#"},{"$f":"$C1754","v":"B○/B"},{"$f":"$C1753","v":"Bb○/Bb"},{"$f":"$C1752","v":"A○/A"},{"$f":"$C1751","v":"G#○/G#"},{"$f":"$C1750","v":"G○/G"},{"$f":"$C1749","v":"F#○/F#"},{"$f":"$C1748","v":"F○/F"},{"$f":"$C1747","v":"E○/E"},{"$f":"$C1746","v":"Eb○/Eb"},{"$f":"$C1745","v":"D○/D"},{"$f":"$C1744","v":"C#○/C#"},null,{"$f":"C1743","v":"C○/C"},1741,null,{"$f":"CONCATENATE(AE1743,VLOOKUP(AF1743,$AH$1647:$AH$1669,1,0))","v":"○/C"},"○/","C"]
[null,1742,{"$f":"CONCATENATE($C$4,AD1744)","v":"C#○/C#"},{"$f":"$C1743","v":"C○/C"},{"$f":"$C1754","v":"B○/B"},{"$f":"$C1753","v":"Bb○/Bb"},{"$f":"$C1752","v":"A○/A"},{"$f":"$C1751","v":"G#○/G#"},"G○/G","F#○/F#","F○/F","E○/E","Eb○/Eb","D○/D",{"$f":"$C1743","v":"C○/C"},{"$f":"$C1754","v":"B○/B"},{"$f":"$C1753","v":"Bb○/Bb"},{"$f":"$C1752","v":"A○/A"},{"$f":"$C1751","v":"G#○/G#"},"G○/G","F#○/F#","F○/F","E○/E","Eb○/Eb","D○/D",null,{"$f":"C1744","v":"C#○/C#"},1742,null,{"$f":"CONCATENATE(AE1743,VLOOKUP(AF1744,$AH$1647:$AH$1669,1,0))","v":"○/C#"},null,{"$f":"VLOOKUP(AF1743,$AH$1647:$AI$1658,2,0)","v":"C#"}]
[null,1743,{"$f":"CONCATENATE($C$5,AD1745)","v":"D○/D"},{"$f":"$C1744","v":"C#○/C#"},{"$f":"$C1743","v":"C○/C"},{"$f":"$C1754","v":"B○/B"},{"$f":"$C1753","v":"Bb○/Bb"},{"$f":"$C1752","v":"A○/A"},"G#○/G#","G○/G","F#○/F#","F○/F","E○/E","Eb○/Eb",{"$f":"$C1744","v":"C#○/C#"},{"$f":"$C1743","v":"C○/C"},{"$f":"$C1754","v":"B○/B"},{"$f":"$C1753","v":"Bb○/Bb"},{"$f":"$C1752","v":"A○/A"},"G#○/G#","G○/G","F#○/F#","F○/F","E○/E","Eb○/Eb",null,{"$f":"C1745","v":"D○/D"},1743,null,{"$f":"CONCATENATE(AE1743,VLOOKUP(AF1745,$AH$1647:$AH$1669,1,0))","v":"○/D"},null,"D"]
[null,1744,{"$f":"CONCATENATE($C$6,AD1746)","v":"Eb○/Eb"},"D○/D",{"$f":"$C1744","v":"C#○/C#"},{"$f":"$C1743","v":"C○/C"},{"$f":"$C1754","v":"B○/B"},{"$f":"$C1753","v":"Bb○/Bb"},"A○/A","G#○/G#","G○/G","F#○/F#","F○/F","E○/E","D○/D",{"$f":"$C1744","v":"C#○/C#"},{"$f":"$C1743","v":"C○/C"},{"$f":"$C1754","v":"B○/B"},{"$f":"$C1753","v":"Bb○/Bb"},"A○/A","G#○/G#","G○/G","F#○/F#","F○/F","E○/E",null,{"$f":"C1746","v":"Eb○/Eb"},1744,null,{"$f":"CONCATENATE(AE1743,VLOOKUP(AF1746,$AH$1647:$AH$1669,1,0))","v":"○/Eb"},null,"Eb"]
[null,1745,{"$f":"CONCATENATE($C$7,AD1747)","v":"E○/E"},"Eb○/Eb","D○/D",{"$f":"$C1744","v":"C#○/C#"},{"$f":"$C1743","v":"C○/C"},{"$f":"$C1754","v":"B○/B"},"Bb○/Bb","A○/A","G#○/G#","G○/G","F#○/F#","F○/F","Eb○/Eb","D○/D",{"$f":"$C1744","v":"C#○/C#"},{"$f":"$C1743","v":"C○/C"},{"$f":"$C1754","v":"B○/B"},"Bb○/Bb","A○/A","G#○/G#","G○/G","F#○/F#","F○/F",null,"E○/E",1745,null,{"$f":"CONCATENATE(AE1743,VLOOKUP(AF1747,$AH$1647:$AH$1669,1,0))","v":"○/E"},null,"E"]
[null,1746,{"$f":"CONCATENATE($C$8,AD1748)","v":"F○/F"},"E○/E","Eb○/Eb","D○/D",{"$f":"$C1744","v":"C#○/C#"},{"$f":"$C1743","v":"C○/C"},"B○/B","Bb○/Bb","A○/A","G#○/G#","G○/G","F#○/F#","E○/E","Eb○/Eb","D○/D",{"$f":"$C1744","v":"C#○/C#"},{"$f":"$C1743","v":"C○/C"},"B○/B","Bb○/Bb","A○/A","G#○/G#","G○/G","F#○/F#",null,"F○/F",1746,null,{"$f":"CONCATENATE(AE1743,VLOOKUP(AF1748,$AH$1647:$AH$1669,1,0))","v":"○/F"},null,"F"]
[null,1747,{"$f":"CONCATENATE($C$9,AD1749)","v":"F#○/F#"},"F○/F","E○/E","Eb○/Eb","D○/D",{"$f":"$C1744","v":"C#○/C#"},{"$f":"$C1743","v":"C○/C"},{"$f":"$C1754","v":"B○/B"},"Bb○/Bb","A○/A","G#○/G#","G○/G","F○/F","E○/E","Eb○/Eb","D○/D",{"$f":"$C1744","v":"C#○/C#"},{"$f":"$C1743","v":"C○/C"},{"$f":"$C1754","v":"B○/B"},"Bb○/Bb","A○/A","G#○/G#","G○/G",null,"F#○/F#",1747,null,{"$f":"CONCATENATE(AE1743,VLOOKUP(AF1749,$AH$1647:$AH$1669,1,0))","v":"○/F#"},null,"F#"]
[null,1748,{"$f":"CONCATENATE($C$10,AD1750)","v":"G○/G"},"F#○/F#","F○/F","E○/E","Eb○/Eb","D○/D","C#○/C#",{"$f":"$C1743","v":"C○/C"},{"$f":"$C1754","v":"B○/B"},"Bb○/Bb","A○/A","G#○/G#","F#○/F#","F○/F","E○/E","Eb○/Eb","D○/D","C#○/C#",{"$f":"$C1743","v":"C○/C"},{"$f":"$C1754","v":"B○/B"},"Bb○/Bb","A○/A","G#○/G#",null,"G○/G",1748,null,{"$f":"CONCATENATE(AE1743,VLOOKUP(AF1750,$AH$1647:$AH$1669,1,0))","v":"○/G"},null,"G"]
[null,1749,{"$f":"CONCATENATE($C$11,AD1751)","v":"G#○/G#"},"G○/G","F#○/F#","F○/F","E○/E","Eb○/Eb","D○/D",{"$f":"$C1744","v":"C#○/C#"},{"$f":"$C1743","v":"C○/C"},{"$f":"$C1754","v":"B○/B"},"Bb○/Bb","A○/A","G○/G","F#○/F#","F○/F","E○/E","Eb○/Eb","D○/D",{"$f":"$C1744","v":"C#○/C#"},{"$f":"$C1743","v":"C○/C"},{"$f":"$C1754","v":"B○/B"},"Bb○/Bb","A○/A",null,"G#○/G#",1749,null,{"$f":"CONCATENATE(AE1743,VLOOKUP(AF1751,$AH$1647:$AH$1669,1,0))","v":"○/G#"},null,"G#"]
[null,1750,{"$f":"CONCATENATE($C$12,AD1752)","v":"A○/A"},"G#○/G#","G○/G","F#○/F#","F○/F","E○/E","Eb○/Eb",{"$f":"$C1745","v":"D○/D"},{"$f":"$C1744","v":"C#○/C#"},{"$f":"$C1743","v":"C○/C"},{"$f":"$C1754","v":"B○/B"},"Bb○/Bb","G#○/G#","G○/G","F#○/F#","F○/F","E○/E","Eb○/Eb",{"$f":"$C1745","v":"D○/D"},{"$f":"$C1744","v":"C#○/C#"},{"$f":"$C1743","v":"C○/C"},{"$f":"$C1754","v":"B○/B"},"Bb○/Bb",null,"A○/A",1750,null,{"$f":"CONCATENATE(AE1743,VLOOKUP(AF1752,$AH$1647:$AH$1669,1,0))","v":"○/A"},null,"A"]
[null,1751,{"$f":"CONCATENATE($C$13,AD1753)","v":"Bb○/Bb"},"A○/A","G#○/G#","G○/G","F#○/F#","F○/F","E○/E",{"$f":"$C1746","v":"Eb○/Eb"},{"$f":"$C1745","v":"D○/D"},{"$f":"$C1744","v":"C#○/C#"},{"$f":"$C1743","v":"C○/C"},{"$f":"$C1754","v":"B○/B"},"A○/A","G#○/G#","G○/G","F#○/F#","F○/F","E○/E",{"$f":"$C1746","v":"Eb○/Eb"},{"$f":"$C1745","v":"D○/D"},{"$f":"$C1744","v":"C#○/C#"},{"$f":"$C1743","v":"C○/C"},{"$f":"$C1754","v":"B○/B"},null,"Bb○/Bb",1751,null,{"$f":"CONCATENATE(AE1743,VLOOKUP(AF1753,$AH$1647:$AH$1669,1,0))","v":"○/Bb"},null,"Bb"]
[null,1752,{"$f":"CONCATENATE($C$14,AD1754)","v":"B○/B"},"Bb○/Bb","A○/A","G#○/G#","G○/G","F#○/F#","F○/F",{"$f":"$C1747","v":"E○/E"},{"$f":"$C1746","v":"Eb○/Eb"},{"$f":"$C1745","v":"D○/D"},{"$f":"$C1744","v":"C#○/C#"},{"$f":"$C1743","v":"C○/C"},"Bb○/Bb","A○/A","G#○/G#","G○/G","F#○/F#","F○/F",{"$f":"$C1747","v":"E○/E"},{"$f":"$C1746","v":"Eb○/Eb"},{"$f":"$C1745","v":"D○/D"},{"$f":"$C1744","v":"C#○/C#"},{"$f":"$C1743","v":"C○/C"},null,"B○/B",1752,null,{"$f":"CONCATENATE(AE1743,VLOOKUP(AF1754,$AH$1647:$AH$1669,1,0))","v":"○/B"},null,"B"]
[null,1753,{"$f":"CONCATENATE($C$3,AD1755)","v":"C○/C"},{"$f":"$C1766","v":"B○/B"},{"$f":"$C1765","v":"Bb○/Bb"},{"$f":"$C1764","v":"A○/A"},{"$f":"$C1763","v":"G#○/G#"},{"$f":"$C1762","v":"G○/G"},{"$f":"$C1761","v":"F#○/F#"},{"$f":"$C1760","v":"F○/F"},{"$f":"$C1759","v":"E○/E"},{"$f":"$C1758","v":"Eb○/Eb"},{"$f":"$C1757","v":"D○/D"},{"$f":"$C1756","v":"C#○/C#"},{"$f":"$C1766","v":"B○/B"},{"$f":"$C1765","v":"Bb○/Bb"},{"$f":"$C1764","v":"A○/A"},{"$f":"$C1763","v":"G#○/G#"},{"$f":"$C1762","v":"G○/G"},{"$f":"$C1761","v":"F#○/F#"},{"$f":"$C1760","v":"F○/F"},{"$f":"$C1759","v":"E○/E"},{"$f":"$C1758","v":"Eb○/Eb"},{"$f":"$C1757","v":"D○/D"},{"$f":"$C1756","v":"C#○/C#"},null,{"$f":"C1755","v":"C○/C"},1753,null,{"$f":"CONCATENATE(AE1755,VLOOKUP(AF1755,$AH$1647:$AH$1669,1,0))","v":"○/C"},"○/","C"]
[null,1754,{"$f":"CONCATENATE($C$4,AD1756)","v":"C#○/C#"},{"$f":"$C1755","v":"C○/C"},{"$f":"$C1766","v":"B○/B"},{"$f":"$C1765","v":"Bb○/Bb"},{"$f":"$C1764","v":"A○/A"},{"$f":"$C1763","v":"G#○/G#"},"G○/G","F#○/F#","F○/F","E○/E","Eb○/Eb","D○/D",{"$f":"$C1755","v":"C○/C"},{"$f":"$C1766","v":"B○/B"},{"$f":"$C1765","v":"Bb○/Bb"},{"$f":"$C1764","v":"A○/A"},{"$f":"$C1763","v":"G#○/G#"},"G○/G","F#○/F#","F○/F","E○/E","Eb○/Eb","D○/D",null,{"$f":"C1756","v":"C#○/C#"},1754,null,{"$f":"CONCATENATE(AE1755,VLOOKUP(AF1756,$AH$1647:$AH$1669,1,0))","v":"○/C#"},null,{"$f":"VLOOKUP(AF1755,$AH$1647:$AI$1658,2,0)","v":"C#"}]
[null,1755,{"$f":"CONCATENATE($C$5,AD1757)","v":"D○/D"},{"$f":"$C1756","v":"C#○/C#"},{"$f":"$C1755","v":"C○/C"},{"$f":"$C1766","v":"B○/B"},{"$f":"$C1765","v":"Bb○/Bb"},{"$f":"$C1764","v":"A○/A"},"G#○/G#","G○/G","F#○/F#","F○/F","E○/E","Eb○/Eb",{"$f":"$C1756","v":"C#○/C#"},{"$f":"$C1755","v":"C○/C"},{"$f":"$C1766","v":"B○/B"},{"$f":"$C1765","v":"Bb○/Bb"},{"$f":"$C1764","v":"A○/A"},"G#○/G#","G○/G","F#○/F#","F○/F","E○/E","Eb○/Eb",null,{"$f":"C1757","v":"D○/D"},1755,null,{"$f":"CONCATENATE(AE1755,VLOOKUP(AF1757,$AH$1647:$AH$1669,1,0))","v":"○/D"},null,"D"]
[null,1756,{"$f":"CONCATENATE($C$6,AD1758)","v":"Eb○/Eb"},"D○/D",{"$f":"$C1756","v":"C#○/C#"},{"$f":"$C1755","v":"C○/C"},{"$f":"$C1766","v":"B○/B"},{"$f":"$C1765","v":"Bb○/Bb"},"A○/A","G#○/G#","G○/G","F#○/F#","F○/F","E○/E","D○/D",{"$f":"$C1756","v":"C#○/C#"},{"$f":"$C1755","v":"C○/C"},{"$f":"$C1766","v":"B○/B"},{"$f":"$C1765","v":"Bb○/Bb"},"A○/A","G#○/G#","G○/G","F#○/F#","F○/F","E○/E",null,{"$f":"C1758","v":"Eb○/Eb"},1756,null,{"$f":"CONCATENATE(AE1755,VLOOKUP(AF1758,$AH$1647:$AH$1669,1,0))","v":"○/Eb"},null,"Eb"]
[null,1757,{"$f":"CONCATENATE($C$7,AD1759)","v":"E○/E"},"Eb○/Eb","D○/D",{"$f":"$C1756","v":"C#○/C#"},{"$f":"$C1755","v":"C○/C"},{"$f":"$C1766","v":"B○/B"},"Bb○/Bb","A○/A","G#○/G#","G○/G","F#○/F#","F○/F","Eb○/Eb","D○/D",{"$f":"$C1756","v":"C#○/C#"},{"$f":"$C1755","v":"C○/C"},{"$f":"$C1766","v":"B○/B"},"Bb○/Bb","A○/A","G#○/G#","G○/G","F#○/F#","F○/F",null,"E○/E",1757,null,{"$f":"CONCATENATE(AE1755,VLOOKUP(AF1759,$AH$1647:$AH$1669,1,0))","v":"○/E"},null,"E"]
[null,1758,{"$f":"CONCATENATE($C$8,AD1760)","v":"F○/F"},"E○/E","Eb○/Eb","D○/D",{"$f":"$C1756","v":"C#○/C#"},{"$f":"$C1755","v":"C○/C"},"B○/B","Bb○/Bb","A○/A","G#○/G#","G○/G","F#○/F#","E○/E","Eb○/Eb","D○/D",{"$f":"$C1756","v":"C#○/C#"},{"$f":"$C1755","v":"C○/C"},"B○/B","Bb○/Bb","A○/A","G#○/G#","G○/G","F#○/F#",null,"F○/F",1758,null,{"$f":"CONCATENATE(AE1755,VLOOKUP(AF1760,$AH$1647:$AH$1669,1,0))","v":"○/F"},null,"F"]
[null,1759,{"$f":"CONCATENATE($C$9,AD1761)","v":"F#○/F#"},"F○/F","E○/E","Eb○/Eb","D○/D",{"$f":"$C1756","v":"C#○/C#"},{"$f":"$C1755","v":"C○/C"},{"$f":"$C1766","v":"B○/B"},"Bb○/Bb","A○/A","G#○/G#","G○/G","F○/F","E○/E","Eb○/Eb","D○/D",{"$f":"$C1756","v":"C#○/C#"},{"$f":"$C1755","v":"C○/C"},{"$f":"$C1766","v":"B○/B"},"Bb○/Bb","A○/A","G#○/G#","G○/G",null,"F#○/F#",1759,null,{"$f":"CONCATENATE(AE1755,VLOOKUP(AF1761,$AH$1647:$AH$1669,1,0))","v":"○/F#"},null,"F#"]
[null,1760,{"$f":"CONCATENATE($C$10,AD1762)","v":"G○/G"},"F#○/F#","F○/F","E○/E","Eb○/Eb","D○/D","C#○/C#",{"$f":"$C1755","v":"C○/C"},{"$f":"$C1766","v":"B○/B"},"Bb○/Bb","A○/A","G#○/G#","F#○/F#","F○/F","E○/E","Eb○/Eb","D○/D","C#○/C#",{"$f":"$C1755","v":"C○/C"},{"$f":"$C1766","v":"B○/B"},"Bb○/Bb","A○/A","G#○/G#",null,"G○/G",1760,null,{"$f":"CONCATENATE(AE1755,VLOOKUP(AF1762,$AH$1647:$AH$1669,1,0))","v":"○/G"},null,"G"]
[null,1761,{"$f":"CONCATENATE($C$11,AD1763)","v":"G#○/G#"},"G○/G","F#○/F#","F○/F","E○/E","Eb○/Eb","D○/D",{"$f":"$C1756","v":"C#○/C#"},{"$f":"$C1755","v":"C○/C"},{"$f":"$C1766","v":"B○/B"},"Bb○/Bb","A○/A","G○/G","F#○/F#","F○/F","E○/E","Eb○/Eb","D○/D",{"$f":"$C1756","v":"C#○/C#"},{"$f":"$C1755","v":"C○/C"},{"$f":"$C1766","v":"B○/B"},"Bb○/Bb","A○/A",null,"G#○/G#",1761,null,{"$f":"CONCATENATE(AE1755,VLOOKUP(AF1763,$AH$1647:$AH$1669,1,0))","v":"○/G#"},null,"G#"]
[null,1762,{"$f":"CONCATENATE($C$12,AD1764)","v":"A○/A"},"G#○/G#","G○/G","F#○/F#","F○/F","E○/E","Eb○/Eb",{"$f":"$C1757","v":"D○/D"},{"$f":"$C1756","v":"C#○/C#"},{"$f":"$C1755","v":"C○/C"},{"$f":"$C1766","v":"B○/B"},"Bb○/Bb","G#○/G#","G○/G","F#○/F#","F○/F","E○/E","Eb○/Eb",{"$f":"$C1757","v":"D○/D"},{"$f":"$C1756","v":"C#○/C#"},{"$f":"$C1755","v":"C○/C"},{"$f":"$C1766","v":"B○/B"},"Bb○/Bb",null,"A○/A",1762,null,{"$f":"CONCATENATE(AE1755,VLOOKUP(AF1764,$AH$1647:$AH$1669,1,0))","v":"○/A"},null,"A"]
[null,1763,{"$f":"CONCATENATE($C$13,AD1765)","v":"Bb○/Bb"},"A○/A","G#○/G#","G○/G","F#○/F#","F○/F","E○/E",{"$f":"$C1758","v":"Eb○/Eb"},{"$f":"$C1757","v":"D○/D"},{"$f":"$C1756","v":"C#○/C#"},{"$f":"$C1755","v":"C○/C"},{"$f":"$C1766","v":"B○/B"},"A○/A","G#○/G#","G○/G","F#○/F#","F○/F","E○/E",{"$f":"$C1758","v":"Eb○/Eb"},{"$f":"$C1757","v":"D○/D"},{"$f":"$C1756","v":"C#○/C#"},{"$f":"$C1755","v":"C○/C"},{"$f":"$C1766","v":"B○/B"},null,"Bb○/Bb",1763,null,{"$f":"CONCATENATE(AE1755,VLOOKUP(AF1765,$AH$1647:$AH$1669,1,0))","v":"○/Bb"},null,"Bb"]
[null,1764,{"$f":"CONCATENATE($C$14,AD1766)","v":"B○/B"},"Bb○/Bb","A○/A","G#○/G#","G○/G","F#○/F#","F○/F",{"$f":"$C1759","v":"E○/E"},{"$f":"$C1758","v":"Eb○/Eb"},{"$f":"$C1757","v":"D○/D"},{"$f":"$C1756","v":"C#○/C#"},{"$f":"$C1755","v":"C○/C"},"Bb○/Bb","A○/A","G#○/G#","G○/G","F#○/F#","F○/F",{"$f":"$C1759","v":"E○/E"},{"$f":"$C1758","v":"Eb○/Eb"},{"$f":"$C1757","v":"D○/D"},{"$f":"$C1756","v":"C#○/C#"},{"$f":"$C1755","v":"C○/C"},null,"B○/B",1764,null,{"$f":"CONCATENATE(AE1755,VLOOKUP(AF1766,$AH$1647:$AH$1669,1,0))","v":"○/B"},null,"B"]
[null,1765," "," "," "," "," "," "," "," "," "," "," "," "," "," "," "," "," "," "," "," "," "," "," ",null," ",1765]
[null,1766,"　","　","　","　","　","　","　","　","　","　","　","　","　","　","　","　","　","　","　","　","　","　","　",null,"　",1766]
[]
[]
[]
[]
[]
[]
[]
[]
[]
[]
[]
[]
[]
[]
[]
[]
[]
[]
[]
[]
[null,null,0,-1,-2,-3,-4,-5,-6,-7,-8,-9,-10,-11,11,10,9,8,7,6,5,4,3,2,1]
[null,625,{"$f":"CONCATENATE($C$3,AD1790)","v":"CM6"},{"$f":"$C1801","v":"BM6"},{"$f":"$C1800","v":"BbM6"},{"$f":"$C1799","v":"AM6"},{"$f":"$C1798","v":"G#M6"},{"$f":"$C1797","v":"GM6"},{"$f":"$C1796","v":"F#M6"},{"$f":"$C1795","v":"FM6"},{"$f":"$C1794","v":"EM6"},{"$f":"$C1793","v":"EbM6"},{"$f":"$C1792","v":"DM6"},{"$f":"$C1791","v":"C#M6"},{"$f":"$C1801","v":"BM6"},{"$f":"$C1800","v":"BbM6"},{"$f":"$C1799","v":"AM6"},{"$f":"$C1798","v":"G#M6"},{"$f":"$C1797","v":"GM6"},{"$f":"$C1796","v":"F#M6"},{"$f":"$C1795","v":"FM6"},{"$f":"$C1794","v":"EM6"},{"$f":"$C1793","v":"EbM6"},{"$f":"$C1792","v":"DM6"},{"$f":"$C1791","v":"C#M6"},null,{"$f":"C1790","v":"CM6"},1,null,"M6"]
[null,626,{"$f":"CONCATENATE($C$4,AD1790)","v":"C#M6"},{"$f":"$C1790","v":"CM6"},{"$f":"$C1801","v":"BM6"},{"$f":"$C1800","v":"BbM6"},{"$f":"$C1799","v":"AM6"},{"$f":"$C1798","v":"G#M6"},"GM6","F#M6","FM6","EM6","EbM6","DM6",{"$f":"$C1790","v":"CM6"},{"$f":"$C1801","v":"BM6"},{"$f":"$C1800","v":"BbM6"},{"$f":"$C1799","v":"AM6"},{"$f":"$C1798","v":"G#M6"},"GM6","F#M6","FM6","EM6","EbM6","DM6",null,"C#M6",2]
[null,627,{"$f":"CONCATENATE($C$5,AD1790)","v":"DM6"},{"$f":"$C1791","v":"C#M6"},{"$f":"$C1790","v":"CM6"},{"$f":"$C1801","v":"BM6"},{"$f":"$C1800","v":"BbM6"},{"$f":"$C1799","v":"AM6"},"G#M6","GM6","F#M6","FM6","EM6","EbM6",{"$f":"$C1791","v":"C#M6"},{"$f":"$C1790","v":"CM6"},{"$f":"$C1801","v":"BM6"},{"$f":"$C1800","v":"BbM6"},{"$f":"$C1799","v":"AM6"},"G#M6","GM6","F#M6","FM6","EM6","EbM6",null,"DM6",3]
[null,628,{"$f":"CONCATENATE($C$6,AD1790)","v":"EbM6"},"DM6",{"$f":"$C1791","v":"C#M6"},{"$f":"$C1790","v":"CM6"},{"$f":"$C1801","v":"BM6"},{"$f":"$C1800","v":"BbM6"},"AM6","G#M6","GM6","F#M6","FM6","EM6","DM6",{"$f":"$C1791","v":"C#M6"},{"$f":"$C1790","v":"CM6"},{"$f":"$C1801","v":"BM6"},{"$f":"$C1800","v":"BbM6"},"AM6","G#M6","GM6","F#M6","FM6","EM6",null,"EbM6",4]
[null,629,{"$f":"CONCATENATE($C$7,AD1790)","v":"EM6"},"EbM6","DM6",{"$f":"$C1791","v":"C#M6"},{"$f":"$C1790","v":"CM6"},{"$f":"$C1801","v":"BM6"},"BbM6","AM6","G#M6","GM6","F#M6","FM6","EbM6","DM6",{"$f":"$C1791","v":"C#M6"},{"$f":"$C1790","v":"CM6"},{"$f":"$C1801","v":"BM6"},"BbM6","AM6","G#M6","GM6","F#M6","FM6",null,"EM6",5]
[null,630,{"$f":"CONCATENATE($C$8,AD1790)","v":"FM6"},"EM6","EbM6","DM6",{"$f":"$C1791","v":"C#M6"},{"$f":"$C1790","v":"CM6"},"BM6","BbM6","AM6","G#M6","GM6","F#M6","EM6","EbM6","DM6",{"$f":"$C1791","v":"C#M6"},{"$f":"$C1790","v":"CM6"},"BM6","BbM6","AM6","G#M6","GM6","F#M6",null,"FM6",6]
[null,631,{"$f":"CONCATENATE($C$9,AD1790)","v":"F#M6"},"FM6","EM6","EbM6","DM6",{"$f":"$C1791","v":"C#M6"},{"$f":"$C1790","v":"CM6"},{"$f":"$C1801","v":"BM6"},"BbM6","AM6","G#M6","GM6","FM6","EM6","EbM6","DM6",{"$f":"$C1791","v":"C#M6"},{"$f":"$C1790","v":"CM6"},{"$f":"$C1801","v":"BM6"},"BbM6","AM6","G#M6","GM6",null,"F#M6",7]
[null,632,{"$f":"CONCATENATE($C$10,AD1790)","v":"GM6"},"F#M6","FM6","EM6","EbM6","DM6","C#M6",{"$f":"$C1790","v":"CM6"},{"$f":"$C1801","v":"BM6"},"BbM6","AM6","G#M6","F#M6","FM6","EM6","EbM6","DM6","C#M6",{"$f":"$C1790","v":"CM6"},{"$f":"$C1801","v":"BM6"},"BbM6","AM6","G#M6",null,"GM6",8]
[null,633,{"$f":"CONCATENATE($C$11,AD1790)","v":"G#M6"},"GM6","F#M6","FM6","EM6","EbM6","DM6",{"$f":"$C1791","v":"C#M6"},{"$f":"$C1790","v":"CM6"},{"$f":"$C1801","v":"BM6"},"BbM6","AM6","GM6","F#M6","FM6","EM6","EbM6","DM6",{"$f":"$C1791","v":"C#M6"},{"$f":"$C1790","v":"CM6"},{"$f":"$C1801","v":"BM6"},"BbM6","AM6",null,"G#M6",9]
[null,634,{"$f":"CONCATENATE($C$12,AD1790)","v":"AM6"},"G#M6","GM6","F#M6","FM6","EM6","EbM6",{"$f":"$C1792","v":"DM6"},{"$f":"$C1791","v":"C#M6"},{"$f":"$C1790","v":"CM6"},{"$f":"$C1801","v":"BM6"},"BbM6","G#M6","GM6","F#M6","FM6","EM6","EbM6",{"$f":"$C1792","v":"DM6"},{"$f":"$C1791","v":"C#M6"},{"$f":"$C1790","v":"CM6"},{"$f":"$C1801","v":"BM6"},"BbM6",null,"AM6",10]
[null,635,{"$f":"CONCATENATE($C$13,AD1790)","v":"BbM6"},"AM6","G#M6","GM6","F#M6","FM6","EM6",{"$f":"$C1793","v":"EbM6"},{"$f":"$C1792","v":"DM6"},{"$f":"$C1791","v":"C#M6"},{"$f":"$C1790","v":"CM6"},{"$f":"$C1801","v":"BM6"},"AM6","G#M6","GM6","F#M6","FM6","EM6",{"$f":"$C1793","v":"EbM6"},{"$f":"$C1792","v":"DM6"},{"$f":"$C1791","v":"C#M6"},{"$f":"$C1790","v":"CM6"},{"$f":"$C1801","v":"BM6"},null,"BbM6",11]
[null,636,{"$f":"CONCATENATE($C$14,AD1790)","v":"BM6"},"BbM6","AM6","G#M6","GM6","F#M6","FM6",{"$f":"$C1794","v":"EM6"},{"$f":"$C1793","v":"EbM6"},{"$f":"$C1792","v":"DM6"},{"$f":"$C1791","v":"C#M6"},{"$f":"$C1790","v":"CM6"},"BbM6","AM6","G#M6","GM6","F#M6","FM6",{"$f":"$C1794","v":"EM6"},{"$f":"$C1793","v":"EbM6"},{"$f":"$C1792","v":"DM6"},{"$f":"$C1791","v":"C#M6"},{"$f":"$C1790","v":"CM6"},null,"BM6",12]
[null,637,{"$f":"CONCATENATE($C$3,AD1802)","v":"CM7"},{"$f":"$C1813","v":"BM7"},{"$f":"$C1812","v":"BbM7"},{"$f":"$C1811","v":"AM7"},{"$f":"$C1810","v":"G#M7"},{"$f":"$C1809","v":"GM7"},{"$f":"$C1808","v":"F#M7"},{"$f":"$C1807","v":"FM7"},{"$f":"$C1806","v":"EM7"},{"$f":"$C1805","v":"EbM7"},{"$f":"$C1804","v":"DM7"},{"$f":"$C1803","v":"C#M7"},{"$f":"$C1813","v":"BM7"},{"$f":"$C1812","v":"BbM7"},{"$f":"$C1811","v":"AM7"},{"$f":"$C1810","v":"G#M7"},{"$f":"$C1809","v":"GM7"},{"$f":"$C1808","v":"F#M7"},{"$f":"$C1807","v":"FM7"},{"$f":"$C1806","v":"EM7"},{"$f":"$C1805","v":"EbM7"},{"$f":"$C1804","v":"DM7"},{"$f":"$C1803","v":"C#M7"},null,"CM7",13,null,"M7"]
[null,638,{"$f":"CONCATENATE($C$4,AD1802)","v":"C#M7"},{"$f":"$C1802","v":"CM7"},{"$f":"$C1813","v":"BM7"},{"$f":"$C1812","v":"BbM7"},{"$f":"$C1811","v":"AM7"},{"$f":"$C1810","v":"G#M7"},"GM7","F#M7","FM7","EM7","EbM7","DM7",{"$f":"$C1802","v":"CM7"},{"$f":"$C1813","v":"BM7"},{"$f":"$C1812","v":"BbM7"},{"$f":"$C1811","v":"AM7"},{"$f":"$C1810","v":"G#M7"},"GM7","F#M7","FM7","EM7","EbM7","DM7",null,"C#M7",14]
[null,639,{"$f":"CONCATENATE($C$5,AD1802)","v":"DM7"},{"$f":"$C1803","v":"C#M7"},{"$f":"$C1802","v":"CM7"},{"$f":"$C1813","v":"BM7"},{"$f":"$C1812","v":"BbM7"},{"$f":"$C1811","v":"AM7"},"G#M7","GM7","F#M7","FM7","EM7","EbM7",{"$f":"$C1803","v":"C#M7"},{"$f":"$C1802","v":"CM7"},{"$f":"$C1813","v":"BM7"},{"$f":"$C1812","v":"BbM7"},{"$f":"$C1811","v":"AM7"},"G#M7","GM7","F#M7","FM7","EM7","EbM7",null,"DM7",15]
[null,640,{"$f":"CONCATENATE($C$6,AD1802)","v":"EbM7"},"DM7",{"$f":"$C1803","v":"C#M7"},{"$f":"$C1802","v":"CM7"},{"$f":"$C1813","v":"BM7"},{"$f":"$C1812","v":"BbM7"},"AM7","G#M7","GM7","F#M7","FM7","EM7","DM7",{"$f":"$C1803","v":"C#M7"},{"$f":"$C1802","v":"CM7"},{"$f":"$C1813","v":"BM7"},{"$f":"$C1812","v":"BbM7"},"AM7","G#M7","GM7","F#M7","FM7","EM7",null,"EbM7",16]
[null,641,{"$f":"CONCATENATE($C$7,AD1802)","v":"EM7"},"EbM7","DM7",{"$f":"$C1803","v":"C#M7"},{"$f":"$C1802","v":"CM7"},{"$f":"$C1813","v":"BM7"},"BbM7","AM7","G#M7","GM7","F#M7","FM7","EbM7","DM7",{"$f":"$C1803","v":"C#M7"},{"$f":"$C1802","v":"CM7"},{"$f":"$C1813","v":"BM7"},"BbM7","AM7","G#M7","GM7","F#M7","FM7",null,"EM7",17]
[null,642,{"$f":"CONCATENATE($C$8,AD1802)","v":"FM7"},"EM7","EbM7","DM7",{"$f":"$C1803","v":"C#M7"},{"$f":"$C1802","v":"CM7"},"BM7","BbM7","AM7","G#M7","GM7","F#M7","EM7","EbM7","DM7",{"$f":"$C1803","v":"C#M7"},{"$f":"$C1802","v":"CM7"},"BM7","BbM7","AM7","G#M7","GM7","F#M7",null,"FM7",18]
[null,643,{"$f":"CONCATENATE($C$9,AD1802)","v":"F#M7"},"FM7","EM7","EbM7","DM7",{"$f":"$C1803","v":"C#M7"},{"$f":"$C1802","v":"CM7"},{"$f":"$C1813","v":"BM7"},"BbM7","AM7","G#M7","GM7","FM7","EM7","EbM7","DM7",{"$f":"$C1803","v":"C#M7"},{"$f":"$C1802","v":"CM7"},{"$f":"$C1813","v":"BM7"},"BbM7","AM7","G#M7","GM7",null,"F#M7",19]
[null,644,{"$f":"CONCATENATE($C$10,AD1802)","v":"GM7"},"F#M7","FM7","EM7","EbM7","DM7","C#M7",{"$f":"$C1802","v":"CM7"},{"$f":"$C1813","v":"BM7"},"BbM7","AM7","G#M7","F#M7","FM7","EM7","EbM7","DM7","C#M7",{"$f":"$C1802","v":"CM7"},{"$f":"$C1813","v":"BM7"},"BbM7","AM7","G#M7",null,"GM7",20]
[null,645,{"$f":"CONCATENATE($C$11,AD1802)","v":"G#M7"},"GM7","F#M7","FM7","EM7","EbM7","DM7",{"$f":"$C1803","v":"C#M7"},{"$f":"$C1802","v":"CM7"},{"$f":"$C1813","v":"BM7"},"BbM7","AM7","GM7","F#M7","FM7","EM7","EbM7","DM7",{"$f":"$C1803","v":"C#M7"},{"$f":"$C1802","v":"CM7"},{"$f":"$C1813","v":"BM7"},"BbM7","AM7",null,"G#M7",21]
[null,646,{"$f":"CONCATENATE($C$12,AD1802)","v":"AM7"},"G#M7","GM7","F#M7","FM7","EM7","EbM7",{"$f":"$C1804","v":"DM7"},{"$f":"$C1803","v":"C#M7"},{"$f":"$C1802","v":"CM7"},{"$f":"$C1813","v":"BM7"},"BbM7","G#M7","GM7","F#M7","FM7","EM7","EbM7",{"$f":"$C1804","v":"DM7"},{"$f":"$C1803","v":"C#M7"},{"$f":"$C1802","v":"CM7"},{"$f":"$C1813","v":"BM7"},"BbM7",null,"AM7",22]
[null,647,{"$f":"CONCATENATE($C$13,AD1802)","v":"BbM7"},"AM7","G#M7","GM7","F#M7","FM7","EM7",{"$f":"$C1805","v":"EbM7"},{"$f":"$C1804","v":"DM7"},{"$f":"$C1803","v":"C#M7"},{"$f":"$C1802","v":"CM7"},{"$f":"$C1813","v":"BM7"},"AM7","G#M7","GM7","F#M7","FM7","EM7",{"$f":"$C1805","v":"EbM7"},{"$f":"$C1804","v":"DM7"},{"$f":"$C1803","v":"C#M7"},{"$f":"$C1802","v":"CM7"},{"$f":"$C1813","v":"BM7"},null,"BbM7",23]
[null,648,{"$f":"CONCATENATE($C$14,AD1802)","v":"BM7"},"BbM7","AM7","G#M7","GM7","F#M7","FM7",{"$f":"$C1806","v":"EM7"},{"$f":"$C1805","v":"EbM7"},{"$f":"$C1804","v":"DM7"},{"$f":"$C1803","v":"C#M7"},{"$f":"$C1802","v":"CM7"},"BbM7","AM7","G#M7","GM7","F#M7","FM7",{"$f":"$C1806","v":"EM7"},{"$f":"$C1805","v":"EbM7"},{"$f":"$C1804","v":"DM7"},{"$f":"$C1803","v":"C#M7"},{"$f":"$C1802","v":"CM7"},null,"BM7",24]
[null,649,{"$f":"CONCATENATE($C$3,AD1814)","v":"CM9"},{"$f":"$C1825","v":"BM9"},{"$f":"$C1824","v":"BbM9"},{"$f":"$C1823","v":"AM9"},{"$f":"$C1822","v":"G#M9"},{"$f":"$C1821","v":"GM9"},{"$f":"$C1820","v":"F#M9"},{"$f":"$C1819","v":"FM9"},{"$f":"$C1818","v":"EM9"},{"$f":"$C1817","v":"EbM9"},{"$f":"$C1816","v":"DM9"},{"$f":"$C1815","v":"C#M9"},{"$f":"$C1825","v":"BM9"},{"$f":"$C1824","v":"BbM9"},{"$f":"$C1823","v":"AM9"},{"$f":"$C1822","v":"G#M9"},{"$f":"$C1821","v":"GM9"},{"$f":"$C1820","v":"F#M9"},{"$f":"$C1819","v":"FM9"},{"$f":"$C1818","v":"EM9"},{"$f":"$C1817","v":"EbM9"},{"$f":"$C1816","v":"DM9"},{"$f":"$C1815","v":"C#M9"},null,"CM9",25,null,"M9"]
[null,650,{"$f":"CONCATENATE($C$4,AD1814)","v":"C#M9"},{"$f":"$C1814","v":"CM9"},{"$f":"$C1825","v":"BM9"},{"$f":"$C1824","v":"BbM9"},{"$f":"$C1823","v":"AM9"},{"$f":"$C1822","v":"G#M9"},"GM9","F#M9","FM9","EM9","EbM9","DM9",{"$f":"$C1814","v":"CM9"},{"$f":"$C1825","v":"BM9"},{"$f":"$C1824","v":"BbM9"},{"$f":"$C1823","v":"AM9"},{"$f":"$C1822","v":"G#M9"},"GM9","F#M9","FM9","EM9","EbM9","DM9",null,"C#M9",26]
[null,651,{"$f":"CONCATENATE($C$5,AD1814)","v":"DM9"},{"$f":"$C1815","v":"C#M9"},{"$f":"$C1814","v":"CM9"},{"$f":"$C1825","v":"BM9"},{"$f":"$C1824","v":"BbM9"},{"$f":"$C1823","v":"AM9"},"G#M9","GM9","F#M9","FM9","EM9","EbM9",{"$f":"$C1815","v":"C#M9"},{"$f":"$C1814","v":"CM9"},{"$f":"$C1825","v":"BM9"},{"$f":"$C1824","v":"BbM9"},{"$f":"$C1823","v":"AM9"},"G#M9","GM9","F#M9","FM9","EM9","EbM9",null,"DM9",27]
[null,652,{"$f":"CONCATENATE($C$6,AD1814)","v":"EbM9"},"DM9",{"$f":"$C1815","v":"C#M9"},{"$f":"$C1814","v":"CM9"},{"$f":"$C1825","v":"BM9"},{"$f":"$C1824","v":"BbM9"},"AM9","G#M9","GM9","F#M9","FM9","EM9","DM9",{"$f":"$C1815","v":"C#M9"},{"$f":"$C1814","v":"CM9"},{"$f":"$C1825","v":"BM9"},{"$f":"$C1824","v":"BbM9"},"AM9","G#M9","GM9","F#M9","FM9","EM9",null,"EbM9",28]
[null,653,{"$f":"CONCATENATE($C$7,AD1814)","v":"EM9"},"EbM9","DM9",{"$f":"$C1815","v":"C#M9"},{"$f":"$C1814","v":"CM9"},{"$f":"$C1825","v":"BM9"},"BbM9","AM9","G#M9","GM9","F#M9","FM9","EbM9","DM9",{"$f":"$C1815","v":"C#M9"},{"$f":"$C1814","v":"CM9"},{"$f":"$C1825","v":"BM9"},"BbM9","AM9","G#M9","GM9","F#M9","FM9",null,"EM9",29]
[null,654,{"$f":"CONCATENATE($C$8,AD1814)","v":"FM9"},"EM9","EbM9","DM9",{"$f":"$C1815","v":"C#M9"},{"$f":"$C1814","v":"CM9"},"BM9","BbM9","AM9","G#M9","GM9","F#M9","EM9","EbM9","DM9",{"$f":"$C1815","v":"C#M9"},{"$f":"$C1814","v":"CM9"},"BM9","BbM9","AM9","G#M9","GM9","F#M9",null,"FM9",30]
[null,655,{"$f":"CONCATENATE($C$9,AD1814)","v":"F#M9"},"FM9","EM9","EbM9","DM9",{"$f":"$C1815","v":"C#M9"},{"$f":"$C1814","v":"CM9"},{"$f":"$C1825","v":"BM9"},"BbM9","AM9","G#M9","GM9","FM9","EM9","EbM9","DM9",{"$f":"$C1815","v":"C#M9"},{"$f":"$C1814","v":"CM9"},{"$f":"$C1825","v":"BM9"},"BbM9","AM9","G#M9","GM9",null,"F#M9",31]
[null,656,{"$f":"CONCATENATE($C$10,AD1814)","v":"GM9"},"F#M9","FM9","EM9","EbM9","DM9","C#M9",{"$f":"$C1814","v":"CM9"},{"$f":"$C1825","v":"BM9"},"BbM9","AM9","G#M9","F#M9","FM9","EM9","EbM9","DM9","C#M9",{"$f":"$C1814","v":"CM9"},{"$f":"$C1825","v":"BM9"},"BbM9","AM9","G#M9",null,"GM9",32]
[null,657,{"$f":"CONCATENATE($C$11,AD1814)","v":"G#M9"},"GM9","F#M9","FM9","EM9","EbM9","DM9",{"$f":"$C1815","v":"C#M9"},{"$f":"$C1814","v":"CM9"},{"$f":"$C1825","v":"BM9"},"BbM9","AM9","GM9","F#M9","FM9","EM9","EbM9","DM9",{"$f":"$C1815","v":"C#M9"},{"$f":"$C1814","v":"CM9"},{"$f":"$C1825","v":"BM9"},"BbM9","AM9",null,"G#M9",33]
[null,658,{"$f":"CONCATENATE($C$12,AD1814)","v":"AM9"},"G#M9","GM9","F#M9","FM9","EM9","EbM9",{"$f":"$C1816","v":"DM9"},{"$f":"$C1815","v":"C#M9"},{"$f":"$C1814","v":"CM9"},{"$f":"$C1825","v":"BM9"},"BbM9","G#M9","GM9","F#M9","FM9","EM9","EbM9",{"$f":"$C1816","v":"DM9"},{"$f":"$C1815","v":"C#M9"},{"$f":"$C1814","v":"CM9"},{"$f":"$C1825","v":"BM9"},"BbM9",null,"AM9",34]
[null,659,{"$f":"CONCATENATE($C$13,AD1814)","v":"BbM9"},"AM9","G#M9","GM9","F#M9","FM9","EM9",{"$f":"$C1817","v":"EbM9"},{"$f":"$C1816","v":"DM9"},{"$f":"$C1815","v":"C#M9"},{"$f":"$C1814","v":"CM9"},{"$f":"$C1825","v":"BM9"},"AM9","G#M9","GM9","F#M9","FM9","EM9",{"$f":"$C1817","v":"EbM9"},{"$f":"$C1816","v":"DM9"},{"$f":"$C1815","v":"C#M9"},{"$f":"$C1814","v":"CM9"},{"$f":"$C1825","v":"BM9"},null,"BbM9",35]
[null,660,{"$f":"CONCATENATE($C$14,AD1814)","v":"BM9"},"BbM9","AM9","G#M9","GM9","F#M9","FM9",{"$f":"$C1818","v":"EM9"},{"$f":"$C1817","v":"EbM9"},{"$f":"$C1816","v":"DM9"},{"$f":"$C1815","v":"C#M9"},{"$f":"$C1814","v":"CM9"},"BbM9","AM9","G#M9","GM9","F#M9","FM9",{"$f":"$C1818","v":"EM9"},{"$f":"$C1817","v":"EbM9"},{"$f":"$C1816","v":"DM9"},{"$f":"$C1815","v":"C#M9"},{"$f":"$C1814","v":"CM9"},null,"BM9",36]
[null,661,{"$f":"CONCATENATE($C$3,AD1826)","v":"CM11"},{"$f":"$C1837","v":"BM11"},{"$f":"$C1836","v":"BbM11"},{"$f":"$C1835","v":"AM11"},{"$f":"$C1834","v":"G#M11"},{"$f":"$C1833","v":"GM11"},{"$f":"$C1832","v":"F#M11"},{"$f":"$C1831","v":"FM11"},{"$f":"$C1830","v":"EM11"},{"$f":"$C1829","v":"EbM11"},{"$f":"$C1828","v":"DM11"},{"$f":"$C1827","v":"C#M11"},{"$f":"$C1837","v":"BM11"},{"$f":"$C1836","v":"BbM11"},{"$f":"$C1835","v":"AM11"},{"$f":"$C1834","v":"G#M11"},{"$f":"$C1833","v":"GM11"},{"$f":"$C1832","v":"F#M11"},{"$f":"$C1831","v":"FM11"},{"$f":"$C1830","v":"EM11"},{"$f":"$C1829","v":"EbM11"},{"$f":"$C1828","v":"DM11"},{"$f":"$C1827","v":"C#M11"},null,"CM11",37,null,"M11"]
[null,662,{"$f":"CONCATENATE($C$4,AD1826)","v":"C#M11"},{"$f":"$C1826","v":"CM11"},{"$f":"$C1837","v":"BM11"},{"$f":"$C1836","v":"BbM11"},{"$f":"$C1835","v":"AM11"},{"$f":"$C1834","v":"G#M11"},"GM11","F#M11","FM11","EM11","EbM11","DM11",{"$f":"$C1826","v":"CM11"},{"$f":"$C1837","v":"BM11"},{"$f":"$C1836","v":"BbM11"},{"$f":"$C1835","v":"AM11"},{"$f":"$C1834","v":"G#M11"},"GM11","F#M11","FM11","EM11","EbM11","DM11",null,"C#M11",38]
[null,663,{"$f":"CONCATENATE($C$5,AD1826)","v":"DM11"},{"$f":"$C1827","v":"C#M11"},{"$f":"$C1826","v":"CM11"},{"$f":"$C1837","v":"BM11"},{"$f":"$C1836","v":"BbM11"},{"$f":"$C1835","v":"AM11"},"G#M11","GM11","F#M11","FM11","EM11","EbM11",{"$f":"$C1827","v":"C#M11"},{"$f":"$C1826","v":"CM11"},{"$f":"$C1837","v":"BM11"},{"$f":"$C1836","v":"BbM11"},{"$f":"$C1835","v":"AM11"},"G#M11","GM11","F#M11","FM11","EM11","EbM11",null,"DM11",39]
[null,664,{"$f":"CONCATENATE($C$6,AD1826)","v":"EbM11"},"DM11",{"$f":"$C1827","v":"C#M11"},{"$f":"$C1826","v":"CM11"},{"$f":"$C1837","v":"BM11"},{"$f":"$C1836","v":"BbM11"},"AM11","G#M11","GM11","F#M11","FM11","EM11","DM11",{"$f":"$C1827","v":"C#M11"},{"$f":"$C1826","v":"CM11"},{"$f":"$C1837","v":"BM11"},{"$f":"$C1836","v":"BbM11"},"AM11","G#M11","GM11","F#M11","FM11","EM11",null,"EbM11",40]
[null,665,{"$f":"CONCATENATE($C$7,AD1826)","v":"EM11"},"EbM11","DM11",{"$f":"$C1827","v":"C#M11"},{"$f":"$C1826","v":"CM11"},{"$f":"$C1837","v":"BM11"},"BbM11","AM11","G#M11","GM11","F#M11","FM11","EbM11","DM11",{"$f":"$C1827","v":"C#M11"},{"$f":"$C1826","v":"CM11"},{"$f":"$C1837","v":"BM11"},"BbM11","AM11","G#M11","GM11","F#M11","FM11",null,"EM11",41]
[null,666,{"$f":"CONCATENATE($C$8,AD1826)","v":"FM11"},"EM11","EbM11","DM11",{"$f":"$C1827","v":"C#M11"},{"$f":"$C1826","v":"CM11"},"BM11","BbM11","AM11","G#M11","GM11","F#M11","EM11","EbM11","DM11",{"$f":"$C1827","v":"C#M11"},{"$f":"$C1826","v":"CM11"},"BM11","BbM11","AM11","G#M11","GM11","F#M11",null,"FM11",42]
[null,667,{"$f":"CONCATENATE($C$9,AD1826)","v":"F#M11"},"FM11","EM11","EbM11","DM11",{"$f":"$C1827","v":"C#M11"},{"$f":"$C1826","v":"CM11"},{"$f":"$C1837","v":"BM11"},"BbM11","AM11","G#M11","GM11","FM11","EM11","EbM11","DM11",{"$f":"$C1827","v":"C#M11"},{"$f":"$C1826","v":"CM11"},{"$f":"$C1837","v":"BM11"},"BbM11","AM11","G#M11","GM11",null,"F#M11",43]
[null,668,{"$f":"CONCATENATE($C$10,AD1826)","v":"GM11"},"F#M11","FM11","EM11","EbM11","DM11","C#M11",{"$f":"$C1826","v":"CM11"},{"$f":"$C1837","v":"BM11"},"BbM11","AM11","G#M11","F#M11","FM11","EM11","EbM11","DM11","C#M11",{"$f":"$C1826","v":"CM11"},{"$f":"$C1837","v":"BM11"},"BbM11","AM11","G#M11",null,"GM11",44]
[null,669,{"$f":"CONCATENATE($C$11,AD1826)","v":"G#M11"},"GM11","F#M11","FM11","EM11","EbM11","DM11",{"$f":"$C1827","v":"C#M11"},{"$f":"$C1826","v":"CM11"},{"$f":"$C1837","v":"BM11"},"BbM11","AM11","GM11","F#M11","FM11","EM11","EbM11","DM11",{"$f":"$C1827","v":"C#M11"},{"$f":"$C1826","v":"CM11"},{"$f":"$C1837","v":"BM11"},"BbM11","AM11",null,"G#M11",45]
[null,670,{"$f":"CONCATENATE($C$12,AD1826)","v":"AM11"},"G#M11","GM11","F#M11","FM11","EM11","EbM11",{"$f":"$C1828","v":"DM11"},{"$f":"$C1827","v":"C#M11"},{"$f":"$C1826","v":"CM11"},{"$f":"$C1837","v":"BM11"},"BbM11","G#M11","GM11","F#M11","FM11","EM11","EbM11",{"$f":"$C1828","v":"DM11"},{"$f":"$C1827","v":"C#M11"},{"$f":"$C1826","v":"CM11"},{"$f":"$C1837","v":"BM11"},"BbM11",null,"AM11",46]
[null,671,{"$f":"CONCATENATE($C$13,AD1826)","v":"BbM11"},"AM11","G#M11","GM11","F#M11","FM11","EM11",{"$f":"$C1829","v":"EbM11"},{"$f":"$C1828","v":"DM11"},{"$f":"$C1827","v":"C#M11"},{"$f":"$C1826","v":"CM11"},{"$f":"$C1837","v":"BM11"},"AM11","G#M11","GM11","F#M11","FM11","EM11",{"$f":"$C1829","v":"EbM11"},{"$f":"$C1828","v":"DM11"},{"$f":"$C1827","v":"C#M11"},{"$f":"$C1826","v":"CM11"},{"$f":"$C1837","v":"BM11"},null,"BbM11",47]
[null,672,{"$f":"CONCATENATE($C$14,AD1826)","v":"BM11"},"BbM11","AM11","G#M11","GM11","F#M11","FM11",{"$f":"$C1830","v":"EM11"},{"$f":"$C1829","v":"EbM11"},{"$f":"$C1828","v":"DM11"},{"$f":"$C1827","v":"C#M11"},{"$f":"$C1826","v":"CM11"},"BbM11","AM11","G#M11","GM11","F#M11","FM11",{"$f":"$C1830","v":"EM11"},{"$f":"$C1829","v":"EbM11"},{"$f":"$C1828","v":"DM11"},{"$f":"$C1827","v":"C#M11"},{"$f":"$C1826","v":"CM11"},null,"BM11",48]
[null,673,{"$f":"CONCATENATE($C$3,AD1838)","v":"CM7(11)"},{"$f":"$C1849","v":"BM7(11)"},{"$f":"$C1848","v":"BbM7(11)"},{"$f":"$C1847","v":"AM7(11)"},{"$f":"$C1846","v":"G#M7(11)"},{"$f":"$C1845","v":"GM7(11)"},{"$f":"$C1844","v":"F#M7(11)"},{"$f":"$C1843","v":"FM7(11)"},{"$f":"$C1842","v":"EM7(11)"},{"$f":"$C1841","v":"EbM7(11)"},{"$f":"$C1840","v":"DM7(11)"},{"$f":"$C1839","v":"C#M7(11)"},{"$f":"$C1849","v":"BM7(11)"},{"$f":"$C1848","v":"BbM7(11)"},{"$f":"$C1847","v":"AM7(11)"},{"$f":"$C1846","v":"G#M7(11)"},{"$f":"$C1845","v":"GM7(11)"},{"$f":"$C1844","v":"F#M7(11)"},{"$f":"$C1843","v":"FM7(11)"},{"$f":"$C1842","v":"EM7(11)"},{"$f":"$C1841","v":"EbM7(11)"},{"$f":"$C1840","v":"DM7(11)"},{"$f":"$C1839","v":"C#M7(11)"},null,"CM7(11)",49,null,"M7(11)"]
[null,674,{"$f":"CONCATENATE($C$4,AD1838)","v":"C#M7(11)"},{"$f":"$C1838","v":"CM7(11)"},{"$f":"$C1849","v":"BM7(11)"},{"$f":"$C1848","v":"BbM7(11)"},{"$f":"$C1847","v":"AM7(11)"},{"$f":"$C1846","v":"G#M7(11)"},"GM7(11)","F#M7(11)","FM7(11)","EM7(11)","EbM7(11)","DM7(11)",{"$f":"$C1838","v":"CM7(11)"},{"$f":"$C1849","v":"BM7(11)"},{"$f":"$C1848","v":"BbM7(11)"},{"$f":"$C1847","v":"AM7(11)"},{"$f":"$C1846","v":"G#M7(11)"},"GM7(11)","F#M7(11)","FM7(11)","EM7(11)","EbM7(11)","DM7(11)",null,"C#M7(11)",50]
[null,675,{"$f":"CONCATENATE($C$5,AD1838)","v":"DM7(11)"},{"$f":"$C1839","v":"C#M7(11)"},{"$f":"$C1838","v":"CM7(11)"},{"$f":"$C1849","v":"BM7(11)"},{"$f":"$C1848","v":"BbM7(11)"},{"$f":"$C1847","v":"AM7(11)"},"G#M7(11)","GM7(11)","F#M7(11)","FM7(11)","EM7(11)","EbM7(11)",{"$f":"$C1839","v":"C#M7(11)"},{"$f":"$C1838","v":"CM7(11)"},{"$f":"$C1849","v":"BM7(11)"},{"$f":"$C1848","v":"BbM7(11)"},{"$f":"$C1847","v":"AM7(11)"},"G#M7(11)","GM7(11)","F#M7(11)","FM7(11)","EM7(11)","EbM7(11)",null,"DM7(11)",51]
[null,676,{"$f":"CONCATENATE($C$6,AD1838)","v":"EbM7(11)"},"DM7(11)",{"$f":"$C1839","v":"C#M7(11)"},{"$f":"$C1838","v":"CM7(11)"},{"$f":"$C1849","v":"BM7(11)"},{"$f":"$C1848","v":"BbM7(11)"},"AM7(11)","G#M7(11)","GM7(11)","F#M7(11)","FM7(11)","EM7(11)","DM7(11)",{"$f":"$C1839","v":"C#M7(11)"},{"$f":"$C1838","v":"CM7(11)"},{"$f":"$C1849","v":"BM7(11)"},{"$f":"$C1848","v":"BbM7(11)"},"AM7(11)","G#M7(11)","GM7(11)","F#M7(11)","FM7(11)","EM7(11)",null,"EbM7(11)",52]
[null,677,{"$f":"CONCATENATE($C$7,AD1838)","v":"EM7(11)"},"EbM7(11)","DM7(11)",{"$f":"$C1839","v":"C#M7(11)"},{"$f":"$C1838","v":"CM7(11)"},{"$f":"$C1849","v":"BM7(11)"},"BbM7(11)","AM7(11)","G#M7(11)","GM7(11)","F#M7(11)","FM7(11)","EbM7(11)","DM7(11)",{"$f":"$C1839","v":"C#M7(11)"},{"$f":"$C1838","v":"CM7(11)"},{"$f":"$C1849","v":"BM7(11)"},"BbM7(11)","AM7(11)","G#M7(11)","GM7(11)","F#M7(11)","FM7(11)",null,"EM7(11)",53]
[null,678,{"$f":"CONCATENATE($C$8,AD1838)","v":"FM7(11)"},"EM7(11)","EbM7(11)","DM7(11)",{"$f":"$C1839","v":"C#M7(11)"},{"$f":"$C1838","v":"CM7(11)"},"BM7(11)","BbM7(11)","AM7(11)","G#M7(11)","GM7(11)","F#M7(11)","EM7(11)","EbM7(11)","DM7(11)",{"$f":"$C1839","v":"C#M7(11)"},{"$f":"$C1838","v":"CM7(11)"},"BM7(11)","BbM7(11)","AM7(11)","G#M7(11)","GM7(11)","F#M7(11)",null,"FM7(11)",54]
[null,679,{"$f":"CONCATENATE($C$9,AD1838)","v":"F#M7(11)"},"FM7(11)","EM7(11)","EbM7(11)","DM7(11)",{"$f":"$C1839","v":"C#M7(11)"},{"$f":"$C1838","v":"CM7(11)"},{"$f":"$C1849","v":"BM7(11)"},"BbM7(11)","AM7(11)","G#M7(11)","GM7(11)","FM7(11)","EM7(11)","EbM7(11)","DM7(11)",{"$f":"$C1839","v":"C#M7(11)"},{"$f":"$C1838","v":"CM7(11)"},{"$f":"$C1849","v":"BM7(11)"},"BbM7(11)","AM7(11)","G#M7(11)","GM7(11)",null,"F#M7(11)",55]
[null,680,{"$f":"CONCATENATE($C$10,AD1838)","v":"GM7(11)"},"F#M7(11)","FM7(11)","EM7(11)","EbM7(11)","DM7(11)","C#M7(11)",{"$f":"$C1838","v":"CM7(11)"},{"$f":"$C1849","v":"BM7(11)"},"BbM7(11)","AM7(11)","G#M7(11)","F#M7(11)","FM7(11)","EM7(11)","EbM7(11)","DM7(11)","C#M7(11)",{"$f":"$C1838","v":"CM7(11)"},{"$f":"$C1849","v":"BM7(11)"},"BbM7(11)","AM7(11)","G#M7(11)",null,"GM7(11)",56]
[null,681,{"$f":"CONCATENATE($C$11,AD1838)","v":"G#M7(11)"},"GM7(11)","F#M7(11)","FM7(11)","EM7(11)","EbM7(11)","DM7(11)",{"$f":"$C1839","v":"C#M7(11)"},{"$f":"$C1838","v":"CM7(11)"},{"$f":"$C1849","v":"BM7(11)"},"BbM7(11)","AM7(11)","GM7(11)","F#M7(11)","FM7(11)","EM7(11)","EbM7(11)","DM7(11)",{"$f":"$C1839","v":"C#M7(11)"},{"$f":"$C1838","v":"CM7(11)"},{"$f":"$C1849","v":"BM7(11)"},"BbM7(11)","AM7(11)",null,"G#M7(11)",57]
[null,682,{"$f":"CONCATENATE($C$12,AD1838)","v":"AM7(11)"},"G#M7(11)","GM7(11)","F#M7(11)","FM7(11)","EM7(11)","EbM7(11)",{"$f":"$C1840","v":"DM7(11)"},{"$f":"$C1839","v":"C#M7(11)"},{"$f":"$C1838","v":"CM7(11)"},{"$f":"$C1849","v":"BM7(11)"},"BbM7(11)","G#M7(11)","GM7(11)","F#M7(11)","FM7(11)","EM7(11)","EbM7(11)",{"$f":"$C1840","v":"DM7(11)"},{"$f":"$C1839","v":"C#M7(11)"},{"$f":"$C1838","v":"CM7(11)"},{"$f":"$C1849","v":"BM7(11)"},"BbM7(11)",null,"AM7(11)",58]
[null,683,{"$f":"CONCATENATE($C$13,AD1838)","v":"BbM7(11)"},"AM7(11)","G#M7(11)","GM7(11)","F#M7(11)","FM7(11)","EM7(11)",{"$f":"$C1841","v":"EbM7(11)"},{"$f":"$C1840","v":"DM7(11)"},{"$f":"$C1839","v":"C#M7(11)"},{"$f":"$C1838","v":"CM7(11)"},{"$f":"$C1849","v":"BM7(11)"},"AM7(11)","G#M7(11)","GM7(11)","F#M7(11)","FM7(11)","EM7(11)",{"$f":"$C1841","v":"EbM7(11)"},{"$f":"$C1840","v":"DM7(11)"},{"$f":"$C1839","v":"C#M7(11)"},{"$f":"$C1838","v":"CM7(11)"},{"$f":"$C1849","v":"BM7(11)"},null,"BbM7(11)",59]
[null,684,{"$f":"CONCATENATE($C$14,AD1838)","v":"BM7(11)"},"BbM7(11)","AM7(11)","G#M7(11)","GM7(11)","F#M7(11)","FM7(11)",{"$f":"$C1842","v":"EM7(11)"},{"$f":"$C1841","v":"EbM7(11)"},{"$f":"$C1840","v":"DM7(11)"},{"$f":"$C1839","v":"C#M7(11)"},{"$f":"$C1838","v":"CM7(11)"},"BbM7(11)","AM7(11)","G#M7(11)","GM7(11)","F#M7(11)","FM7(11)",{"$f":"$C1842","v":"EM7(11)"},{"$f":"$C1841","v":"EbM7(11)"},{"$f":"$C1840","v":"DM7(11)"},{"$f":"$C1839","v":"C#M7(11)"},{"$f":"$C1838","v":"CM7(11)"},null,"BM7(11)",60]
[null,685,{"$f":"CONCATENATE($C$3,AD1850)","v":"CM7(-13)"},{"$f":"$C1861","v":"BM7(-13)"},{"$f":"$C1860","v":"BbM7(-13)"},{"$f":"$C1859","v":"AM7(-13)"},{"$f":"$C1858","v":"G#M7(-13)"},{"$f":"$C1857","v":"GM7(-13)"},{"$f":"$C1856","v":"F#M7(-13)"},{"$f":"$C1855","v":"FM7(-13)"},{"$f":"$C1854","v":"EM7(-13)"},{"$f":"$C1853","v":"EbM7(-13)"},{"$f":"$C1852","v":"DM7(-13)"},{"$f":"$C1851","v":"C#M7(-13)"},{"$f":"$C1861","v":"BM7(-13)"},{"$f":"$C1860","v":"BbM7(-13)"},{"$f":"$C1859","v":"AM7(-13)"},{"$f":"$C1858","v":"G#M7(-13)"},{"$f":"$C1857","v":"GM7(-13)"},{"$f":"$C1856","v":"F#M7(-13)"},{"$f":"$C1855","v":"FM7(-13)"},{"$f":"$C1854","v":"EM7(-13)"},{"$f":"$C1853","v":"EbM7(-13)"},{"$f":"$C1852","v":"DM7(-13)"},{"$f":"$C1851","v":"C#M7(-13)"},null,"CM7(-13)",61,null,"M7(-13)"]
[null,686,{"$f":"CONCATENATE($C$4,AD1850)","v":"C#M7(-13)"},{"$f":"$C1850","v":"CM7(-13)"},{"$f":"$C1861","v":"BM7(-13)"},{"$f":"$C1860","v":"BbM7(-13)"},{"$f":"$C1859","v":"AM7(-13)"},{"$f":"$C1858","v":"G#M7(-13)"},"GM7(-13)","F#M7(-13)","FM7(-13)","EM7(-13)","EbM7(-13)","DM7(-13)",{"$f":"$C1850","v":"CM7(-13)"},{"$f":"$C1861","v":"BM7(-13)"},{"$f":"$C1860","v":"BbM7(-13)"},{"$f":"$C1859","v":"AM7(-13)"},{"$f":"$C1858","v":"G#M7(-13)"},"GM7(-13)","F#M7(-13)","FM7(-13)","EM7(-13)","EbM7(-13)","DM7(-13)",null,"C#M7(-13)",62]
[null,687,{"$f":"CONCATENATE($C$5,AD1850)","v":"DM7(-13)"},{"$f":"$C1851","v":"C#M7(-13)"},{"$f":"$C1850","v":"CM7(-13)"},{"$f":"$C1861","v":"BM7(-13)"},{"$f":"$C1860","v":"BbM7(-13)"},{"$f":"$C1859","v":"AM7(-13)"},"G#M7(-13)","GM7(-13)","F#M7(-13)","FM7(-13)","EM7(-13)","EbM7(-13)",{"$f":"$C1851","v":"C#M7(-13)"},{"$f":"$C1850","v":"CM7(-13)"},{"$f":"$C1861","v":"BM7(-13)"},{"$f":"$C1860","v":"BbM7(-13)"},{"$f":"$C1859","v":"AM7(-13)"},"G#M7(-13)","GM7(-13)","F#M7(-13)","FM7(-13)","EM7(-13)","EbM7(-13)",null,"DM7(-13)",63]
[null,688,{"$f":"CONCATENATE($C$6,AD1850)","v":"EbM7(-13)"},"DM7(-13)",{"$f":"$C1851","v":"C#M7(-13)"},{"$f":"$C1850","v":"CM7(-13)"},{"$f":"$C1861","v":"BM7(-13)"},{"$f":"$C1860","v":"BbM7(-13)"},"AM7(-13)","G#M7(-13)","GM7(-13)","F#M7(-13)","FM7(-13)","EM7(-13)","DM7(-13)",{"$f":"$C1851","v":"C#M7(-13)"},{"$f":"$C1850","v":"CM7(-13)"},{"$f":"$C1861","v":"BM7(-13)"},{"$f":"$C1860","v":"BbM7(-13)"},"AM7(-13)","G#M7(-13)","GM7(-13)","F#M7(-13)","FM7(-13)","EM7(-13)",null,"EbM7(-13)",64]
[null,689,{"$f":"CONCATENATE($C$7,AD1850)","v":"EM7(-13)"},"EbM7(-13)","DM7(-13)",{"$f":"$C1851","v":"C#M7(-13)"},{"$f":"$C1850","v":"CM7(-13)"},{"$f":"$C1861","v":"BM7(-13)"},"BbM7(-13)","AM7(-13)","G#M7(-13)","GM7(-13)","F#M7(-13)","FM7(-13)","EbM7(-13)","DM7(-13)",{"$f":"$C1851","v":"C#M7(-13)"},{"$f":"$C1850","v":"CM7(-13)"},{"$f":"$C1861","v":"BM7(-13)"},"BbM7(-13)","AM7(-13)","G#M7(-13)","GM7(-13)","F#M7(-13)","FM7(-13)",null,"EM7(-13)",65]
[null,690,{"$f":"CONCATENATE($C$8,AD1850)","v":"FM7(-13)"},"EM7(-13)","EbM7(-13)","DM7(-13)",{"$f":"$C1851","v":"C#M7(-13)"},{"$f":"$C1850","v":"CM7(-13)"},"BM7(-13)","BbM7(-13)","AM7(-13)","G#M7(-13)","GM7(-13)","F#M7(-13)","EM7(-13)","EbM7(-13)","DM7(-13)",{"$f":"$C1851","v":"C#M7(-13)"},{"$f":"$C1850","v":"CM7(-13)"},"BM7(-13)","BbM7(-13)","AM7(-13)","G#M7(-13)","GM7(-13)","F#M7(-13)",null,"FM7(-13)",66]
[null,691,{"$f":"CONCATENATE($C$9,AD1850)","v":"F#M7(-13)"},"FM7(-13)","EM7(-13)","EbM7(-13)","DM7(-13)",{"$f":"$C1851","v":"C#M7(-13)"},{"$f":"$C1850","v":"CM7(-13)"},{"$f":"$C1861","v":"BM7(-13)"},"BbM7(-13)","AM7(-13)","G#M7(-13)","GM7(-13)","FM7(-13)","EM7(-13)","EbM7(-13)","DM7(-13)",{"$f":"$C1851","v":"C#M7(-13)"},{"$f":"$C1850","v":"CM7(-13)"},{"$f":"$C1861","v":"BM7(-13)"},"BbM7(-13)","AM7(-13)","G#M7(-13)","GM7(-13)",null,"F#M7(-13)",67]
[null,692,{"$f":"CONCATENATE($C$10,AD1850)","v":"GM7(-13)"},"F#M7(-13)","FM7(-13)","EM7(-13)","EbM7(-13)","DM7(-13)","C#M7(-13)",{"$f":"$C1850","v":"CM7(-13)"},{"$f":"$C1861","v":"BM7(-13)"},"BbM7(-13)","AM7(-13)","G#M7(-13)","F#M7(-13)","FM7(-13)","EM7(-13)","EbM7(-13)","DM7(-13)","C#M7(-13)",{"$f":"$C1850","v":"CM7(-13)"},{"$f":"$C1861","v":"BM7(-13)"},"BbM7(-13)","AM7(-13)","G#M7(-13)",null,"GM7(-13)",68]
[null,693,{"$f":"CONCATENATE($C$11,AD1850)","v":"G#M7(-13)"},"GM7(-13)","F#M7(-13)","FM7(-13)","EM7(-13)","EbM7(-13)","DM7(-13)",{"$f":"$C1851","v":"C#M7(-13)"},{"$f":"$C1850","v":"CM7(-13)"},{"$f":"$C1861","v":"BM7(-13)"},"BbM7(-13)","AM7(-13)","GM7(-13)","F#M7(-13)","FM7(-13)","EM7(-13)","EbM7(-13)","DM7(-13)",{"$f":"$C1851","v":"C#M7(-13)"},{"$f":"$C1850","v":"CM7(-13)"},{"$f":"$C1861","v":"BM7(-13)"},"BbM7(-13)","AM7(-13)",null,"G#M7(-13)",69]
[null,694,{"$f":"CONCATENATE($C$12,AD1850)","v":"AM7(-13)"},"G#M7(-13)","GM7(-13)","F#M7(-13)","FM7(-13)","EM7(-13)","EbM7(-13)",{"$f":"$C1852","v":"DM7(-13)"},{"$f":"$C1851","v":"C#M7(-13)"},{"$f":"$C1850","v":"CM7(-13)"},{"$f":"$C1861","v":"BM7(-13)"},"BbM7(-13)","G#M7(-13)","GM7(-13)","F#M7(-13)","FM7(-13)","EM7(-13)","EbM7(-13)",{"$f":"$C1852","v":"DM7(-13)"},{"$f":"$C1851","v":"C#M7(-13)"},{"$f":"$C1850","v":"CM7(-13)"},{"$f":"$C1861","v":"BM7(-13)"},"BbM7(-13)",null,"AM7(-13)",70]
[null,695,{"$f":"CONCATENATE($C$13,AD1850)","v":"BbM7(-13)"},"AM7(-13)","G#M7(-13)","GM7(-13)","F#M7(-13)","FM7(-13)","EM7(-13)",{"$f":"$C1853","v":"EbM7(-13)"},{"$f":"$C1852","v":"DM7(-13)"},{"$f":"$C1851","v":"C#M7(-13)"},{"$f":"$C1850","v":"CM7(-13)"},{"$f":"$C1861","v":"BM7(-13)"},"AM7(-13)","G#M7(-13)","GM7(-13)","F#M7(-13)","FM7(-13)","EM7(-13)",{"$f":"$C1853","v":"EbM7(-13)"},{"$f":"$C1852","v":"DM7(-13)"},{"$f":"$C1851","v":"C#M7(-13)"},{"$f":"$C1850","v":"CM7(-13)"},{"$f":"$C1861","v":"BM7(-13)"},null,"BbM7(-13)",71]
[null,696,{"$f":"CONCATENATE($C$14,AD1850)","v":"BM7(-13)"},"BbM7(-13)","AM7(-13)","G#M7(-13)","GM7(-13)","F#M7(-13)","FM7(-13)",{"$f":"$C1854","v":"EM7(-13)"},{"$f":"$C1853","v":"EbM7(-13)"},{"$f":"$C1852","v":"DM7(-13)"},{"$f":"$C1851","v":"C#M7(-13)"},{"$f":"$C1850","v":"CM7(-13)"},"BbM7(-13)","AM7(-13)","G#M7(-13)","GM7(-13)","F#M7(-13)","FM7(-13)",{"$f":"$C1854","v":"EM7(-13)"},{"$f":"$C1853","v":"EbM7(-13)"},{"$f":"$C1852","v":"DM7(-13)"},{"$f":"$C1851","v":"C#M7(-13)"},{"$f":"$C1850","v":"CM7(-13)"},null,"BM7(-13)",72]
[null,697,{"$f":"CONCATENATE($C$3,AD1862)","v":"CM13"},{"$f":"$C1873","v":"BM13"},{"$f":"$C1872","v":"BbM13"},{"$f":"$C1871","v":"AM13"},{"$f":"$C1870","v":"G#M13"},{"$f":"$C1869","v":"GM13"},{"$f":"$C1868","v":"F#M13"},{"$f":"$C1867","v":"FM13"},{"$f":"$C1866","v":"EM13"},{"$f":"$C1865","v":"EbM13"},{"$f":"$C1864","v":"DM13"},{"$f":"$C1863","v":"C#M13"},{"$f":"$C1873","v":"BM13"},{"$f":"$C1872","v":"BbM13"},{"$f":"$C1871","v":"AM13"},{"$f":"$C1870","v":"G#M13"},{"$f":"$C1869","v":"GM13"},{"$f":"$C1868","v":"F#M13"},{"$f":"$C1867","v":"FM13"},{"$f":"$C1866","v":"EM13"},{"$f":"$C1865","v":"EbM13"},{"$f":"$C1864","v":"DM13"},{"$f":"$C1863","v":"C#M13"},null,"CM13",73,null,"M13"]
[null,698,{"$f":"CONCATENATE($C$4,AD1862)","v":"C#M13"},{"$f":"$C1862","v":"CM13"},{"$f":"$C1873","v":"BM13"},{"$f":"$C1872","v":"BbM13"},{"$f":"$C1871","v":"AM13"},{"$f":"$C1870","v":"G#M13"},"GM13","F#M13","FM13","EM13","EbM13","DM13",{"$f":"$C1862","v":"CM13"},{"$f":"$C1873","v":"BM13"},{"$f":"$C1872","v":"BbM13"},{"$f":"$C1871","v":"AM13"},{"$f":"$C1870","v":"G#M13"},"GM13","F#M13","FM13","EM13","EbM13","DM13",null,"C#M13",74]
[null,699,{"$f":"CONCATENATE($C$5,AD1862)","v":"DM13"},{"$f":"$C1863","v":"C#M13"},{"$f":"$C1862","v":"CM13"},{"$f":"$C1873","v":"BM13"},{"$f":"$C1872","v":"BbM13"},{"$f":"$C1871","v":"AM13"},"G#M13","GM13","F#M13","FM13","EM13","EbM13",{"$f":"$C1863","v":"C#M13"},{"$f":"$C1862","v":"CM13"},{"$f":"$C1873","v":"BM13"},{"$f":"$C1872","v":"BbM13"},{"$f":"$C1871","v":"AM13"},"G#M13","GM13","F#M13","FM13","EM13","EbM13",null,"DM13",75]
[null,700,{"$f":"CONCATENATE($C$6,AD1862)","v":"EbM13"},"DM13",{"$f":"$C1863","v":"C#M13"},{"$f":"$C1862","v":"CM13"},{"$f":"$C1873","v":"BM13"},{"$f":"$C1872","v":"BbM13"},"AM13","G#M13","GM13","F#M13","FM13","EM13","DM13",{"$f":"$C1863","v":"C#M13"},{"$f":"$C1862","v":"CM13"},{"$f":"$C1873","v":"BM13"},{"$f":"$C1872","v":"BbM13"},"AM13","G#M13","GM13","F#M13","FM13","EM13",null,"EbM13",76]
[null,701,{"$f":"CONCATENATE($C$7,AD1862)","v":"EM13"},"EbM13","DM13",{"$f":"$C1863","v":"C#M13"},{"$f":"$C1862","v":"CM13"},{"$f":"$C1873","v":"BM13"},"BbM13","AM13","G#M13","GM13","F#M13","FM13","EbM13","DM13",{"$f":"$C1863","v":"C#M13"},{"$f":"$C1862","v":"CM13"},{"$f":"$C1873","v":"BM13"},"BbM13","AM13","G#M13","GM13","F#M13","FM13",null,"EM13",77]
[null,702,{"$f":"CONCATENATE($C$8,AD1862)","v":"FM13"},"EM13","EbM13","DM13",{"$f":"$C1863","v":"C#M13"},{"$f":"$C1862","v":"CM13"},"BM13","BbM13","AM13","G#M13","GM13","F#M13","EM13","EbM13","DM13",{"$f":"$C1863","v":"C#M13"},{"$f":"$C1862","v":"CM13"},"BM13","BbM13","AM13","G#M13","GM13","F#M13",null,"FM13",78]
[null,703,{"$f":"CONCATENATE($C$9,AD1862)","v":"F#M13"},"FM13","EM13","EbM13","DM13",{"$f":"$C1863","v":"C#M13"},{"$f":"$C1862","v":"CM13"},{"$f":"$C1873","v":"BM13"},"BbM13","AM13","G#M13","GM13","FM13","EM13","EbM13","DM13",{"$f":"$C1863","v":"C#M13"},{"$f":"$C1862","v":"CM13"},{"$f":"$C1873","v":"BM13"},"BbM13","AM13","G#M13","GM13",null,"F#M13",79]
[null,704,{"$f":"CONCATENATE($C$10,AD1862)","v":"GM13"},"F#M13","FM13","EM13","EbM13","DM13","C#M13",{"$f":"$C1862","v":"CM13"},{"$f":"$C1873","v":"BM13"},"BbM13","AM13","G#M13","F#M13","FM13","EM13","EbM13","DM13","C#M13",{"$f":"$C1862","v":"CM13"},{"$f":"$C1873","v":"BM13"},"BbM13","AM13","G#M13",null,"GM13",80]
[null,705,{"$f":"CONCATENATE($C$11,AD1862)","v":"G#M13"},"GM13","F#M13","FM13","EM13","EbM13","DM13",{"$f":"$C1863","v":"C#M13"},{"$f":"$C1862","v":"CM13"},{"$f":"$C1873","v":"BM13"},"BbM13","AM13","GM13","F#M13","FM13","EM13","EbM13","DM13",{"$f":"$C1863","v":"C#M13"},{"$f":"$C1862","v":"CM13"},{"$f":"$C1873","v":"BM13"},"BbM13","AM13",null,"G#M13",81]
[null,706,{"$f":"CONCATENATE($C$12,AD1862)","v":"AM13"},"G#M13","GM13","F#M13","FM13","EM13","EbM13",{"$f":"$C1864","v":"DM13"},{"$f":"$C1863","v":"C#M13"},{"$f":"$C1862","v":"CM13"},{"$f":"$C1873","v":"BM13"},"BbM13","G#M13","GM13","F#M13","FM13","EM13","EbM13",{"$f":"$C1864","v":"DM13"},{"$f":"$C1863","v":"C#M13"},{"$f":"$C1862","v":"CM13"},{"$f":"$C1873","v":"BM13"},"BbM13",null,{"$f":"C1871","v":"AM13"},82]
[null,707,{"$f":"CONCATENATE($C$13,AD1862)","v":"BbM13"},"AM13","G#M13","GM13","F#M13","FM13","EM13",{"$f":"$C1865","v":"EbM13"},{"$f":"$C1864","v":"DM13"},{"$f":"$C1863","v":"C#M13"},{"$f":"$C1862","v":"CM13"},{"$f":"$C1873","v":"BM13"},"AM13","G#M13","GM13","F#M13","FM13","EM13",{"$f":"$C1865","v":"EbM13"},{"$f":"$C1864","v":"DM13"},{"$f":"$C1863","v":"C#M13"},{"$f":"$C1862","v":"CM13"},{"$f":"$C1873","v":"BM13"},null,"BbM13",83]
[null,708,{"$f":"CONCATENATE($C$14,AD1862)","v":"BM13"},"BbM13","AM13","G#M13","GM13","F#M13","FM13",{"$f":"$C1866","v":"EM13"},{"$f":"$C1865","v":"EbM13"},{"$f":"$C1864","v":"DM13"},{"$f":"$C1863","v":"C#M13"},{"$f":"$C1862","v":"CM13"},"BbM13","AM13","G#M13","GM13","F#M13","FM13",{"$f":"$C1866","v":"EM13"},{"$f":"$C1865","v":"EbM13"},{"$f":"$C1864","v":"DM13"},{"$f":"$C1863","v":"C#M13"},{"$f":"$C1862","v":"CM13"},null,"BM13",84]
[null,709,{"$f":"CONCATENATE($C$3,AD1874)","v":"CM7(13)"},{"$f":"$C1885","v":"BM7(13)"},{"$f":"$C1884","v":"BbM7(13)"},{"$f":"$C1883","v":"AM7(13)"},{"$f":"$C1882","v":"G#M7(13)"},{"$f":"$C1881","v":"GM7(13)"},{"$f":"$C1880","v":"F#M7(13)"},{"$f":"$C1879","v":"FM7(13)"},{"$f":"$C1878","v":"EM7(13)"},{"$f":"$C1877","v":"EbM7(13)"},{"$f":"$C1876","v":"DM7(13)"},{"$f":"$C1875","v":"C#M7(13)"},{"$f":"$C1885","v":"BM7(13)"},{"$f":"$C1884","v":"BbM7(13)"},{"$f":"$C1883","v":"AM7(13)"},{"$f":"$C1882","v":"G#M7(13)"},{"$f":"$C1881","v":"GM7(13)"},{"$f":"$C1880","v":"F#M7(13)"},{"$f":"$C1879","v":"FM7(13)"},{"$f":"$C1878","v":"EM7(13)"},{"$f":"$C1877","v":"EbM7(13)"},{"$f":"$C1876","v":"DM7(13)"},{"$f":"$C1875","v":"C#M7(13)"},null,{"$f":"C1874","v":"CM7(13)"},85,null,"M7(13)"]
[null,710,{"$f":"CONCATENATE($C$4,AD1874)","v":"C#M7(13)"},{"$f":"$C1874","v":"CM7(13)"},{"$f":"$C1885","v":"BM7(13)"},{"$f":"$C1884","v":"BbM7(13)"},{"$f":"$C1883","v":"AM7(13)"},{"$f":"$C1882","v":"G#M7(13)"},"GM7(13)","F#M7(13)","FM7(13)","EM7(13)","EbM7(13)","DM7(13)",{"$f":"$C1874","v":"CM7(13)"},{"$f":"$C1885","v":"BM7(13)"},{"$f":"$C1884","v":"BbM7(13)"},{"$f":"$C1883","v":"AM7(13)"},{"$f":"$C1882","v":"G#M7(13)"},"GM7(13)","F#M7(13)","FM7(13)","EM7(13)","EbM7(13)","DM7(13)",null,"C#M7(13)",86]
[null,711,{"$f":"CONCATENATE($C$5,AD1874)","v":"DM7(13)"},{"$f":"$C1875","v":"C#M7(13)"},{"$f":"$C1874","v":"CM7(13)"},{"$f":"$C1885","v":"BM7(13)"},{"$f":"$C1884","v":"BbM7(13)"},{"$f":"$C1883","v":"AM7(13)"},"G#M7(13)","GM7(13)","F#M7(13)","FM7(13)","EM7(13)","EbM7(13)",{"$f":"$C1875","v":"C#M7(13)"},{"$f":"$C1874","v":"CM7(13)"},{"$f":"$C1885","v":"BM7(13)"},{"$f":"$C1884","v":"BbM7(13)"},{"$f":"$C1883","v":"AM7(13)"},"G#M7(13)","GM7(13)","F#M7(13)","FM7(13)","EM7(13)","EbM7(13)",null,"DM7(13)",87]
[null,712,{"$f":"CONCATENATE($C$6,AD1874)","v":"EbM7(13)"},"DM7(13)",{"$f":"$C1875","v":"C#M7(13)"},{"$f":"$C1874","v":"CM7(13)"},{"$f":"$C1885","v":"BM7(13)"},{"$f":"$C1884","v":"BbM7(13)"},"AM7(13)","G#M7(13)","GM7(13)","F#M7(13)","FM7(13)","EM7(13)","DM7(13)",{"$f":"$C1875","v":"C#M7(13)"},{"$f":"$C1874","v":"CM7(13)"},{"$f":"$C1885","v":"BM7(13)"},{"$f":"$C1884","v":"BbM7(13)"},"AM7(13)","G#M7(13)","GM7(13)","F#M7(13)","FM7(13)","EM7(13)",null,"EbM7(13)",88]
[null,713,{"$f":"CONCATENATE($C$7,AD1874)","v":"EM7(13)"},"EbM7(13)","DM7(13)",{"$f":"$C1875","v":"C#M7(13)"},{"$f":"$C1874","v":"CM7(13)"},{"$f":"$C1885","v":"BM7(13)"},"BbM7(13)","AM7(13)","G#M7(13)","GM7(13)","F#M7(13)","FM7(13)","EbM7(13)","DM7(13)",{"$f":"$C1875","v":"C#M7(13)"},{"$f":"$C1874","v":"CM7(13)"},{"$f":"$C1885","v":"BM7(13)"},"BbM7(13)","AM7(13)","G#M7(13)","GM7(13)","F#M7(13)","FM7(13)",null,"EM7(13)",89]
[null,714,{"$f":"CONCATENATE($C$8,AD1874)","v":"FM7(13)"},"EM7(13)","EbM7(13)","DM7(13)",{"$f":"$C1875","v":"C#M7(13)"},{"$f":"$C1874","v":"CM7(13)"},"BM7(13)","BbM7(13)","AM7(13)","G#M7(13)","GM7(13)","F#M7(13)","EM7(13)","EbM7(13)","DM7(13)",{"$f":"$C1875","v":"C#M7(13)"},{"$f":"$C1874","v":"CM7(13)"},"BM7(13)","BbM7(13)","AM7(13)","G#M7(13)","GM7(13)","F#M7(13)",null,"FM7(13)",90]
[null,715,{"$f":"CONCATENATE($C$9,AD1874)","v":"F#M7(13)"},"FM7(13)","EM7(13)","EbM7(13)","DM7(13)",{"$f":"$C1875","v":"C#M7(13)"},{"$f":"$C1874","v":"CM7(13)"},{"$f":"$C1885","v":"BM7(13)"},"BbM7(13)","AM7(13)","G#M7(13)","GM7(13)","FM7(13)","EM7(13)","EbM7(13)","DM7(13)",{"$f":"$C1875","v":"C#M7(13)"},{"$f":"$C1874","v":"CM7(13)"},{"$f":"$C1885","v":"BM7(13)"},"BbM7(13)","AM7(13)","G#M7(13)","GM7(13)",null,"F#M7(13)",91]
[null,716,{"$f":"CONCATENATE($C$10,AD1874)","v":"GM7(13)"},"F#M7(13)","FM7(13)","EM7(13)","EbM7(13)","DM7(13)","C#M7(13)",{"$f":"$C1874","v":"CM7(13)"},{"$f":"$C1885","v":"BM7(13)"},"BbM7(13)","AM7(13)","G#M7(13)","F#M7(13)","FM7(13)","EM7(13)","EbM7(13)","DM7(13)","C#M7(13)",{"$f":"$C1874","v":"CM7(13)"},{"$f":"$C1885","v":"BM7(13)"},"BbM7(13)","AM7(13)","G#M7(13)",null,"GM7(13)",92]
[null,717,{"$f":"CONCATENATE($C$11,AD1874)","v":"G#M7(13)"},"GM7(13)","F#M7(13)","FM7(13)","EM7(13)","EbM7(13)","DM7(13)",{"$f":"$C1875","v":"C#M7(13)"},{"$f":"$C1874","v":"CM7(13)"},{"$f":"$C1885","v":"BM7(13)"},"BbM7(13)","AM7(13)","GM7(13)","F#M7(13)","FM7(13)","EM7(13)","EbM7(13)","DM7(13)",{"$f":"$C1875","v":"C#M7(13)"},{"$f":"$C1874","v":"CM7(13)"},{"$f":"$C1885","v":"BM7(13)"},"BbM7(13)","AM7(13)",null,"G#M7(13)",93]
[null,718,{"$f":"CONCATENATE($C$12,AD1874)","v":"AM7(13)"},"G#M7(13)","GM7(13)","F#M7(13)","FM7(13)","EM7(13)","EbM7(13)",{"$f":"$C1876","v":"DM7(13)"},{"$f":"$C1875","v":"C#M7(13)"},{"$f":"$C1874","v":"CM7(13)"},{"$f":"$C1885","v":"BM7(13)"},"BbM7(13)","G#M7(13)","GM7(13)","F#M7(13)","FM7(13)","EM7(13)","EbM7(13)",{"$f":"$C1876","v":"DM7(13)"},{"$f":"$C1875","v":"C#M7(13)"},{"$f":"$C1874","v":"CM7(13)"},{"$f":"$C1885","v":"BM7(13)"},"BbM7(13)",null,"AM7(13)",94]
[null,719,{"$f":"CONCATENATE($C$13,AD1874)","v":"BbM7(13)"},"AM7(13)","G#M7(13)","GM7(13)","F#M7(13)","FM7(13)","EM7(13)",{"$f":"$C1877","v":"EbM7(13)"},{"$f":"$C1876","v":"DM7(13)"},{"$f":"$C1875","v":"C#M7(13)"},{"$f":"$C1874","v":"CM7(13)"},{"$f":"$C1885","v":"BM7(13)"},"AM7(13)","G#M7(13)","GM7(13)","F#M7(13)","FM7(13)","EM7(13)",{"$f":"$C1877","v":"EbM7(13)"},{"$f":"$C1876","v":"DM7(13)"},{"$f":"$C1875","v":"C#M7(13)"},{"$f":"$C1874","v":"CM7(13)"},{"$f":"$C1885","v":"BM7(13)"},null,"BbM7(13)",95]
[null,720,{"$f":"CONCATENATE($C$14,AD1874)","v":"BM7(13)"},"BbM7(13)","AM7(13)","G#M7(13)","GM7(13)","F#M7(13)","FM7(13)",{"$f":"$C1878","v":"EM7(13)"},{"$f":"$C1877","v":"EbM7(13)"},{"$f":"$C1876","v":"DM7(13)"},{"$f":"$C1875","v":"C#M7(13)"},{"$f":"$C1874","v":"CM7(13)"},"BbM7(13)","AM7(13)","G#M7(13)","GM7(13)","F#M7(13)","FM7(13)",{"$f":"$C1878","v":"EM7(13)"},{"$f":"$C1877","v":"EbM7(13)"},{"$f":"$C1876","v":"DM7(13)"},{"$f":"$C1875","v":"C#M7(13)"},{"$f":"$C1874","v":"CM7(13)"},null,"BM7(13)",96]
[null,721,{"$f":"CONCATENATE($C$3,AD1886)","v":"CmM7"},{"$f":"$C1897","v":"BmM7"},{"$f":"$C1896","v":"BbmM7"},{"$f":"$C1895","v":"AmM7"},{"$f":"$C1894","v":"G#mM7"},{"$f":"$C1893","v":"GmM7"},{"$f":"$C1892","v":"F#mM7"},{"$f":"$C1891","v":"FmM7"},{"$f":"$C1890","v":"EmM7"},{"$f":"$C1889","v":"EbmM7"},{"$f":"$C1888","v":"DmM7"},{"$f":"$C1887","v":"C#mM7"},{"$f":"$C1897","v":"BmM7"},{"$f":"$C1896","v":"BbmM7"},{"$f":"$C1895","v":"AmM7"},{"$f":"$C1894","v":"G#mM7"},{"$f":"$C1893","v":"GmM7"},{"$f":"$C1892","v":"F#mM7"},{"$f":"$C1891","v":"FmM7"},{"$f":"$C1890","v":"EmM7"},{"$f":"$C1889","v":"EbmM7"},{"$f":"$C1888","v":"DmM7"},{"$f":"$C1887","v":"C#mM7"},null,"CmM7",97,null,"mM7"]
[null,722,{"$f":"CONCATENATE($C$4,AD1886)","v":"C#mM7"},{"$f":"$C1886","v":"CmM7"},{"$f":"$C1897","v":"BmM7"},{"$f":"$C1896","v":"BbmM7"},{"$f":"$C1895","v":"AmM7"},{"$f":"$C1894","v":"G#mM7"},"GmM7","F#mM7","FmM7","EmM7","EbmM7","DmM7",{"$f":"$C1886","v":"CmM7"},{"$f":"$C1897","v":"BmM7"},{"$f":"$C1896","v":"BbmM7"},{"$f":"$C1895","v":"AmM7"},{"$f":"$C1894","v":"G#mM7"},"GmM7","F#mM7","FmM7","EmM7","EbmM7","DmM7",null,"C#mM7",98]
[null,723,{"$f":"CONCATENATE($C$5,AD1886)","v":"DmM7"},{"$f":"$C1887","v":"C#mM7"},{"$f":"$C1886","v":"CmM7"},{"$f":"$C1897","v":"BmM7"},{"$f":"$C1896","v":"BbmM7"},{"$f":"$C1895","v":"AmM7"},"G#mM7","GmM7","F#mM7","FmM7","EmM7","EbmM7",{"$f":"$C1887","v":"C#mM7"},{"$f":"$C1886","v":"CmM7"},{"$f":"$C1897","v":"BmM7"},{"$f":"$C1896","v":"BbmM7"},{"$f":"$C1895","v":"AmM7"},"G#mM7","GmM7","F#mM7","FmM7","EmM7","EbmM7",null,"DmM7",99]
[null,724,{"$f":"CONCATENATE($C$6,AD1886)","v":"EbmM7"},"DmM7",{"$f":"$C1887","v":"C#mM7"},{"$f":"$C1886","v":"CmM7"},{"$f":"$C1897","v":"BmM7"},{"$f":"$C1896","v":"BbmM7"},"AmM7","G#mM7","GmM7","F#mM7","FmM7","EmM7","DmM7",{"$f":"$C1887","v":"C#mM7"},{"$f":"$C1886","v":"CmM7"},{"$f":"$C1897","v":"BmM7"},{"$f":"$C1896","v":"BbmM7"},"AmM7","G#mM7","GmM7","F#mM7","FmM7","EmM7",null,"EbmM7",100]
[null,725,{"$f":"CONCATENATE($C$7,AD1886)","v":"EmM7"},"EbmM7","DmM7",{"$f":"$C1887","v":"C#mM7"},{"$f":"$C1886","v":"CmM7"},{"$f":"$C1897","v":"BmM7"},"BbmM7","AmM7","G#mM7","GmM7","F#mM7","FmM7","EbmM7","DmM7",{"$f":"$C1887","v":"C#mM7"},{"$f":"$C1886","v":"CmM7"},{"$f":"$C1897","v":"BmM7"},"BbmM7","AmM7","G#mM7","GmM7","F#mM7","FmM7",null,"EmM7",101]
[null,726,{"$f":"CONCATENATE($C$8,AD1886)","v":"FmM7"},"EmM7","EbmM7","DmM7",{"$f":"$C1887","v":"C#mM7"},{"$f":"$C1886","v":"CmM7"},"BmM7","BbmM7","AmM7","G#mM7","GmM7","F#mM7","EmM7","EbmM7","DmM7",{"$f":"$C1887","v":"C#mM7"},{"$f":"$C1886","v":"CmM7"},"BmM7","BbmM7","AmM7","G#mM7","GmM7","F#mM7",null,"FmM7",102]
[null,727,{"$f":"CONCATENATE($C$9,AD1886)","v":"F#mM7"},"FmM7","EmM7","EbmM7","DmM7",{"$f":"$C1887","v":"C#mM7"},{"$f":"$C1886","v":"CmM7"},{"$f":"$C1897","v":"BmM7"},"BbmM7","AmM7","G#mM7","GmM7","FmM7","EmM7","EbmM7","DmM7",{"$f":"$C1887","v":"C#mM7"},{"$f":"$C1886","v":"CmM7"},{"$f":"$C1897","v":"BmM7"},"BbmM7","AmM7","G#mM7","GmM7",null,"F#mM7",103]
[null,728,{"$f":"CONCATENATE($C$10,AD1886)","v":"GmM7"},"F#mM7","FmM7","EmM7","EbmM7","DmM7","C#mM7",{"$f":"$C1886","v":"CmM7"},{"$f":"$C1897","v":"BmM7"},"BbmM7","AmM7","G#mM7","F#mM7","FmM7","EmM7","EbmM7","DmM7","C#mM7",{"$f":"$C1886","v":"CmM7"},{"$f":"$C1897","v":"BmM7"},"BbmM7","AmM7","G#mM7",null,"GmM7",104]
[null,729,{"$f":"CONCATENATE($C$11,AD1886)","v":"G#mM7"},"GmM7","F#mM7","FmM7","EmM7","EbmM7","DmM7",{"$f":"$C1887","v":"C#mM7"},{"$f":"$C1886","v":"CmM7"},{"$f":"$C1897","v":"BmM7"},"BbmM7","AmM7","GmM7","F#mM7","FmM7","EmM7","EbmM7","DmM7",{"$f":"$C1887","v":"C#mM7"},{"$f":"$C1886","v":"CmM7"},{"$f":"$C1897","v":"BmM7"},"BbmM7","AmM7",null,"G#mM7",105]
[null,730,{"$f":"CONCATENATE($C$12,AD1886)","v":"AmM7"},"G#mM7","GmM7","F#mM7","FmM7","EmM7","EbmM7",{"$f":"$C1888","v":"DmM7"},{"$f":"$C1887","v":"C#mM7"},{"$f":"$C1886","v":"CmM7"},{"$f":"$C1897","v":"BmM7"},"BbmM7","G#mM7","GmM7","F#mM7","FmM7","EmM7","EbmM7",{"$f":"$C1888","v":"DmM7"},{"$f":"$C1887","v":"C#mM7"},{"$f":"$C1886","v":"CmM7"},{"$f":"$C1897","v":"BmM7"},"BbmM7",null,"AmM7",106]
[null,731,{"$f":"CONCATENATE($C$13,AD1886)","v":"BbmM7"},"AmM7","G#mM7","GmM7","F#mM7","FmM7","EmM7",{"$f":"$C1889","v":"EbmM7"},{"$f":"$C1888","v":"DmM7"},{"$f":"$C1887","v":"C#mM7"},{"$f":"$C1886","v":"CmM7"},{"$f":"$C1897","v":"BmM7"},"AmM7","G#mM7","GmM7","F#mM7","FmM7","EmM7",{"$f":"$C1889","v":"EbmM7"},{"$f":"$C1888","v":"DmM7"},{"$f":"$C1887","v":"C#mM7"},{"$f":"$C1886","v":"CmM7"},{"$f":"$C1897","v":"BmM7"},null,"BbmM7",107]
[null,732,{"$f":"CONCATENATE($C$14,AD1886)","v":"BmM7"},"BbmM7","AmM7","G#mM7","GmM7","F#mM7","FmM7",{"$f":"$C1890","v":"EmM7"},{"$f":"$C1889","v":"EbmM7"},{"$f":"$C1888","v":"DmM7"},{"$f":"$C1887","v":"C#mM7"},{"$f":"$C1886","v":"CmM7"},"BbmM7","AmM7","G#mM7","GmM7","F#mM7","FmM7",{"$f":"$C1890","v":"EmM7"},{"$f":"$C1889","v":"EbmM7"},{"$f":"$C1888","v":"DmM7"},{"$f":"$C1887","v":"C#mM7"},{"$f":"$C1886","v":"CmM7"},null,"BmM7",108]